{"text_format":"1","workbook":"xlsx","n_sheets":19,"sheets":["Change Log","Index","Instructions","DNSP Inputs General","DNSP Inputs O & M","DNSP Inputs Capex","PL Tariffs - Excl. RR","PL Tariff Components - Excl. RR","Output|Capex Forecast Model","Output|RIN","Cashflow Summary","Charges Summary","O & M 2016-2020","Capex 2016-2020","WACC","Depn & WACC Post 2004","Total RAB","RAB 2001 to 2004","Inputs PL Final Decision 2004"],"not_rendered":{"charts":0,"images":2,"macros":0,"external_links":0,"defined_names":3,"comments":2,"pivot_tables":0},"unopened":[],"bounds":{"document_bytes":16777216,"sheet_cells":100000,"rows_first":2000,"rows_last":500,"rows_between":2000,"halvings":0,"cell_chars":16384,"cell_head_chars":4096},"cells_cut":0,"cells_raw":0,"read":"whole","date_system":"1900"}

{"sheet":"Change Log","index":0,"n_rows":81,"n_cols":8,"rows_kept":81,"cut":false,"hidden":false,"merged":[]}
[null,null,{"$f":"Index!C1","v":"EDPR16 JEN ACS Public Lighting - Forecast Charges Model"}]
[null,null,"Change Log"]
[]
[]
[]
[null,"Copyright Jemena Limited. All rights reserved. Jemena is not liable for any loss caused by reliance on this document."]
[]
[null,"Model change log"]
[]
[null,null,"Starting model name ---->","AER - Preliminary decision Jemena - Public lighting model - October 2015"]
[]
[null,null,"Model changes to above model"]
[]
[null,null,"Model sheet","Reference","Cell reference","Type","Legend","Comments"]
[]
[null,null,"DNSP Inputs General","Change 1","B26:F26","Assumption",null,"Updated pre-tax real WACC"]
[null,null,null,"Change 2","D31:D35","Assumption",null,"Updated forecast CPI"]
[null,null,null,"Change 3","A80:O104","Assumption",null,"Included real cost escalators"]
[]
[]
[null,null,"Model sheet","Reference","Cell reference","Type","Legend","Comments"]
[]
[null,null,"DNSP Inputs O & M","Change 4","C45:H45","Assumption",null,"Substituted MV80 traffic management costs with Citipower for 2016-20"]
[null,null,null,null,"C49:H49"]
[null,null,null,"Change 5","C165:H165","Assumption",null,"Substituted T5 (2 x 14W) traffic management costs with Citipower for 2016-20"]
[null,null,null,null,"C169:H169"]
[null,null,null,"Change 6","C196:H196","Assumption",null,"Substituted LED18W traffic management costs with Citipower for 2016-20"]
[null,null,null,null,"C200:H200"]
[null,null,null,"Change 7","D157:H158","Assumption",null,"Substituted T5 (2 x 14W) urban and rural repairs per day with AusNet"]
[null,null,null,"Change 8","D12:D13","Assumption",null,"Updated labour rates by escalating with internal labour (WPI) real cost escalator"]
[]
[]
[null,null,"Model sheet","Reference","Cell reference","Type","Legend","Comments"]
[]
[null,null,"DNSP Inputs Capex","Change 9","C30:C31","Assumption",null,"Updated 2015 forecast replacement quantities"]
[null,null,null,null,"C49:C50","Assumption"]
[null,null,null,null,"C65:C66","Assumption"]
[null,null,null,null,"C81:C82","Assumption"]
[null,null,null,null,"C85:C86","Assumption"]
[null,null,null,null,"C108:C109","Assumption"]
[null,null,null,null,"C123:C124","Assumption"]
[null,null,null,"Change 10","C115","Assumption",null,"Updated LED 18W luminaire unit cost"]
[null,null,null,"Change 11","Rows 127-134","Assumption",null,"Included calculations for frangible poles capex"]
[]
[]
[null,null,"Model sheet","Reference","Cell reference","Type","Legend","Comments"]
[]
[null,null,"PL Tariffs - Excl. RR","Change 12",null,"Labelling",null,"Renamed worksheet previously named \"PL Tariffs\" to denote PL tariffs excluding revenue recovery"]
[]
[]
[null,null,"Model sheet","Reference","Cell reference","Type","Legend","Comments"]
[]
[null,null,"PL Tariff Components - Excl. RR","Change 13",null,"Labelling",null,"Renamed worksheet previously named \"PL Tariffs\" to denote PL tariff components excluding revenue recovery"]
[]
[]
[null,null,"Model sheet","Reference","Cell reference","Type","Legend","Comments"]
[]
[null,null,"Tariff Adjust. for Rev Recovery","Change 14","New worksheet","Structure",null,"Inserted new worksheet which includes calculations for true-up of revenue under-recovery"]
[]
[]
[null,null,"Model sheet","Reference","Cell reference","Type","Legend","Comments"]
[]
[null,null,"Output|Capex Forecast Model","Change 15","New worksheet","Structure",null,"Inserted new worksheet which includes calculations for output to Capex Forecast model"]
[]
[]
[null,null,"Model sheet","Reference","Cell reference","Type","Legend","Comments"]
[]
[null,null,"Output|RIN","Change 16","New worksheet","Structure",null,"Inserted new worksheet which include calculations for output to RIN"]
[]
[]
[null,null,"Model sheet","Reference","Cell reference","Type","Legend","Comments"]
[]
[null,null,"Capex 2016-2020","Change 17","Row 22","Structure",null,"Include calculations for frangible poles capex"]
[null,null,null,null,"Rows 141-153","Structure"]
[]
[]
[null,null,"Model sheet","Reference","Cell reference","Type","Legend","Comments"]
[]
[null,null,"Cashflow Summary","Change 18","Rows 4-38","Structure",null,"Include Public Lighting - Revenue section including revenue recovery"]
[]
[null,"End"]

{"sheet":"Index","index":1,"n_rows":52,"n_cols":3,"rows_kept":52,"cut":false,"hidden":false,"merged":[]}
[null,null,"EDPR16 JEN ACS Public Lighting - Forecast Charges Model"]
[null,null,"Index"]
[]
[]
[]
[null,"Copyright Jemena Limited. All rights reserved. Jemena is not liable for any loss caused by reliance on this document."]
[]
[null,"Where does this model fit into our submission model suite?"]
[]
[]
[]
[]
[]
[]
[]
[]
[]
[]
[]
[]
[]
[]
[]
[]
[]
[]
[]
[]
[]
[]
[]
[]
[]
[]
[]
[]
[]
[]
[]
[]
[]
[]
[]
[]
[]
[]
[]
[]
[]
[]
[]
[null,"End"]

{"sheet":"Instructions","index":2,"n_rows":12,"n_cols":3,"rows_kept":12,"cut":false,"hidden":false,"merged":[]}
[{"$f":"'DNSP Inputs O & M'!$A$3","v":"Jemena"}]
[]
["Instructions"]
[]
["This model is to be used for the setting of Public Lighting Tariffs for the Regulatory Period 2016 to 2020 based on forecast inflation rates and Real Pre Tax WACC."]
[]
["Distributor data input fields are shaded",null,"      and located in tabs \"DNSP Inputs General\" , \"DNSP Inputs O & M\" and  \"DNSP Inputs Capex\""]
["NOTE : All Distributor data input fields have been populated with AER Preliminary Decision data in this model."]
[]
[]
[]
["This model will also to be used for the annual Public Lighting Tariff Approvals in the Regulatory Period 2016 to 2020 based on actual inflation rates and Real Pre Tax WACC."]

{"sheet":"DNSP Inputs General","index":3,"n_rows":104,"n_cols":15,"rows_kept":104,"cut":false,"hidden":false,"merged":[[38,9,38,14],[2,9,2,14],[17,9,17,14],[38,5,38,8],[17,5,17,8],[2,3,2,8]]}
[{"$f":"'DNSP Inputs O & M'!$A$3","v":"Jemena"}]
[null,null,null,2009,2010,2011,2012,2013,2014,2015,2016,2017,2018,2019,2020]
["Capital Expenditure",null,null,"Nominal $ - Actual",null,null,null,null,null,"Real 2015 $ - Forecast"]
["(Net of customer contributions)"]
[]
["Poles and Brackets",null,null,82127,138408.88364290475,240569.22979197878,377.09368474217445,464412.56016068463,728309.15983931557,446763.99455775094,{"$f":"'Capex 2016-2020'!B24","v":464472.64408253162},{"$f":"'Capex 2016-2020'!C24","v":477934.0247962306},{"$f":"'Capex 2016-2020'!D24","v":483936.43662748346},{"$f":"'Capex 2016-2020'!E24","v":463238.15331002983},{"$f":"'Capex 2016-2020'!F24","v":456438.45457367616}]
[]
["Existing Lights"]
["Luminaires",null,null,584487,160929.55445048958,415008.14485426829,203015.00196367491,457113.91598946741,459265.21401053265,-1151949.3046831542,{"$f":"'Capex 2016-2020'!B13-'Capex 2016-2020'!B31","v":247963.6241300813},{"$f":"'Capex 2016-2020'!C13-'Capex 2016-2020'!C31","v":258001.62813313957},{"$f":"'Capex 2016-2020'!D13-'Capex 2016-2020'!D31","v":263408.73096094106},{"$f":"'Capex 2016-2020'!E13-'Capex 2016-2020'!E31","v":253513.50016634999},{"$f":"'Capex 2016-2020'!F13-'Capex 2016-2020'!F31","v":251829.02504122088}]
[]
["Energy Efficient Lights"]
["Luminaires and Ballasts",null,null,0,137050.55928334597,39381.391293943496,321713.60156957514,1127.3708052474763,3240.0691947525238,218756.5313710499,{"$f":"'Capex 2016-2020'!B18","v":182855.7393200275},{"$f":"'Capex 2016-2020'!C18","v":192080.67301938645},{"$f":"'Capex 2016-2020'!D18","v":198454.20965308833},{"$f":"'Capex 2016-2020'!E18","v":193523.8023948347},{"$f":"'Capex 2016-2020'!F18","v":194266.94424216409}]
[]
["Total Net Capex",null,null,{"$f":"SUM(D6,D9,D12)","v":666614},{"$f":"SUM(E6,E9,E12)","v":436388.99737674033},694958.76594019064,525105.69721799227,922653.84695539949,1190814.4430446008,-486428.77875435341,895292.00753264048,928016.32594875665,945799.37724151288,910275.45587121451,902534.42385706119]
[]
[]
[null,null,null,null,null,2011,2012,2013,2014,2015,2016,2017,2018,2019,2020]
["Operating and Maintenance Expenditure",null,null,null,null,"Nominal $ - Actual",null,null,null,"Real 2015 $ - Forecast"]
[]
["Total O & M",null,null,null,null,2525965.7989120199,3432769.6241626935,2915803.9230359918,4304154.4486523001,null,{"$f":"'Cashflow Summary'!K118","v":3082390.8097289088},{"$f":"'Cashflow Summary'!L118","v":3140330.5656773392},{"$f":"'Cashflow Summary'!M118","v":3188045.3283236027},{"$f":"'Cashflow Summary'!N118","v":3154228.3915136731},{"$f":"'Cashflow Summary'!O118","v":3164374.5231976551}]
[]
[]
[]
["WACC"]
["Regulatory Period",2016,2017,2018,2019,2020]
["Real Pre Tax WACC",4.7233747078506916E-2,4.7233747078506916E-2,4.7233747078506916E-2,4.7233747078506916E-2,4.7233747078506916E-2]
[]
[]
["CPI Index","CPI Index","Actual CPI","F'cast CPI"]
["2014-09-30",106.4]
["2015-09-30",null,{"$f":"IF(B31=\"\",\"\",B31/B30-1)","v":""},2.3230798209937155E-2]
["2016-09-30",null,"",2.3230798209937155E-2]
["2017-06-30",null,"",2.3230798209937155E-2]
["2018-06-30",null,"",2.3230798209937155E-2]
["2019-06-30",null,"",2.3230798209937155E-2]
[]
[]
["Number Of Lights",null,null,null,{"$f":"J$2","v":2015},{"$f":"F$2","v":2011},2012,2013,2014,2015,2016,2017,2018,2019,2020]
[null,null,null,null,"Actual Prices","Actual Volumes",null,null,null,"Forecast Volumes"]
["Existing Lights","Reference Light",null,"Price Factor"]
["Mercury Vapour 80 watt",{"$f":"A$41","v":"Mercury Vapour 80 watt"},null,1,48.83,43472.6,41124.85,45947,35373,13619.0208,13422.90690048,13229.617041113088,13039.110555721059,12851.347363718676,12666.287961681128]
["Sodium High Pressure 150 watt",{"$f":"$A42","v":"Sodium High Pressure 150 watt"},null,1,91.54,14085,14085,15110,15248,15491.355287958115,15707.207601765302,15920.070466427978,16130.382125799792,16338.516578562125,16544.792996364533]
["Sodium High Pressure 250 watt",{"$f":"A$43","v":"Sodium High Pressure 250 watt"},null,1,93.95,4192,4192,4706,4722,4732.4598214285716,4742.4059909119896,4751.8637324297042,4760.8570312836027,4769.4086949259263,4777.5404108000994]
["55W Ind",{"$f":"A$41","v":"Mercury Vapour 80 watt"},null,1.25,61.03,0,0,0,0,0,0,0,0,0,0]
["Fluorescent 20 watt","Mercury Vapour 80 watt",null,1.25,61.03,3,2,2,13,0,0,0,0,0,0]
["Fluorescent 40 watt","Mercury Vapour 80 watt",null,1.25,61.03,173,120,54,34,21.407407407407408,0,0,0,0,0]
["Fluorescent 80 watt","Mercury Vapour 80 watt",null,1.25,61.03,7,6,0,0,0,0,0,0,0,0]
["Mercury Vapour 50 watt","Mercury Vapour 80 watt",null,1.25,61.03,76,66,36,17,17,0,0,0,0,0]
["Mercury Vapour 125 watt","Mercury Vapour 80 watt",null,1.47,71.77,407,378,469,365,359.74400000000003,354.56368640000005,349.45796931584005,344.42577455769197,339.46604340406122,334.57773237904274]
["Mercury Vapour 250 watt",{"$f":"A$43","v":"Sodium High Pressure 250 watt"},null,0.96,90.19,199,199,191,163,139.10471204188482,118.71239823469753,101.30953357201936,86.457874200205012,73.783421437871297,62.967003635460856]
["Mercury Vapour 400 watt",{"$f":"A$43","v":"Sodium High Pressure 250 watt"},null,1.08,101.47,184,184,224,213,202.54017857142858,192.59400908801021,183.13626757029539,174.14296871639692,165.59130507407383,157.45958919990053]
["Sodium High Pressure 50 watt",{"$f":"A$42","v":"Sodium High Pressure 150 watt"},null,1.25,112.91,0,0,4,4,0,0,0,0,0,0]
["Sodium Low Pressure 90 watt",{"$f":"A$42","v":"Sodium High Pressure 150 watt"},null,1.06,97.03,10,10,14,11,0,0,0,0,0,0]
["Sodium High Pressure 100 watt",{"$f":"A$42","v":"Sodium High Pressure 150 watt"},null,1.37,125.41,960,960,1189,1182,1164.9792,1148.2034995199999,1131.669369126912,1115.3733302114845,1099.3119542564391,1083.4818621151464]
["Sodium High Pressure 400 watt",{"$f":"A$43","v":"Sodium High Pressure 250 watt"},null,1.33,124.96,273,273,296,288,288,288,288,288,288,288]
["Metal Halide 70 watt",{"$f":"A$41","v":"Mercury Vapour 80 watt"},null,2.57,125.48,13,12,12,12,12,12,12,12,12,12]
["Metal Halide 150 watt",{"$f":"A$42","v":"Sodium High Pressure 150 watt"},null,2.2200000000000002,203.22,16,16,40,33,33,33,33,33,33,33]
["Metal Halide 250 watt",{"$f":"A$43","v":"Sodium High Pressure 250 watt"},null,2.15,202,29,29,74,72,72,72,72,72,72,72]
["Incandescent 100 watt",{"$f":"A$41","v":"Mercury Vapour 80 watt"},null,1.56,76.17,5,4,0,0,0,0,0,0,0,0]
["Incandescent 150 watt",{"$f":"A$41","v":"Mercury Vapour 80 watt"},null,1.95,95.21,2,0,3,1,0,0,0,0,0,0]
["Sodium High Pressure 250 watt (24 hrs)",{"$f":"A$43","v":"Sodium High Pressure 250 watt"},null,{"$f":"1.56","v":1.56},144.62,0,0,0,0,0,0,0,0,0,0]
["Metal Halide 100 watt",{"$f":"A$42","v":"Sodium High Pressure 150 watt"},null,2.2200000000000002,200.52,0,0,0,0,0,0,0,0,0,0]
[]
[]
["Total Existing Lights",null,null,null,null,{"$f":"SUM(F41:F64)","v":64106.6},61660.85,68371,57751,36152.611407407414,36091.5940864,36072.124379555833,36055.749660490234,36042.425361379173,36032.107556175317]
[]
["Energy Efficient Lights","Reference Light",null,"Price Factor"]
["T5 2X14W",{"$f":"A68","v":"T5 2X14W"},null,1,30.01,585,1177,1535,12536,34586.132592592592,35086.080000000002,35564.620000000003,36043.160000000003,36521.700000000004,37000.240000000005]
["T5 (2x24W)","T5 2X14W",null,1.1262458471760797,null,0,0,22,332,333,333,333,333,333,333]
["LED 18W",{"$f":"A70","v":"LED 18W"},null,1,null,0,0,0,0,221.25599999999997,456.32591359999992,671.25562044416029,883.09033950976436,1091.8746386208238,1297.6524438246834]
["Compact Fluoro 32W","T5 2X14W",null,0.8625368731563422,null,0,0,1,8,8,8,8,8,8,8]
["Compact Fluoro 42W","T5 2X14W",null,0.97275747508305643,null,0,0,101,68,68,68,68,68,68,68]
["Total Energy Efficient Lights",null,null,null,null,{"$f":"SUM(F68:F72)","v":585},1177,1659,12944,35216.388592592593,35951.4059136,36644.87562044416,37335.250339509766,38022.574638620827,38706.89244382469]
[]
["Total Number of Lights",null,null,null,null,{"$f":"SUM(F65,F73)","v":64691.6},62837.85,70030,70695,71369,72043,72717,73391,74065,74739]
[]
[]
[]
[]
["Input | Cost escalators",null,null,null,null,null,null,null,null,{"$f":"J$2","v":2015},{"$f":"K$2","v":2016},2017,2018,2019,2020]
[]
["Annual rate of change"]
["Internal labour",null,null,null,null,null,null,null,null,1.26E-2,4.0141199352505498E-3,3.71619886942495E-3,7.8500228561824408E-3,9.5736854428500901E-3,1.0192912905840699E-2]
["External labour",null,null,null,null,null,null,null,null,0,0,0,0,0,0]
["Aluminium",null,null,null,null,null,null,null,null,0,0,0,0,0,0]
["Copper",null,null,null,null,null,null,null,null,0,0,0,0,0,0]
["Steel",null,null,null,null,null,null,null,null,0,0,0,0,0,0]
["Oil",null,null,null,null,null,null,null,null,0,0,0,0,0,0]
["Concrete",null,null,null,null,null,null,null,null,0,0,0,0,0,0]
["Wood",null,null,null,null,null,null,null,null,0,0,0,0,0,0]
["General",null,null,null,null,null,null,null,null,2.3725661660402155E-2,2.7094211425142473E-2,3.820473226781218E-2,1.422089919021835E-2,-6.1126868049804751E-2,-2.405741318046797E-2]
["Other",null,null,null,null,null,null,null,null,0,0,0,0,0,0]
[]
["Annual rate of change"]
["Internal labour",null,null,null,null,null,null,null,null,1,{"$f":"J95*(1+K83)","v":1.0040141199352506},{"$f":"K95*(1+L83)","v":1.0077452360726407},1.0156560592090198,1.0253796308380116,1.0358312361105666]
["External labour",null,null,null,null,null,null,null,null,1,{"$f":"J96*(1+K84)","v":1},1,1,1,1]
["Aluminium",null,null,null,null,null,null,null,null,1,1,1,1,1,1]
["Copper",null,null,null,null,null,null,null,null,1,1,1,1,1,1]
["Steel",null,null,null,null,null,null,null,null,1,1,1,1,1,1]
["Oil",null,null,null,null,null,null,null,null,1,1,1,1,1,1]
["Concrete",null,null,null,null,null,null,null,null,1,1,1,1,1,1]
["Wood",null,null,null,null,null,null,null,null,1,1,1,1,1,1]
["General",null,null,null,null,null,null,null,null,1,1.0270942114251425,1.0663340707864597,1.0814983001102092,1.0153896962232842,0.9909620467620508]
["Other",null,null,null,null,null,null,null,null,1,1,1,1,1,1]

{"sheet":"DNSP Inputs O & M","index":4,"n_rows":204,"n_cols":17,"rows_kept":204,"cut":false,"hidden":false,"merged":[[4,2,4,7],[2,2,2,7]]}
["Public Lighting Cost Build-up Model"]
[]
["Jemena",null,"O & M Data Inputs"]
[]
[null,null,"Real 2015 $ "]
[]
["Input parameters",null,2015,2016,2017,2018,2019,2020]
[]
["Inputs - all lamps"]
[]
["Material premium for rural areas",null,0.05,0.05,0.05,0.05,0.05,0.05]
["Labour rate (per hour)",null,89.644284718959909,{"$f":"C12*(1+'DNSP Inputs General'!K$83)","v":90.004127629331563},{"$f":"D12*(1+'DNSP Inputs General'!L$83)","v":90.338600866671271},{"$f":"E12*(1+'DNSP Inputs General'!M$83)","v":91.047760948270181},{"$f":"F12*(1+'DNSP Inputs General'!N$83)","v":91.919423571864726},{"$f":"G12*(1+'DNSP Inputs General'!O$83)","v":92.856350250687825}]
["Labour rate for night patrols (per hour)",null,103.09092742680389,{"$f":"C13*(1+'DNSP Inputs General'!K$83)","v":103.5047467737313},{"$f":"D13*(1+'DNSP Inputs General'!L$83)","v":103.88939099667196},{"$f":"E13*(1+'DNSP Inputs General'!M$83)","v":104.70492509051071},{"$f":"F13*(1+'DNSP Inputs General'!N$83)","v":105.70733710764445},{"$f":"G13*(1+'DNSP Inputs General'!O$83)","v":106.784802788291}]
["Elevated platform vehicle (per hour) - urban MV,urban T5",null,39.70489020746119,40.780662897354212,42.338677205051525,42.940771265431763,40.315936406332867,39.346039266448244]
["Elevated platform vehicle (per hour) - rural MV, rural T5, S-HP",null,51.049144552450102,52.432280868026844,54.435442120780536,55.209563055555122,51.834775379570829,50.587764771147747]
["Patrol vehicle (per hour)",null,11.344254344988911,11.651617970672632,12.096764915729008,12.268791790123361,11.518838973237962,11.241725504699499]
["Number of hours in a day",null,8,8,8,8,8,8]
["Indirect overheads",null,0.25,0.25,0.25,0.25,0.25,0.25]
[null,null,null,{"$f":"C12*'DNSP Inputs General'!K95","v":90.004127629331563},{"$f":"D12*'DNSP Inputs General'!L95","v":90.701230845332816},{"$f":"E12*'DNSP Inputs General'!M95","v":91.752947350699884},{"$f":"F12*'DNSP Inputs General'!N95","v":93.358519509764818},{"$f":"G12*'DNSP Inputs General'!O95","v":95.213010141015388}]
[]
[]
["Inputs - MV80"]
[]
["Depreciation period","years",20,{"$f":"C24","v":20},{"$f":"D24","v":20},{"$f":"E24","v":20},{"$f":"F24","v":20},{"$f":"G24","v":20}]
["Lamps - bulk change","years",4,4,4,4,4,4]
["PE cells - bulk change","years",8,8,8,8,8,8]
["Proportion of lamps that fail between bulk change",null,0.19600000000000001,0.25600000000000001,0.25600000000000001,0.25600000000000001,0.25600000000000001,0.25600000000000001]
[]
["Unit cost - lamp",null,5.5431709824255879,5.6933588289891413,5.9108720787552551,5.9949299947135106,5.6284786999588414,5.4930720622964682]
["Unit cost - PE cell",null,22.378885038457785,22.985223281148716,23.863367582720883,24.202726127453882,22.723289281015447,22.176625721962761]
["Unit cost - luminaire",null,192.31285760690957,197.5234228306845,205.06975231655264,207.98602859120939,195.27249406531163,190.57474299280196]
["Unit cost - miscellaneous materials (bulk lamp)",null,1.2129476985613976,1.2458115599538602,1.2934074570580427,1.311800874116742,1.2316145951769895,1.2019851339817218]
["Unit cost - miscellaneous materials (repair)",null,12.129476985613977,12.458115599538601,12.934074570580426,13.118008741167419,12.316145951769894,12.019851339817217]
["Number of men in crew",null,2,2,2,2,2,2]
["Number of bulk lamp changes in 1 day - urban",null,90,85,85,85,85,85]
["Number of bulk lamp changes in 1 day - rural",null,75,70,70,70,70,70]
["Number of repairs in 1 day - urban",null,30,15,15,15,15,15]
["Number of repairs in 1 day - rural",null,25,12,12,12,12,12]
["   % of repairs - lamps",null,0.6,0.6,0.6,0.6,0.6,0.6]
["   % of repairs - PE cells",null,0.5,0.5,0.5,0.5,0.5,0.5]
["   % of repairs - luminaires",null,0.15,0.15,0.15,0.15,0.15,0.15]
["   % of repairs - other",null,0.1,0.1,0.1,0.1,0.1,0.1]
[]
["Other Maintenance and Repair costs"]
["Traffic control costs",null,3441.8651789258492,{"$f":"D48*D49","v":41618.537633150423},{"$f":"E48*E49","v":32294.550803959894},31689.702785460657,31839.576052361826,31605.995377394534]
["Other costs : Describe…………………………………….",null,0,0,0,0,0,0]
[null,null,{"$f":"SUM(C45:C46)","v":3441.8651789258492},41618.537633150423,32294.550803959894,31689.702785460657,31839.576052361826,31605.995377394534]
["Number of Lights",null,{"$f":"'DNSP Inputs General'!J41","v":13619.0208},{"$f":"'DNSP Inputs General'!K41","v":13422.90690048},{"$f":"'DNSP Inputs General'!L41","v":13229.617041113088},{"$f":"'DNSP Inputs General'!M41","v":13039.110555721059},{"$f":"'DNSP Inputs General'!N41","v":12851.347363718676},{"$f":"'DNSP Inputs General'!O41","v":12666.287961681128}]
["Unit Cost",null,{"$f":"IF(C48=0,0,C47/C48)","v":0.25272486395834343},3.1005607013233587,2.4410797911685247,2.4303577034674682,2.4775282428556737,2.4952847648033134]
[]
["Location of selected public lighting assets within distributors' areas (%)"]
["Urban",null,0.97,0.97,0.97,0.97,0.97,0.97]
["Rural",null,0.03,0.03,0.03,0.03,0.03,0.03]
[]
[]
[]
["Inputs - S-HP150"]
[]
["Depreciation period ","years",20,{"$f":"C59","v":20},{"$f":"D59","v":20},{"$f":"E59","v":20},{"$f":"F59","v":20},{"$f":"G59","v":20}]
["Number of patrols per year",null,3,3,3,3,3,3]
["Lamps - frequency of replacement","years",5,5,5,5,5,5]
["PE cells - frequency of replacement","years",10,10,10,10,10,10]
[]
[]
["Unit cost - lamp",null,40.087921437454185,41.174072056475069,42.7471164557683,43.355018889558309,40.704862370599486,39.725608678095895]
["Unit cost - PE cell",null,21.772411189177088,22.362317501171791,23.216663854191868,23.546825690395519,22.107481983426961,21.575633154971907]
["Unit cost - miscellaneous materials",null,2.4258953971227952,2.4916231199077203,2.5868149141160854,2.6236017482334839,2.4632291903539789,2.4039702679634436]
["Number of men in crew - road patrols",null,2,2,2,2,2,2]
["Number of men in crew - repairs",null,2,2,2,2,2,2]
["Number of lamps patrolled in 1 day - urban",null,2500,3000,3000,3000,3000,3000]
["Number of lamps patrolled in 1 day - rural",null,2000,2000,2000,2000,2000,2000]
["Number of repairs in 1 day - urban",null,20,15,15,15,15,15]
["Number of repairs in 1 day - rural",null,16,12,12,12,12,12]
[]
["Other Maintenance and Repair costs",null,null,null,null,null,null,null,null,"Submission Model",null,null,{"$f":"C$7","v":2015},{"$f":"D$7","v":2016},2017,2018,2019]
["Traffic control costs",null,73423.277116906291,88431.578797938651,89629.99672598952,90814.051368252825,91985.848337304764,93147.184569532314,null,"Traffic control unit cost - urban",null,null,17.438213859004772,17.722257550003718,17.986028873065358,18.274935718550687,18.624997048643955]
["Other costs : Describe…………………………………….",null,0,0,0,0,0,0,null,"Traffic control unit cost - rural",null,null,19.929387267434024,20.254008628575676,20.555461569217549,20.885640821200781,21.285710912735951]
[null,null,{"$f":"SUM(C76:C77)","v":73423.277116906291},88431.578797938651,89629.99672598952,90814.051368252825,91985.848337304764,93147.184569532314,null,"Traffic control unit cost - Overall",null,null,{"$f":"M76*D83+M77*D84","v":17.562772529426233},{"$f":"N76*E83+N77*E84","v":17.848845103932316},18.114500507872968,18.40547097368319,18.758032741848552]
["Number of Lights",null,{"$f":"'DNSP Inputs General'!J42","v":15491.355287958115},{"$f":"'DNSP Inputs General'!K42","v":15707.207601765302},{"$f":"'DNSP Inputs General'!L42","v":15920.070466427978},{"$f":"'DNSP Inputs General'!M42","v":16130.382125799792},{"$f":"'DNSP Inputs General'!N42","v":16338.516578562125},{"$f":"'DNSP Inputs General'!O42","v":16544.792996364533},null,"Total Cost",null,null,{"$f":"M78*D79","v":275862.11418227857},{"$f":"N78*E79","v":284154.87179896049},292193.81520998536,300718.09263976675,310347.76873291255]
["Unit Cost",null,{"$f":"IF(C79=0,0,C78/C79)","v":4.7396290222573594},5.63,5.63,5.63,5.63,5.63]
[]
["Location of selected public lighting assets within distributors' areas (%)"]
["Urban",null,0.95,0.95,0.95,0.95,0.95,0.95]
["Rural",null,0.05,0.05,0.05,0.05,0.05,0.05]
[]
[]
[]
["Inputs - S-HP250"]
[]
["Depreciation period ","years",{"$f":"C59","v":20},20,20,20,20,20]
["Number of patrols per year",null,3,3,3,3,3,3]
["Lamps - frequency of replacement","years",5,5,5,5,5,5]
["PE cells - frequency of replacement","years",10,10,10,10,10,10]
[]
[]
["Unit cost - lamp",null,40.281993069224015,41.373401906067691,42.954061648897593,43.564907029416993,40.901920705827813,39.917926299532979]
["Unit cost - PE cell",null,21.772411189177088,22.362317501171791,23.216663854191868,23.546825690395519,22.107481983426961,21.575633154971907]
["Unit cost - miscellaneous materials",null,2.4258953971227952,2.4916231199077203,2.5868149141160854,2.6236017482334839,2.4632291903539789,2.4039702679634436]
["Number of men in crew - road patrols",null,{"$f":"C68","v":2},2,2,2,2,2]
["Number of men in crew - repairs",null,2,2,2,2,2,2]
["Number of lamps patrolled in 1 day - urban",null,2500,3000,3000,3000,3000,3000]
["Number of lamps patrolled in 1 day - rural",null,2000,2000,2000,2000,2000,2000]
["Number of repairs in 1 day - urban",null,20,{"$f":"D72","v":15},15,15,15,15]
["Number of repairs in 1 day - rural",null,16,{"$f":"D73","v":12},12,12,12,12]
[]
["Other Maintenance and Repair costs",null,null,null,null,null,null,null,null,"Submission Model",null,null,{"$f":"C$7","v":2015},{"$f":"D$7","v":2016},{"$f":"E$7","v":2017},{"$f":"F$7","v":2018},{"$f":"G$7","v":2019}]
["Traffic control costs",null,23570.097532748903,25988.384830197705,26040.213253714781,26089.496531434146,26136.359648194077,26180.921451184546,null,"Trafffic control unit cost - urban",null,null,17.438213859004772,17.722257550003718,17.986028873065358,18.274935718550687,18.624997048643955]
["Other costs : Describe…………………………………….",null,0,0,0,0,0,0,null,"Trafffic control unit cost - rural",null,null,19.929387267434024,20.254008628575676,20.555461569217549,20.885640821200781,21.285710912735951]
[null,null,{"$f":"SUM(C107:C108)","v":23570.097532748903},25988.384830197705,26040.213253714781,26089.496531434146,26136.359648194077,26180.921451184546,null,"Traffic control unit cost - Overall",null,null,{"$f":"M107*D114+M108*D115","v":17.637507731679115},{"$f":"N107*E114+N108*E115","v":17.924797636289476},{"$f":"O107*F114+O108*F115","v":18.191583488757537},{"$f":"P107*G114+P108*G115","v":18.483792126762694},{"$f":"Q107*H114+Q108*H115","v":18.837854157771318}]
["Number of Lights",null,{"$f":"'DNSP Inputs General'!J43","v":4732.4598214285716},{"$f":"'DNSP Inputs General'!K43","v":4742.4059909119896},{"$f":"'DNSP Inputs General'!L43","v":4751.8637324297042},{"$f":"'DNSP Inputs General'!M43","v":4760.8570312836027},{"$f":"'DNSP Inputs General'!N43","v":4769.4086949259263},{"$f":"'DNSP Inputs General'!O43","v":4777.5404108000994},null,"Total Cost",null,null,{"$f":"M109*D110","v":83644.222331471567},{"$f":"N109*E110","v":85176.195799025649},{"$f":"O109*F110","v":86607.528162634015},{"$f":"P109*G110","v":88156.758884585375},{"$f":"Q109*H110","v":89998.609491511146}]
["Unit Cost",null,{"$f":"IF(C110=0,0,C109/C110)","v":4.9805171986930628},5.48,5.48,5.48,5.48,5.48]
[]
["Location of selected public lighting assets within distributors' areas (%)"]
["Urban",null,0.92,0.92,0.92,0.92,0.92,0.92]
["Rural",null,0.08,0.08,0.08,0.08,0.08,0.08]
[]
[]
[]
["Dedicated street lighting poles"]
[]
["Period of inspection","years",5,5,5,5,5,5]
["Pole inspection rate","per day",75,75,75,75,75,75]
["Depreciation of dedicated street lighting pole & bracket","years",35,{"$f":"C123","v":35},{"$f":"D123","v":35},{"$f":"E123","v":35},{"$f":"F123","v":35},{"$f":"G123","v":35}]
["Proportion of lights on dedicated poles",null,0.1908204,0.3383266143291605,0.3383266143291605,0.3383266143291605,0.3383266143291605,0.3383266143291605]
[]
[]
[]
["Other direct costs"]
["Call centre"]
["Number of calls",null,4222,4222,4222,4222,4222,4222]
["Average cost per call $",null,11.344254344988911,11.344254344988911,11.344254344988911,11.344254344988911,11.344254344988911,11.344254344988911]
[null,null,{"$f":"C130*C131","v":47895.441844543187},47895.441844543187,47895.441844543187,47895.441844543187,47895.441844543187,47895.441844543187]
[]
["GIS and other",null,113442.54344988911,113442.54344988911,113442.54344988911,113442.54344988911,113442.54344988911,113442.54344988911]
["Complaints handling",null,34032.763034966731,34032.763034966731,34032.763034966731,34032.763034966731,34032.763034966731,34032.763034966731]
["Account management"]
[]
[]
["ENERGY EFFICIENT LIGHTS"]
[]
["Inputs - T5 (2 X 14W)"]
[]
["Depreciation period","years",20,{"$f":"C143","v":20},{"$f":"D143","v":20},{"$f":"E143","v":20},{"$f":"F143","v":20},{"$f":"G143","v":20}]
["Lamps - bulk change","years",4,4,4,4,4,4]
["PE cells - bulk change","years",8,8,8,8,8,8]
["Ballast unit life","years",20,{"$f":"C146","v":20},{"$f":"D146","v":20},{"$f":"E146","v":20},{"$f":"F146","v":20},{"$f":"G146","v":20}]
["Proportion of luminaires that fail between bulk change",null,0.114,0.114,0.114,0.114,0.114,0.114]
[]
["Unit cost - lamp",null,9.7035815884911809,9.9664924796308814,10.347259656464342,10.494406992933936,9.8529167614159157,9.6158810718537744]
["Unit cost - PE cell",null,16.374793930578868,16.818456059377112,17.461000670283578,17.709311800576018,16.626797034889357,16.226799308753243]
["Unit cost - luminaire",null,234.09890582234974,240.441631071095,249.62763921220224,253.17756870453118,237.70161686915893,231.98313085847229]
["Unit cost - miscellaneous materials (bulk lamp)",null,1.2129476985613976,1.2458115599538602,1.2934074570580427,1.311800874116742,1.2316145951769895,1.2019851339817218]
["Unit cost - miscellaneous materials (repair)",null,12.129476985613977,12.458115599538601,12.934074570580426,13.118008741167419,12.316145951769894,12.019851339817217]
["Number of men in crew",null,2,2,2,2,2,2]
["Number of bulk lamp changes in 1 day - urban",null,77,74,74,74,74,74]
["Number of bulk lamp changes in 1 day - rural",null,64,61,61,61,61,61]
["Number of repairs in 1 day - urban",null,26,20,20,20,20,20]
["Number of repairs in 1 day - rural",null,21,15,15,15,15,15]
["   % of repairs - lamps",null,0.6,0.6,0.6,0.6,0.6,0.6]
["   % of repairs - PE cells",null,0.5,0.5,0.5,0.5,0.5,0.5]
["   % of repairs - luminaires",null,0.15,0.15,0.15,0.15,0.15,0.15]
["   % of repairs - other",null,0.1,0.1,0.1,0.1,0.1,0.1]
[]
["Other Maintenance and Repair costs"]
["Traffic control costs",null,1663.0492763191608,{"$f":"D168*D169","v":69825.26022635671},{"$f":"E168*E169","v":73051.100577297737},73900.333353249371,76303.841383227773,77853.300240516764]
["Other costs : Describe…………………………………….",null,0,0,0,0,0,0]
[null,null,{"$f":"SUM(C165:C166)","v":1663.0492763191608},69825.26022635671,73051.100577297737,73900.333353249371,76303.841383227773,77853.300240516764]
["Number of Lights",null,{"$f":"'DNSP Inputs General'!J68","v":34586.132592592592},{"$f":"'DNSP Inputs General'!K68","v":35086.080000000002},{"$f":"'DNSP Inputs General'!L68","v":35564.620000000003},{"$f":"'DNSP Inputs General'!M68","v":36043.160000000003},{"$f":"'DNSP Inputs General'!N68","v":36521.700000000004},{"$f":"'DNSP Inputs General'!O68","v":37000.240000000005}]
["Unit Cost",null,{"$f":"IF(C168=0,0,C167/C168)","v":4.808427978661426E-2},1.9901128945255984,2.054038552283076,2.0503289210282718,2.0892740859058523,2.1041296013354711]
[]
["Location of selected public lighting assets within distributors' areas (%)"]
["Urban",null,0.97,0.97,0.97,0.97,0.97,0.97]
["Rural",null,0.03,0.03,0.03,0.03,0.03,0.03]
[]
[]
[]
["Inputs -LED18W"]
[]
["Depreciation period","years",null,20,{"$f":"D179","v":20},{"$f":"E179","v":20},{"$f":"F179","v":20},{"$f":"G179","v":20}]
["PE cells - bulk change","years",null,8,8,8,8,8]
["Ballast unit life","years",null,20,{"$f":"D181","v":20},{"$f":"E181","v":20},{"$f":"F181","v":20},{"$f":"G181","v":20}]
["Proportion of luminaires that fail between bulk change",null,null,0.1,0.1,0.1,0.1,0.1]
["Unit cost - PE cell",null,null,15.905192387398326,16.512846004226923,16.747673522596635,15.723940693039662,15.345663354962033]
["Unit cost - luminaire",null,null,314.61949884374962,326.63945256330828,331.28455928975922,311.03417174711637,303.55149416415139]
["Unit cost - miscellaneous materials (repair)",null,null,12.458115599538601,12.934074570580426,13.118008741167419,12.316145951769894,12.019851339817217]
["Number of men in crew",null,null,2,2,2,2,2]
["Number of bulk PE cells changes in 1 day - urban",null,null,77,77,77,77,77]
["Number of bulk PE cells changes in 1 day - rural",null,null,64,64,64,64,64]
["Number of repairs in 1 day - urban",null,null,26,26,26,26,26]
["Number of repairs in 1 day - rural",null,null,21,21,21,21,21]
["   % of repairs - PE cells",null,null,0.5,0.5,0.5,0.5,0.5]
["   % of repairs - luminaires",null,null,0.15,0.15,0.15,0.15,0.15]
["   % of repairs - other",null,null,0.1,0.1,0.1,0.1,0.1]
[]
["Other Maintenance and Repair costs"]
["Traffic control costs",null,null,{"$f":"D199*D200","v":272.96323476109654},{"$f":"E199*E200","v":738.43033429523962},1313.4154718115126,1656.7341657691638,1983.2900034531156]
["Other costs : Describe…………………………………….",null,null,0,0,0,0,0]
[null,null,{"$f":"SUM(C196:C197)","v":0},272.96323476109654,738.43033429523962,1313.4154718115126,1656.7341657691638,1983.2900034531156]
["Number of Lights",null,{"$f":"'DNSP Inputs General'!J70","v":221.25599999999997},{"$f":"'DNSP Inputs General'!K70","v":456.32591359999992},{"$f":"'DNSP Inputs General'!L70","v":671.25562044416029},{"$f":"'DNSP Inputs General'!M70","v":883.09033950976436},{"$f":"'DNSP Inputs General'!N70","v":1091.8746386208238},{"$f":"'DNSP Inputs General'!O70","v":1297.6524438246834}]
["Unit Cost",null,{"$f":"IF(C199=0,0,C198/C199)","v":0},0.59817605493333215,1.1000732236798714,1.4872945757063059,1.517330018638247,1.5283676402655193]
[]
["Location of selected public lighting assets within distributors' areas (%)"]
["Urban",null,null,1,1,1,1,1]
["Rural",null,null,0,0,0,0,0]

{"sheet":"DNSP Inputs Capex","index":5,"n_rows":134,"n_cols":8,"rows_kept":134,"cut":false,"hidden":false,"merged":[[4,2,4,7],[2,2,2,7]]}
["Public Lighting Cost Build-up Model"]
[]
[{"$f":"'DNSP Inputs O & M'!$A$3","v":"Jemena"},null,"Capex Data Inputs"]
[]
[null,null,"Real 2015 $ "]
[]
["Input parameters",null,2015,2016,2017,2018,2019,2020]
[]
["Inputs - all lamps"]
[]
["Material premium for rural areas",null,{"$f":"'DNSP Inputs O & M'!C11","v":0.05},{"$f":"'DNSP Inputs O & M'!D11","v":0.05},{"$f":"'DNSP Inputs O & M'!E11","v":0.05},{"$f":"'DNSP Inputs O & M'!F11","v":0.05},{"$f":"'DNSP Inputs O & M'!G11","v":0.05},{"$f":"'DNSP Inputs O & M'!H11","v":0.05}]
["Labour rate (per hour)",null,{"$f":"'DNSP Inputs O & M'!C12","v":89.644284718959909},{"$f":"'DNSP Inputs O & M'!D12","v":90.004127629331563},{"$f":"'DNSP Inputs O & M'!E12","v":90.338600866671271},{"$f":"'DNSP Inputs O & M'!F12","v":91.047760948270181},{"$f":"'DNSP Inputs O & M'!G12","v":91.919423571864726},{"$f":"'DNSP Inputs O & M'!H12","v":92.856350250687825}]
["Elevated platform vehicle (per hour) - urban MV,urban T5",null,{"$f":"'DNSP Inputs O & M'!C14","v":39.70489020746119},{"$f":"'DNSP Inputs O & M'!D14","v":40.780662897354212},{"$f":"'DNSP Inputs O & M'!E14","v":42.338677205051525},{"$f":"'DNSP Inputs O & M'!F14","v":42.940771265431763},{"$f":"'DNSP Inputs O & M'!G14","v":40.315936406332867},{"$f":"'DNSP Inputs O & M'!H14","v":39.346039266448244}]
["Elevated platform vehicle (per hour) - rural MV, rural T5, S-HP",null,{"$f":"'DNSP Inputs O & M'!C15","v":51.049144552450102},{"$f":"'DNSP Inputs O & M'!D15","v":52.432280868026844},{"$f":"'DNSP Inputs O & M'!E15","v":54.435442120780536},{"$f":"'DNSP Inputs O & M'!F15","v":55.209563055555122},{"$f":"'DNSP Inputs O & M'!G15","v":51.834775379570829},{"$f":"'DNSP Inputs O & M'!H15","v":50.587764771147747}]
["Number of hours in a day",null,{"$f":"'DNSP Inputs O & M'!C17","v":8},{"$f":"'DNSP Inputs O & M'!D17","v":8},{"$f":"'DNSP Inputs O & M'!E17","v":8},{"$f":"'DNSP Inputs O & M'!F17","v":8},{"$f":"'DNSP Inputs O & M'!G17","v":8},{"$f":"'DNSP Inputs O & M'!H17","v":8}]
["Indirect overheads"]
[]
[]
["Inputs - MV80"]
[]
["Unit cost - luminaire",null,{"$f":"'DNSP Inputs O & M'!C31","v":192.31285760690957},{"$f":"'DNSP Inputs O & M'!D31","v":197.5234228306845},{"$f":"'DNSP Inputs O & M'!E31","v":205.06975231655264},{"$f":"'DNSP Inputs O & M'!F31","v":207.98602859120939},{"$f":"'DNSP Inputs O & M'!G31","v":195.27249406531163},{"$f":"'DNSP Inputs O & M'!H31","v":190.57474299280196}]
["Unit cost - miscellaneous materials (bulk lamp)",null,{"$f":"'DNSP Inputs O & M'!C32","v":1.2129476985613976},{"$f":"'DNSP Inputs O & M'!D32","v":1.2458115599538602},{"$f":"'DNSP Inputs O & M'!E32","v":1.2934074570580427},{"$f":"'DNSP Inputs O & M'!F32","v":1.311800874116742},{"$f":"'DNSP Inputs O & M'!G32","v":1.2316145951769895},{"$f":"'DNSP Inputs O & M'!H32","v":1.2019851339817218}]
["Number of men in crew",null,{"$f":"'DNSP Inputs O & M'!C34","v":2},{"$f":"'DNSP Inputs O & M'!D34","v":2},{"$f":"'DNSP Inputs O & M'!E34","v":2},{"$f":"'DNSP Inputs O & M'!F34","v":2},{"$f":"'DNSP Inputs O & M'!G34","v":2},{"$f":"'DNSP Inputs O & M'!H34","v":2}]
["Number of luminaires replaced per day - urban",null,16,16,16,16,16,16]
["Number of luminaires replaced per day - rural",null,13,13,13,13,13,13]
[]
["Other Capex unit costs Describe :………………………",null,0,0,0,0,0,0]
[]
["Forecast Quantities to be replaced"]
["Number of luminaires replaced per year - urban",null,192,189,186,183,180,178]
["Number of luminaires replaced per year - rural",null,6,6,6,6,6,6]
[]
["MV80 Lights replaced with T5 Energy Efficient Lights"]
["Number of Lights MV80 replaced with T5 per year",null,null,196.1138995199999,193.28985936691242,190.50648539202848,187.76319200238322,185.05940203754835]
[]
[]
[]
["Inputs - S-HP150"]
[]
["Unit cost - luminaire",null,227.59750615806064,233.76408110974268,242.6949752423715,246.14631601926581,231.10016263901062,225.54049054033061]
["Unit cost - miscellaneous materials",null,{"$f":"'DNSP Inputs O & M'!C67","v":2.4258953971227952},{"$f":"'DNSP Inputs O & M'!D67","v":2.4916231199077203},{"$f":"'DNSP Inputs O & M'!E67","v":2.5868149141160854},{"$f":"'DNSP Inputs O & M'!F67","v":2.6236017482334839},{"$f":"'DNSP Inputs O & M'!G67","v":2.4632291903539789},{"$f":"'DNSP Inputs O & M'!H67","v":2.4039702679634436}]
["Number of men in crew",null,{"$f":"'DNSP Inputs O & M'!C69","v":2},{"$f":"'DNSP Inputs O & M'!D69","v":2},{"$f":"'DNSP Inputs O & M'!E69","v":2},{"$f":"'DNSP Inputs O & M'!F69","v":2},{"$f":"'DNSP Inputs O & M'!G69","v":2},{"$f":"'DNSP Inputs O & M'!H69","v":2}]
["Number of luminaires replaced per day - urban",null,16,16,16,16,16,16]
["Number of luminaires replaced per day - rural",null,13,13,13,13,13,13]
[]
["Other Capex unit costs Describe :………………………",null,0,0,0,0,0,0]
[]
["Forecast Quantities to be replaced"]
["Number of luminaires replaced per year - urban",null,408,413,419,425,430,436]
["Number of luminaires replaced per year - rural",null,21,22,22,22,23,23]
[]
[]
[]
["Inputs - S-HP250"]
[]
["Unit cost - luminaire",null,230.99375971403256,237.25235347761355,246.31651612213409,249.81935846679278,234.54868350550626,228.90604891547949]
["Unit cost - miscellaneous materials",null,{"$f":"'DNSP Inputs O & M'!C98","v":2.4258953971227952},{"$f":"'DNSP Inputs O & M'!D98","v":2.4916231199077203},{"$f":"'DNSP Inputs O & M'!E98","v":2.5868149141160854},{"$f":"'DNSP Inputs O & M'!F98","v":2.6236017482334839},{"$f":"'DNSP Inputs O & M'!G98","v":2.4632291903539789},{"$f":"'DNSP Inputs O & M'!H98","v":2.4039702679634436}]
["Number of men in crew",null,{"$f":"'DNSP Inputs O & M'!C100","v":2},{"$f":"'DNSP Inputs O & M'!D100","v":2},{"$f":"'DNSP Inputs O & M'!E100","v":2},{"$f":"'DNSP Inputs O & M'!F100","v":2},{"$f":"'DNSP Inputs O & M'!G100","v":2},{"$f":"'DNSP Inputs O & M'!H100","v":2}]
["Number of luminaires replaced per day - urban",null,16,16,16,16,16,16]
["Number of luminaires replaced per day - rural",null,13,13,13,13,13,13]
[]
["Other Capex unit costs Describe :………………………",null,0,0,0,0,0,0]
[]
["Forecast Quantities to be replaced"]
["Number of luminaires replaced per year - urban",null,121,121,121,121,121,121]
["Number of luminaires replaced per year - rural",null,10,10,11,11,11,11]
[]
[]
[]
["Dedicated street lighting poles"]
[]
["Cost of pole & bracket",null,598.18593488756881,619.04886012118823,642.6994560828125,651.83922025737434,611.99433025101428,597.27132978406189]
["Number of poles & brackets replaced per day",null,4,4,4,4,4,4]
["Cost of bracket on non-dedicated poles",null,47.8548747910055,49.151464886316724,51.029283442869222,51.754965738459347,48.591346776842379,47.42236467043648]
["Number of brackets replaced per day",null,20,20,20,20,20,20]
[]
["Other poles & brackets Capex unit costs Describe :…………………",null,0,0,0,0,0,0]
[]
[]
["Forecast Quantities to be replaced"]
["Number of poles & brackets replaced per year - urban",null,321,321,321,321,321,321]
["Number of poles & brackets replaced per year - rural",null,17,17,17,17,17,17]
[]
["Brackets on non-dedicated poles :"]
["Number of brackets replaced per year - urban",null,33,33,33,33,33,33]
["Number of brackets replaced per year - rural",null,2,2,2,2,2,2]
[]
[]
[]
["Luminaire Replacements - Other Light types (excluding T5s)"]
["Number of luminaires replaced per year",null,null,0,0,0,0,0]
["Forecast Capex",null,null,0,0,0,0,0]
[]
[]
["ENERGY EFFICIENT LIGHTS"]
[]
["Inputs - T5 (2 X 14W)"]
[]
["Unit cost - luminaire",null,{"$f":"'DNSP Inputs O & M'!C151","v":234.09890582234974},{"$f":"'DNSP Inputs O & M'!D151","v":240.441631071095},{"$f":"'DNSP Inputs O & M'!E151","v":249.62763921220224},{"$f":"'DNSP Inputs O & M'!F151","v":253.17756870453118},{"$f":"'DNSP Inputs O & M'!G151","v":237.70161686915893},{"$f":"'DNSP Inputs O & M'!H151","v":231.98313085847229}]
["Unit cost - miscellaneous materials (bulk lamp)",null,{"$f":"'DNSP Inputs O & M'!C152","v":1.2129476985613976},{"$f":"'DNSP Inputs O & M'!D152","v":1.2458115599538602},{"$f":"'DNSP Inputs O & M'!E152","v":1.2934074570580427},{"$f":"'DNSP Inputs O & M'!F152","v":1.311800874116742},{"$f":"'DNSP Inputs O & M'!G152","v":1.2316145951769895},{"$f":"'DNSP Inputs O & M'!H152","v":1.2019851339817218}]
["Number of men in crew",null,{"$f":"'DNSP Inputs O & M'!C154","v":2},{"$f":"'DNSP Inputs O & M'!D154","v":2},{"$f":"'DNSP Inputs O & M'!E154","v":2},{"$f":"'DNSP Inputs O & M'!F154","v":2},{"$f":"'DNSP Inputs O & M'!G154","v":2},{"$f":"'DNSP Inputs O & M'!H154","v":2}]
["Number of luminaires replaced per day - urban",null,16,16,16,16,16,16]
["Number of luminaires replaced per day - rural",null,13,13,13,13,13,13]
[]
["Other Capex unit costs Describe :………………………",null,null,0,0,0,0,0]
[]
["Forecast Quantities to be replaced"]
["Number of luminaires replaced per year - urban",null,487,494,501,507,514,521]
["Number of luminaires replaced per year - rural",null,15,15,15,16,16,16]
[]
[]
[]
["Inputs -LED18W"]
[]
["Unit cost - luminaire",null,{"$f":"D115/(1+'DNSP Inputs General'!K91)","v":306.32},{"$f":"'DNSP Inputs O & M'!D184","v":314.61949884374962},{"$f":"'DNSP Inputs O & M'!E184","v":326.63945256330828},{"$f":"'DNSP Inputs O & M'!F184","v":331.28455928975922},{"$f":"'DNSP Inputs O & M'!G184","v":311.03417174711637},{"$f":"'DNSP Inputs O & M'!H184","v":303.55149416415139}]
["Number of men in crew",null,2,{"$f":"'DNSP Inputs O & M'!D186","v":2},{"$f":"'DNSP Inputs O & M'!E186","v":2},{"$f":"'DNSP Inputs O & M'!F186","v":2},{"$f":"'DNSP Inputs O & M'!G186","v":2},{"$f":"'DNSP Inputs O & M'!H186","v":2}]
["Number of luminaires replaced per day - urban",null,16,16,16,16,16,16]
["Number of luminaires replaced per day - rural",null,13,13,13,13,13,13]
[]
["Other Capex unit costs Describe :………………………",null,null,0,0,0,0,0]
[]
["Forecast Quantities to be replaced"]
["Number of luminaires replaced per year - urban",null,3,7,10,13,16,19]
["Number of luminaires replaced per year - rural",null,0,0,0,0,0,0]
[]
[]
["VICROADS FRANGIBLE POLES"]
[]
["Unit cost - frangible pole",null,1944,{"$f":"C129*(1+'DNSP Inputs General'!K91)","v":1996.6711470104769},{"$f":"D129*(1+'DNSP Inputs General'!L91)","v":2072.9534336088773},{"$f":"E129*(1+'DNSP Inputs General'!M91)","v":2102.4326954142462},{"$f":"F129*(1+'DNSP Inputs General'!N91)","v":1973.9175694580642},{"$f":"G129*(1+'DNSP Inputs General'!O91)","v":1926.4302189054265}]
["Number of poles frangible replaced per day",null,null,4,4,4,4,4]
[]
["Forecast Quantities to be replaced"]
["Number of frangible poles replaced per year - urban",null,null,46,46,46,46,46]
["Number of frangible replaced per year - rural",null,null,4,4,4,4,4]

{"sheet":"PL Tariffs - Excl. RR","index":6,"n_rows":35,"n_cols":20,"rows_kept":35,"cut":false,"hidden":false,"merged":[[2,2,2,7],[2,9,2,13],[2,15,2,19]]}
[{"$f":"'DNSP Inputs O & M'!$A$3","v":"Jemena"},null,null,null,"Global Check",{"$f":"IF(SUM('Total RAB'!F1,'Depn & WACC Post 2004'!F1,'Cashflow Summary'!F1,'PL Tariff Components - Excl. RR'!W1)<1,\"Ok\",\"Error\")","v":"Ok"}]
[]
["Public Lighting Tariffs",null,"Nominal Prices",null,null,null,null,null,null,"Nominal Price Movement",null,null,null,null,null,"Real Price Movement (Implied X Factor)"]
["Excluding Revenue Recovery",null,"Actual"]
[{"$f":"'DNSP Inputs General'!A$40","v":"Existing Lights"},null,{"$f":"'DNSP Inputs General'!J$2","v":2015},{"$f":"'DNSP Inputs General'!K$2","v":2016},{"$f":"'DNSP Inputs General'!L$2","v":2017},{"$f":"'DNSP Inputs General'!M$2","v":2018},{"$f":"'DNSP Inputs General'!N$2","v":2019},{"$f":"'DNSP Inputs General'!O$2","v":2020},null,{"$f":"D5","v":2016},{"$f":"E5","v":2017},2018,2019,2020,null,{"$f":"J5","v":2016},{"$f":"K5","v":2017},2018,2019,2020]
[{"$f":"'DNSP Inputs General'!A41","v":"Mercury Vapour 80 watt"},null,{"$f":"'DNSP Inputs General'!E41","v":48.83},{"$f":"'Charges Summary'!D$31","v":52.614610479033189},{"$f":"'Charges Summary'!E$31","v":53.773457840053446},{"$f":"'Charges Summary'!F$31","v":55.58538331089278},{"$f":"'Charges Summary'!G$31","v":56.436452620449373},{"$f":"'Charges Summary'!H$31","v":57.757404141749454},null,{"$f":"IF(C6=0,\"\",D6/C6-1)","v":7.7505846386098476E-2},{"$f":"IF(D6=0,\"\",E6/D6-1)","v":2.2025200803910794E-2},{"$f":"IF(E6=0,\"\",F6/E6-1)","v":3.3695535746070426E-2},{"$f":"IF(F6=0,\"\",G6/F6-1)","v":1.5311027087759888E-2},{"$f":"IF(G6=0,\"\",H6/G6-1)","v":2.3405998427715513E-2},null,{"$f":"IF(C6=0,\"\",(D6/'Charges Summary'!D$4)/C6-1)","v":5.3042821102640136E-2},{"$f":"IF(D6=0,\"\",(E6/'Charges Summary'!E$4)/(D6/'Charges Summary'!D$4)-1)","v":-1.1782262693179613E-3},{"$f":"IF(E6=0,\"\",(F6/'Charges Summary'!F$4)/(E6/'Charges Summary'!E$4)-1)","v":1.0227152617416024E-2},{"$f":"IF(F6=0,\"\",(G6/'Charges Summary'!G$4)/(F6/'Charges Summary'!F$4)-1)","v":-7.7399655444619908E-3},{"$f":"IF(G6=0,\"\",(H6/'Charges Summary'!H$4)/(G6/'Charges Summary'!G$4)-1)","v":1.7122258056057049E-4}]
[{"$f":"'DNSP Inputs General'!A42","v":"Sodium High Pressure 150 watt"},null,{"$f":"'DNSP Inputs General'!E42","v":91.54},{"$f":"'Charges Summary'!D$55","v":95.6255196370265},{"$f":"'Charges Summary'!E$55","v":99.214319892259823},{"$f":"'Charges Summary'!F$55","v":102.4812199750853},{"$f":"'Charges Summary'!G$55","v":103.73428261772798},{"$f":"'Charges Summary'!H$55","v":106.06438761588532},null,4.4630977026725915E-2,3.7529733368828921E-2,3.2927707274243323E-2,1.2227241663861133E-2,2.2462246225233296E-2,null,{"$f":"IF(C7=0,\"\",(D7/'Charges Summary'!D$4)/C7-1)","v":2.0914322413112307E-2},{"$f":"IF(D7=0,\"\",(E7/'Charges Summary'!E$4)/(D7/'Charges Summary'!D$4)-1)","v":1.3974300992412259E-2},{"$f":"IF(E7=0,\"\",(F7/'Charges Summary'!F$4)/(E7/'Charges Summary'!E$4)-1)","v":9.4767564475877197E-3},{"$f":"IF(F7=0,\"\",(G7/'Charges Summary'!G$4)/(F7/'Charges Summary'!F$4)-1)","v":-1.0753738614324049E-2},{"$f":"IF(G7=0,\"\",(H7/'Charges Summary'!H$4)/(G7/'Charges Summary'!G$4)-1)","v":-7.5110325651694954E-4}]
[{"$f":"'DNSP Inputs General'!A43","v":"Sodium High Pressure 250 watt"},null,{"$f":"'DNSP Inputs General'!E43","v":93.95},{"$f":"'Charges Summary'!D$71","v":96.827896415237433},{"$f":"'Charges Summary'!E$71","v":100.44465820338038},{"$f":"'Charges Summary'!F$71","v":103.73881506254925},{"$f":"'Charges Summary'!G$71","v":105.00602051802568},{"$f":"'Charges Summary'!H$71","v":107.35539403955477},null,3.0632213041377643E-2,3.735247714804002E-2,3.2795739644997823E-2,1.2215345381691112E-2,2.2373703049967331E-2,null,{"$f":"IF(C8=0,\"\",(D8/'Charges Summary'!D$4)/C8-1)","v":7.2333776938582339E-3},{"$f":"IF(D8=0,\"\",(E8/'Charges Summary'!E$4)/(D8/'Charges Summary'!D$4)-1)","v":1.3801069087060247E-2},{"$f":"IF(E8=0,\"\",(F8/'Charges Summary'!F$4)/(E8/'Charges Summary'!E$4)-1)","v":9.3477849296503823E-3},{"$f":"IF(F8=0,\"\",(G8/'Charges Summary'!G$4)/(F8/'Charges Summary'!F$4)-1)","v":-1.0765364810672806E-2},{"$f":"IF(G8=0,\"\",(H8/'Charges Summary'!H$4)/(G8/'Charges Summary'!G$4)-1)","v":-8.3763620237886638E-4}]
[{"$f":"'DNSP Inputs General'!A44","v":"55W Ind"},null,{"$f":"'DNSP Inputs General'!E44","v":61.03},{"$f":"IF('DNSP Inputs General'!$B44='DNSP Inputs General'!$A$41,D$6,IF('DNSP Inputs General'!$B44='DNSP Inputs General'!$A$42,D$7,D$8))*'DNSP Inputs General'!$D44","v":65.768263098791493},{"$f":"IF('DNSP Inputs General'!$B44='DNSP Inputs General'!$A$41,E$6,IF('DNSP Inputs General'!$B44='DNSP Inputs General'!$A$42,E$7,E$8))*'DNSP Inputs General'!$D44","v":67.216822300066809},{"$f":"IF('DNSP Inputs General'!$B44='DNSP Inputs General'!$A$41,F$6,IF('DNSP Inputs General'!$B44='DNSP Inputs General'!$A$42,F$7,F$8))*'DNSP Inputs General'!$D44","v":69.481729138615975},{"$f":"IF('DNSP Inputs General'!$B44='DNSP Inputs General'!$A$41,G$6,IF('DNSP Inputs General'!$B44='DNSP Inputs General'!$A$42,G$7,G$8))*'DNSP Inputs General'!$D44","v":70.545565775561712},{"$f":"IF('DNSP Inputs General'!$B44='DNSP Inputs General'!$A$41,H$6,IF('DNSP Inputs General'!$B44='DNSP Inputs General'!$A$42,H$7,H$8))*'DNSP Inputs General'!$D44","v":72.196755177186816},null,7.763826149093056E-2,2.2025200803910794E-2,3.3695535746070426E-2,1.5311027087759888E-2,2.3405998427715513E-2,null,{"$f":"IF(C9=0,\"\",(D9/'Charges Summary'!D$4)/C9-1)","v":5.3172229936955695E-2},{"$f":"IF(D9=0,\"\",(E9/'Charges Summary'!E$4)/(D9/'Charges Summary'!D$4)-1)","v":-1.1782262693180723E-3},{"$f":"IF(E9=0,\"\",(F9/'Charges Summary'!F$4)/(E9/'Charges Summary'!E$4)-1)","v":1.0227152617416024E-2},{"$f":"IF(F9=0,\"\",(G9/'Charges Summary'!G$4)/(F9/'Charges Summary'!F$4)-1)","v":-7.7399655444619908E-3},{"$f":"IF(G9=0,\"\",(H9/'Charges Summary'!H$4)/(G9/'Charges Summary'!G$4)-1)","v":1.7122258056057049E-4}]
[{"$f":"'DNSP Inputs General'!A45","v":"Fluorescent 20 watt"},null,{"$f":"'DNSP Inputs General'!E45","v":61.03},{"$f":"IF('DNSP Inputs General'!$B45='DNSP Inputs General'!$A$41,D$6,IF('DNSP Inputs General'!$B45='DNSP Inputs General'!$A$42,D$7,D$8))*'DNSP Inputs General'!$D45","v":65.768263098791493},{"$f":"IF('DNSP Inputs General'!$B45='DNSP Inputs General'!$A$41,E$6,IF('DNSP Inputs General'!$B45='DNSP Inputs General'!$A$42,E$7,E$8))*'DNSP Inputs General'!$D45","v":67.216822300066809},{"$f":"IF('DNSP Inputs General'!$B45='DNSP Inputs General'!$A$41,F$6,IF('DNSP Inputs General'!$B45='DNSP Inputs General'!$A$42,F$7,F$8))*'DNSP Inputs General'!$D45","v":69.481729138615975},{"$f":"IF('DNSP Inputs General'!$B45='DNSP Inputs General'!$A$41,G$6,IF('DNSP Inputs General'!$B45='DNSP Inputs General'!$A$42,G$7,G$8))*'DNSP Inputs General'!$D45","v":70.545565775561712},{"$f":"IF('DNSP Inputs General'!$B45='DNSP Inputs General'!$A$41,H$6,IF('DNSP Inputs General'!$B45='DNSP Inputs General'!$A$42,H$7,H$8))*'DNSP Inputs General'!$D45","v":72.196755177186816},null,7.763826149093056E-2,2.2025200803910794E-2,3.3695535746070426E-2,1.5311027087759888E-2,2.3405998427715513E-2,null,{"$f":"IF(C10=0,\"\",(D10/'Charges Summary'!D$4)/C10-1)","v":5.3172229936955695E-2},{"$f":"IF(D10=0,\"\",(E10/'Charges Summary'!E$4)/(D10/'Charges Summary'!D$4)-1)","v":-1.1782262693180723E-3},{"$f":"IF(E10=0,\"\",(F10/'Charges Summary'!F$4)/(E10/'Charges Summary'!E$4)-1)","v":1.0227152617416024E-2},{"$f":"IF(F10=0,\"\",(G10/'Charges Summary'!G$4)/(F10/'Charges Summary'!F$4)-1)","v":-7.7399655444619908E-3},{"$f":"IF(G10=0,\"\",(H10/'Charges Summary'!H$4)/(G10/'Charges Summary'!G$4)-1)","v":1.7122258056057049E-4}]
[{"$f":"'DNSP Inputs General'!A46","v":"Fluorescent 40 watt"},null,{"$f":"'DNSP Inputs General'!E46","v":61.03},{"$f":"IF('DNSP Inputs General'!$B46='DNSP Inputs General'!$A$41,D$6,IF('DNSP Inputs General'!$B46='DNSP Inputs General'!$A$42,D$7,D$8))*'DNSP Inputs General'!$D46","v":65.768263098791493},{"$f":"IF('DNSP Inputs General'!$B46='DNSP Inputs General'!$A$41,E$6,IF('DNSP Inputs General'!$B46='DNSP Inputs General'!$A$42,E$7,E$8))*'DNSP Inputs General'!$D46","v":67.216822300066809},{"$f":"IF('DNSP Inputs General'!$B46='DNSP Inputs General'!$A$41,F$6,IF('DNSP Inputs General'!$B46='DNSP Inputs General'!$A$42,F$7,F$8))*'DNSP Inputs General'!$D46","v":69.481729138615975},{"$f":"IF('DNSP Inputs General'!$B46='DNSP Inputs General'!$A$41,G$6,IF('DNSP Inputs General'!$B46='DNSP Inputs General'!$A$42,G$7,G$8))*'DNSP Inputs General'!$D46","v":70.545565775561712},{"$f":"IF('DNSP Inputs General'!$B46='DNSP Inputs General'!$A$41,H$6,IF('DNSP Inputs General'!$B46='DNSP Inputs General'!$A$42,H$7,H$8))*'DNSP Inputs General'!$D46","v":72.196755177186816},null,7.763826149093056E-2,2.2025200803910794E-2,3.3695535746070426E-2,1.5311027087759888E-2,2.3405998427715513E-2,null,{"$f":"IF(C11=0,\"\",(D11/'Charges Summary'!D$4)/C11-1)","v":5.3172229936955695E-2},{"$f":"IF(D11=0,\"\",(E11/'Charges Summary'!E$4)/(D11/'Charges Summary'!D$4)-1)","v":-1.1782262693180723E-3},{"$f":"IF(E11=0,\"\",(F11/'Charges Summary'!F$4)/(E11/'Charges Summary'!E$4)-1)","v":1.0227152617416024E-2},{"$f":"IF(F11=0,\"\",(G11/'Charges Summary'!G$4)/(F11/'Charges Summary'!F$4)-1)","v":-7.7399655444619908E-3},{"$f":"IF(G11=0,\"\",(H11/'Charges Summary'!H$4)/(G11/'Charges Summary'!G$4)-1)","v":1.7122258056057049E-4}]
[{"$f":"'DNSP Inputs General'!A47","v":"Fluorescent 80 watt"},null,{"$f":"'DNSP Inputs General'!E47","v":61.03},{"$f":"IF('DNSP Inputs General'!$B47='DNSP Inputs General'!$A$41,D$6,IF('DNSP Inputs General'!$B47='DNSP Inputs General'!$A$42,D$7,D$8))*'DNSP Inputs General'!$D47","v":65.768263098791493},{"$f":"IF('DNSP Inputs General'!$B47='DNSP Inputs General'!$A$41,E$6,IF('DNSP Inputs General'!$B47='DNSP Inputs General'!$A$42,E$7,E$8))*'DNSP Inputs General'!$D47","v":67.216822300066809},{"$f":"IF('DNSP Inputs General'!$B47='DNSP Inputs General'!$A$41,F$6,IF('DNSP Inputs General'!$B47='DNSP Inputs General'!$A$42,F$7,F$8))*'DNSP Inputs General'!$D47","v":69.481729138615975},{"$f":"IF('DNSP Inputs General'!$B47='DNSP Inputs General'!$A$41,G$6,IF('DNSP Inputs General'!$B47='DNSP Inputs General'!$A$42,G$7,G$8))*'DNSP Inputs General'!$D47","v":70.545565775561712},{"$f":"IF('DNSP Inputs General'!$B47='DNSP Inputs General'!$A$41,H$6,IF('DNSP Inputs General'!$B47='DNSP Inputs General'!$A$42,H$7,H$8))*'DNSP Inputs General'!$D47","v":72.196755177186816},null,7.763826149093056E-2,2.2025200803910794E-2,3.3695535746070426E-2,1.5311027087759888E-2,2.3405998427715513E-2,null,{"$f":"IF(C12=0,\"\",(D12/'Charges Summary'!D$4)/C12-1)","v":5.3172229936955695E-2},{"$f":"IF(D12=0,\"\",(E12/'Charges Summary'!E$4)/(D12/'Charges Summary'!D$4)-1)","v":-1.1782262693180723E-3},{"$f":"IF(E12=0,\"\",(F12/'Charges Summary'!F$4)/(E12/'Charges Summary'!E$4)-1)","v":1.0227152617416024E-2},{"$f":"IF(F12=0,\"\",(G12/'Charges Summary'!G$4)/(F12/'Charges Summary'!F$4)-1)","v":-7.7399655444619908E-3},{"$f":"IF(G12=0,\"\",(H12/'Charges Summary'!H$4)/(G12/'Charges Summary'!G$4)-1)","v":1.7122258056057049E-4}]
[{"$f":"'DNSP Inputs General'!A48","v":"Mercury Vapour 50 watt"},null,{"$f":"'DNSP Inputs General'!E48","v":61.03},{"$f":"IF('DNSP Inputs General'!$B48='DNSP Inputs General'!$A$41,D$6,IF('DNSP Inputs General'!$B48='DNSP Inputs General'!$A$42,D$7,D$8))*'DNSP Inputs General'!$D48","v":65.768263098791493},{"$f":"IF('DNSP Inputs General'!$B48='DNSP Inputs General'!$A$41,E$6,IF('DNSP Inputs General'!$B48='DNSP Inputs General'!$A$42,E$7,E$8))*'DNSP Inputs General'!$D48","v":67.216822300066809},{"$f":"IF('DNSP Inputs General'!$B48='DNSP Inputs General'!$A$41,F$6,IF('DNSP Inputs General'!$B48='DNSP Inputs General'!$A$42,F$7,F$8))*'DNSP Inputs General'!$D48","v":69.481729138615975},{"$f":"IF('DNSP Inputs General'!$B48='DNSP Inputs General'!$A$41,G$6,IF('DNSP Inputs General'!$B48='DNSP Inputs General'!$A$42,G$7,G$8))*'DNSP Inputs General'!$D48","v":70.545565775561712},{"$f":"IF('DNSP Inputs General'!$B48='DNSP Inputs General'!$A$41,H$6,IF('DNSP Inputs General'!$B48='DNSP Inputs General'!$A$42,H$7,H$8))*'DNSP Inputs General'!$D48","v":72.196755177186816},null,7.763826149093056E-2,2.2025200803910794E-2,3.3695535746070426E-2,1.5311027087759888E-2,2.3405998427715513E-2,null,{"$f":"IF(C13=0,\"\",(D13/'Charges Summary'!D$4)/C13-1)","v":5.3172229936955695E-2},{"$f":"IF(D13=0,\"\",(E13/'Charges Summary'!E$4)/(D13/'Charges Summary'!D$4)-1)","v":-1.1782262693180723E-3},{"$f":"IF(E13=0,\"\",(F13/'Charges Summary'!F$4)/(E13/'Charges Summary'!E$4)-1)","v":1.0227152617416024E-2},{"$f":"IF(F13=0,\"\",(G13/'Charges Summary'!G$4)/(F13/'Charges Summary'!F$4)-1)","v":-7.7399655444619908E-3},{"$f":"IF(G13=0,\"\",(H13/'Charges Summary'!H$4)/(G13/'Charges Summary'!G$4)-1)","v":1.7122258056057049E-4}]
[{"$f":"'DNSP Inputs General'!A49","v":"Mercury Vapour 125 watt"},null,{"$f":"'DNSP Inputs General'!E49","v":71.77},{"$f":"IF('DNSP Inputs General'!$B49='DNSP Inputs General'!$A$41,D$6,IF('DNSP Inputs General'!$B49='DNSP Inputs General'!$A$42,D$7,D$8))*'DNSP Inputs General'!$D49","v":77.343477404178785},{"$f":"IF('DNSP Inputs General'!$B49='DNSP Inputs General'!$A$41,E$6,IF('DNSP Inputs General'!$B49='DNSP Inputs General'!$A$42,E$7,E$8))*'DNSP Inputs General'!$D49","v":79.046983024878571},{"$f":"IF('DNSP Inputs General'!$B49='DNSP Inputs General'!$A$41,F$6,IF('DNSP Inputs General'!$B49='DNSP Inputs General'!$A$42,F$7,F$8))*'DNSP Inputs General'!$D49","v":81.71051346701239},{"$f":"IF('DNSP Inputs General'!$B49='DNSP Inputs General'!$A$41,G$6,IF('DNSP Inputs General'!$B49='DNSP Inputs General'!$A$42,G$7,G$8))*'DNSP Inputs General'!$D49","v":82.961585352060581},{"$f":"IF('DNSP Inputs General'!$B49='DNSP Inputs General'!$A$41,H$6,IF('DNSP Inputs General'!$B49='DNSP Inputs General'!$A$42,H$7,H$8))*'DNSP Inputs General'!$D49","v":84.903384088371695},null,7.7657480899802067E-2,2.2025200803911016E-2,3.3695535746070426E-2,1.5311027087759888E-2,2.3405998427715513E-2,null,{"$f":"IF(C14=0,\"\",(D14/'Charges Summary'!D$4)/C14-1)","v":5.3191013000273291E-2},{"$f":"IF(D14=0,\"\",(E14/'Charges Summary'!E$4)/(D14/'Charges Summary'!D$4)-1)","v":-1.1782262693178502E-3},{"$f":"IF(E14=0,\"\",(F14/'Charges Summary'!F$4)/(E14/'Charges Summary'!E$4)-1)","v":1.0227152617415802E-2},{"$f":"IF(F14=0,\"\",(G14/'Charges Summary'!G$4)/(F14/'Charges Summary'!F$4)-1)","v":-7.7399655444618798E-3},{"$f":"IF(G14=0,\"\",(H14/'Charges Summary'!H$4)/(G14/'Charges Summary'!G$4)-1)","v":1.7122258056034845E-4}]
[{"$f":"'DNSP Inputs General'!A50","v":"Mercury Vapour 250 watt"},null,{"$f":"'DNSP Inputs General'!E50","v":90.19},{"$f":"IF('DNSP Inputs General'!$B50='DNSP Inputs General'!$A$41,D$6,IF('DNSP Inputs General'!$B50='DNSP Inputs General'!$A$42,D$7,D$8))*'DNSP Inputs General'!$D50","v":92.954780558627931},{"$f":"IF('DNSP Inputs General'!$B50='DNSP Inputs General'!$A$41,E$6,IF('DNSP Inputs General'!$B50='DNSP Inputs General'!$A$42,E$7,E$8))*'DNSP Inputs General'!$D50","v":96.426871875245169},{"$f":"IF('DNSP Inputs General'!$B50='DNSP Inputs General'!$A$41,F$6,IF('DNSP Inputs General'!$B50='DNSP Inputs General'!$A$42,F$7,F$8))*'DNSP Inputs General'!$D50","v":99.58926246004728},{"$f":"IF('DNSP Inputs General'!$B50='DNSP Inputs General'!$A$41,G$6,IF('DNSP Inputs General'!$B50='DNSP Inputs General'!$A$42,G$7,G$8))*'DNSP Inputs General'!$D50","v":100.80577969730464},{"$f":"IF('DNSP Inputs General'!$B50='DNSP Inputs General'!$A$41,H$6,IF('DNSP Inputs General'!$B50='DNSP Inputs General'!$A$42,H$7,H$8))*'DNSP Inputs General'!$D50","v":103.06117827797257},null,3.0655067730656738E-2,3.7352477148040242E-2,3.2795739644997823E-2,1.2215345381691112E-2,2.2373703049967331E-2,null,{"$f":"IF(C15=0,\"\",(D15/'Charges Summary'!D$4)/C15-1)","v":7.2557135044291066E-3},{"$f":"IF(D15=0,\"\",(E15/'Charges Summary'!E$4)/(D15/'Charges Summary'!D$4)-1)","v":1.3801069087060247E-2},{"$f":"IF(E15=0,\"\",(F15/'Charges Summary'!F$4)/(E15/'Charges Summary'!E$4)-1)","v":9.3477849296503823E-3},{"$f":"IF(F15=0,\"\",(G15/'Charges Summary'!G$4)/(F15/'Charges Summary'!F$4)-1)","v":-1.0765364810672917E-2},{"$f":"IF(G15=0,\"\",(H15/'Charges Summary'!H$4)/(G15/'Charges Summary'!G$4)-1)","v":-8.3763620237875536E-4}]
[{"$f":"'DNSP Inputs General'!A51","v":"Mercury Vapour 400 watt"},null,{"$f":"'DNSP Inputs General'!E51","v":101.47},{"$f":"IF('DNSP Inputs General'!$B51='DNSP Inputs General'!$A$41,D$6,IF('DNSP Inputs General'!$B51='DNSP Inputs General'!$A$42,D$7,D$8))*'DNSP Inputs General'!$D51","v":104.57412812845644},{"$f":"IF('DNSP Inputs General'!$B51='DNSP Inputs General'!$A$41,E$6,IF('DNSP Inputs General'!$B51='DNSP Inputs General'!$A$42,E$7,E$8))*'DNSP Inputs General'!$D51","v":108.48023085965082},{"$f":"IF('DNSP Inputs General'!$B51='DNSP Inputs General'!$A$41,F$6,IF('DNSP Inputs General'!$B51='DNSP Inputs General'!$A$42,F$7,F$8))*'DNSP Inputs General'!$D51","v":112.0379202675532},{"$f":"IF('DNSP Inputs General'!$B51='DNSP Inputs General'!$A$41,G$6,IF('DNSP Inputs General'!$B51='DNSP Inputs General'!$A$42,G$7,G$8))*'DNSP Inputs General'!$D51","v":113.40650215946773},{"$f":"IF('DNSP Inputs General'!$B51='DNSP Inputs General'!$A$41,H$6,IF('DNSP Inputs General'!$B51='DNSP Inputs General'!$A$42,H$7,H$8))*'DNSP Inputs General'!$D51","v":115.94382556271916},null,3.0591584985280695E-2,3.735247714804002E-2,3.2795739644998045E-2,1.2215345381691112E-2,2.2373703049967331E-2,null,{"$f":"IF(C16=0,\"\",(D16/'Charges Summary'!D$4)/C16-1)","v":7.1936720319800695E-3},{"$f":"IF(D16=0,\"\",(E16/'Charges Summary'!E$4)/(D16/'Charges Summary'!D$4)-1)","v":1.3801069087060247E-2},{"$f":"IF(E16=0,\"\",(F16/'Charges Summary'!F$4)/(E16/'Charges Summary'!E$4)-1)","v":9.3477849296503823E-3},{"$f":"IF(F16=0,\"\",(G16/'Charges Summary'!G$4)/(F16/'Charges Summary'!F$4)-1)","v":-1.0765364810672806E-2},{"$f":"IF(G16=0,\"\",(H16/'Charges Summary'!H$4)/(G16/'Charges Summary'!G$4)-1)","v":-8.376362023789774E-4}]
[{"$f":"'DNSP Inputs General'!A52","v":"Sodium High Pressure 50 watt"},null,{"$f":"'DNSP Inputs General'!E52","v":112.91},{"$f":"IF('DNSP Inputs General'!$B52='DNSP Inputs General'!$A$41,D$6,IF('DNSP Inputs General'!$B52='DNSP Inputs General'!$A$42,D$7,D$8))*'DNSP Inputs General'!$D52","v":119.53189954628313},{"$f":"IF('DNSP Inputs General'!$B52='DNSP Inputs General'!$A$41,E$6,IF('DNSP Inputs General'!$B52='DNSP Inputs General'!$A$42,E$7,E$8))*'DNSP Inputs General'!$D52","v":124.01789986532478},{"$f":"IF('DNSP Inputs General'!$B52='DNSP Inputs General'!$A$41,F$6,IF('DNSP Inputs General'!$B52='DNSP Inputs General'!$A$42,F$7,F$8))*'DNSP Inputs General'!$D52","v":128.10152496885661},{"$f":"IF('DNSP Inputs General'!$B52='DNSP Inputs General'!$A$41,G$6,IF('DNSP Inputs General'!$B52='DNSP Inputs General'!$A$42,G$7,G$8))*'DNSP Inputs General'!$D52","v":129.66785327215999},{"$f":"IF('DNSP Inputs General'!$B52='DNSP Inputs General'!$A$41,H$6,IF('DNSP Inputs General'!$B52='DNSP Inputs General'!$A$42,H$7,H$8))*'DNSP Inputs General'!$D52","v":132.58048451985667},null,5.864759141159448E-2,3.7529733368828921E-2,3.2927707274243323E-2,1.2227241663861355E-2,2.2462246225233296E-2,null,{"$f":"IF(C17=0,\"\",(D17/'Charges Summary'!D$4)/C17-1)","v":3.4612712267473089E-2},{"$f":"IF(D17=0,\"\",(E17/'Charges Summary'!E$4)/(D17/'Charges Summary'!D$4)-1)","v":1.3974300992412259E-2},{"$f":"IF(E17=0,\"\",(F17/'Charges Summary'!F$4)/(E17/'Charges Summary'!E$4)-1)","v":9.4767564475877197E-3},{"$f":"IF(F17=0,\"\",(G17/'Charges Summary'!G$4)/(F17/'Charges Summary'!F$4)-1)","v":-1.0753738614323938E-2},{"$f":"IF(G17=0,\"\",(H17/'Charges Summary'!H$4)/(G17/'Charges Summary'!G$4)-1)","v":-7.5110325651683851E-4}]
[{"$f":"'DNSP Inputs General'!A53","v":"Sodium Low Pressure 90 watt"},null,{"$f":"'DNSP Inputs General'!E53","v":97.03},{"$f":"IF('DNSP Inputs General'!$B53='DNSP Inputs General'!$A$41,D$6,IF('DNSP Inputs General'!$B53='DNSP Inputs General'!$A$42,D$7,D$8))*'DNSP Inputs General'!$D53","v":101.3630508152481},{"$f":"IF('DNSP Inputs General'!$B53='DNSP Inputs General'!$A$41,E$6,IF('DNSP Inputs General'!$B53='DNSP Inputs General'!$A$42,E$7,E$8))*'DNSP Inputs General'!$D53","v":105.16717908579541},{"$f":"IF('DNSP Inputs General'!$B53='DNSP Inputs General'!$A$41,F$6,IF('DNSP Inputs General'!$B53='DNSP Inputs General'!$A$42,F$7,F$8))*'DNSP Inputs General'!$D53","v":108.63009317359042},{"$f":"IF('DNSP Inputs General'!$B53='DNSP Inputs General'!$A$41,G$6,IF('DNSP Inputs General'!$B53='DNSP Inputs General'!$A$42,G$7,G$8))*'DNSP Inputs General'!$D53","v":109.95833957479167},{"$f":"IF('DNSP Inputs General'!$B53='DNSP Inputs General'!$A$41,H$6,IF('DNSP Inputs General'!$B53='DNSP Inputs General'!$A$42,H$7,H$8))*'DNSP Inputs General'!$D53","v":112.42825087283845},null,4.4656815575060183E-2,3.7529733368828921E-2,3.2927707274243545E-2,1.2227241663861133E-2,2.2462246225233296E-2,null,{"$f":"IF(C18=0,\"\",(D18/'Charges Summary'!D$4)/C18-1)","v":2.0939574339050804E-2},{"$f":"IF(D18=0,\"\",(E18/'Charges Summary'!E$4)/(D18/'Charges Summary'!D$4)-1)","v":1.3974300992412036E-2},{"$f":"IF(E18=0,\"\",(F18/'Charges Summary'!F$4)/(E18/'Charges Summary'!E$4)-1)","v":9.4767564475877197E-3},{"$f":"IF(F18=0,\"\",(G18/'Charges Summary'!G$4)/(F18/'Charges Summary'!F$4)-1)","v":-1.075373861432416E-2},{"$f":"IF(G18=0,\"\",(H18/'Charges Summary'!H$4)/(G18/'Charges Summary'!G$4)-1)","v":-7.5110325651672749E-4}]
[{"$f":"'DNSP Inputs General'!A54","v":"Sodium High Pressure 100 watt"},null,{"$f":"'DNSP Inputs General'!E54","v":125.41},{"$f":"IF('DNSP Inputs General'!$B54='DNSP Inputs General'!$A$41,D$6,IF('DNSP Inputs General'!$B54='DNSP Inputs General'!$A$42,D$7,D$8))*'DNSP Inputs General'!$D54","v":131.00696190272632},{"$f":"IF('DNSP Inputs General'!$B54='DNSP Inputs General'!$A$41,E$6,IF('DNSP Inputs General'!$B54='DNSP Inputs General'!$A$42,E$7,E$8))*'DNSP Inputs General'!$D54","v":135.92361825239595},{"$f":"IF('DNSP Inputs General'!$B54='DNSP Inputs General'!$A$41,F$6,IF('DNSP Inputs General'!$B54='DNSP Inputs General'!$A$42,F$7,F$8))*'DNSP Inputs General'!$D54","v":140.39927136586687},{"$f":"IF('DNSP Inputs General'!$B54='DNSP Inputs General'!$A$41,G$6,IF('DNSP Inputs General'!$B54='DNSP Inputs General'!$A$42,G$7,G$8))*'DNSP Inputs General'!$D54","v":142.11596718628735},{"$f":"IF('DNSP Inputs General'!$B54='DNSP Inputs General'!$A$41,H$6,IF('DNSP Inputs General'!$B54='DNSP Inputs General'!$A$42,H$7,H$8))*'DNSP Inputs General'!$D54","v":145.30821103376292},null,4.4629311081463285E-2,3.7529733368828921E-2,3.2927707274243545E-2,1.2227241663861133E-2,2.2462246225233296E-2,null,{"$f":"IF(C19=0,\"\",(D19/'Charges Summary'!D$4)/C19-1)","v":2.091269429043896E-2},{"$f":"IF(D19=0,\"\",(E19/'Charges Summary'!E$4)/(D19/'Charges Summary'!D$4)-1)","v":1.3974300992412259E-2},{"$f":"IF(E19=0,\"\",(F19/'Charges Summary'!F$4)/(E19/'Charges Summary'!E$4)-1)","v":9.4767564475877197E-3},{"$f":"IF(F19=0,\"\",(G19/'Charges Summary'!G$4)/(F19/'Charges Summary'!F$4)-1)","v":-1.0753738614324049E-2},{"$f":"IF(G19=0,\"\",(H19/'Charges Summary'!H$4)/(G19/'Charges Summary'!G$4)-1)","v":-7.5110325651672749E-4}]
[{"$f":"'DNSP Inputs General'!A55","v":"Sodium High Pressure 400 watt"},null,{"$f":"'DNSP Inputs General'!E55","v":124.96},{"$f":"IF('DNSP Inputs General'!$B55='DNSP Inputs General'!$A$41,D$6,IF('DNSP Inputs General'!$B55='DNSP Inputs General'!$A$42,D$7,D$8))*'DNSP Inputs General'!$D55","v":128.78110223226579},{"$f":"IF('DNSP Inputs General'!$B55='DNSP Inputs General'!$A$41,E$6,IF('DNSP Inputs General'!$B55='DNSP Inputs General'!$A$42,E$7,E$8))*'DNSP Inputs General'!$D55","v":133.59139541049592},{"$f":"IF('DNSP Inputs General'!$B55='DNSP Inputs General'!$A$41,F$6,IF('DNSP Inputs General'!$B55='DNSP Inputs General'!$A$42,F$7,F$8))*'DNSP Inputs General'!$D55","v":137.9726240331905},{"$f":"IF('DNSP Inputs General'!$B55='DNSP Inputs General'!$A$41,G$6,IF('DNSP Inputs General'!$B55='DNSP Inputs General'!$A$42,G$7,G$8))*'DNSP Inputs General'!$D55","v":139.65800728897415},{"$f":"IF('DNSP Inputs General'!$B55='DNSP Inputs General'!$A$41,H$6,IF('DNSP Inputs General'!$B55='DNSP Inputs General'!$A$42,H$7,H$8))*'DNSP Inputs General'!$D55","v":142.78267407260785},null,3.0578603011089944E-2,3.735247714804002E-2,3.2795739644997823E-2,1.2215345381691112E-2,2.2373703049967553E-2,null,{"$f":"IF(C20=0,\"\",(D20/'Charges Summary'!D$4)/C20-1)","v":7.1809847924899639E-3},{"$f":"IF(D20=0,\"\",(E20/'Charges Summary'!E$4)/(D20/'Charges Summary'!D$4)-1)","v":1.3801069087060025E-2},{"$f":"IF(E20=0,\"\",(F20/'Charges Summary'!F$4)/(E20/'Charges Summary'!E$4)-1)","v":9.3477849296501603E-3},{"$f":"IF(F20=0,\"\",(G20/'Charges Summary'!G$4)/(F20/'Charges Summary'!F$4)-1)","v":-1.0765364810672695E-2},{"$f":"IF(G20=0,\"\",(H20/'Charges Summary'!H$4)/(G20/'Charges Summary'!G$4)-1)","v":-8.3763620237875536E-4}]
[{"$f":"'DNSP Inputs General'!A56","v":"Metal Halide 70 watt"},null,{"$f":"'DNSP Inputs General'!E56","v":125.48},{"$f":"IF('DNSP Inputs General'!$B56='DNSP Inputs General'!$A$41,D$6,IF('DNSP Inputs General'!$B56='DNSP Inputs General'!$A$42,D$7,D$8))*'DNSP Inputs General'!$D56","v":135.2195489311153},{"$f":"IF('DNSP Inputs General'!$B56='DNSP Inputs General'!$A$41,E$6,IF('DNSP Inputs General'!$B56='DNSP Inputs General'!$A$42,E$7,E$8))*'DNSP Inputs General'!$D56","v":138.19778664893735},{"$f":"IF('DNSP Inputs General'!$B56='DNSP Inputs General'!$A$41,F$6,IF('DNSP Inputs General'!$B56='DNSP Inputs General'!$A$42,F$7,F$8))*'DNSP Inputs General'!$D56","v":142.85443510899444},{"$f":"IF('DNSP Inputs General'!$B56='DNSP Inputs General'!$A$41,G$6,IF('DNSP Inputs General'!$B56='DNSP Inputs General'!$A$42,G$7,G$8))*'DNSP Inputs General'!$D56","v":145.04168323455488},{"$f":"IF('DNSP Inputs General'!$B56='DNSP Inputs General'!$A$41,H$6,IF('DNSP Inputs General'!$B56='DNSP Inputs General'!$A$42,H$7,H$8))*'DNSP Inputs General'!$D56","v":148.43652864429609},null,7.7618337034708995E-2,2.2025200803910794E-2,3.3695535746070426E-2,1.5311027087759888E-2,2.3405998427715513E-2,null,{"$f":"IF(C21=0,\"\",(D21/'Charges Summary'!D$4)/C21-1)","v":5.3152757833246245E-2},{"$f":"IF(D21=0,\"\",(E21/'Charges Summary'!E$4)/(D21/'Charges Summary'!D$4)-1)","v":-1.1782262693180723E-3},{"$f":"IF(E21=0,\"\",(F21/'Charges Summary'!F$4)/(E21/'Charges Summary'!E$4)-1)","v":1.0227152617415802E-2},{"$f":"IF(F21=0,\"\",(G21/'Charges Summary'!G$4)/(F21/'Charges Summary'!F$4)-1)","v":-7.7399655444617688E-3},{"$f":"IF(G21=0,\"\",(H21/'Charges Summary'!H$4)/(G21/'Charges Summary'!G$4)-1)","v":1.7122258056034845E-4}]
[{"$f":"'DNSP Inputs General'!A57","v":"Metal Halide 150 watt"},null,{"$f":"'DNSP Inputs General'!E57","v":203.22},{"$f":"IF('DNSP Inputs General'!$B57='DNSP Inputs General'!$A$41,D$6,IF('DNSP Inputs General'!$B57='DNSP Inputs General'!$A$42,D$7,D$8))*'DNSP Inputs General'!$D57","v":212.28865359419885},{"$f":"IF('DNSP Inputs General'!$B57='DNSP Inputs General'!$A$41,E$6,IF('DNSP Inputs General'!$B57='DNSP Inputs General'!$A$42,E$7,E$8))*'DNSP Inputs General'!$D57","v":220.25579016081682},{"$f":"IF('DNSP Inputs General'!$B57='DNSP Inputs General'!$A$41,F$6,IF('DNSP Inputs General'!$B57='DNSP Inputs General'!$A$42,F$7,F$8))*'DNSP Inputs General'!$D57","v":227.50830834468937},{"$f":"IF('DNSP Inputs General'!$B57='DNSP Inputs General'!$A$41,G$6,IF('DNSP Inputs General'!$B57='DNSP Inputs General'!$A$42,G$7,G$8))*'DNSP Inputs General'!$D57","v":230.29010741135613},{"$f":"IF('DNSP Inputs General'!$B57='DNSP Inputs General'!$A$41,H$6,IF('DNSP Inputs General'!$B57='DNSP Inputs General'!$A$42,H$7,H$8))*'DNSP Inputs General'!$D57","v":235.46294050726544},null,4.4624808553286321E-2,3.7529733368828921E-2,3.2927707274243323E-2,1.2227241663861133E-2,2.2462246225233296E-2,null,{"$f":"IF(C22=0,\"\",(D22/'Charges Summary'!D$4)/C22-1)","v":2.0908293984872595E-2},{"$f":"IF(D22=0,\"\",(E22/'Charges Summary'!E$4)/(D22/'Charges Summary'!D$4)-1)","v":1.3974300992412259E-2},{"$f":"IF(E22=0,\"\",(F22/'Charges Summary'!F$4)/(E22/'Charges Summary'!E$4)-1)","v":9.4767564475877197E-3},{"$f":"IF(F22=0,\"\",(G22/'Charges Summary'!G$4)/(F22/'Charges Summary'!F$4)-1)","v":-1.0753738614324049E-2},{"$f":"IF(G22=0,\"\",(H22/'Charges Summary'!H$4)/(G22/'Charges Summary'!G$4)-1)","v":-7.5110325651683851E-4}]
[{"$f":"'DNSP Inputs General'!A58","v":"Metal Halide 250 watt"},null,{"$f":"'DNSP Inputs General'!E58","v":202},{"$f":"IF('DNSP Inputs General'!$B58='DNSP Inputs General'!$A$41,D$6,IF('DNSP Inputs General'!$B58='DNSP Inputs General'!$A$42,D$7,D$8))*'DNSP Inputs General'!$D58","v":208.17997729276047},{"$f":"IF('DNSP Inputs General'!$B58='DNSP Inputs General'!$A$41,E$6,IF('DNSP Inputs General'!$B58='DNSP Inputs General'!$A$42,E$7,E$8))*'DNSP Inputs General'!$D58","v":215.95601513726783},{"$f":"IF('DNSP Inputs General'!$B58='DNSP Inputs General'!$A$41,F$6,IF('DNSP Inputs General'!$B58='DNSP Inputs General'!$A$42,F$7,F$8))*'DNSP Inputs General'!$D58","v":223.03845238448088},{"$f":"IF('DNSP Inputs General'!$B58='DNSP Inputs General'!$A$41,G$6,IF('DNSP Inputs General'!$B58='DNSP Inputs General'!$A$42,G$7,G$8))*'DNSP Inputs General'!$D58","v":225.7629441137552},{"$f":"IF('DNSP Inputs General'!$B58='DNSP Inputs General'!$A$41,H$6,IF('DNSP Inputs General'!$B58='DNSP Inputs General'!$A$42,H$7,H$8))*'DNSP Inputs General'!$D58","v":230.81409718504273},null,3.0593946993863641E-2,3.7352477148040242E-2,3.2795739644997823E-2,1.2215345381691112E-2,2.2373703049967331E-2,null,{"$f":"IF(C23=0,\"\",(D23/'Charges Summary'!D$4)/C23-1)","v":7.1959804149834827E-3},{"$f":"IF(D23=0,\"\",(E23/'Charges Summary'!E$4)/(D23/'Charges Summary'!D$4)-1)","v":1.3801069087060247E-2},{"$f":"IF(E23=0,\"\",(F23/'Charges Summary'!F$4)/(E23/'Charges Summary'!E$4)-1)","v":9.3477849296503823E-3},{"$f":"IF(F23=0,\"\",(G23/'Charges Summary'!G$4)/(F23/'Charges Summary'!F$4)-1)","v":-1.0765364810672806E-2},{"$f":"IF(G23=0,\"\",(H23/'Charges Summary'!H$4)/(G23/'Charges Summary'!G$4)-1)","v":-8.3763620237886638E-4}]
[{"$f":"'DNSP Inputs General'!A59","v":"Incandescent 100 watt"},null,{"$f":"'DNSP Inputs General'!E59","v":76.17},{"$f":"IF('DNSP Inputs General'!$B59='DNSP Inputs General'!$A$41,D$6,IF('DNSP Inputs General'!$B59='DNSP Inputs General'!$A$42,D$7,D$8))*'DNSP Inputs General'!$D59","v":82.078792347291781},{"$f":"IF('DNSP Inputs General'!$B59='DNSP Inputs General'!$A$41,E$6,IF('DNSP Inputs General'!$B59='DNSP Inputs General'!$A$42,E$7,E$8))*'DNSP Inputs General'!$D59","v":83.886594230483382},{"$f":"IF('DNSP Inputs General'!$B59='DNSP Inputs General'!$A$41,F$6,IF('DNSP Inputs General'!$B59='DNSP Inputs General'!$A$42,F$7,F$8))*'DNSP Inputs General'!$D59","v":86.713197964992744},{"$f":"IF('DNSP Inputs General'!$B59='DNSP Inputs General'!$A$41,G$6,IF('DNSP Inputs General'!$B59='DNSP Inputs General'!$A$42,G$7,G$8))*'DNSP Inputs General'!$D59","v":88.040866087901023},{"$f":"IF('DNSP Inputs General'!$B59='DNSP Inputs General'!$A$41,H$6,IF('DNSP Inputs General'!$B59='DNSP Inputs General'!$A$42,H$7,H$8))*'DNSP Inputs General'!$D59","v":90.10155046112915},null,7.7573747502845958E-2,2.2025200803910794E-2,3.3695535746070426E-2,1.5311027087759665E-2,2.3405998427715513E-2,null,{"$f":"IF(C24=0,\"\",(D24/'Charges Summary'!D$4)/C24-1)","v":5.310918063449388E-2},{"$f":"IF(D24=0,\"\",(E24/'Charges Summary'!E$4)/(D24/'Charges Summary'!D$4)-1)","v":-1.1782262693181833E-3},{"$f":"IF(E24=0,\"\",(F24/'Charges Summary'!F$4)/(E24/'Charges Summary'!E$4)-1)","v":1.0227152617416246E-2},{"$f":"IF(F24=0,\"\",(G24/'Charges Summary'!G$4)/(F24/'Charges Summary'!F$4)-1)","v":-7.7399655444621018E-3},{"$f":"IF(G24=0,\"\",(H24/'Charges Summary'!H$4)/(G24/'Charges Summary'!G$4)-1)","v":1.7122258056057049E-4}]
[{"$f":"'DNSP Inputs General'!A60","v":"Incandescent 150 watt"},null,{"$f":"'DNSP Inputs General'!E60","v":95.21},{"$f":"IF('DNSP Inputs General'!$B60='DNSP Inputs General'!$A$41,D$6,IF('DNSP Inputs General'!$B60='DNSP Inputs General'!$A$42,D$7,D$8))*'DNSP Inputs General'!$D60","v":102.59849043411472},{"$f":"IF('DNSP Inputs General'!$B60='DNSP Inputs General'!$A$41,E$6,IF('DNSP Inputs General'!$B60='DNSP Inputs General'!$A$42,E$7,E$8))*'DNSP Inputs General'!$D60","v":104.85824278810422},{"$f":"IF('DNSP Inputs General'!$B60='DNSP Inputs General'!$A$41,F$6,IF('DNSP Inputs General'!$B60='DNSP Inputs General'!$A$42,F$7,F$8))*'DNSP Inputs General'!$D60","v":108.39149745624091},{"$f":"IF('DNSP Inputs General'!$B60='DNSP Inputs General'!$A$41,G$6,IF('DNSP Inputs General'!$B60='DNSP Inputs General'!$A$42,G$7,G$8))*'DNSP Inputs General'!$D60","v":110.05108260987627},{"$f":"IF('DNSP Inputs General'!$B60='DNSP Inputs General'!$A$41,H$6,IF('DNSP Inputs General'!$B60='DNSP Inputs General'!$A$42,H$7,H$8))*'DNSP Inputs General'!$D60","v":112.62693807641143},null,7.7602042160642037E-2,2.2025200803910794E-2,3.3695535746070426E-2,1.5311027087759888E-2,2.3405998427715513E-2,null,{"$f":"IF(C25=0,\"\",(D25/'Charges Summary'!D$4)/C25-1)","v":5.3136832907906273E-2},{"$f":"IF(D25=0,\"\",(E25/'Charges Summary'!E$4)/(D25/'Charges Summary'!D$4)-1)","v":-1.1782262693180723E-3},{"$f":"IF(E25=0,\"\",(F25/'Charges Summary'!F$4)/(E25/'Charges Summary'!E$4)-1)","v":1.0227152617416024E-2},{"$f":"IF(F25=0,\"\",(G25/'Charges Summary'!G$4)/(F25/'Charges Summary'!F$4)-1)","v":-7.7399655444619908E-3},{"$f":"IF(G25=0,\"\",(H25/'Charges Summary'!H$4)/(G25/'Charges Summary'!G$4)-1)","v":1.7122258056057049E-4}]
[{"$f":"'DNSP Inputs General'!A61","v":"Sodium High Pressure 250 watt (24 hrs)"},null,{"$f":"'DNSP Inputs General'!E61","v":144.62},{"$f":"IF('DNSP Inputs General'!$B61='DNSP Inputs General'!$A$41,D$6,IF('DNSP Inputs General'!$B61='DNSP Inputs General'!$A$42,D$7,D$8))*'DNSP Inputs General'!$D61","v":151.0515184077704},{"$f":"IF('DNSP Inputs General'!$B61='DNSP Inputs General'!$A$41,E$6,IF('DNSP Inputs General'!$B61='DNSP Inputs General'!$A$42,E$7,E$8))*'DNSP Inputs General'!$D61","v":156.69366679727341},{"$f":"IF('DNSP Inputs General'!$B61='DNSP Inputs General'!$A$41,F$6,IF('DNSP Inputs General'!$B61='DNSP Inputs General'!$A$42,F$7,F$8))*'DNSP Inputs General'!$D61","v":161.83255149757684},{"$f":"IF('DNSP Inputs General'!$B61='DNSP Inputs General'!$A$41,G$6,IF('DNSP Inputs General'!$B61='DNSP Inputs General'!$A$42,G$7,G$8))*'DNSP Inputs General'!$D61","v":163.80939200812006},{"$f":"IF('DNSP Inputs General'!$B61='DNSP Inputs General'!$A$41,H$6,IF('DNSP Inputs General'!$B61='DNSP Inputs General'!$A$42,H$7,H$8))*'DNSP Inputs General'!$D61","v":167.47441470170546},null,4.447184627140377E-2,3.735247714804002E-2,3.2795739644997823E-2,1.2215345381691112E-2,2.2373703049967553E-2,null,{"$f":"IF(C26=0,\"\",(D26/'Charges Summary'!D$4)/C26-1)","v":2.0758804463886449E-2},{"$f":"IF(D26=0,\"\",(E26/'Charges Summary'!E$4)/(D26/'Charges Summary'!D$4)-1)","v":1.3801069087060247E-2},{"$f":"IF(E26=0,\"\",(F26/'Charges Summary'!F$4)/(E26/'Charges Summary'!E$4)-1)","v":9.3477849296503823E-3},{"$f":"IF(F26=0,\"\",(G26/'Charges Summary'!G$4)/(F26/'Charges Summary'!F$4)-1)","v":-1.0765364810672917E-2},{"$f":"IF(G26=0,\"\",(H26/'Charges Summary'!H$4)/(G26/'Charges Summary'!G$4)-1)","v":-8.3763620237886638E-4}]
[{"$f":"'DNSP Inputs General'!A62","v":"Metal Halide 100 watt"},null,{"$f":"'DNSP Inputs General'!E62","v":200.52},{"$f":"IF('DNSP Inputs General'!$B62='DNSP Inputs General'!$A$41,D$6,IF('DNSP Inputs General'!$B62='DNSP Inputs General'!$A$42,D$7,D$8))*'DNSP Inputs General'!$D62","v":212.28865359419885},{"$f":"IF('DNSP Inputs General'!$B62='DNSP Inputs General'!$A$41,E$6,IF('DNSP Inputs General'!$B62='DNSP Inputs General'!$A$42,E$7,E$8))*'DNSP Inputs General'!$D62","v":220.25579016081682},{"$f":"IF('DNSP Inputs General'!$B62='DNSP Inputs General'!$A$41,F$6,IF('DNSP Inputs General'!$B62='DNSP Inputs General'!$A$42,F$7,F$8))*'DNSP Inputs General'!$D62","v":227.50830834468937},{"$f":"IF('DNSP Inputs General'!$B62='DNSP Inputs General'!$A$41,G$6,IF('DNSP Inputs General'!$B62='DNSP Inputs General'!$A$42,G$7,G$8))*'DNSP Inputs General'!$D62","v":230.29010741135613},{"$f":"IF('DNSP Inputs General'!$B62='DNSP Inputs General'!$A$41,H$6,IF('DNSP Inputs General'!$B62='DNSP Inputs General'!$A$42,H$7,H$8))*'DNSP Inputs General'!$D62","v":235.46294050726544},null,5.8690672223213891E-2,3.7529733368828921E-2,3.2927707274243323E-2,1.2227241663861133E-2,2.2462246225233296E-2,null,{"$f":"IF(C27=0,\"\",(D27/'Charges Summary'!D$4)/C27-1)","v":3.4654814999031558E-2},{"$f":"IF(D27=0,\"\",(E27/'Charges Summary'!E$4)/(D27/'Charges Summary'!D$4)-1)","v":1.3974300992412259E-2},{"$f":"IF(E27=0,\"\",(F27/'Charges Summary'!F$4)/(E27/'Charges Summary'!E$4)-1)","v":9.4767564475877197E-3},{"$f":"IF(F27=0,\"\",(G27/'Charges Summary'!G$4)/(F27/'Charges Summary'!F$4)-1)","v":-1.0753738614324049E-2},{"$f":"IF(G27=0,\"\",(H27/'Charges Summary'!H$4)/(G27/'Charges Summary'!G$4)-1)","v":-7.5110325651683851E-4}]
[]
[]
[{"$f":"'DNSP Inputs General'!A$67","v":"Energy Efficient Lights"}]
[{"$f":"'DNSP Inputs General'!A68","v":"T5 2X14W"},null,{"$f":"'DNSP Inputs General'!E68","v":30.01},{"$f":"'Charges Summary'!D$89","v":33.744357493111707},{"$f":"'Charges Summary'!E$89","v":35.829757757569382},{"$f":"'Charges Summary'!F$89","v":37.675950990898755},{"$f":"'Charges Summary'!G$89","v":38.749448116811294},{"$f":"'Charges Summary'!H$89","v":40.172418289239509},null,{"$f":"IF(C31=0,\"\",D31/C31-1)","v":0.12443710406903374},{"$f":"IF(D31=0,\"\",E31/D31-1)","v":6.1799969517374098E-2},{"$f":"IF(E31=0,\"\",F31/E31-1)","v":5.1526813154056272E-2},{"$f":"IF(F31=0,\"\",G31/F31-1)","v":2.8492900581908565E-2},{"$f":"IF(G31=0,\"\",H31/G31-1)","v":3.6722333906243909E-2},null,{"$f":"IF(C31=0,\"\",(D31/'Charges Summary'!D$4)/C31-1)","v":9.8908580582356631E-2},{"$f":"IF(D31=0,\"\",(E31/'Charges Summary'!E$4)/(D31/'Charges Summary'!D$4)-1)","v":3.769352073345611E-2},{"$f":"IF(E31=0,\"\",(F31/'Charges Summary'!F$4)/(E31/'Charges Summary'!E$4)-1)","v":2.7653599748581392E-2},{"$f":"IF(F31=0,\"\",(G31/'Charges Summary'!G$4)/(F31/'Charges Summary'!F$4)-1)","v":5.1426348592880089E-3},{"$f":"IF(G31=0,\"\",(H31/'Charges Summary'!H$4)/(G31/'Charges Summary'!G$4)-1)","v":1.3185232227088228E-2}]
[{"$f":"'DNSP Inputs General'!A69","v":"T5 (2x24W)"},null,null,{"$f":"D$31*'DNSP Inputs General'!$D69","v":38.004442492242084},{"$f":"E$31*'DNSP Inputs General'!$D69","v":40.353115879787438},{"$f":"F$31*'DNSP Inputs General'!$D69","v":42.43238334190923},{"$f":"G$31*'DNSP Inputs General'!$D69","v":43.641405021923681},{"$f":"H$31*'DNSP Inputs General'!$D69","v":45.244019269276386},null,{"$f":"IF(C32=0,\"\",D32/C32-1)","v":""},{"$f":"IF(D32=0,\"\",E32/D32-1)","v":6.1799969517374098E-2},{"$f":"IF(E32=0,\"\",F32/E32-1)","v":5.1526813154056272E-2},{"$f":"IF(F32=0,\"\",G32/F32-1)","v":2.8492900581908565E-2},{"$f":"IF(G32=0,\"\",H32/G32-1)","v":3.6722333906243687E-2},null,{"$f":"IF(C32=0,\"\",(D32/'Charges Summary'!D$4)/C32-1)","v":""},{"$f":"IF(D32=0,\"\",(E32/'Charges Summary'!E$4)/(D32/'Charges Summary'!D$4)-1)","v":3.7693520733455887E-2},{"$f":"IF(E32=0,\"\",(F32/'Charges Summary'!F$4)/(E32/'Charges Summary'!E$4)-1)","v":2.7653599748581836E-2},{"$f":"IF(F32=0,\"\",(G32/'Charges Summary'!G$4)/(F32/'Charges Summary'!F$4)-1)","v":5.1426348592880089E-3},{"$f":"IF(G32=0,\"\",(H32/'Charges Summary'!H$4)/(G32/'Charges Summary'!G$4)-1)","v":1.3185232227088228E-2}]
[{"$f":"'DNSP Inputs General'!A70","v":"LED 18W"},null,null,{"$f":"'Charges Summary'!D$107","v":19.790171391944376},{"$f":"'Charges Summary'!E$107","v":21.99587854802445},{"$f":"'Charges Summary'!F$107","v":24.026912557203843},{"$f":"'Charges Summary'!G$107","v":25.24564923875419},{"$f":"'Charges Summary'!H$107","v":26.542112450233951},null,"",0.11145467678859577,9.233702599079896E-2,5.072381558174599E-2,5.135392634266589E-2,null,{"$f":"IF(C33=0,\"\",(D33/'Charges Summary'!D$4)/C33-1)","v":""},{"$f":"IF(D33=0,\"\",(E33/'Charges Summary'!E$4)/(D33/'Charges Summary'!D$4)-1)","v":8.6220898289026904E-2},{"$f":"IF(E33=0,\"\",(F33/'Charges Summary'!F$4)/(E33/'Charges Summary'!E$4)-1)","v":6.753728279265836E-2},{"$f":"IF(F33=0,\"\",(G33/'Charges Summary'!G$4)/(F33/'Charges Summary'!F$4)-1)","v":2.6868832935742271E-2},{"$f":"IF(G33=0,\"\",(H33/'Charges Summary'!H$4)/(G33/'Charges Summary'!G$4)-1)","v":2.7484638052263533E-2}]
[{"$f":"'DNSP Inputs General'!A71","v":"Compact Fluoro 32W"},null,null,{"$f":"D$31*'DNSP Inputs General'!$D71","v":29.105752598778359},{"$f":"E$31*'DNSP Inputs General'!$D71","v":30.904487222163091},{"$f":"F$31*'DNSP Inputs General'!$D71","v":32.496896960881408},{"$f":"G$31*'DNSP Inputs General'!$D71","v":33.422827815208329},{"$f":"H$31*'DNSP Inputs General'!$D71","v":34.650192058329303},null,"",6.1799969517374098E-2,5.1526813154056272E-2,2.8492900581908565E-2,3.6722333906243909E-2,null,{"$f":"IF(C34=0,\"\",(D34/'Charges Summary'!D$4)/C34-1)","v":""},{"$f":"IF(D34=0,\"\",(E34/'Charges Summary'!E$4)/(D34/'Charges Summary'!D$4)-1)","v":3.769352073345611E-2},{"$f":"IF(E34=0,\"\",(F34/'Charges Summary'!F$4)/(E34/'Charges Summary'!E$4)-1)","v":2.7653599748581614E-2},{"$f":"IF(F34=0,\"\",(G34/'Charges Summary'!G$4)/(F34/'Charges Summary'!F$4)-1)","v":5.1426348592880089E-3},{"$f":"IF(G34=0,\"\",(H34/'Charges Summary'!H$4)/(G34/'Charges Summary'!G$4)-1)","v":1.3185232227088228E-2}]
[{"$f":"'DNSP Inputs General'!A72","v":"Compact Fluoro 42W"},null,null,{"$f":"D$31*'DNSP Inputs General'!$D72","v":32.825075993299357},{"$f":"E$31*'DNSP Inputs General'!$D72","v":34.853664689090749},{"$f":"F$31*'DNSP Inputs General'!$D72","v":36.649562957259654},{"$f":"G$31*'DNSP Inputs General'!$D72","v":37.693815310971253},{"$f":"H$31*'DNSP Inputs General'!$D72","v":39.078020183021025},null,"",6.1799969517374098E-2,5.1526813154056272E-2,2.8492900581908565E-2,3.6722333906243909E-2,null,{"$f":"IF(C35=0,\"\",(D35/'Charges Summary'!D$4)/C35-1)","v":""},{"$f":"IF(D35=0,\"\",(E35/'Charges Summary'!E$4)/(D35/'Charges Summary'!D$4)-1)","v":3.7693520733455887E-2},{"$f":"IF(E35=0,\"\",(F35/'Charges Summary'!F$4)/(E35/'Charges Summary'!E$4)-1)","v":2.7653599748581392E-2},{"$f":"IF(F35=0,\"\",(G35/'Charges Summary'!G$4)/(F35/'Charges Summary'!F$4)-1)","v":5.1426348592880089E-3},{"$f":"IF(G35=0,\"\",(H35/'Charges Summary'!H$4)/(G35/'Charges Summary'!G$4)-1)","v":1.3185232227088228E-2}]

{"sheet":"PL Tariff Components - Excl. RR","index":7,"n_rows":35,"n_cols":26,"rows_kept":35,"cut":false,"hidden":false,"merged":[[2,2,2,7],[2,9,2,13],[2,15,2,19],[2,21,2,25]]}
[{"$f":"'DNSP Inputs O & M'!$A$3","v":"Jemena"},null,null,null,"Global Check",{"$f":"IF(SUM('Total RAB'!F1,'Depn & WACC Post 2004'!F1,'Cashflow Summary'!F1,W1)<1,\"Ok\",\"Error\")","v":"Ok"},null,null,null,null,null,null,null,null,null,null,null,null,null,null,null,"Check",{"$f":"SUM(V6:Z35)","v":1.071143174158351E-12}]
[]
["Public Lighting Tariffs",null,"Total Tariff",null,null,null,null,null,null,"Operations, maintenance and repair Tariff",null,null,null,null,null,"Replacement Tariff",null,null,null,null,null,"Check"]
["Excluding Revenue Recovery",null,"Actual"]
[{"$f":"'DNSP Inputs General'!A$40","v":"Existing Lights"},null,{"$f":"'DNSP Inputs General'!J$2","v":2015},{"$f":"'DNSP Inputs General'!K$2","v":2016},{"$f":"'DNSP Inputs General'!L$2","v":2017},{"$f":"'DNSP Inputs General'!M$2","v":2018},{"$f":"'DNSP Inputs General'!N$2","v":2019},{"$f":"'DNSP Inputs General'!O$2","v":2020},null,{"$f":"D5","v":2016},{"$f":"E5","v":2017},2018,2019,2020,null,{"$f":"J5","v":2016},{"$f":"K5","v":2017},2018,2019,2020,null,{"$f":"P5","v":2016},{"$f":"Q5","v":2017},2018,2019,2020]
[{"$f":"'DNSP Inputs General'!A41","v":"Mercury Vapour 80 watt"},null,{"$f":"'DNSP Inputs General'!E41","v":48.83},{"$f":"'Charges Summary'!D$31","v":52.614610479033189},{"$f":"'Charges Summary'!E$31","v":53.773457840053446},{"$f":"'Charges Summary'!F$31","v":55.58538331089278},{"$f":"'Charges Summary'!G$31","v":56.436452620449373},{"$f":"'Charges Summary'!H$31","v":57.757404141749454},null,{"$f":"SUM('Charges Summary'!D25,'Charges Summary'!D8)","v":34.661234702104494},{"$f":"SUM('Charges Summary'!E25,'Charges Summary'!E8)","v":35.128886985626494},{"$f":"SUM('Charges Summary'!F25,'Charges Summary'!F8)","v":36.225539307785333},{"$f":"SUM('Charges Summary'!G25,'Charges Summary'!G8)","v":36.392953657095816},{"$f":"SUM('Charges Summary'!H25,'Charges Summary'!H8)","v":37.081830599373951},null,{"$f":"SUM('Charges Summary'!D27,'Charges Summary'!D11)","v":17.953375776928691},{"$f":"SUM('Charges Summary'!E27,'Charges Summary'!E11)","v":18.644570854426956},{"$f":"SUM('Charges Summary'!F27,'Charges Summary'!F11)","v":19.359844003107455},{"$f":"SUM('Charges Summary'!G27,'Charges Summary'!G11)","v":20.04349896335356},{"$f":"SUM('Charges Summary'!H27,'Charges Summary'!H11)","v":20.675573542375496},null,{"$f":"ABS(D6-J6-P6)","v":3.5527136788005009E-15},{"$f":"ABS(E6-K6-Q6)","v":3.5527136788005009E-15},7.1054273576010019E-15,3.5527136788005009E-15,7.1054273576010019E-15]
[{"$f":"'DNSP Inputs General'!A42","v":"Sodium High Pressure 150 watt"},null,{"$f":"'DNSP Inputs General'!E42","v":91.54},{"$f":"'Charges Summary'!D$55","v":95.6255196370265},{"$f":"'Charges Summary'!E$55","v":99.214319892259823},{"$f":"'Charges Summary'!F$55","v":102.4812199750853},{"$f":"'Charges Summary'!G$55","v":103.73428261772798},{"$f":"'Charges Summary'!H$55","v":106.06438761588532},null,{"$f":"SUM('Charges Summary'!D49,'Charges Summary'!D8)","v":75.435627015673546},{"$f":"SUM('Charges Summary'!E49,'Charges Summary'!E8)","v":78.298516624089046},{"$f":"SUM('Charges Summary'!F49,'Charges Summary'!F8)","v":80.812395517441871},{"$f":"SUM('Charges Summary'!G49,'Charges Summary'!G8)","v":81.346442720341415},{"$f":"SUM('Charges Summary'!H49,'Charges Summary'!H8)","v":83.01344678382705},null,{"$f":"SUM('Charges Summary'!D51,'Charges Summary'!D11)","v":20.189892621352957},{"$f":"SUM('Charges Summary'!E51,'Charges Summary'!E11)","v":20.91580326817078},{"$f":"SUM('Charges Summary'!F51,'Charges Summary'!F11)","v":21.668824457643417},{"$f":"SUM('Charges Summary'!G51,'Charges Summary'!G11)","v":22.387839897386577},{"$f":"SUM('Charges Summary'!H51,'Charges Summary'!H11)","v":23.050940832058288},null,{"$f":"ABS(D7-J7-P7)","v":3.5527136788005009E-15},3.5527136788005009E-15,7.1054273576010019E-15,7.1054273576010019E-15,1.4210854715202004E-14]
[{"$f":"'DNSP Inputs General'!A43","v":"Sodium High Pressure 250 watt"},null,{"$f":"'DNSP Inputs General'!E43","v":93.95},{"$f":"'Charges Summary'!D$71","v":96.827896415237433},{"$f":"'Charges Summary'!E$71","v":100.44465820338038},{"$f":"'Charges Summary'!F$71","v":103.73881506254925},{"$f":"'Charges Summary'!G$71","v":105.00602051802568},{"$f":"'Charges Summary'!H$71","v":107.35539403955477},null,{"$f":"SUM('Charges Summary'!D65,'Charges Summary'!D8)","v":75.706332273550174},{"$f":"SUM('Charges Summary'!E65,'Charges Summary'!E8)","v":78.58272186171159},{"$f":"SUM('Charges Summary'!F65,'Charges Summary'!F8)","v":81.108132733876261},{"$f":"SUM('Charges Summary'!G65,'Charges Summary'!G8)","v":81.641592544569988},{"$f":"SUM('Charges Summary'!H65,'Charges Summary'!H8)","v":83.314940403401863},null,{"$f":"SUM('Charges Summary'!D67,'Charges Summary'!D11)","v":21.121564141687255},{"$f":"SUM('Charges Summary'!E67,'Charges Summary'!E11)","v":21.861936341668802},{"$f":"SUM('Charges Summary'!F67,'Charges Summary'!F11)","v":22.630682328672986},{"$f":"SUM('Charges Summary'!G67,'Charges Summary'!G11)","v":23.36442797345569},{"$f":"SUM('Charges Summary'!H67,'Charges Summary'!H11)","v":24.040453636152911},null,3.5527136788005009E-15,7.1054273576010019E-15,3.5527136788005009E-15,0,7.1054273576010019E-15]
[{"$f":"'DNSP Inputs General'!A44","v":"55W Ind"},null,{"$f":"'DNSP Inputs General'!E44","v":61.03},{"$f":"IF('DNSP Inputs General'!$B44='DNSP Inputs General'!$A$41,D$6,IF('DNSP Inputs General'!$B44='DNSP Inputs General'!$A$42,D$7,D$8))*'DNSP Inputs General'!$D44","v":65.768263098791493},{"$f":"IF('DNSP Inputs General'!$B44='DNSP Inputs General'!$A$41,E$6,IF('DNSP Inputs General'!$B44='DNSP Inputs General'!$A$42,E$7,E$8))*'DNSP Inputs General'!$D44","v":67.216822300066809},{"$f":"IF('DNSP Inputs General'!$B44='DNSP Inputs General'!$A$41,F$6,IF('DNSP Inputs General'!$B44='DNSP Inputs General'!$A$42,F$7,F$8))*'DNSP Inputs General'!$D44","v":69.481729138615975},{"$f":"IF('DNSP Inputs General'!$B44='DNSP Inputs General'!$A$41,G$6,IF('DNSP Inputs General'!$B44='DNSP Inputs General'!$A$42,G$7,G$8))*'DNSP Inputs General'!$D44","v":70.545565775561712},{"$f":"IF('DNSP Inputs General'!$B44='DNSP Inputs General'!$A$41,H$6,IF('DNSP Inputs General'!$B44='DNSP Inputs General'!$A$42,H$7,H$8))*'DNSP Inputs General'!$D44","v":72.196755177186816},null,{"$f":"IF('DNSP Inputs General'!$B44='DNSP Inputs General'!$A$41,J$6,IF('DNSP Inputs General'!$B44='DNSP Inputs General'!$A$42,J$7,J$8))*'DNSP Inputs General'!$D44","v":43.326543377630614},{"$f":"IF('DNSP Inputs General'!$B44='DNSP Inputs General'!$A$41,K$6,IF('DNSP Inputs General'!$B44='DNSP Inputs General'!$A$42,K$7,K$8))*'DNSP Inputs General'!$D44","v":43.911108732033114},{"$f":"IF('DNSP Inputs General'!$B44='DNSP Inputs General'!$A$41,L$6,IF('DNSP Inputs General'!$B44='DNSP Inputs General'!$A$42,L$7,L$8))*'DNSP Inputs General'!$D44","v":45.281924134731668},{"$f":"IF('DNSP Inputs General'!$B44='DNSP Inputs General'!$A$41,M$6,IF('DNSP Inputs General'!$B44='DNSP Inputs General'!$A$42,M$7,M$8))*'DNSP Inputs General'!$D44","v":45.491192071369767},{"$f":"IF('DNSP Inputs General'!$B44='DNSP Inputs General'!$A$41,N$6,IF('DNSP Inputs General'!$B44='DNSP Inputs General'!$A$42,N$7,N$8))*'DNSP Inputs General'!$D44","v":46.352288249217438},null,{"$f":"IF('DNSP Inputs General'!$B44='DNSP Inputs General'!$A$41,P$6,IF('DNSP Inputs General'!$B44='DNSP Inputs General'!$A$42,P$7,P$8))*'DNSP Inputs General'!$D44","v":22.441719721160865},{"$f":"IF('DNSP Inputs General'!$B44='DNSP Inputs General'!$A$41,Q$6,IF('DNSP Inputs General'!$B44='DNSP Inputs General'!$A$42,Q$7,Q$8))*'DNSP Inputs General'!$D44","v":23.305713568033696},{"$f":"IF('DNSP Inputs General'!$B44='DNSP Inputs General'!$A$41,R$6,IF('DNSP Inputs General'!$B44='DNSP Inputs General'!$A$42,R$7,R$8))*'DNSP Inputs General'!$D44","v":24.199805003884318},{"$f":"IF('DNSP Inputs General'!$B44='DNSP Inputs General'!$A$41,S$6,IF('DNSP Inputs General'!$B44='DNSP Inputs General'!$A$42,S$7,S$8))*'DNSP Inputs General'!$D44","v":25.054373704191949},{"$f":"IF('DNSP Inputs General'!$B44='DNSP Inputs General'!$A$41,T$6,IF('DNSP Inputs General'!$B44='DNSP Inputs General'!$A$42,T$7,T$8))*'DNSP Inputs General'!$D44","v":25.844466927969371},null,1.4210854715202004E-14,0,1.0658141036401503E-14,3.5527136788005009E-15,7.1054273576010019E-15]
[{"$f":"'DNSP Inputs General'!A45","v":"Fluorescent 20 watt"},null,{"$f":"'DNSP Inputs General'!E45","v":61.03},{"$f":"IF('DNSP Inputs General'!$B45='DNSP Inputs General'!$A$41,D$6,IF('DNSP Inputs General'!$B45='DNSP Inputs General'!$A$42,D$7,D$8))*'DNSP Inputs General'!$D45","v":65.768263098791493},{"$f":"IF('DNSP Inputs General'!$B45='DNSP Inputs General'!$A$41,E$6,IF('DNSP Inputs General'!$B45='DNSP Inputs General'!$A$42,E$7,E$8))*'DNSP Inputs General'!$D45","v":67.216822300066809},{"$f":"IF('DNSP Inputs General'!$B45='DNSP Inputs General'!$A$41,F$6,IF('DNSP Inputs General'!$B45='DNSP Inputs General'!$A$42,F$7,F$8))*'DNSP Inputs General'!$D45","v":69.481729138615975},{"$f":"IF('DNSP Inputs General'!$B45='DNSP Inputs General'!$A$41,G$6,IF('DNSP Inputs General'!$B45='DNSP Inputs General'!$A$42,G$7,G$8))*'DNSP Inputs General'!$D45","v":70.545565775561712},{"$f":"IF('DNSP Inputs General'!$B45='DNSP Inputs General'!$A$41,H$6,IF('DNSP Inputs General'!$B45='DNSP Inputs General'!$A$42,H$7,H$8))*'DNSP Inputs General'!$D45","v":72.196755177186816},null,{"$f":"IF('DNSP Inputs General'!$B45='DNSP Inputs General'!$A$41,J$6,IF('DNSP Inputs General'!$B45='DNSP Inputs General'!$A$42,J$7,J$8))*'DNSP Inputs General'!$D45","v":43.326543377630614},{"$f":"IF('DNSP Inputs General'!$B45='DNSP Inputs General'!$A$41,K$6,IF('DNSP Inputs General'!$B45='DNSP Inputs General'!$A$42,K$7,K$8))*'DNSP Inputs General'!$D45","v":43.911108732033114},{"$f":"IF('DNSP Inputs General'!$B45='DNSP Inputs General'!$A$41,L$6,IF('DNSP Inputs General'!$B45='DNSP Inputs General'!$A$42,L$7,L$8))*'DNSP Inputs General'!$D45","v":45.281924134731668},{"$f":"IF('DNSP Inputs General'!$B45='DNSP Inputs General'!$A$41,M$6,IF('DNSP Inputs General'!$B45='DNSP Inputs General'!$A$42,M$7,M$8))*'DNSP Inputs General'!$D45","v":45.491192071369767},{"$f":"IF('DNSP Inputs General'!$B45='DNSP Inputs General'!$A$41,N$6,IF('DNSP Inputs General'!$B45='DNSP Inputs General'!$A$42,N$7,N$8))*'DNSP Inputs General'!$D45","v":46.352288249217438},null,{"$f":"IF('DNSP Inputs General'!$B45='DNSP Inputs General'!$A$41,P$6,IF('DNSP Inputs General'!$B45='DNSP Inputs General'!$A$42,P$7,P$8))*'DNSP Inputs General'!$D45","v":22.441719721160865},{"$f":"IF('DNSP Inputs General'!$B45='DNSP Inputs General'!$A$41,Q$6,IF('DNSP Inputs General'!$B45='DNSP Inputs General'!$A$42,Q$7,Q$8))*'DNSP Inputs General'!$D45","v":23.305713568033696},{"$f":"IF('DNSP Inputs General'!$B45='DNSP Inputs General'!$A$41,R$6,IF('DNSP Inputs General'!$B45='DNSP Inputs General'!$A$42,R$7,R$8))*'DNSP Inputs General'!$D45","v":24.199805003884318},{"$f":"IF('DNSP Inputs General'!$B45='DNSP Inputs General'!$A$41,S$6,IF('DNSP Inputs General'!$B45='DNSP Inputs General'!$A$42,S$7,S$8))*'DNSP Inputs General'!$D45","v":25.054373704191949},{"$f":"IF('DNSP Inputs General'!$B45='DNSP Inputs General'!$A$41,T$6,IF('DNSP Inputs General'!$B45='DNSP Inputs General'!$A$42,T$7,T$8))*'DNSP Inputs General'!$D45","v":25.844466927969371},null,1.4210854715202004E-14,0,1.0658141036401503E-14,3.5527136788005009E-15,7.1054273576010019E-15]
[{"$f":"'DNSP Inputs General'!A46","v":"Fluorescent 40 watt"},null,{"$f":"'DNSP Inputs General'!E46","v":61.03},{"$f":"IF('DNSP Inputs General'!$B46='DNSP Inputs General'!$A$41,D$6,IF('DNSP Inputs General'!$B46='DNSP Inputs General'!$A$42,D$7,D$8))*'DNSP Inputs General'!$D46","v":65.768263098791493},{"$f":"IF('DNSP Inputs General'!$B46='DNSP Inputs General'!$A$41,E$6,IF('DNSP Inputs General'!$B46='DNSP Inputs General'!$A$42,E$7,E$8))*'DNSP Inputs General'!$D46","v":67.216822300066809},{"$f":"IF('DNSP Inputs General'!$B46='DNSP Inputs General'!$A$41,F$6,IF('DNSP Inputs General'!$B46='DNSP Inputs General'!$A$42,F$7,F$8))*'DNSP Inputs General'!$D46","v":69.481729138615975},{"$f":"IF('DNSP Inputs General'!$B46='DNSP Inputs General'!$A$41,G$6,IF('DNSP Inputs General'!$B46='DNSP Inputs General'!$A$42,G$7,G$8))*'DNSP Inputs General'!$D46","v":70.545565775561712},{"$f":"IF('DNSP Inputs General'!$B46='DNSP Inputs General'!$A$41,H$6,IF('DNSP Inputs General'!$B46='DNSP Inputs General'!$A$42,H$7,H$8))*'DNSP Inputs General'!$D46","v":72.196755177186816},null,{"$f":"IF('DNSP Inputs General'!$B46='DNSP Inputs General'!$A$41,J$6,IF('DNSP Inputs General'!$B46='DNSP Inputs General'!$A$42,J$7,J$8))*'DNSP Inputs General'!$D46","v":43.326543377630614},{"$f":"IF('DNSP Inputs General'!$B46='DNSP Inputs General'!$A$41,K$6,IF('DNSP Inputs General'!$B46='DNSP Inputs General'!$A$42,K$7,K$8))*'DNSP Inputs General'!$D46","v":43.911108732033114},{"$f":"IF('DNSP Inputs General'!$B46='DNSP Inputs General'!$A$41,L$6,IF('DNSP Inputs General'!$B46='DNSP Inputs General'!$A$42,L$7,L$8))*'DNSP Inputs General'!$D46","v":45.281924134731668},{"$f":"IF('DNSP Inputs General'!$B46='DNSP Inputs General'!$A$41,M$6,IF('DNSP Inputs General'!$B46='DNSP Inputs General'!$A$42,M$7,M$8))*'DNSP Inputs General'!$D46","v":45.491192071369767},{"$f":"IF('DNSP Inputs General'!$B46='DNSP Inputs General'!$A$41,N$6,IF('DNSP Inputs General'!$B46='DNSP Inputs General'!$A$42,N$7,N$8))*'DNSP Inputs General'!$D46","v":46.352288249217438},null,{"$f":"IF('DNSP Inputs General'!$B46='DNSP Inputs General'!$A$41,P$6,IF('DNSP Inputs General'!$B46='DNSP Inputs General'!$A$42,P$7,P$8))*'DNSP Inputs General'!$D46","v":22.441719721160865},{"$f":"IF('DNSP Inputs General'!$B46='DNSP Inputs General'!$A$41,Q$6,IF('DNSP Inputs General'!$B46='DNSP Inputs General'!$A$42,Q$7,Q$8))*'DNSP Inputs General'!$D46","v":23.305713568033696},{"$f":"IF('DNSP Inputs General'!$B46='DNSP Inputs General'!$A$41,R$6,IF('DNSP Inputs General'!$B46='DNSP Inputs General'!$A$42,R$7,R$8))*'DNSP Inputs General'!$D46","v":24.199805003884318},{"$f":"IF('DNSP Inputs General'!$B46='DNSP Inputs General'!$A$41,S$6,IF('DNSP Inputs General'!$B46='DNSP Inputs General'!$A$42,S$7,S$8))*'DNSP Inputs General'!$D46","v":25.054373704191949},{"$f":"IF('DNSP Inputs General'!$B46='DNSP Inputs General'!$A$41,T$6,IF('DNSP Inputs General'!$B46='DNSP Inputs General'!$A$42,T$7,T$8))*'DNSP Inputs General'!$D46","v":25.844466927969371},null,1.4210854715202004E-14,0,1.0658141036401503E-14,3.5527136788005009E-15,7.1054273576010019E-15]
[{"$f":"'DNSP Inputs General'!A47","v":"Fluorescent 80 watt"},null,{"$f":"'DNSP Inputs General'!E47","v":61.03},{"$f":"IF('DNSP Inputs General'!$B47='DNSP Inputs General'!$A$41,D$6,IF('DNSP Inputs General'!$B47='DNSP Inputs General'!$A$42,D$7,D$8))*'DNSP Inputs General'!$D47","v":65.768263098791493},{"$f":"IF('DNSP Inputs General'!$B47='DNSP Inputs General'!$A$41,E$6,IF('DNSP Inputs General'!$B47='DNSP Inputs General'!$A$42,E$7,E$8))*'DNSP Inputs General'!$D47","v":67.216822300066809},{"$f":"IF('DNSP Inputs General'!$B47='DNSP Inputs General'!$A$41,F$6,IF('DNSP Inputs General'!$B47='DNSP Inputs General'!$A$42,F$7,F$8))*'DNSP Inputs General'!$D47","v":69.481729138615975},{"$f":"IF('DNSP Inputs General'!$B47='DNSP Inputs General'!$A$41,G$6,IF('DNSP Inputs General'!$B47='DNSP Inputs General'!$A$42,G$7,G$8))*'DNSP Inputs General'!$D47","v":70.545565775561712},{"$f":"IF('DNSP Inputs General'!$B47='DNSP Inputs General'!$A$41,H$6,IF('DNSP Inputs General'!$B47='DNSP Inputs General'!$A$42,H$7,H$8))*'DNSP Inputs General'!$D47","v":72.196755177186816},null,{"$f":"IF('DNSP Inputs General'!$B47='DNSP Inputs General'!$A$41,J$6,IF('DNSP Inputs General'!$B47='DNSP Inputs General'!$A$42,J$7,J$8))*'DNSP Inputs General'!$D47","v":43.326543377630614},{"$f":"IF('DNSP Inputs General'!$B47='DNSP Inputs General'!$A$41,K$6,IF('DNSP Inputs General'!$B47='DNSP Inputs General'!$A$42,K$7,K$8))*'DNSP Inputs General'!$D47","v":43.911108732033114},{"$f":"IF('DNSP Inputs General'!$B47='DNSP Inputs General'!$A$41,L$6,IF('DNSP Inputs General'!$B47='DNSP Inputs General'!$A$42,L$7,L$8))*'DNSP Inputs General'!$D47","v":45.281924134731668},{"$f":"IF('DNSP Inputs General'!$B47='DNSP Inputs General'!$A$41,M$6,IF('DNSP Inputs General'!$B47='DNSP Inputs General'!$A$42,M$7,M$8))*'DNSP Inputs General'!$D47","v":45.491192071369767},{"$f":"IF('DNSP Inputs General'!$B47='DNSP Inputs General'!$A$41,N$6,IF('DNSP Inputs General'!$B47='DNSP Inputs General'!$A$42,N$7,N$8))*'DNSP Inputs General'!$D47","v":46.352288249217438},null,{"$f":"IF('DNSP Inputs General'!$B47='DNSP Inputs General'!$A$41,P$6,IF('DNSP Inputs General'!$B47='DNSP Inputs General'!$A$42,P$7,P$8))*'DNSP Inputs General'!$D47","v":22.441719721160865},{"$f":"IF('DNSP Inputs General'!$B47='DNSP Inputs General'!$A$41,Q$6,IF('DNSP Inputs General'!$B47='DNSP Inputs General'!$A$42,Q$7,Q$8))*'DNSP Inputs General'!$D47","v":23.305713568033696},{"$f":"IF('DNSP Inputs General'!$B47='DNSP Inputs General'!$A$41,R$6,IF('DNSP Inputs General'!$B47='DNSP Inputs General'!$A$42,R$7,R$8))*'DNSP Inputs General'!$D47","v":24.199805003884318},{"$f":"IF('DNSP Inputs General'!$B47='DNSP Inputs General'!$A$41,S$6,IF('DNSP Inputs General'!$B47='DNSP Inputs General'!$A$42,S$7,S$8))*'DNSP Inputs General'!$D47","v":25.054373704191949},{"$f":"IF('DNSP Inputs General'!$B47='DNSP Inputs General'!$A$41,T$6,IF('DNSP Inputs General'!$B47='DNSP Inputs General'!$A$42,T$7,T$8))*'DNSP Inputs General'!$D47","v":25.844466927969371},null,1.4210854715202004E-14,0,1.0658141036401503E-14,3.5527136788005009E-15,7.1054273576010019E-15]
[{"$f":"'DNSP Inputs General'!A48","v":"Mercury Vapour 50 watt"},null,{"$f":"'DNSP Inputs General'!E48","v":61.03},{"$f":"IF('DNSP Inputs General'!$B48='DNSP Inputs General'!$A$41,D$6,IF('DNSP Inputs General'!$B48='DNSP Inputs General'!$A$42,D$7,D$8))*'DNSP Inputs General'!$D48","v":65.768263098791493},{"$f":"IF('DNSP Inputs General'!$B48='DNSP Inputs General'!$A$41,E$6,IF('DNSP Inputs General'!$B48='DNSP Inputs General'!$A$42,E$7,E$8))*'DNSP Inputs General'!$D48","v":67.216822300066809},{"$f":"IF('DNSP Inputs General'!$B48='DNSP Inputs General'!$A$41,F$6,IF('DNSP Inputs General'!$B48='DNSP Inputs General'!$A$42,F$7,F$8))*'DNSP Inputs General'!$D48","v":69.481729138615975},{"$f":"IF('DNSP Inputs General'!$B48='DNSP Inputs General'!$A$41,G$6,IF('DNSP Inputs General'!$B48='DNSP Inputs General'!$A$42,G$7,G$8))*'DNSP Inputs General'!$D48","v":70.545565775561712},{"$f":"IF('DNSP Inputs General'!$B48='DNSP Inputs General'!$A$41,H$6,IF('DNSP Inputs General'!$B48='DNSP Inputs General'!$A$42,H$7,H$8))*'DNSP Inputs General'!$D48","v":72.196755177186816},null,{"$f":"IF('DNSP Inputs General'!$B48='DNSP Inputs General'!$A$41,J$6,IF('DNSP Inputs General'!$B48='DNSP Inputs General'!$A$42,J$7,J$8))*'DNSP Inputs General'!$D48","v":43.326543377630614},{"$f":"IF('DNSP Inputs General'!$B48='DNSP Inputs General'!$A$41,K$6,IF('DNSP Inputs General'!$B48='DNSP Inputs General'!$A$42,K$7,K$8))*'DNSP Inputs General'!$D48","v":43.911108732033114},{"$f":"IF('DNSP Inputs General'!$B48='DNSP Inputs General'!$A$41,L$6,IF('DNSP Inputs General'!$B48='DNSP Inputs General'!$A$42,L$7,L$8))*'DNSP Inputs General'!$D48","v":45.281924134731668},{"$f":"IF('DNSP Inputs General'!$B48='DNSP Inputs General'!$A$41,M$6,IF('DNSP Inputs General'!$B48='DNSP Inputs General'!$A$42,M$7,M$8))*'DNSP Inputs General'!$D48","v":45.491192071369767},{"$f":"IF('DNSP Inputs General'!$B48='DNSP Inputs General'!$A$41,N$6,IF('DNSP Inputs General'!$B48='DNSP Inputs General'!$A$42,N$7,N$8))*'DNSP Inputs General'!$D48","v":46.352288249217438},null,{"$f":"IF('DNSP Inputs General'!$B48='DNSP Inputs General'!$A$41,P$6,IF('DNSP Inputs General'!$B48='DNSP Inputs General'!$A$42,P$7,P$8))*'DNSP Inputs General'!$D48","v":22.441719721160865},{"$f":"IF('DNSP Inputs General'!$B48='DNSP Inputs General'!$A$41,Q$6,IF('DNSP Inputs General'!$B48='DNSP Inputs General'!$A$42,Q$7,Q$8))*'DNSP Inputs General'!$D48","v":23.305713568033696},{"$f":"IF('DNSP Inputs General'!$B48='DNSP Inputs General'!$A$41,R$6,IF('DNSP Inputs General'!$B48='DNSP Inputs General'!$A$42,R$7,R$8))*'DNSP Inputs General'!$D48","v":24.199805003884318},{"$f":"IF('DNSP Inputs General'!$B48='DNSP Inputs General'!$A$41,S$6,IF('DNSP Inputs General'!$B48='DNSP Inputs General'!$A$42,S$7,S$8))*'DNSP Inputs General'!$D48","v":25.054373704191949},{"$f":"IF('DNSP Inputs General'!$B48='DNSP Inputs General'!$A$41,T$6,IF('DNSP Inputs General'!$B48='DNSP Inputs General'!$A$42,T$7,T$8))*'DNSP Inputs General'!$D48","v":25.844466927969371},null,1.4210854715202004E-14,0,1.0658141036401503E-14,3.5527136788005009E-15,7.1054273576010019E-15]
[{"$f":"'DNSP Inputs General'!A49","v":"Mercury Vapour 125 watt"},null,{"$f":"'DNSP Inputs General'!E49","v":71.77},{"$f":"IF('DNSP Inputs General'!$B49='DNSP Inputs General'!$A$41,D$6,IF('DNSP Inputs General'!$B49='DNSP Inputs General'!$A$42,D$7,D$8))*'DNSP Inputs General'!$D49","v":77.343477404178785},{"$f":"IF('DNSP Inputs General'!$B49='DNSP Inputs General'!$A$41,E$6,IF('DNSP Inputs General'!$B49='DNSP Inputs General'!$A$42,E$7,E$8))*'DNSP Inputs General'!$D49","v":79.046983024878571},{"$f":"IF('DNSP Inputs General'!$B49='DNSP Inputs General'!$A$41,F$6,IF('DNSP Inputs General'!$B49='DNSP Inputs General'!$A$42,F$7,F$8))*'DNSP Inputs General'!$D49","v":81.71051346701239},{"$f":"IF('DNSP Inputs General'!$B49='DNSP Inputs General'!$A$41,G$6,IF('DNSP Inputs General'!$B49='DNSP Inputs General'!$A$42,G$7,G$8))*'DNSP Inputs General'!$D49","v":82.961585352060581},{"$f":"IF('DNSP Inputs General'!$B49='DNSP Inputs General'!$A$41,H$6,IF('DNSP Inputs General'!$B49='DNSP Inputs General'!$A$42,H$7,H$8))*'DNSP Inputs General'!$D49","v":84.903384088371695},null,{"$f":"IF('DNSP Inputs General'!$B49='DNSP Inputs General'!$A$41,J$6,IF('DNSP Inputs General'!$B49='DNSP Inputs General'!$A$42,J$7,J$8))*'DNSP Inputs General'!$D49","v":50.952015012093604},{"$f":"IF('DNSP Inputs General'!$B49='DNSP Inputs General'!$A$41,K$6,IF('DNSP Inputs General'!$B49='DNSP Inputs General'!$A$42,K$7,K$8))*'DNSP Inputs General'!$D49","v":51.639463868870948},{"$f":"IF('DNSP Inputs General'!$B49='DNSP Inputs General'!$A$41,L$6,IF('DNSP Inputs General'!$B49='DNSP Inputs General'!$A$42,L$7,L$8))*'DNSP Inputs General'!$D49","v":53.251542782444439},{"$f":"IF('DNSP Inputs General'!$B49='DNSP Inputs General'!$A$41,M$6,IF('DNSP Inputs General'!$B49='DNSP Inputs General'!$A$42,M$7,M$8))*'DNSP Inputs General'!$D49","v":53.497641875930846},{"$f":"IF('DNSP Inputs General'!$B49='DNSP Inputs General'!$A$41,N$6,IF('DNSP Inputs General'!$B49='DNSP Inputs General'!$A$42,N$7,N$8))*'DNSP Inputs General'!$D49","v":54.510290981079706},null,{"$f":"IF('DNSP Inputs General'!$B49='DNSP Inputs General'!$A$41,P$6,IF('DNSP Inputs General'!$B49='DNSP Inputs General'!$A$42,P$7,P$8))*'DNSP Inputs General'!$D49","v":26.391462392085177},{"$f":"IF('DNSP Inputs General'!$B49='DNSP Inputs General'!$A$41,Q$6,IF('DNSP Inputs General'!$B49='DNSP Inputs General'!$A$42,Q$7,Q$8))*'DNSP Inputs General'!$D49","v":27.407519156007623},{"$f":"IF('DNSP Inputs General'!$B49='DNSP Inputs General'!$A$41,R$6,IF('DNSP Inputs General'!$B49='DNSP Inputs General'!$A$42,R$7,R$8))*'DNSP Inputs General'!$D49","v":28.458970684567959},{"$f":"IF('DNSP Inputs General'!$B49='DNSP Inputs General'!$A$41,S$6,IF('DNSP Inputs General'!$B49='DNSP Inputs General'!$A$42,S$7,S$8))*'DNSP Inputs General'!$D49","v":29.463943476129732},{"$f":"IF('DNSP Inputs General'!$B49='DNSP Inputs General'!$A$41,T$6,IF('DNSP Inputs General'!$B49='DNSP Inputs General'!$A$42,T$7,T$8))*'DNSP Inputs General'!$D49","v":30.393093107291978},null,3.5527136788005009E-15,0,7.1054273576010019E-15,3.5527136788005009E-15,1.0658141036401503E-14]
[{"$f":"'DNSP Inputs General'!A50","v":"Mercury Vapour 250 watt"},null,{"$f":"'DNSP Inputs General'!E50","v":90.19},{"$f":"IF('DNSP Inputs General'!$B50='DNSP Inputs General'!$A$41,D$6,IF('DNSP Inputs General'!$B50='DNSP Inputs General'!$A$42,D$7,D$8))*'DNSP Inputs General'!$D50","v":92.954780558627931},{"$f":"IF('DNSP Inputs General'!$B50='DNSP Inputs General'!$A$41,E$6,IF('DNSP Inputs General'!$B50='DNSP Inputs General'!$A$42,E$7,E$8))*'DNSP Inputs General'!$D50","v":96.426871875245169},{"$f":"IF('DNSP Inputs General'!$B50='DNSP Inputs General'!$A$41,F$6,IF('DNSP Inputs General'!$B50='DNSP Inputs General'!$A$42,F$7,F$8))*'DNSP Inputs General'!$D50","v":99.58926246004728},{"$f":"IF('DNSP Inputs General'!$B50='DNSP Inputs General'!$A$41,G$6,IF('DNSP Inputs General'!$B50='DNSP Inputs General'!$A$42,G$7,G$8))*'DNSP Inputs General'!$D50","v":100.80577969730464},{"$f":"IF('DNSP Inputs General'!$B50='DNSP Inputs General'!$A$41,H$6,IF('DNSP Inputs General'!$B50='DNSP Inputs General'!$A$42,H$7,H$8))*'DNSP Inputs General'!$D50","v":103.06117827797257},null,{"$f":"IF('DNSP Inputs General'!$B50='DNSP Inputs General'!$A$41,J$6,IF('DNSP Inputs General'!$B50='DNSP Inputs General'!$A$42,J$7,J$8))*'DNSP Inputs General'!$D50","v":72.67807898260817},{"$f":"IF('DNSP Inputs General'!$B50='DNSP Inputs General'!$A$41,K$6,IF('DNSP Inputs General'!$B50='DNSP Inputs General'!$A$42,K$7,K$8))*'DNSP Inputs General'!$D50","v":75.439412987243131},{"$f":"IF('DNSP Inputs General'!$B50='DNSP Inputs General'!$A$41,L$6,IF('DNSP Inputs General'!$B50='DNSP Inputs General'!$A$42,L$7,L$8))*'DNSP Inputs General'!$D50","v":77.863807424521212},{"$f":"IF('DNSP Inputs General'!$B50='DNSP Inputs General'!$A$41,M$6,IF('DNSP Inputs General'!$B50='DNSP Inputs General'!$A$42,M$7,M$8))*'DNSP Inputs General'!$D50","v":78.375928842787189},{"$f":"IF('DNSP Inputs General'!$B50='DNSP Inputs General'!$A$41,N$6,IF('DNSP Inputs General'!$B50='DNSP Inputs General'!$A$42,N$7,N$8))*'DNSP Inputs General'!$D50","v":79.982342787265779},null,{"$f":"IF('DNSP Inputs General'!$B50='DNSP Inputs General'!$A$41,P$6,IF('DNSP Inputs General'!$B50='DNSP Inputs General'!$A$42,P$7,P$8))*'DNSP Inputs General'!$D50","v":20.276701576019764},{"$f":"IF('DNSP Inputs General'!$B50='DNSP Inputs General'!$A$41,Q$6,IF('DNSP Inputs General'!$B50='DNSP Inputs General'!$A$42,Q$7,Q$8))*'DNSP Inputs General'!$D50","v":20.987458888002049},{"$f":"IF('DNSP Inputs General'!$B50='DNSP Inputs General'!$A$41,R$6,IF('DNSP Inputs General'!$B50='DNSP Inputs General'!$A$42,R$7,R$8))*'DNSP Inputs General'!$D50","v":21.725455035526064},{"$f":"IF('DNSP Inputs General'!$B50='DNSP Inputs General'!$A$41,S$6,IF('DNSP Inputs General'!$B50='DNSP Inputs General'!$A$42,S$7,S$8))*'DNSP Inputs General'!$D50","v":22.429850854517461},{"$f":"IF('DNSP Inputs General'!$B50='DNSP Inputs General'!$A$41,T$6,IF('DNSP Inputs General'!$B50='DNSP Inputs General'!$A$42,T$7,T$8))*'DNSP Inputs General'!$D50","v":23.078835490706794},null,3.5527136788005009E-15,1.0658141036401503E-14,3.5527136788005009E-15,7.1054273576010019E-15,0]
[{"$f":"'DNSP Inputs General'!A51","v":"Mercury Vapour 400 watt"},null,{"$f":"'DNSP Inputs General'!E51","v":101.47},{"$f":"IF('DNSP Inputs General'!$B51='DNSP Inputs General'!$A$41,D$6,IF('DNSP Inputs General'!$B51='DNSP Inputs General'!$A$42,D$7,D$8))*'DNSP Inputs General'!$D51","v":104.57412812845644},{"$f":"IF('DNSP Inputs General'!$B51='DNSP Inputs General'!$A$41,E$6,IF('DNSP Inputs General'!$B51='DNSP Inputs General'!$A$42,E$7,E$8))*'DNSP Inputs General'!$D51","v":108.48023085965082},{"$f":"IF('DNSP Inputs General'!$B51='DNSP Inputs General'!$A$41,F$6,IF('DNSP Inputs General'!$B51='DNSP Inputs General'!$A$42,F$7,F$8))*'DNSP Inputs General'!$D51","v":112.0379202675532},{"$f":"IF('DNSP Inputs General'!$B51='DNSP Inputs General'!$A$41,G$6,IF('DNSP Inputs General'!$B51='DNSP Inputs General'!$A$42,G$7,G$8))*'DNSP Inputs General'!$D51","v":113.40650215946773},{"$f":"IF('DNSP Inputs General'!$B51='DNSP Inputs General'!$A$41,H$6,IF('DNSP Inputs General'!$B51='DNSP Inputs General'!$A$42,H$7,H$8))*'DNSP Inputs General'!$D51","v":115.94382556271916},null,{"$f":"IF('DNSP Inputs General'!$B51='DNSP Inputs General'!$A$41,J$6,IF('DNSP Inputs General'!$B51='DNSP Inputs General'!$A$42,J$7,J$8))*'DNSP Inputs General'!$D51","v":81.762838855434197},{"$f":"IF('DNSP Inputs General'!$B51='DNSP Inputs General'!$A$41,K$6,IF('DNSP Inputs General'!$B51='DNSP Inputs General'!$A$42,K$7,K$8))*'DNSP Inputs General'!$D51","v":84.869339610648524},{"$f":"IF('DNSP Inputs General'!$B51='DNSP Inputs General'!$A$41,L$6,IF('DNSP Inputs General'!$B51='DNSP Inputs General'!$A$42,L$7,L$8))*'DNSP Inputs General'!$D51","v":87.596783352586371},{"$f":"IF('DNSP Inputs General'!$B51='DNSP Inputs General'!$A$41,M$6,IF('DNSP Inputs General'!$B51='DNSP Inputs General'!$A$42,M$7,M$8))*'DNSP Inputs General'!$D51","v":88.172919948135586},{"$f":"IF('DNSP Inputs General'!$B51='DNSP Inputs General'!$A$41,N$6,IF('DNSP Inputs General'!$B51='DNSP Inputs General'!$A$42,N$7,N$8))*'DNSP Inputs General'!$D51","v":89.980135635674017},null,{"$f":"IF('DNSP Inputs General'!$B51='DNSP Inputs General'!$A$41,P$6,IF('DNSP Inputs General'!$B51='DNSP Inputs General'!$A$42,P$7,P$8))*'DNSP Inputs General'!$D51","v":22.811289273022236},{"$f":"IF('DNSP Inputs General'!$B51='DNSP Inputs General'!$A$41,Q$6,IF('DNSP Inputs General'!$B51='DNSP Inputs General'!$A$42,Q$7,Q$8))*'DNSP Inputs General'!$D51","v":23.610891249002307},{"$f":"IF('DNSP Inputs General'!$B51='DNSP Inputs General'!$A$41,R$6,IF('DNSP Inputs General'!$B51='DNSP Inputs General'!$A$42,R$7,R$8))*'DNSP Inputs General'!$D51","v":24.441136914966826},{"$f":"IF('DNSP Inputs General'!$B51='DNSP Inputs General'!$A$41,S$6,IF('DNSP Inputs General'!$B51='DNSP Inputs General'!$A$42,S$7,S$8))*'DNSP Inputs General'!$D51","v":25.233582211332148},{"$f":"IF('DNSP Inputs General'!$B51='DNSP Inputs General'!$A$41,T$6,IF('DNSP Inputs General'!$B51='DNSP Inputs General'!$A$42,T$7,T$8))*'DNSP Inputs General'!$D51","v":25.963689927045145},null,3.5527136788005009E-15,1.4210854715202004E-14,7.1054273576010019E-15,0,7.1054273576010019E-15]
[{"$f":"'DNSP Inputs General'!A52","v":"Sodium High Pressure 50 watt"},null,{"$f":"'DNSP Inputs General'!E52","v":112.91},{"$f":"IF('DNSP Inputs General'!$B52='DNSP Inputs General'!$A$41,D$6,IF('DNSP Inputs General'!$B52='DNSP Inputs General'!$A$42,D$7,D$8))*'DNSP Inputs General'!$D52","v":119.53189954628313},{"$f":"IF('DNSP Inputs General'!$B52='DNSP Inputs General'!$A$41,E$6,IF('DNSP Inputs General'!$B52='DNSP Inputs General'!$A$42,E$7,E$8))*'DNSP Inputs General'!$D52","v":124.01789986532478},{"$f":"IF('DNSP Inputs General'!$B52='DNSP Inputs General'!$A$41,F$6,IF('DNSP Inputs General'!$B52='DNSP Inputs General'!$A$42,F$7,F$8))*'DNSP Inputs General'!$D52","v":128.10152496885661},{"$f":"IF('DNSP Inputs General'!$B52='DNSP Inputs General'!$A$41,G$6,IF('DNSP Inputs General'!$B52='DNSP Inputs General'!$A$42,G$7,G$8))*'DNSP Inputs General'!$D52","v":129.66785327215999},{"$f":"IF('DNSP Inputs General'!$B52='DNSP Inputs General'!$A$41,H$6,IF('DNSP Inputs General'!$B52='DNSP Inputs General'!$A$42,H$7,H$8))*'DNSP Inputs General'!$D52","v":132.58048451985667},null,{"$f":"IF('DNSP Inputs General'!$B52='DNSP Inputs General'!$A$41,J$6,IF('DNSP Inputs General'!$B52='DNSP Inputs General'!$A$42,J$7,J$8))*'DNSP Inputs General'!$D52","v":94.294533769591936},{"$f":"IF('DNSP Inputs General'!$B52='DNSP Inputs General'!$A$41,K$6,IF('DNSP Inputs General'!$B52='DNSP Inputs General'!$A$42,K$7,K$8))*'DNSP Inputs General'!$D52","v":97.873145780111315},{"$f":"IF('DNSP Inputs General'!$B52='DNSP Inputs General'!$A$41,L$6,IF('DNSP Inputs General'!$B52='DNSP Inputs General'!$A$42,L$7,L$8))*'DNSP Inputs General'!$D52","v":101.01549439680234},{"$f":"IF('DNSP Inputs General'!$B52='DNSP Inputs General'!$A$41,M$6,IF('DNSP Inputs General'!$B52='DNSP Inputs General'!$A$42,M$7,M$8))*'DNSP Inputs General'!$D52","v":101.68305340042677},{"$f":"IF('DNSP Inputs General'!$B52='DNSP Inputs General'!$A$41,N$6,IF('DNSP Inputs General'!$B52='DNSP Inputs General'!$A$42,N$7,N$8))*'DNSP Inputs General'!$D52","v":103.7668084797838},null,{"$f":"IF('DNSP Inputs General'!$B52='DNSP Inputs General'!$A$41,P$6,IF('DNSP Inputs General'!$B52='DNSP Inputs General'!$A$42,P$7,P$8))*'DNSP Inputs General'!$D52","v":25.237365776691195},{"$f":"IF('DNSP Inputs General'!$B52='DNSP Inputs General'!$A$41,Q$6,IF('DNSP Inputs General'!$B52='DNSP Inputs General'!$A$42,Q$7,Q$8))*'DNSP Inputs General'!$D52","v":26.144754085213474},{"$f":"IF('DNSP Inputs General'!$B52='DNSP Inputs General'!$A$41,R$6,IF('DNSP Inputs General'!$B52='DNSP Inputs General'!$A$42,R$7,R$8))*'DNSP Inputs General'!$D52","v":27.08603057205427},{"$f":"IF('DNSP Inputs General'!$B52='DNSP Inputs General'!$A$41,S$6,IF('DNSP Inputs General'!$B52='DNSP Inputs General'!$A$42,S$7,S$8))*'DNSP Inputs General'!$D52","v":27.984799871733223},{"$f":"IF('DNSP Inputs General'!$B52='DNSP Inputs General'!$A$41,T$6,IF('DNSP Inputs General'!$B52='DNSP Inputs General'!$A$42,T$7,T$8))*'DNSP Inputs General'!$D52","v":28.81367604007286},null,3.5527136788005009E-15,1.0658141036401503E-14,0,7.1054273576010019E-15,3.5527136788005009E-15]
[{"$f":"'DNSP Inputs General'!A53","v":"Sodium Low Pressure 90 watt"},null,{"$f":"'DNSP Inputs General'!E53","v":97.03},{"$f":"IF('DNSP Inputs General'!$B53='DNSP Inputs General'!$A$41,D$6,IF('DNSP Inputs General'!$B53='DNSP Inputs General'!$A$42,D$7,D$8))*'DNSP Inputs General'!$D53","v":101.3630508152481},{"$f":"IF('DNSP Inputs General'!$B53='DNSP Inputs General'!$A$41,E$6,IF('DNSP Inputs General'!$B53='DNSP Inputs General'!$A$42,E$7,E$8))*'DNSP Inputs General'!$D53","v":105.16717908579541},{"$f":"IF('DNSP Inputs General'!$B53='DNSP Inputs General'!$A$41,F$6,IF('DNSP Inputs General'!$B53='DNSP Inputs General'!$A$42,F$7,F$8))*'DNSP Inputs General'!$D53","v":108.63009317359042},{"$f":"IF('DNSP Inputs General'!$B53='DNSP Inputs General'!$A$41,G$6,IF('DNSP Inputs General'!$B53='DNSP Inputs General'!$A$42,G$7,G$8))*'DNSP Inputs General'!$D53","v":109.95833957479167},{"$f":"IF('DNSP Inputs General'!$B53='DNSP Inputs General'!$A$41,H$6,IF('DNSP Inputs General'!$B53='DNSP Inputs General'!$A$42,H$7,H$8))*'DNSP Inputs General'!$D53","v":112.42825087283845},null,{"$f":"IF('DNSP Inputs General'!$B53='DNSP Inputs General'!$A$41,J$6,IF('DNSP Inputs General'!$B53='DNSP Inputs General'!$A$42,J$7,J$8))*'DNSP Inputs General'!$D53","v":79.961764636613964},{"$f":"IF('DNSP Inputs General'!$B53='DNSP Inputs General'!$A$41,K$6,IF('DNSP Inputs General'!$B53='DNSP Inputs General'!$A$42,K$7,K$8))*'DNSP Inputs General'!$D53","v":82.996427621534394},{"$f":"IF('DNSP Inputs General'!$B53='DNSP Inputs General'!$A$41,L$6,IF('DNSP Inputs General'!$B53='DNSP Inputs General'!$A$42,L$7,L$8))*'DNSP Inputs General'!$D53","v":85.661139248488382},{"$f":"IF('DNSP Inputs General'!$B53='DNSP Inputs General'!$A$41,M$6,IF('DNSP Inputs General'!$B53='DNSP Inputs General'!$A$42,M$7,M$8))*'DNSP Inputs General'!$D53","v":86.227229283561897},{"$f":"IF('DNSP Inputs General'!$B53='DNSP Inputs General'!$A$41,N$6,IF('DNSP Inputs General'!$B53='DNSP Inputs General'!$A$42,N$7,N$8))*'DNSP Inputs General'!$D53","v":87.994253590856673},null,{"$f":"IF('DNSP Inputs General'!$B53='DNSP Inputs General'!$A$41,P$6,IF('DNSP Inputs General'!$B53='DNSP Inputs General'!$A$42,P$7,P$8))*'DNSP Inputs General'!$D53","v":21.401286178634134},{"$f":"IF('DNSP Inputs General'!$B53='DNSP Inputs General'!$A$41,Q$6,IF('DNSP Inputs General'!$B53='DNSP Inputs General'!$A$42,Q$7,Q$8))*'DNSP Inputs General'!$D53","v":22.170751464261027},{"$f":"IF('DNSP Inputs General'!$B53='DNSP Inputs General'!$A$41,R$6,IF('DNSP Inputs General'!$B53='DNSP Inputs General'!$A$42,R$7,R$8))*'DNSP Inputs General'!$D53","v":22.968953925102024},{"$f":"IF('DNSP Inputs General'!$B53='DNSP Inputs General'!$A$41,S$6,IF('DNSP Inputs General'!$B53='DNSP Inputs General'!$A$42,S$7,S$8))*'DNSP Inputs General'!$D53","v":23.731110291229772},{"$f":"IF('DNSP Inputs General'!$B53='DNSP Inputs General'!$A$41,T$6,IF('DNSP Inputs General'!$B53='DNSP Inputs General'!$A$42,T$7,T$8))*'DNSP Inputs General'!$D53","v":24.433997281981785},null,3.5527136788005009E-15,1.0658141036401503E-14,1.7763568394002505E-14,3.5527136788005009E-15,1.0658141036401503E-14]
[{"$f":"'DNSP Inputs General'!A54","v":"Sodium High Pressure 100 watt"},null,{"$f":"'DNSP Inputs General'!E54","v":125.41},{"$f":"IF('DNSP Inputs General'!$B54='DNSP Inputs General'!$A$41,D$6,IF('DNSP Inputs General'!$B54='DNSP Inputs General'!$A$42,D$7,D$8))*'DNSP Inputs General'!$D54","v":131.00696190272632},{"$f":"IF('DNSP Inputs General'!$B54='DNSP Inputs General'!$A$41,E$6,IF('DNSP Inputs General'!$B54='DNSP Inputs General'!$A$42,E$7,E$8))*'DNSP Inputs General'!$D54","v":135.92361825239595},{"$f":"IF('DNSP Inputs General'!$B54='DNSP Inputs General'!$A$41,F$6,IF('DNSP Inputs General'!$B54='DNSP Inputs General'!$A$42,F$7,F$8))*'DNSP Inputs General'!$D54","v":140.39927136586687},{"$f":"IF('DNSP Inputs General'!$B54='DNSP Inputs General'!$A$41,G$6,IF('DNSP Inputs General'!$B54='DNSP Inputs General'!$A$42,G$7,G$8))*'DNSP Inputs General'!$D54","v":142.11596718628735},{"$f":"IF('DNSP Inputs General'!$B54='DNSP Inputs General'!$A$41,H$6,IF('DNSP Inputs General'!$B54='DNSP Inputs General'!$A$42,H$7,H$8))*'DNSP Inputs General'!$D54","v":145.30821103376292},null,{"$f":"IF('DNSP Inputs General'!$B54='DNSP Inputs General'!$A$41,J$6,IF('DNSP Inputs General'!$B54='DNSP Inputs General'!$A$42,J$7,J$8))*'DNSP Inputs General'!$D54","v":103.34680901147277},{"$f":"IF('DNSP Inputs General'!$B54='DNSP Inputs General'!$A$41,K$6,IF('DNSP Inputs General'!$B54='DNSP Inputs General'!$A$42,K$7,K$8))*'DNSP Inputs General'!$D54","v":107.268967775002},{"$f":"IF('DNSP Inputs General'!$B54='DNSP Inputs General'!$A$41,L$6,IF('DNSP Inputs General'!$B54='DNSP Inputs General'!$A$42,L$7,L$8))*'DNSP Inputs General'!$D54","v":110.71298185889538},{"$f":"IF('DNSP Inputs General'!$B54='DNSP Inputs General'!$A$41,M$6,IF('DNSP Inputs General'!$B54='DNSP Inputs General'!$A$42,M$7,M$8))*'DNSP Inputs General'!$D54","v":111.44462652686775},{"$f":"IF('DNSP Inputs General'!$B54='DNSP Inputs General'!$A$41,N$6,IF('DNSP Inputs General'!$B54='DNSP Inputs General'!$A$42,N$7,N$8))*'DNSP Inputs General'!$D54","v":113.72842209384306},null,{"$f":"IF('DNSP Inputs General'!$B54='DNSP Inputs General'!$A$41,P$6,IF('DNSP Inputs General'!$B54='DNSP Inputs General'!$A$42,P$7,P$8))*'DNSP Inputs General'!$D54","v":27.660152891253553},{"$f":"IF('DNSP Inputs General'!$B54='DNSP Inputs General'!$A$41,Q$6,IF('DNSP Inputs General'!$B54='DNSP Inputs General'!$A$42,Q$7,Q$8))*'DNSP Inputs General'!$D54","v":28.654650477393972},{"$f":"IF('DNSP Inputs General'!$B54='DNSP Inputs General'!$A$41,R$6,IF('DNSP Inputs General'!$B54='DNSP Inputs General'!$A$42,R$7,R$8))*'DNSP Inputs General'!$D54","v":29.686289506971484},{"$f":"IF('DNSP Inputs General'!$B54='DNSP Inputs General'!$A$41,S$6,IF('DNSP Inputs General'!$B54='DNSP Inputs General'!$A$42,S$7,S$8))*'DNSP Inputs General'!$D54","v":30.671340659419613},{"$f":"IF('DNSP Inputs General'!$B54='DNSP Inputs General'!$A$41,T$6,IF('DNSP Inputs General'!$B54='DNSP Inputs General'!$A$42,T$7,T$8))*'DNSP Inputs General'!$D54","v":31.579788939919858},null,7.1054273576010019E-15,1.4210854715202004E-14,7.1054273576010019E-15,1.4210854715202004E-14,7.1054273576010019E-15]
[{"$f":"'DNSP Inputs General'!A55","v":"Sodium High Pressure 400 watt"},null,{"$f":"'DNSP Inputs General'!E55","v":124.96},{"$f":"IF('DNSP Inputs General'!$B55='DNSP Inputs General'!$A$41,D$6,IF('DNSP Inputs General'!$B55='DNSP Inputs General'!$A$42,D$7,D$8))*'DNSP Inputs General'!$D55","v":128.78110223226579},{"$f":"IF('DNSP Inputs General'!$B55='DNSP Inputs General'!$A$41,E$6,IF('DNSP Inputs General'!$B55='DNSP Inputs General'!$A$42,E$7,E$8))*'DNSP Inputs General'!$D55","v":133.59139541049592},{"$f":"IF('DNSP Inputs General'!$B55='DNSP Inputs General'!$A$41,F$6,IF('DNSP Inputs General'!$B55='DNSP Inputs General'!$A$42,F$7,F$8))*'DNSP Inputs General'!$D55","v":137.9726240331905},{"$f":"IF('DNSP Inputs General'!$B55='DNSP Inputs General'!$A$41,G$6,IF('DNSP Inputs General'!$B55='DNSP Inputs General'!$A$42,G$7,G$8))*'DNSP Inputs General'!$D55","v":139.65800728897415},{"$f":"IF('DNSP Inputs General'!$B55='DNSP Inputs General'!$A$41,H$6,IF('DNSP Inputs General'!$B55='DNSP Inputs General'!$A$42,H$7,H$8))*'DNSP Inputs General'!$D55","v":142.78267407260785},null,{"$f":"IF('DNSP Inputs General'!$B55='DNSP Inputs General'!$A$41,J$6,IF('DNSP Inputs General'!$B55='DNSP Inputs General'!$A$42,J$7,J$8))*'DNSP Inputs General'!$D55","v":100.68942192382174},{"$f":"IF('DNSP Inputs General'!$B55='DNSP Inputs General'!$A$41,K$6,IF('DNSP Inputs General'!$B55='DNSP Inputs General'!$A$42,K$7,K$8))*'DNSP Inputs General'!$D55","v":104.51502007607642},{"$f":"IF('DNSP Inputs General'!$B55='DNSP Inputs General'!$A$41,L$6,IF('DNSP Inputs General'!$B55='DNSP Inputs General'!$A$42,L$7,L$8))*'DNSP Inputs General'!$D55","v":107.87381653605543},{"$f":"IF('DNSP Inputs General'!$B55='DNSP Inputs General'!$A$41,M$6,IF('DNSP Inputs General'!$B55='DNSP Inputs General'!$A$42,M$7,M$8))*'DNSP Inputs General'!$D55","v":108.58331808427809},{"$f":"IF('DNSP Inputs General'!$B55='DNSP Inputs General'!$A$41,N$6,IF('DNSP Inputs General'!$B55='DNSP Inputs General'!$A$42,N$7,N$8))*'DNSP Inputs General'!$D55","v":110.80887073652448},null,{"$f":"IF('DNSP Inputs General'!$B55='DNSP Inputs General'!$A$41,P$6,IF('DNSP Inputs General'!$B55='DNSP Inputs General'!$A$42,P$7,P$8))*'DNSP Inputs General'!$D55","v":28.091680308444051},{"$f":"IF('DNSP Inputs General'!$B55='DNSP Inputs General'!$A$41,Q$6,IF('DNSP Inputs General'!$B55='DNSP Inputs General'!$A$42,Q$7,Q$8))*'DNSP Inputs General'!$D55","v":29.076375334419509},{"$f":"IF('DNSP Inputs General'!$B55='DNSP Inputs General'!$A$41,R$6,IF('DNSP Inputs General'!$B55='DNSP Inputs General'!$A$42,R$7,R$8))*'DNSP Inputs General'!$D55","v":30.098807497135073},{"$f":"IF('DNSP Inputs General'!$B55='DNSP Inputs General'!$A$41,S$6,IF('DNSP Inputs General'!$B55='DNSP Inputs General'!$A$42,S$7,S$8))*'DNSP Inputs General'!$D55","v":31.074689204696071},{"$f":"IF('DNSP Inputs General'!$B55='DNSP Inputs General'!$A$41,T$6,IF('DNSP Inputs General'!$B55='DNSP Inputs General'!$A$42,T$7,T$8))*'DNSP Inputs General'!$D55","v":31.973803336083375},null,3.5527136788005009E-15,1.4210854715202004E-14,3.5527136788005009E-15,1.4210854715202004E-14,1.0658141036401503E-14]
[{"$f":"'DNSP Inputs General'!A56","v":"Metal Halide 70 watt"},null,{"$f":"'DNSP Inputs General'!E56","v":125.48},{"$f":"IF('DNSP Inputs General'!$B56='DNSP Inputs General'!$A$41,D$6,IF('DNSP Inputs General'!$B56='DNSP Inputs General'!$A$42,D$7,D$8))*'DNSP Inputs General'!$D56","v":135.2195489311153},{"$f":"IF('DNSP Inputs General'!$B56='DNSP Inputs General'!$A$41,E$6,IF('DNSP Inputs General'!$B56='DNSP Inputs General'!$A$42,E$7,E$8))*'DNSP Inputs General'!$D56","v":138.19778664893735},{"$f":"IF('DNSP Inputs General'!$B56='DNSP Inputs General'!$A$41,F$6,IF('DNSP Inputs General'!$B56='DNSP Inputs General'!$A$42,F$7,F$8))*'DNSP Inputs General'!$D56","v":142.85443510899444},{"$f":"IF('DNSP Inputs General'!$B56='DNSP Inputs General'!$A$41,G$6,IF('DNSP Inputs General'!$B56='DNSP Inputs General'!$A$42,G$7,G$8))*'DNSP Inputs General'!$D56","v":145.04168323455488},{"$f":"IF('DNSP Inputs General'!$B56='DNSP Inputs General'!$A$41,H$6,IF('DNSP Inputs General'!$B56='DNSP Inputs General'!$A$42,H$7,H$8))*'DNSP Inputs General'!$D56","v":148.43652864429609},null,{"$f":"IF('DNSP Inputs General'!$B56='DNSP Inputs General'!$A$41,J$6,IF('DNSP Inputs General'!$B56='DNSP Inputs General'!$A$42,J$7,J$8))*'DNSP Inputs General'!$D56","v":89.079373184408539},{"$f":"IF('DNSP Inputs General'!$B56='DNSP Inputs General'!$A$41,K$6,IF('DNSP Inputs General'!$B56='DNSP Inputs General'!$A$42,K$7,K$8))*'DNSP Inputs General'!$D56","v":90.28123955306009},{"$f":"IF('DNSP Inputs General'!$B56='DNSP Inputs General'!$A$41,L$6,IF('DNSP Inputs General'!$B56='DNSP Inputs General'!$A$42,L$7,L$8))*'DNSP Inputs General'!$D56","v":93.099636021008294},{"$f":"IF('DNSP Inputs General'!$B56='DNSP Inputs General'!$A$41,M$6,IF('DNSP Inputs General'!$B56='DNSP Inputs General'!$A$42,M$7,M$8))*'DNSP Inputs General'!$D56","v":93.529890898736241},{"$f":"IF('DNSP Inputs General'!$B56='DNSP Inputs General'!$A$41,N$6,IF('DNSP Inputs General'!$B56='DNSP Inputs General'!$A$42,N$7,N$8))*'DNSP Inputs General'!$D56","v":95.300304640391047},null,{"$f":"IF('DNSP Inputs General'!$B56='DNSP Inputs General'!$A$41,P$6,IF('DNSP Inputs General'!$B56='DNSP Inputs General'!$A$42,P$7,P$8))*'DNSP Inputs General'!$D56","v":46.140175746706731},{"$f":"IF('DNSP Inputs General'!$B56='DNSP Inputs General'!$A$41,Q$6,IF('DNSP Inputs General'!$B56='DNSP Inputs General'!$A$42,Q$7,Q$8))*'DNSP Inputs General'!$D56","v":47.91654709587727},{"$f":"IF('DNSP Inputs General'!$B56='DNSP Inputs General'!$A$41,R$6,IF('DNSP Inputs General'!$B56='DNSP Inputs General'!$A$42,R$7,R$8))*'DNSP Inputs General'!$D56","v":49.754799087986157},{"$f":"IF('DNSP Inputs General'!$B56='DNSP Inputs General'!$A$41,S$6,IF('DNSP Inputs General'!$B56='DNSP Inputs General'!$A$42,S$7,S$8))*'DNSP Inputs General'!$D56","v":51.511792335818647},{"$f":"IF('DNSP Inputs General'!$B56='DNSP Inputs General'!$A$41,T$6,IF('DNSP Inputs General'!$B56='DNSP Inputs General'!$A$42,T$7,T$8))*'DNSP Inputs General'!$D56","v":53.136224003905021},null,2.8421709430404007E-14,7.1054273576010019E-15,1.4210854715202004E-14,7.1054273576010019E-15,2.1316282072803006E-14]
[{"$f":"'DNSP Inputs General'!A57","v":"Metal Halide 150 watt"},null,{"$f":"'DNSP Inputs General'!E57","v":203.22},{"$f":"IF('DNSP Inputs General'!$B57='DNSP Inputs General'!$A$41,D$6,IF('DNSP Inputs General'!$B57='DNSP Inputs General'!$A$42,D$7,D$8))*'DNSP Inputs General'!$D57","v":212.28865359419885},{"$f":"IF('DNSP Inputs General'!$B57='DNSP Inputs General'!$A$41,E$6,IF('DNSP Inputs General'!$B57='DNSP Inputs General'!$A$42,E$7,E$8))*'DNSP Inputs General'!$D57","v":220.25579016081682},{"$f":"IF('DNSP Inputs General'!$B57='DNSP Inputs General'!$A$41,F$6,IF('DNSP Inputs General'!$B57='DNSP Inputs General'!$A$42,F$7,F$8))*'DNSP Inputs General'!$D57","v":227.50830834468937},{"$f":"IF('DNSP Inputs General'!$B57='DNSP Inputs General'!$A$41,G$6,IF('DNSP Inputs General'!$B57='DNSP Inputs General'!$A$42,G$7,G$8))*'DNSP Inputs General'!$D57","v":230.29010741135613},{"$f":"IF('DNSP Inputs General'!$B57='DNSP Inputs General'!$A$41,H$6,IF('DNSP Inputs General'!$B57='DNSP Inputs General'!$A$42,H$7,H$8))*'DNSP Inputs General'!$D57","v":235.46294050726544},null,{"$f":"IF('DNSP Inputs General'!$B57='DNSP Inputs General'!$A$41,J$6,IF('DNSP Inputs General'!$B57='DNSP Inputs General'!$A$42,J$7,J$8))*'DNSP Inputs General'!$D57","v":167.4670919747953},{"$f":"IF('DNSP Inputs General'!$B57='DNSP Inputs General'!$A$41,K$6,IF('DNSP Inputs General'!$B57='DNSP Inputs General'!$A$42,K$7,K$8))*'DNSP Inputs General'!$D57","v":173.8227069054777},{"$f":"IF('DNSP Inputs General'!$B57='DNSP Inputs General'!$A$41,L$6,IF('DNSP Inputs General'!$B57='DNSP Inputs General'!$A$42,L$7,L$8))*'DNSP Inputs General'!$D57","v":179.40351804872097},{"$f":"IF('DNSP Inputs General'!$B57='DNSP Inputs General'!$A$41,M$6,IF('DNSP Inputs General'!$B57='DNSP Inputs General'!$A$42,M$7,M$8))*'DNSP Inputs General'!$D57","v":180.58910283915796},{"$f":"IF('DNSP Inputs General'!$B57='DNSP Inputs General'!$A$41,N$6,IF('DNSP Inputs General'!$B57='DNSP Inputs General'!$A$42,N$7,N$8))*'DNSP Inputs General'!$D57","v":184.28985186009606},null,{"$f":"IF('DNSP Inputs General'!$B57='DNSP Inputs General'!$A$41,P$6,IF('DNSP Inputs General'!$B57='DNSP Inputs General'!$A$42,P$7,P$8))*'DNSP Inputs General'!$D57","v":44.821561619403568},{"$f":"IF('DNSP Inputs General'!$B57='DNSP Inputs General'!$A$41,Q$6,IF('DNSP Inputs General'!$B57='DNSP Inputs General'!$A$42,Q$7,Q$8))*'DNSP Inputs General'!$D57","v":46.433083255339135},{"$f":"IF('DNSP Inputs General'!$B57='DNSP Inputs General'!$A$41,R$6,IF('DNSP Inputs General'!$B57='DNSP Inputs General'!$A$42,R$7,R$8))*'DNSP Inputs General'!$D57","v":48.104790295968392},{"$f":"IF('DNSP Inputs General'!$B57='DNSP Inputs General'!$A$41,S$6,IF('DNSP Inputs General'!$B57='DNSP Inputs General'!$A$42,S$7,S$8))*'DNSP Inputs General'!$D57","v":49.701004572198208},{"$f":"IF('DNSP Inputs General'!$B57='DNSP Inputs General'!$A$41,T$6,IF('DNSP Inputs General'!$B57='DNSP Inputs General'!$A$42,T$7,T$8))*'DNSP Inputs General'!$D57","v":51.173088647169401},null,1.4210854715202004E-14,2.1316282072803006E-14,7.1054273576010019E-15,3.5527136788005009E-14,2.1316282072803006E-14]
[{"$f":"'DNSP Inputs General'!A58","v":"Metal Halide 250 watt"},null,{"$f":"'DNSP Inputs General'!E58","v":202},{"$f":"IF('DNSP Inputs General'!$B58='DNSP Inputs General'!$A$41,D$6,IF('DNSP Inputs General'!$B58='DNSP Inputs General'!$A$42,D$7,D$8))*'DNSP Inputs General'!$D58","v":208.17997729276047},{"$f":"IF('DNSP Inputs General'!$B58='DNSP Inputs General'!$A$41,E$6,IF('DNSP Inputs General'!$B58='DNSP Inputs General'!$A$42,E$7,E$8))*'DNSP Inputs General'!$D58","v":215.95601513726783},{"$f":"IF('DNSP Inputs General'!$B58='DNSP Inputs General'!$A$41,F$6,IF('DNSP Inputs General'!$B58='DNSP Inputs General'!$A$42,F$7,F$8))*'DNSP Inputs General'!$D58","v":223.03845238448088},{"$f":"IF('DNSP Inputs General'!$B58='DNSP Inputs General'!$A$41,G$6,IF('DNSP Inputs General'!$B58='DNSP Inputs General'!$A$42,G$7,G$8))*'DNSP Inputs General'!$D58","v":225.7629441137552},{"$f":"IF('DNSP Inputs General'!$B58='DNSP Inputs General'!$A$41,H$6,IF('DNSP Inputs General'!$B58='DNSP Inputs General'!$A$42,H$7,H$8))*'DNSP Inputs General'!$D58","v":230.81409718504273},null,{"$f":"IF('DNSP Inputs General'!$B58='DNSP Inputs General'!$A$41,J$6,IF('DNSP Inputs General'!$B58='DNSP Inputs General'!$A$42,J$7,J$8))*'DNSP Inputs General'!$D58","v":162.76861438813287},{"$f":"IF('DNSP Inputs General'!$B58='DNSP Inputs General'!$A$41,K$6,IF('DNSP Inputs General'!$B58='DNSP Inputs General'!$A$42,K$7,K$8))*'DNSP Inputs General'!$D58","v":168.95285200267992},{"$f":"IF('DNSP Inputs General'!$B58='DNSP Inputs General'!$A$41,L$6,IF('DNSP Inputs General'!$B58='DNSP Inputs General'!$A$42,L$7,L$8))*'DNSP Inputs General'!$D58","v":174.38248537783394},{"$f":"IF('DNSP Inputs General'!$B58='DNSP Inputs General'!$A$41,M$6,IF('DNSP Inputs General'!$B58='DNSP Inputs General'!$A$42,M$7,M$8))*'DNSP Inputs General'!$D58","v":175.52942397082546},{"$f":"IF('DNSP Inputs General'!$B58='DNSP Inputs General'!$A$41,N$6,IF('DNSP Inputs General'!$B58='DNSP Inputs General'!$A$42,N$7,N$8))*'DNSP Inputs General'!$D58","v":179.127121867314},null,{"$f":"IF('DNSP Inputs General'!$B58='DNSP Inputs General'!$A$41,P$6,IF('DNSP Inputs General'!$B58='DNSP Inputs General'!$A$42,P$7,P$8))*'DNSP Inputs General'!$D58","v":45.411362904627595},{"$f":"IF('DNSP Inputs General'!$B58='DNSP Inputs General'!$A$41,Q$6,IF('DNSP Inputs General'!$B58='DNSP Inputs General'!$A$42,Q$7,Q$8))*'DNSP Inputs General'!$D58","v":47.003163134587922},{"$f":"IF('DNSP Inputs General'!$B58='DNSP Inputs General'!$A$41,R$6,IF('DNSP Inputs General'!$B58='DNSP Inputs General'!$A$42,R$7,R$8))*'DNSP Inputs General'!$D58","v":48.655967006646918},{"$f":"IF('DNSP Inputs General'!$B58='DNSP Inputs General'!$A$41,S$6,IF('DNSP Inputs General'!$B58='DNSP Inputs General'!$A$42,S$7,S$8))*'DNSP Inputs General'!$D58","v":50.233520142929734},{"$f":"IF('DNSP Inputs General'!$B58='DNSP Inputs General'!$A$41,T$6,IF('DNSP Inputs General'!$B58='DNSP Inputs General'!$A$42,T$7,T$8))*'DNSP Inputs General'!$D58","v":51.686975317728759},null,0,1.4210854715202004E-14,1.4210854715202004E-14,0,3.5527136788005009E-14]
[{"$f":"'DNSP Inputs General'!A59","v":"Incandescent 100 watt"},null,{"$f":"'DNSP Inputs General'!E59","v":76.17},{"$f":"IF('DNSP Inputs General'!$B59='DNSP Inputs General'!$A$41,D$6,IF('DNSP Inputs General'!$B59='DNSP Inputs General'!$A$42,D$7,D$8))*'DNSP Inputs General'!$D59","v":82.078792347291781},{"$f":"IF('DNSP Inputs General'!$B59='DNSP Inputs General'!$A$41,E$6,IF('DNSP Inputs General'!$B59='DNSP Inputs General'!$A$42,E$7,E$8))*'DNSP Inputs General'!$D59","v":83.886594230483382},{"$f":"IF('DNSP Inputs General'!$B59='DNSP Inputs General'!$A$41,F$6,IF('DNSP Inputs General'!$B59='DNSP Inputs General'!$A$42,F$7,F$8))*'DNSP Inputs General'!$D59","v":86.713197964992744},{"$f":"IF('DNSP Inputs General'!$B59='DNSP Inputs General'!$A$41,G$6,IF('DNSP Inputs General'!$B59='DNSP Inputs General'!$A$42,G$7,G$8))*'DNSP Inputs General'!$D59","v":88.040866087901023},{"$f":"IF('DNSP Inputs General'!$B59='DNSP Inputs General'!$A$41,H$6,IF('DNSP Inputs General'!$B59='DNSP Inputs General'!$A$42,H$7,H$8))*'DNSP Inputs General'!$D59","v":90.10155046112915},null,{"$f":"IF('DNSP Inputs General'!$B59='DNSP Inputs General'!$A$41,J$6,IF('DNSP Inputs General'!$B59='DNSP Inputs General'!$A$42,J$7,J$8))*'DNSP Inputs General'!$D59","v":54.071526135283015},{"$f":"IF('DNSP Inputs General'!$B59='DNSP Inputs General'!$A$41,K$6,IF('DNSP Inputs General'!$B59='DNSP Inputs General'!$A$42,K$7,K$8))*'DNSP Inputs General'!$D59","v":54.801063697577334},{"$f":"IF('DNSP Inputs General'!$B59='DNSP Inputs General'!$A$41,L$6,IF('DNSP Inputs General'!$B59='DNSP Inputs General'!$A$42,L$7,L$8))*'DNSP Inputs General'!$D59","v":56.511841320145123},{"$f":"IF('DNSP Inputs General'!$B59='DNSP Inputs General'!$A$41,M$6,IF('DNSP Inputs General'!$B59='DNSP Inputs General'!$A$42,M$7,M$8))*'DNSP Inputs General'!$D59","v":56.773007705069475},{"$f":"IF('DNSP Inputs General'!$B59='DNSP Inputs General'!$A$41,N$6,IF('DNSP Inputs General'!$B59='DNSP Inputs General'!$A$42,N$7,N$8))*'DNSP Inputs General'!$D59","v":57.847655735023366},null,{"$f":"IF('DNSP Inputs General'!$B59='DNSP Inputs General'!$A$41,P$6,IF('DNSP Inputs General'!$B59='DNSP Inputs General'!$A$42,P$7,P$8))*'DNSP Inputs General'!$D59","v":28.007266212008759},{"$f":"IF('DNSP Inputs General'!$B59='DNSP Inputs General'!$A$41,Q$6,IF('DNSP Inputs General'!$B59='DNSP Inputs General'!$A$42,Q$7,Q$8))*'DNSP Inputs General'!$D59","v":29.085530532906052},{"$f":"IF('DNSP Inputs General'!$B59='DNSP Inputs General'!$A$41,R$6,IF('DNSP Inputs General'!$B59='DNSP Inputs General'!$A$42,R$7,R$8))*'DNSP Inputs General'!$D59","v":30.201356644847632},{"$f":"IF('DNSP Inputs General'!$B59='DNSP Inputs General'!$A$41,S$6,IF('DNSP Inputs General'!$B59='DNSP Inputs General'!$A$42,S$7,S$8))*'DNSP Inputs General'!$D59","v":31.267858382831555},{"$f":"IF('DNSP Inputs General'!$B59='DNSP Inputs General'!$A$41,T$6,IF('DNSP Inputs General'!$B59='DNSP Inputs General'!$A$42,T$7,T$8))*'DNSP Inputs General'!$D59","v":32.253894726105777},null,{"$f":"ABS(D24-J24-P24)","v":7.1054273576010019E-15},{"$f":"ABS(E24-K24-Q24)","v":3.5527136788005009E-15},{"$f":"ABS(F24-L24-R24)","v":1.0658141036401503E-14},{"$f":"ABS(G24-M24-S24)","v":7.1054273576010019E-15},{"$f":"ABS(H24-N24-T24)","v":7.1054273576010019E-15}]
[{"$f":"'DNSP Inputs General'!A60","v":"Incandescent 150 watt"},null,{"$f":"'DNSP Inputs General'!E60","v":95.21},{"$f":"IF('DNSP Inputs General'!$B60='DNSP Inputs General'!$A$41,D$6,IF('DNSP Inputs General'!$B60='DNSP Inputs General'!$A$42,D$7,D$8))*'DNSP Inputs General'!$D60","v":102.59849043411472},{"$f":"IF('DNSP Inputs General'!$B60='DNSP Inputs General'!$A$41,E$6,IF('DNSP Inputs General'!$B60='DNSP Inputs General'!$A$42,E$7,E$8))*'DNSP Inputs General'!$D60","v":104.85824278810422},{"$f":"IF('DNSP Inputs General'!$B60='DNSP Inputs General'!$A$41,F$6,IF('DNSP Inputs General'!$B60='DNSP Inputs General'!$A$42,F$7,F$8))*'DNSP Inputs General'!$D60","v":108.39149745624091},{"$f":"IF('DNSP Inputs General'!$B60='DNSP Inputs General'!$A$41,G$6,IF('DNSP Inputs General'!$B60='DNSP Inputs General'!$A$42,G$7,G$8))*'DNSP Inputs General'!$D60","v":110.05108260987627},{"$f":"IF('DNSP Inputs General'!$B60='DNSP Inputs General'!$A$41,H$6,IF('DNSP Inputs General'!$B60='DNSP Inputs General'!$A$42,H$7,H$8))*'DNSP Inputs General'!$D60","v":112.62693807641143},null,{"$f":"IF('DNSP Inputs General'!$B60='DNSP Inputs General'!$A$41,J$6,IF('DNSP Inputs General'!$B60='DNSP Inputs General'!$A$42,J$7,J$8))*'DNSP Inputs General'!$D60","v":67.589407669103764},{"$f":"IF('DNSP Inputs General'!$B60='DNSP Inputs General'!$A$41,K$6,IF('DNSP Inputs General'!$B60='DNSP Inputs General'!$A$42,K$7,K$8))*'DNSP Inputs General'!$D60","v":68.501329621971664},{"$f":"IF('DNSP Inputs General'!$B60='DNSP Inputs General'!$A$41,L$6,IF('DNSP Inputs General'!$B60='DNSP Inputs General'!$A$42,L$7,L$8))*'DNSP Inputs General'!$D60","v":70.639801650181397},{"$f":"IF('DNSP Inputs General'!$B60='DNSP Inputs General'!$A$41,M$6,IF('DNSP Inputs General'!$B60='DNSP Inputs General'!$A$42,M$7,M$8))*'DNSP Inputs General'!$D60","v":70.96625963133684},{"$f":"IF('DNSP Inputs General'!$B60='DNSP Inputs General'!$A$41,N$6,IF('DNSP Inputs General'!$B60='DNSP Inputs General'!$A$42,N$7,N$8))*'DNSP Inputs General'!$D60","v":72.309569668779204},null,{"$f":"IF('DNSP Inputs General'!$B60='DNSP Inputs General'!$A$41,P$6,IF('DNSP Inputs General'!$B60='DNSP Inputs General'!$A$42,P$7,P$8))*'DNSP Inputs General'!$D60","v":35.009082765010945},{"$f":"IF('DNSP Inputs General'!$B60='DNSP Inputs General'!$A$41,Q$6,IF('DNSP Inputs General'!$B60='DNSP Inputs General'!$A$42,Q$7,Q$8))*'DNSP Inputs General'!$D60","v":36.356913166132564},{"$f":"IF('DNSP Inputs General'!$B60='DNSP Inputs General'!$A$41,R$6,IF('DNSP Inputs General'!$B60='DNSP Inputs General'!$A$42,R$7,R$8))*'DNSP Inputs General'!$D60","v":37.751695806059537},{"$f":"IF('DNSP Inputs General'!$B60='DNSP Inputs General'!$A$41,S$6,IF('DNSP Inputs General'!$B60='DNSP Inputs General'!$A$42,S$7,S$8))*'DNSP Inputs General'!$D60","v":39.084822978539442},{"$f":"IF('DNSP Inputs General'!$B60='DNSP Inputs General'!$A$41,T$6,IF('DNSP Inputs General'!$B60='DNSP Inputs General'!$A$42,T$7,T$8))*'DNSP Inputs General'!$D60","v":40.317368407632216},null,1.4210854715202004E-14,7.1054273576010019E-15,2.1316282072803006E-14,7.1054273576010019E-15,1.4210854715202004E-14]
[{"$f":"'DNSP Inputs General'!A61","v":"Sodium High Pressure 250 watt (24 hrs)"},null,{"$f":"'DNSP Inputs General'!E61","v":144.62},{"$f":"IF('DNSP Inputs General'!$B61='DNSP Inputs General'!$A$41,D$6,IF('DNSP Inputs General'!$B61='DNSP Inputs General'!$A$42,D$7,D$8))*'DNSP Inputs General'!$D61","v":151.0515184077704},{"$f":"IF('DNSP Inputs General'!$B61='DNSP Inputs General'!$A$41,E$6,IF('DNSP Inputs General'!$B61='DNSP Inputs General'!$A$42,E$7,E$8))*'DNSP Inputs General'!$D61","v":156.69366679727341},{"$f":"IF('DNSP Inputs General'!$B61='DNSP Inputs General'!$A$41,F$6,IF('DNSP Inputs General'!$B61='DNSP Inputs General'!$A$42,F$7,F$8))*'DNSP Inputs General'!$D61","v":161.83255149757684},{"$f":"IF('DNSP Inputs General'!$B61='DNSP Inputs General'!$A$41,G$6,IF('DNSP Inputs General'!$B61='DNSP Inputs General'!$A$42,G$7,G$8))*'DNSP Inputs General'!$D61","v":163.80939200812006},{"$f":"IF('DNSP Inputs General'!$B61='DNSP Inputs General'!$A$41,H$6,IF('DNSP Inputs General'!$B61='DNSP Inputs General'!$A$42,H$7,H$8))*'DNSP Inputs General'!$D61","v":167.47441470170546},null,{"$f":"IF('DNSP Inputs General'!$B61='DNSP Inputs General'!$A$41,J$6,IF('DNSP Inputs General'!$B61='DNSP Inputs General'!$A$42,J$7,J$8))*'DNSP Inputs General'!$D61","v":118.10187834673827},{"$f":"IF('DNSP Inputs General'!$B61='DNSP Inputs General'!$A$41,K$6,IF('DNSP Inputs General'!$B61='DNSP Inputs General'!$A$42,K$7,K$8))*'DNSP Inputs General'!$D61","v":122.58904610427008},{"$f":"IF('DNSP Inputs General'!$B61='DNSP Inputs General'!$A$41,L$6,IF('DNSP Inputs General'!$B61='DNSP Inputs General'!$A$42,L$7,L$8))*'DNSP Inputs General'!$D61","v":126.52868706484698},{"$f":"IF('DNSP Inputs General'!$B61='DNSP Inputs General'!$A$41,M$6,IF('DNSP Inputs General'!$B61='DNSP Inputs General'!$A$42,M$7,M$8))*'DNSP Inputs General'!$D61","v":127.36088436952919},{"$f":"IF('DNSP Inputs General'!$B61='DNSP Inputs General'!$A$41,N$6,IF('DNSP Inputs General'!$B61='DNSP Inputs General'!$A$42,N$7,N$8))*'DNSP Inputs General'!$D61","v":129.9713070293069},null,{"$f":"IF('DNSP Inputs General'!$B61='DNSP Inputs General'!$A$41,P$6,IF('DNSP Inputs General'!$B61='DNSP Inputs General'!$A$42,P$7,P$8))*'DNSP Inputs General'!$D61","v":32.94964006103212},{"$f":"IF('DNSP Inputs General'!$B61='DNSP Inputs General'!$A$41,Q$6,IF('DNSP Inputs General'!$B61='DNSP Inputs General'!$A$42,Q$7,Q$8))*'DNSP Inputs General'!$D61","v":34.104620693003334},{"$f":"IF('DNSP Inputs General'!$B61='DNSP Inputs General'!$A$41,R$6,IF('DNSP Inputs General'!$B61='DNSP Inputs General'!$A$42,R$7,R$8))*'DNSP Inputs General'!$D61","v":35.30386443272986},{"$f":"IF('DNSP Inputs General'!$B61='DNSP Inputs General'!$A$41,S$6,IF('DNSP Inputs General'!$B61='DNSP Inputs General'!$A$42,S$7,S$8))*'DNSP Inputs General'!$D61","v":36.448507638590876},{"$f":"IF('DNSP Inputs General'!$B61='DNSP Inputs General'!$A$41,T$6,IF('DNSP Inputs General'!$B61='DNSP Inputs General'!$A$42,T$7,T$8))*'DNSP Inputs General'!$D61","v":37.503107672398542},null,7.1054273576010019E-15,7.1054273576010019E-15,7.1054273576010019E-15,7.1054273576010019E-15,1.4210854715202004E-14]
[{"$f":"'DNSP Inputs General'!A62","v":"Metal Halide 100 watt"},null,{"$f":"'DNSP Inputs General'!E62","v":200.52},{"$f":"IF('DNSP Inputs General'!$B62='DNSP Inputs General'!$A$41,D$6,IF('DNSP Inputs General'!$B62='DNSP Inputs General'!$A$42,D$7,D$8))*'DNSP Inputs General'!$D62","v":212.28865359419885},{"$f":"IF('DNSP Inputs General'!$B62='DNSP Inputs General'!$A$41,E$6,IF('DNSP Inputs General'!$B62='DNSP Inputs General'!$A$42,E$7,E$8))*'DNSP Inputs General'!$D62","v":220.25579016081682},{"$f":"IF('DNSP Inputs General'!$B62='DNSP Inputs General'!$A$41,F$6,IF('DNSP Inputs General'!$B62='DNSP Inputs General'!$A$42,F$7,F$8))*'DNSP Inputs General'!$D62","v":227.50830834468937},{"$f":"IF('DNSP Inputs General'!$B62='DNSP Inputs General'!$A$41,G$6,IF('DNSP Inputs General'!$B62='DNSP Inputs General'!$A$42,G$7,G$8))*'DNSP Inputs General'!$D62","v":230.29010741135613},{"$f":"IF('DNSP Inputs General'!$B62='DNSP Inputs General'!$A$41,H$6,IF('DNSP Inputs General'!$B62='DNSP Inputs General'!$A$42,H$7,H$8))*'DNSP Inputs General'!$D62","v":235.46294050726544},null,{"$f":"IF('DNSP Inputs General'!$B62='DNSP Inputs General'!$A$41,J$6,IF('DNSP Inputs General'!$B62='DNSP Inputs General'!$A$42,J$7,J$8))*'DNSP Inputs General'!$D62","v":167.4670919747953},{"$f":"IF('DNSP Inputs General'!$B62='DNSP Inputs General'!$A$41,K$6,IF('DNSP Inputs General'!$B62='DNSP Inputs General'!$A$42,K$7,K$8))*'DNSP Inputs General'!$D62","v":173.8227069054777},{"$f":"IF('DNSP Inputs General'!$B62='DNSP Inputs General'!$A$41,L$6,IF('DNSP Inputs General'!$B62='DNSP Inputs General'!$A$42,L$7,L$8))*'DNSP Inputs General'!$D62","v":179.40351804872097},{"$f":"IF('DNSP Inputs General'!$B62='DNSP Inputs General'!$A$41,M$6,IF('DNSP Inputs General'!$B62='DNSP Inputs General'!$A$42,M$7,M$8))*'DNSP Inputs General'!$D62","v":180.58910283915796},{"$f":"IF('DNSP Inputs General'!$B62='DNSP Inputs General'!$A$41,N$6,IF('DNSP Inputs General'!$B62='DNSP Inputs General'!$A$42,N$7,N$8))*'DNSP Inputs General'!$D62","v":184.28985186009606},null,{"$f":"IF('DNSP Inputs General'!$B62='DNSP Inputs General'!$A$41,P$6,IF('DNSP Inputs General'!$B62='DNSP Inputs General'!$A$42,P$7,P$8))*'DNSP Inputs General'!$D62","v":44.821561619403568},{"$f":"IF('DNSP Inputs General'!$B62='DNSP Inputs General'!$A$41,Q$6,IF('DNSP Inputs General'!$B62='DNSP Inputs General'!$A$42,Q$7,Q$8))*'DNSP Inputs General'!$D62","v":46.433083255339135},{"$f":"IF('DNSP Inputs General'!$B62='DNSP Inputs General'!$A$41,R$6,IF('DNSP Inputs General'!$B62='DNSP Inputs General'!$A$42,R$7,R$8))*'DNSP Inputs General'!$D62","v":48.104790295968392},{"$f":"IF('DNSP Inputs General'!$B62='DNSP Inputs General'!$A$41,S$6,IF('DNSP Inputs General'!$B62='DNSP Inputs General'!$A$42,S$7,S$8))*'DNSP Inputs General'!$D62","v":49.701004572198208},{"$f":"IF('DNSP Inputs General'!$B62='DNSP Inputs General'!$A$41,T$6,IF('DNSP Inputs General'!$B62='DNSP Inputs General'!$A$42,T$7,T$8))*'DNSP Inputs General'!$D62","v":51.173088647169401},null,1.4210854715202004E-14,2.1316282072803006E-14,7.1054273576010019E-15,3.5527136788005009E-14,2.1316282072803006E-14]
[]
[]
[{"$f":"'DNSP Inputs General'!A$67","v":"Energy Efficient Lights"}]
[{"$f":"'DNSP Inputs General'!A68","v":"T5 2X14W"},null,{"$f":"'DNSP Inputs General'!E68","v":30.01},{"$f":"'Charges Summary'!D$89","v":33.744357493111707},{"$f":"'Charges Summary'!E$89","v":35.829757757569382},{"$f":"'Charges Summary'!F$89","v":37.675950990898755},{"$f":"'Charges Summary'!G$89","v":38.749448116811294},{"$f":"'Charges Summary'!H$89","v":40.172418289239509},null,{"$f":"SUM('Charges Summary'!D83,'Charges Summary'!D8)","v":26.204977768392013},{"$f":"SUM('Charges Summary'!E83,'Charges Summary'!E8)","v":27.29944342527779},{"$f":"SUM('Charges Summary'!F83,'Charges Summary'!F8)","v":28.145796741312136},{"$f":"SUM('Charges Summary'!G83,'Charges Summary'!G8)","v":28.25872422062859},{"$f":"SUM('Charges Summary'!H83,'Charges Summary'!H8)","v":28.777037731428635},null,{"$f":"SUM('Charges Summary'!D85,'Charges Summary'!D11)","v":7.5393797247196979},{"$f":"SUM('Charges Summary'!E85,'Charges Summary'!E11)","v":8.5303143322915886},{"$f":"SUM('Charges Summary'!F85,'Charges Summary'!F11)","v":9.5301542495866176},{"$f":"SUM('Charges Summary'!G85,'Charges Summary'!G11)","v":10.490723896182702},{"$f":"SUM('Charges Summary'!H85,'Charges Summary'!H11)","v":11.395380557810872},null,{"$f":"ABS(D31-J31-P31)","v":3.5527136788005009E-15},3.5527136788005009E-15,1.7763568394002505E-15,1.7763568394002505E-15,1.7763568394002505E-15]
[{"$f":"'DNSP Inputs General'!A69","v":"T5 (2x24W)"},null,null,{"$f":"D$31*'DNSP Inputs General'!$D69","v":38.004442492242084},{"$f":"E$31*'DNSP Inputs General'!$D69","v":40.353115879787438},{"$f":"F$31*'DNSP Inputs General'!$D69","v":42.43238334190923},{"$f":"G$31*'DNSP Inputs General'!$D69","v":43.641405021923681},{"$f":"H$31*'DNSP Inputs General'!$D69","v":45.244019269276386},null,{"$f":"J$31*'DNSP Inputs General'!$D69","v":29.513247386992997},{"$f":"K$31*'DNSP Inputs General'!$D69","v":30.745884787937442},{"$f":"L$31*'DNSP Inputs General'!$D69","v":31.69908669536483},{"$f":"M$31*'DNSP Inputs General'!$D69","v":31.826270799977049},{"$f":"N$31*'DNSP Inputs General'!$D69","v":32.410019239050854},null,{"$f":"P$31*'DNSP Inputs General'!$D69","v":8.4911951052490942},{"$f":"Q$31*'DNSP Inputs General'!$D69","v":9.6072310918499948},{"$f":"R$31*'DNSP Inputs General'!$D69","v":10.733296646544396},{"$f":"S$31*'DNSP Inputs General'!$D69","v":11.81513422194663},{"$f":"T$31*'DNSP Inputs General'!$D69","v":12.834000030225534},null,7.1054273576010019E-15,1.7763568394002505E-15,3.5527136788005009E-15,1.7763568394002505E-15,1.7763568394002505E-15]
[{"$f":"'DNSP Inputs General'!A70","v":"LED 18W"},null,null,{"$f":"'Charges Summary'!D$107","v":19.790171391944376},{"$f":"'Charges Summary'!E$107","v":21.99587854802445},{"$f":"'Charges Summary'!F$107","v":24.026912557203843},{"$f":"'Charges Summary'!G$107","v":25.24564923875419},{"$f":"'Charges Summary'!H$107","v":26.542112450233951},null,{"$f":"SUM('Charges Summary'!D101,'Charges Summary'!D8)","v":11.483911113632738},{"$f":"SUM('Charges Summary'!E101,'Charges Summary'!E8)","v":12.544438942871391},{"$f":"SUM('Charges Summary'!F101,'Charges Summary'!F8)","v":13.420673220766803},{"$f":"SUM('Charges Summary'!G101,'Charges Summary'!G8)","v":13.530489598726341},{"$f":"SUM('Charges Summary'!H101,'Charges Summary'!H8)","v":13.782994289679516},null,{"$f":"SUM('Charges Summary'!D103,'Charges Summary'!D11)","v":8.3062602783116368},{"$f":"SUM('Charges Summary'!E103,'Charges Summary'!E11)","v":9.4514396051530589},{"$f":"SUM('Charges Summary'!F103,'Charges Summary'!F11)","v":10.60623933643704},{"$f":"SUM('Charges Summary'!G103,'Charges Summary'!G11)","v":11.715159640027849},{"$f":"SUM('Charges Summary'!H103,'Charges Summary'!H11)","v":12.759118160554433},null,1.7763568394002505E-15,0,0,0,1.7763568394002505E-15]
[{"$f":"'DNSP Inputs General'!A71","v":"Compact Fluoro 32W"},null,null,{"$f":"D$31*'DNSP Inputs General'!$D71","v":29.105752598778359},{"$f":"E$31*'DNSP Inputs General'!$D71","v":30.904487222163091},{"$f":"F$31*'DNSP Inputs General'!$D71","v":32.496896960881408},{"$f":"G$31*'DNSP Inputs General'!$D71","v":33.422827815208329},{"$f":"H$31*'DNSP Inputs General'!$D71","v":34.650192058329303},null,{"$f":"J$31*'DNSP Inputs General'!$D71","v":22.60275958548031},{"$f":"K$31*'DNSP Inputs General'!$D71","v":23.546776570947568},{"$f":"L$31*'DNSP Inputs General'!$D71","v":24.276787513745337},{"$f":"M$31*'DNSP Inputs General'!$D71","v":24.374191628648376},{"$f":"N$31*'DNSP Inputs General'!$D71","v":24.821256143568533},null,{"$f":"P$31*'DNSP Inputs General'!$D71","v":6.5029930132980525},{"$f":"Q$31*'DNSP Inputs General'!$D71","v":7.3577106512155179},{"$f":"R$31*'DNSP Inputs General'!$D71","v":8.2201094471360676},{"$f":"S$31*'DNSP Inputs General'!$D71","v":9.0486361865599481},{"$f":"T$31*'DNSP Inputs General'!$D71","v":9.8289359147607644},null,3.5527136788005009E-15,5.3290705182007514E-15,3.5527136788005009E-15,5.3290705182007514E-15,5.3290705182007514E-15]
[{"$f":"'DNSP Inputs General'!A72","v":"Compact Fluoro 42W"},null,null,{"$f":"D$31*'DNSP Inputs General'!$D72","v":32.825075993299357},{"$f":"E$31*'DNSP Inputs General'!$D72","v":34.853664689090749},{"$f":"F$31*'DNSP Inputs General'!$D72","v":36.649562957259654},{"$f":"G$31*'DNSP Inputs General'!$D72","v":37.693815310971253},{"$f":"H$31*'DNSP Inputs General'!$D72","v":39.078020183021025},null,{"$f":"J$31*'DNSP Inputs General'!$D72","v":25.49108800858864},{"$f":"K$31*'DNSP Inputs General'!$D72","v":26.555737657545968},{"$f":"L$31*'DNSP Inputs General'!$D72","v":27.379034172279709},{"$f":"M$31*'DNSP Inputs General'!$D72","v":27.488885221927077},{"$f":"N$31*'DNSP Inputs General'!$D72","v":27.993078563994366},null,{"$f":"P$31*'DNSP Inputs General'!$D72","v":7.3339879847107223},{"$f":"Q$31*'DNSP Inputs General'!$D72","v":8.2979270315447735},{"$f":"R$31*'DNSP Inputs General'!$D72","v":9.2705287849799394},{"$f":"S$31*'DNSP Inputs General'!$D72","v":10.20493008904417},{"$f":"T$31*'DNSP Inputs General'!$D72","v":11.084941619026656},null,{"$f":"ABS(D35-J35-P35)","v":5.3290705182007514E-15},{"$f":"ABS(E35-K35-Q35)","v":7.1054273576010019E-15},{"$f":"ABS(F35-L35-R35)","v":5.3290705182007514E-15},{"$f":"ABS(G35-M35-S35)","v":5.3290705182007514E-15},{"$f":"ABS(H35-N35-T35)","v":1.7763568394002505E-15}]

{"sheet":"Output|Capex Forecast Model","index":8,"n_rows":88,"n_cols":12,"rows_kept":88,"cut":false,"hidden":false,"merged":[[64,2,64,7],[6,2,6,7],[26,2,26,7],[24,2,24,7],[44,2,44,7],[46,2,46,7]]}
[{"$f":"'DNSP Inputs O & M'!$A$3","v":"Jemena"},null,null,null,"Check",{"$f":"SUM(C88)","v":0}]
[]
["Inflation Rate"]
["Regulatory Period",null,{"$f":"'DNSP Inputs General'!J$2","v":2015},{"$f":"'DNSP Inputs General'!K$2","v":2016},{"$f":"'DNSP Inputs General'!L$2","v":2017},{"$f":"'DNSP Inputs General'!M$2","v":2018},{"$f":"'DNSP Inputs General'!N$2","v":2019},{"$f":"'DNSP Inputs General'!O$2","v":2020}]
["Inflation Rate",null,{"$f":"'DNSP Inputs General'!B30/104-1","v":2.3076923076923217E-2}]
[]
["Output for Capex Forecast Model",null,"Number of replacement units - total"]
[]
["Number of replacement units - total",null,{"$f":"'DNSP Inputs General'!J$2","v":2015},{"$f":"'DNSP Inputs General'!K$2","v":2016},{"$f":"'DNSP Inputs General'!L$2","v":2017},{"$f":"'DNSP Inputs General'!M$2","v":2018},{"$f":"'DNSP Inputs General'!N$2","v":2019},{"$f":"'DNSP Inputs General'!O$2","v":2020}]
["MV80 - urban",null,{"$f":"'DNSP Inputs Capex'!$D30","v":189},{"$f":"'DNSP Inputs Capex'!$D30","v":189},{"$f":"'DNSP Inputs Capex'!$D30","v":189},{"$f":"'DNSP Inputs Capex'!$D30","v":189},{"$f":"'DNSP Inputs Capex'!$D30","v":189},{"$f":"'DNSP Inputs Capex'!$D30","v":189}]
["MV80 - rural",null,{"$f":"'DNSP Inputs Capex'!$D31","v":6},{"$f":"'DNSP Inputs Capex'!$D31","v":6},{"$f":"'DNSP Inputs Capex'!$D31","v":6},{"$f":"'DNSP Inputs Capex'!$D31","v":6},{"$f":"'DNSP Inputs Capex'!$D31","v":6},{"$f":"'DNSP Inputs Capex'!$D31","v":6}]
["S-HP150 - urban",null,{"$f":"'DNSP Inputs Capex'!$D43","v":16},{"$f":"'DNSP Inputs Capex'!$D43","v":16},{"$f":"'DNSP Inputs Capex'!$D43","v":16},{"$f":"'DNSP Inputs Capex'!$D43","v":16},{"$f":"'DNSP Inputs Capex'!$D43","v":16},{"$f":"'DNSP Inputs Capex'!$D43","v":16}]
["S-HP150 - rural",null,{"$f":"'DNSP Inputs Capex'!$D44","v":13},{"$f":"'DNSP Inputs Capex'!$D44","v":13},{"$f":"'DNSP Inputs Capex'!$D44","v":13},{"$f":"'DNSP Inputs Capex'!$D44","v":13},{"$f":"'DNSP Inputs Capex'!$D44","v":13},{"$f":"'DNSP Inputs Capex'!$D44","v":13}]
["S-HP250 - urban",null,{"$f":"'DNSP Inputs Capex'!$D65","v":121},{"$f":"'DNSP Inputs Capex'!$D65","v":121},{"$f":"'DNSP Inputs Capex'!$D65","v":121},{"$f":"'DNSP Inputs Capex'!$D65","v":121},{"$f":"'DNSP Inputs Capex'!$D65","v":121},{"$f":"'DNSP Inputs Capex'!$D65","v":121}]
["S-HP250 - rural",null,{"$f":"'DNSP Inputs Capex'!$D66","v":10},{"$f":"'DNSP Inputs Capex'!$D66","v":10},{"$f":"'DNSP Inputs Capex'!$D66","v":10},{"$f":"'DNSP Inputs Capex'!$D66","v":10},{"$f":"'DNSP Inputs Capex'!$D66","v":10},{"$f":"'DNSP Inputs Capex'!$D66","v":10}]
["Poles and brackets (dedicated poles) - urban",null,{"$f":"'DNSP Inputs Capex'!$D81","v":321},{"$f":"'DNSP Inputs Capex'!$D81","v":321},{"$f":"'DNSP Inputs Capex'!$D81","v":321},{"$f":"'DNSP Inputs Capex'!$D81","v":321},{"$f":"'DNSP Inputs Capex'!$D81","v":321},{"$f":"'DNSP Inputs Capex'!$D81","v":321}]
["Poles and brackets (dedicated poles) - rural",null,{"$f":"'DNSP Inputs Capex'!$D82","v":17},{"$f":"'DNSP Inputs Capex'!$D82","v":17},{"$f":"'DNSP Inputs Capex'!$D82","v":17},{"$f":"'DNSP Inputs Capex'!$D82","v":17},{"$f":"'DNSP Inputs Capex'!$D82","v":17},{"$f":"'DNSP Inputs Capex'!$D82","v":17}]
["Brackets on non-dedicated poles - urban",null,{"$f":"'DNSP Inputs Capex'!$D85","v":33},{"$f":"'DNSP Inputs Capex'!$D85","v":33},{"$f":"'DNSP Inputs Capex'!$D85","v":33},{"$f":"'DNSP Inputs Capex'!$D85","v":33},{"$f":"'DNSP Inputs Capex'!$D85","v":33},{"$f":"'DNSP Inputs Capex'!$D85","v":33}]
["Brackets on non-dedicated poles - rural",null,{"$f":"'DNSP Inputs Capex'!$D86","v":2},{"$f":"'DNSP Inputs Capex'!$D86","v":2},{"$f":"'DNSP Inputs Capex'!$D86","v":2},{"$f":"'DNSP Inputs Capex'!$D86","v":2},{"$f":"'DNSP Inputs Capex'!$D86","v":2},{"$f":"'DNSP Inputs Capex'!$D86","v":2}]
["T5 (2 X 14W) - urban",null,{"$f":"'DNSP Inputs Capex'!$D108","v":494},{"$f":"'DNSP Inputs Capex'!$D108","v":494},{"$f":"'DNSP Inputs Capex'!$D108","v":494},{"$f":"'DNSP Inputs Capex'!$D108","v":494},{"$f":"'DNSP Inputs Capex'!$D108","v":494},{"$f":"'DNSP Inputs Capex'!$D108","v":494}]
["T5 (2 X 14W) - rural",null,{"$f":"'DNSP Inputs Capex'!$D109","v":15},{"$f":"'DNSP Inputs Capex'!$D109","v":15},{"$f":"'DNSP Inputs Capex'!$D109","v":15},{"$f":"'DNSP Inputs Capex'!$D109","v":15},{"$f":"'DNSP Inputs Capex'!$D109","v":15},{"$f":"'DNSP Inputs Capex'!$D109","v":15}]
["LED18W - urban",null,{"$f":"'DNSP Inputs Capex'!$D123","v":7},{"$f":"'DNSP Inputs Capex'!$D123","v":7},{"$f":"'DNSP Inputs Capex'!$D123","v":7},{"$f":"'DNSP Inputs Capex'!$D123","v":7},{"$f":"'DNSP Inputs Capex'!$D123","v":7},{"$f":"'DNSP Inputs Capex'!$D123","v":7}]
["LED18W - rural",null,{"$f":"'DNSP Inputs Capex'!$D124","v":0},{"$f":"'DNSP Inputs Capex'!$D124","v":0},{"$f":"'DNSP Inputs Capex'!$D124","v":0},{"$f":"'DNSP Inputs Capex'!$D124","v":0},{"$f":"'DNSP Inputs Capex'!$D124","v":0},{"$f":"'DNSP Inputs Capex'!$D124","v":0}]
[]
[null,null,"Replacement unit rates"]
[]
[null,null,"Real 2015 $ "]
[]
["Replacement unit rates",null,{"$f":"'DNSP Inputs General'!J$2","v":2015},{"$f":"'DNSP Inputs General'!K$2","v":2016},{"$f":"'DNSP Inputs General'!L$2","v":2017},{"$f":"'DNSP Inputs General'!M$2","v":2018},{"$f":"'DNSP Inputs General'!N$2","v":2019},{"$f":"'DNSP Inputs General'!O$2","v":2020}]
["MV80 - urban",null,{"$f":"'DNSP Inputs Capex'!C21/'DNSP Inputs General'!J103+'DNSP Inputs Capex'!C22/'DNSP Inputs General'!J103+('DNSP Inputs Capex'!C23*'DNSP Inputs Capex'!C12/'DNSP Inputs General'!J95+'DNSP Inputs Capex'!C23/2*'DNSP Inputs Capex'!C13/'DNSP Inputs General'!J103)*'DNSP Inputs Capex'!C15/'DNSP Inputs Capex'!C24","v":303.02253512816151},{"$f":"'DNSP Inputs Capex'!D21/'DNSP Inputs General'!K103+'DNSP Inputs Capex'!D22/'DNSP Inputs General'!K103+('DNSP Inputs Capex'!D23*'DNSP Inputs Capex'!D12/'DNSP Inputs General'!K95+'DNSP Inputs Capex'!D23/2*'DNSP Inputs Capex'!D13/'DNSP Inputs General'!K103)*'DNSP Inputs Capex'!D15/'DNSP Inputs Capex'!D24","v":303.02253512816151},{"$f":"'DNSP Inputs Capex'!E21/'DNSP Inputs General'!L103+'DNSP Inputs Capex'!E22/'DNSP Inputs General'!L103+('DNSP Inputs Capex'!E23*'DNSP Inputs Capex'!E12/'DNSP Inputs General'!L95+'DNSP Inputs Capex'!E23/2*'DNSP Inputs Capex'!E13/'DNSP Inputs General'!L103)*'DNSP Inputs Capex'!E15/'DNSP Inputs Capex'!E24","v":303.02253512816145},{"$f":"'DNSP Inputs Capex'!F21/'DNSP Inputs General'!M103+'DNSP Inputs Capex'!F22/'DNSP Inputs General'!M103+('DNSP Inputs Capex'!F23*'DNSP Inputs Capex'!F12/'DNSP Inputs General'!M95+'DNSP Inputs Capex'!F23/2*'DNSP Inputs Capex'!F13/'DNSP Inputs General'!M103)*'DNSP Inputs Capex'!F15/'DNSP Inputs Capex'!F24","v":303.02253512816145},{"$f":"'DNSP Inputs Capex'!G21/'DNSP Inputs General'!N103+'DNSP Inputs Capex'!G22/'DNSP Inputs General'!N103+('DNSP Inputs Capex'!G23*'DNSP Inputs Capex'!G12/'DNSP Inputs General'!N95+'DNSP Inputs Capex'!G23/2*'DNSP Inputs Capex'!G13/'DNSP Inputs General'!N103)*'DNSP Inputs Capex'!G15/'DNSP Inputs Capex'!G24","v":303.02253512816151},{"$f":"'DNSP Inputs Capex'!H21/'DNSP Inputs General'!O103+'DNSP Inputs Capex'!H22/'DNSP Inputs General'!O103+('DNSP Inputs Capex'!H23*'DNSP Inputs Capex'!H12/'DNSP Inputs General'!O95+'DNSP Inputs Capex'!H23/2*'DNSP Inputs Capex'!H13/'DNSP Inputs General'!O103)*'DNSP Inputs Capex'!H15/'DNSP Inputs Capex'!H24","v":303.02253512816151}]
["MV80 - rural",null,{"$f":"('DNSP Inputs Capex'!C21+'DNSP Inputs Capex'!C22)/'DNSP Inputs General'!J103*(1+'DNSP Inputs Capex'!C11)+('DNSP Inputs Capex'!C23*'DNSP Inputs Capex'!C12/'DNSP Inputs General'!J95+'DNSP Inputs Capex'!C23/2*'DNSP Inputs Capex'!C14/'DNSP Inputs General'!J103)*'DNSP Inputs Capex'!C15/'DNSP Inputs Capex'!C25","v":344.94838110327987},{"$f":"('DNSP Inputs Capex'!D21+'DNSP Inputs Capex'!D22)/'DNSP Inputs General'!K103*(1+'DNSP Inputs Capex'!D11)+('DNSP Inputs Capex'!D23*'DNSP Inputs Capex'!D12/'DNSP Inputs General'!K95+'DNSP Inputs Capex'!D23/2*'DNSP Inputs Capex'!D14/'DNSP Inputs General'!K103)*'DNSP Inputs Capex'!D15/'DNSP Inputs Capex'!D25","v":344.94838110327987},{"$f":"('DNSP Inputs Capex'!E21+'DNSP Inputs Capex'!E22)/'DNSP Inputs General'!L103*(1+'DNSP Inputs Capex'!E11)+('DNSP Inputs Capex'!E23*'DNSP Inputs Capex'!E12/'DNSP Inputs General'!L95+'DNSP Inputs Capex'!E23/2*'DNSP Inputs Capex'!E14/'DNSP Inputs General'!L103)*'DNSP Inputs Capex'!E15/'DNSP Inputs Capex'!E25","v":344.94838110327987},{"$f":"('DNSP Inputs Capex'!F21+'DNSP Inputs Capex'!F22)/'DNSP Inputs General'!M103*(1+'DNSP Inputs Capex'!F11)+('DNSP Inputs Capex'!F23*'DNSP Inputs Capex'!F12/'DNSP Inputs General'!M95+'DNSP Inputs Capex'!F23/2*'DNSP Inputs Capex'!F14/'DNSP Inputs General'!M103)*'DNSP Inputs Capex'!F15/'DNSP Inputs Capex'!F25","v":344.94838110327987},{"$f":"('DNSP Inputs Capex'!G21+'DNSP Inputs Capex'!G22)/'DNSP Inputs General'!N103*(1+'DNSP Inputs Capex'!G11)+('DNSP Inputs Capex'!G23*'DNSP Inputs Capex'!G12/'DNSP Inputs General'!N95+'DNSP Inputs Capex'!G23/2*'DNSP Inputs Capex'!G14/'DNSP Inputs General'!N103)*'DNSP Inputs Capex'!G15/'DNSP Inputs Capex'!G25","v":344.94838110327987},{"$f":"('DNSP Inputs Capex'!H21+'DNSP Inputs Capex'!H22)/'DNSP Inputs General'!O103*(1+'DNSP Inputs Capex'!H11)+('DNSP Inputs Capex'!H23*'DNSP Inputs Capex'!H12/'DNSP Inputs General'!O95+'DNSP Inputs Capex'!H23/2*'DNSP Inputs Capex'!H14/'DNSP Inputs General'!O103)*'DNSP Inputs Capex'!H15/'DNSP Inputs Capex'!H25","v":344.94838110327987}]
["S-HP150 - urban",null,{"$f":"'DNSP Inputs Capex'!C40/'DNSP Inputs General'!J103+'DNSP Inputs Capex'!C41/'DNSP Inputs General'!J103+('DNSP Inputs Capex'!C42*'DNSP Inputs Capex'!C12/'DNSP Inputs General'!J95+'DNSP Inputs Capex'!C42/2*'DNSP Inputs Capex'!C13/'DNSP Inputs General'!J103)*'DNSP Inputs Capex'!C15/'DNSP Inputs Capex'!C43","v":339.52013137787389},{"$f":"'DNSP Inputs Capex'!D40/'DNSP Inputs General'!K103+'DNSP Inputs Capex'!D41/'DNSP Inputs General'!K103+('DNSP Inputs Capex'!D42*'DNSP Inputs Capex'!D12/'DNSP Inputs General'!K95+'DNSP Inputs Capex'!D42/2*'DNSP Inputs Capex'!D13/'DNSP Inputs General'!K103)*'DNSP Inputs Capex'!D15/'DNSP Inputs Capex'!D43","v":339.52013137787429},{"$f":"'DNSP Inputs Capex'!E40/'DNSP Inputs General'!L103+'DNSP Inputs Capex'!E41/'DNSP Inputs General'!L103+('DNSP Inputs Capex'!E42*'DNSP Inputs Capex'!E12/'DNSP Inputs General'!L95+'DNSP Inputs Capex'!E42/2*'DNSP Inputs Capex'!E13/'DNSP Inputs General'!L103)*'DNSP Inputs Capex'!E15/'DNSP Inputs Capex'!E43","v":339.52013137787424},{"$f":"'DNSP Inputs Capex'!F40/'DNSP Inputs General'!M103+'DNSP Inputs Capex'!F41/'DNSP Inputs General'!M103+('DNSP Inputs Capex'!F42*'DNSP Inputs Capex'!F12/'DNSP Inputs General'!M95+'DNSP Inputs Capex'!F42/2*'DNSP Inputs Capex'!F13/'DNSP Inputs General'!M103)*'DNSP Inputs Capex'!F15/'DNSP Inputs Capex'!F43","v":339.52013137787424},{"$f":"'DNSP Inputs Capex'!G40/'DNSP Inputs General'!N103+'DNSP Inputs Capex'!G41/'DNSP Inputs General'!N103+('DNSP Inputs Capex'!G42*'DNSP Inputs Capex'!G12/'DNSP Inputs General'!N95+'DNSP Inputs Capex'!G42/2*'DNSP Inputs Capex'!G13/'DNSP Inputs General'!N103)*'DNSP Inputs Capex'!G15/'DNSP Inputs Capex'!G43","v":339.52013137787429},{"$f":"'DNSP Inputs Capex'!H40/'DNSP Inputs General'!O103+'DNSP Inputs Capex'!H41/'DNSP Inputs General'!O103+('DNSP Inputs Capex'!H42*'DNSP Inputs Capex'!H12/'DNSP Inputs General'!O95+'DNSP Inputs Capex'!H42/2*'DNSP Inputs Capex'!H13/'DNSP Inputs General'!O103)*'DNSP Inputs Capex'!H15/'DNSP Inputs Capex'!H43","v":339.52013137787429}]
["S-HP150 - rural",null,{"$f":"('DNSP Inputs Capex'!C40+'DNSP Inputs Capex'!C41)/'DNSP Inputs General'!J103*(1+'DNSP Inputs Capex'!C11)+('DNSP Inputs Capex'!C42*'DNSP Inputs Capex'!C12/'DNSP Inputs General'!J95+'DNSP Inputs Capex'!C42/2*'DNSP Inputs Capex'!C14/'DNSP Inputs General'!J103)*'DNSP Inputs Capex'!C15/'DNSP Inputs Capex'!C44","v":383.27085716547799},{"$f":"('DNSP Inputs Capex'!D40+'DNSP Inputs Capex'!D41)/'DNSP Inputs General'!K103*(1+'DNSP Inputs Capex'!D11)+('DNSP Inputs Capex'!D42*'DNSP Inputs Capex'!D12/'DNSP Inputs General'!K95+'DNSP Inputs Capex'!D42/2*'DNSP Inputs Capex'!D14/'DNSP Inputs General'!K103)*'DNSP Inputs Capex'!D15/'DNSP Inputs Capex'!D44","v":383.27085716547839},{"$f":"('DNSP Inputs Capex'!E40+'DNSP Inputs Capex'!E41)/'DNSP Inputs General'!L103*(1+'DNSP Inputs Capex'!E11)+('DNSP Inputs Capex'!E42*'DNSP Inputs Capex'!E12/'DNSP Inputs General'!L95+'DNSP Inputs Capex'!E42/2*'DNSP Inputs Capex'!E14/'DNSP Inputs General'!L103)*'DNSP Inputs Capex'!E15/'DNSP Inputs Capex'!E44","v":383.27085716547833},{"$f":"('DNSP Inputs Capex'!F40+'DNSP Inputs Capex'!F41)/'DNSP Inputs General'!M103*(1+'DNSP Inputs Capex'!F11)+('DNSP Inputs Capex'!F42*'DNSP Inputs Capex'!F12/'DNSP Inputs General'!M95+'DNSP Inputs Capex'!F42/2*'DNSP Inputs Capex'!F14/'DNSP Inputs General'!M103)*'DNSP Inputs Capex'!F15/'DNSP Inputs Capex'!F44","v":383.27085716547833},{"$f":"('DNSP Inputs Capex'!G40+'DNSP Inputs Capex'!G41)/'DNSP Inputs General'!N103*(1+'DNSP Inputs Capex'!G11)+('DNSP Inputs Capex'!G42*'DNSP Inputs Capex'!G12/'DNSP Inputs General'!N95+'DNSP Inputs Capex'!G42/2*'DNSP Inputs Capex'!G14/'DNSP Inputs General'!N103)*'DNSP Inputs Capex'!G15/'DNSP Inputs Capex'!G44","v":383.27085716547833},{"$f":"('DNSP Inputs Capex'!H40+'DNSP Inputs Capex'!H41)/'DNSP Inputs General'!O103*(1+'DNSP Inputs Capex'!H11)+('DNSP Inputs Capex'!H42*'DNSP Inputs Capex'!H12/'DNSP Inputs General'!O95+'DNSP Inputs Capex'!H42/2*'DNSP Inputs Capex'!H14/'DNSP Inputs General'!O103)*'DNSP Inputs Capex'!H15/'DNSP Inputs Capex'!H44","v":383.27085716547839}]
["S-HP250 - urban",null,{"$f":"'DNSP Inputs Capex'!C56/'DNSP Inputs General'!J103+'DNSP Inputs Capex'!C57/'DNSP Inputs General'!J103+('DNSP Inputs Capex'!C58*'DNSP Inputs Capex'!C12/'DNSP Inputs General'!J95+'DNSP Inputs Capex'!C58/2*'DNSP Inputs Capex'!C13/'DNSP Inputs General'!J103)*'DNSP Inputs Capex'!C15/'DNSP Inputs Capex'!C59","v":342.91638493384585},{"$f":"'DNSP Inputs Capex'!D56/'DNSP Inputs General'!K103+'DNSP Inputs Capex'!D57/'DNSP Inputs General'!K103+('DNSP Inputs Capex'!D58*'DNSP Inputs Capex'!D12/'DNSP Inputs General'!K95+'DNSP Inputs Capex'!D58/2*'DNSP Inputs Capex'!D13/'DNSP Inputs General'!K103)*'DNSP Inputs Capex'!D15/'DNSP Inputs Capex'!D59","v":342.9163849338463},{"$f":"'DNSP Inputs Capex'!E56/'DNSP Inputs General'!L103+'DNSP Inputs Capex'!E57/'DNSP Inputs General'!L103+('DNSP Inputs Capex'!E58*'DNSP Inputs Capex'!E12/'DNSP Inputs General'!L95+'DNSP Inputs Capex'!E58/2*'DNSP Inputs Capex'!E13/'DNSP Inputs General'!L103)*'DNSP Inputs Capex'!E15/'DNSP Inputs Capex'!E59","v":342.91638493384625},{"$f":"'DNSP Inputs Capex'!F56/'DNSP Inputs General'!M103+'DNSP Inputs Capex'!F57/'DNSP Inputs General'!M103+('DNSP Inputs Capex'!F58*'DNSP Inputs Capex'!F12/'DNSP Inputs General'!M95+'DNSP Inputs Capex'!F58/2*'DNSP Inputs Capex'!F13/'DNSP Inputs General'!M103)*'DNSP Inputs Capex'!F15/'DNSP Inputs Capex'!F59","v":342.91638493384625},{"$f":"'DNSP Inputs Capex'!G56/'DNSP Inputs General'!N103+'DNSP Inputs Capex'!G57/'DNSP Inputs General'!N103+('DNSP Inputs Capex'!G58*'DNSP Inputs Capex'!G12/'DNSP Inputs General'!N95+'DNSP Inputs Capex'!G58/2*'DNSP Inputs Capex'!G13/'DNSP Inputs General'!N103)*'DNSP Inputs Capex'!G15/'DNSP Inputs Capex'!G59","v":342.9163849338463},{"$f":"'DNSP Inputs Capex'!H56/'DNSP Inputs General'!O103+'DNSP Inputs Capex'!H57/'DNSP Inputs General'!O103+('DNSP Inputs Capex'!H58*'DNSP Inputs Capex'!H12/'DNSP Inputs General'!O95+'DNSP Inputs Capex'!H58/2*'DNSP Inputs Capex'!H13/'DNSP Inputs General'!O103)*'DNSP Inputs Capex'!H15/'DNSP Inputs Capex'!H59","v":342.9163849338463}]
["S-HP250 - rural",null,{"$f":"('DNSP Inputs Capex'!C56+'DNSP Inputs Capex'!C57)/'DNSP Inputs General'!J103*(1+'DNSP Inputs Capex'!C11)+('DNSP Inputs Capex'!C58*'DNSP Inputs Capex'!C12/'DNSP Inputs General'!J95+'DNSP Inputs Capex'!C58/2*'DNSP Inputs Capex'!C13/'DNSP Inputs General'!J103)*'DNSP Inputs Capex'!C15/'DNSP Inputs Capex'!C60","v":379.85584380233217},{"$f":"('DNSP Inputs Capex'!D56+'DNSP Inputs Capex'!D57)/'DNSP Inputs General'!K103*(1+'DNSP Inputs Capex'!D11)+('DNSP Inputs Capex'!D58*'DNSP Inputs Capex'!D12/'DNSP Inputs General'!K95+'DNSP Inputs Capex'!D58/2*'DNSP Inputs Capex'!D13/'DNSP Inputs General'!K103)*'DNSP Inputs Capex'!D15/'DNSP Inputs Capex'!D60","v":379.85584380233263},{"$f":"('DNSP Inputs Capex'!E56+'DNSP Inputs Capex'!E57)/'DNSP Inputs General'!L103*(1+'DNSP Inputs Capex'!E11)+('DNSP Inputs Capex'!E58*'DNSP Inputs Capex'!E12/'DNSP Inputs General'!L95+'DNSP Inputs Capex'!E58/2*'DNSP Inputs Capex'!E13/'DNSP Inputs General'!L103)*'DNSP Inputs Capex'!E15/'DNSP Inputs Capex'!E60","v":379.85584380233263},{"$f":"('DNSP Inputs Capex'!F56+'DNSP Inputs Capex'!F57)/'DNSP Inputs General'!M103*(1+'DNSP Inputs Capex'!F11)+('DNSP Inputs Capex'!F58*'DNSP Inputs Capex'!F12/'DNSP Inputs General'!M95+'DNSP Inputs Capex'!F58/2*'DNSP Inputs Capex'!F13/'DNSP Inputs General'!M103)*'DNSP Inputs Capex'!F15/'DNSP Inputs Capex'!F60","v":379.85584380233263},{"$f":"('DNSP Inputs Capex'!G56+'DNSP Inputs Capex'!G57)/'DNSP Inputs General'!N103*(1+'DNSP Inputs Capex'!G11)+('DNSP Inputs Capex'!G58*'DNSP Inputs Capex'!G12/'DNSP Inputs General'!N95+'DNSP Inputs Capex'!G58/2*'DNSP Inputs Capex'!G13/'DNSP Inputs General'!N103)*'DNSP Inputs Capex'!G15/'DNSP Inputs Capex'!G60","v":379.85584380233263},{"$f":"('DNSP Inputs Capex'!H56+'DNSP Inputs Capex'!H57)/'DNSP Inputs General'!O103*(1+'DNSP Inputs Capex'!H11)+('DNSP Inputs Capex'!H58*'DNSP Inputs Capex'!H12/'DNSP Inputs General'!O95+'DNSP Inputs Capex'!H58/2*'DNSP Inputs Capex'!H13/'DNSP Inputs General'!O103)*'DNSP Inputs Capex'!H15/'DNSP Inputs Capex'!H60","v":379.85584380233263}]
["Poles and brackets (dedicated poles) - urban",null,{"$f":"'DNSP Inputs Capex'!C72/'DNSP Inputs General'!J103+('DNSP Inputs Capex'!C58*'DNSP Inputs Capex'!C12/'DNSP Inputs General'!J95+'DNSP Inputs Capex'!C58/2*'DNSP Inputs Capex'!C13/'DNSP Inputs General'!J103)*'DNSP Inputs Capex'!C15/'DNSP Inputs Capex'!C73","v":1036.1728541783309},{"$f":"'DNSP Inputs Capex'!D72/'DNSP Inputs General'!K103+('DNSP Inputs Capex'!D58*'DNSP Inputs Capex'!D12/'DNSP Inputs General'!K95+'DNSP Inputs Capex'!D58/2*'DNSP Inputs Capex'!D13/'DNSP Inputs General'!K103)*'DNSP Inputs Capex'!D15/'DNSP Inputs Capex'!D73","v":1040.705592256729},{"$f":"'DNSP Inputs Capex'!E72/'DNSP Inputs General'!L103+('DNSP Inputs Capex'!E58*'DNSP Inputs Capex'!E12/'DNSP Inputs General'!L95+'DNSP Inputs Capex'!E58/2*'DNSP Inputs Capex'!E13/'DNSP Inputs General'!L103)*'DNSP Inputs Capex'!E15/'DNSP Inputs Capex'!E73","v":1040.705592256729},{"$f":"'DNSP Inputs Capex'!F72/'DNSP Inputs General'!M103+('DNSP Inputs Capex'!F58*'DNSP Inputs Capex'!F12/'DNSP Inputs General'!M95+'DNSP Inputs Capex'!F58/2*'DNSP Inputs Capex'!F13/'DNSP Inputs General'!M103)*'DNSP Inputs Capex'!F15/'DNSP Inputs Capex'!F73","v":1040.7055922567288},{"$f":"'DNSP Inputs Capex'!G72/'DNSP Inputs General'!N103+('DNSP Inputs Capex'!G58*'DNSP Inputs Capex'!G12/'DNSP Inputs General'!N95+'DNSP Inputs Capex'!G58/2*'DNSP Inputs Capex'!G13/'DNSP Inputs General'!N103)*'DNSP Inputs Capex'!G15/'DNSP Inputs Capex'!G73","v":1040.705592256729},{"$f":"'DNSP Inputs Capex'!H72/'DNSP Inputs General'!O103+('DNSP Inputs Capex'!H58*'DNSP Inputs Capex'!H12/'DNSP Inputs General'!O95+'DNSP Inputs Capex'!H58/2*'DNSP Inputs Capex'!H13/'DNSP Inputs General'!O103)*'DNSP Inputs Capex'!H15/'DNSP Inputs Capex'!H73","v":1040.7055922567292}]
["Poles and brackets (dedicated poles) - rural",null,{"$f":"'DNSP Inputs Capex'!C72/'DNSP Inputs General'!J103+('DNSP Inputs Capex'!C58*'DNSP Inputs Capex'!C12/'DNSP Inputs General'!J95+'DNSP Inputs Capex'!C58/2*'DNSP Inputs Capex'!C14/'DNSP Inputs General'!J103)*'DNSP Inputs Capex'!C15/'DNSP Inputs Capex'!C73","v":1058.8613628683088},{"$f":"'DNSP Inputs Capex'!D72/'DNSP Inputs General'!K103+('DNSP Inputs Capex'!D58*'DNSP Inputs Capex'!D12/'DNSP Inputs General'!K95+'DNSP Inputs Capex'!D58/2*'DNSP Inputs Capex'!D14/'DNSP Inputs General'!K103)*'DNSP Inputs Capex'!D15/'DNSP Inputs Capex'!D73","v":1063.3941009467069},{"$f":"'DNSP Inputs Capex'!E72/'DNSP Inputs General'!L103+('DNSP Inputs Capex'!E58*'DNSP Inputs Capex'!E12/'DNSP Inputs General'!L95+'DNSP Inputs Capex'!E58/2*'DNSP Inputs Capex'!E14/'DNSP Inputs General'!L103)*'DNSP Inputs Capex'!E15/'DNSP Inputs Capex'!E73","v":1063.3941009467069},{"$f":"'DNSP Inputs Capex'!F72/'DNSP Inputs General'!M103+('DNSP Inputs Capex'!F58*'DNSP Inputs Capex'!F12/'DNSP Inputs General'!M95+'DNSP Inputs Capex'!F58/2*'DNSP Inputs Capex'!F14/'DNSP Inputs General'!M103)*'DNSP Inputs Capex'!F15/'DNSP Inputs Capex'!F73","v":1063.3941009467067},{"$f":"'DNSP Inputs Capex'!G72/'DNSP Inputs General'!N103+('DNSP Inputs Capex'!G58*'DNSP Inputs Capex'!G12/'DNSP Inputs General'!N95+'DNSP Inputs Capex'!G58/2*'DNSP Inputs Capex'!G14/'DNSP Inputs General'!N103)*'DNSP Inputs Capex'!G15/'DNSP Inputs Capex'!G73","v":1063.3941009467069},{"$f":"'DNSP Inputs Capex'!H72/'DNSP Inputs General'!O103+('DNSP Inputs Capex'!H58*'DNSP Inputs Capex'!H12/'DNSP Inputs General'!O95+'DNSP Inputs Capex'!H58/2*'DNSP Inputs Capex'!H14/'DNSP Inputs General'!O103)*'DNSP Inputs Capex'!H15/'DNSP Inputs Capex'!H73","v":1063.3941009467071}]
["Brackets on non-dedicated poles - urban",null,{"$f":"'DNSP Inputs Capex'!C74/'DNSP Inputs General'!J103+('DNSP Inputs Capex'!C58*'DNSP Inputs Capex'!C12/'DNSP Inputs General'!J95+'DNSP Inputs Capex'!C58/2*'DNSP Inputs Capex'!C13/'DNSP Inputs General'!J103)*'DNSP Inputs Capex'!C15/'DNSP Inputs Capex'!C75","v":135.4522586491579},{"$f":"'DNSP Inputs Capex'!D74/'DNSP Inputs General'!K103+('DNSP Inputs Capex'!D58*'DNSP Inputs Capex'!D12/'DNSP Inputs General'!K95+'DNSP Inputs Capex'!D58/2*'DNSP Inputs Capex'!D13/'DNSP Inputs General'!K103)*'DNSP Inputs Capex'!D15/'DNSP Inputs Capex'!D75","v":135.4522586491579},{"$f":"'DNSP Inputs Capex'!E74/'DNSP Inputs General'!L103+('DNSP Inputs Capex'!E58*'DNSP Inputs Capex'!E12/'DNSP Inputs General'!L95+'DNSP Inputs Capex'!E58/2*'DNSP Inputs Capex'!E13/'DNSP Inputs General'!L103)*'DNSP Inputs Capex'!E15/'DNSP Inputs Capex'!E75","v":135.4522586491579},{"$f":"'DNSP Inputs Capex'!F74/'DNSP Inputs General'!M103+('DNSP Inputs Capex'!F58*'DNSP Inputs Capex'!F12/'DNSP Inputs General'!M95+'DNSP Inputs Capex'!F58/2*'DNSP Inputs Capex'!F13/'DNSP Inputs General'!M103)*'DNSP Inputs Capex'!F15/'DNSP Inputs Capex'!F75","v":135.4522586491579},{"$f":"'DNSP Inputs Capex'!G74/'DNSP Inputs General'!N103+('DNSP Inputs Capex'!G58*'DNSP Inputs Capex'!G12/'DNSP Inputs General'!N95+'DNSP Inputs Capex'!G58/2*'DNSP Inputs Capex'!G13/'DNSP Inputs General'!N103)*'DNSP Inputs Capex'!G15/'DNSP Inputs Capex'!G75","v":135.4522586491579},{"$f":"'DNSP Inputs Capex'!H74/'DNSP Inputs General'!O103+('DNSP Inputs Capex'!H58*'DNSP Inputs Capex'!H12/'DNSP Inputs General'!O95+'DNSP Inputs Capex'!H58/2*'DNSP Inputs Capex'!H13/'DNSP Inputs General'!O103)*'DNSP Inputs Capex'!H15/'DNSP Inputs Capex'!H75","v":135.4522586491579}]
["Brackets on non-dedicated poles - rural",null,{"$f":"'DNSP Inputs Capex'!C74/'DNSP Inputs General'!J103+('DNSP Inputs Capex'!C58*'DNSP Inputs Capex'!C12/'DNSP Inputs General'!J95+'DNSP Inputs Capex'!C58/2*'DNSP Inputs Capex'!C14/'DNSP Inputs General'!J103)*'DNSP Inputs Capex'!C15/'DNSP Inputs Capex'!C75","v":139.98996038715347},{"$f":"'DNSP Inputs Capex'!D74/'DNSP Inputs General'!K103+('DNSP Inputs Capex'!D58*'DNSP Inputs Capex'!D12/'DNSP Inputs General'!K95+'DNSP Inputs Capex'!D58/2*'DNSP Inputs Capex'!D14/'DNSP Inputs General'!K103)*'DNSP Inputs Capex'!D15/'DNSP Inputs Capex'!D75","v":139.98996038715347},{"$f":"'DNSP Inputs Capex'!E74/'DNSP Inputs General'!L103+('DNSP Inputs Capex'!E58*'DNSP Inputs Capex'!E12/'DNSP Inputs General'!L95+'DNSP Inputs Capex'!E58/2*'DNSP Inputs Capex'!E14/'DNSP Inputs General'!L103)*'DNSP Inputs Capex'!E15/'DNSP Inputs Capex'!E75","v":139.98996038715347},{"$f":"'DNSP Inputs Capex'!F74/'DNSP Inputs General'!M103+('DNSP Inputs Capex'!F58*'DNSP Inputs Capex'!F12/'DNSP Inputs General'!M95+'DNSP Inputs Capex'!F58/2*'DNSP Inputs Capex'!F14/'DNSP Inputs General'!M103)*'DNSP Inputs Capex'!F15/'DNSP Inputs Capex'!F75","v":139.98996038715347},{"$f":"'DNSP Inputs Capex'!G74/'DNSP Inputs General'!N103+('DNSP Inputs Capex'!G58*'DNSP Inputs Capex'!G12/'DNSP Inputs General'!N95+'DNSP Inputs Capex'!G58/2*'DNSP Inputs Capex'!G14/'DNSP Inputs General'!N103)*'DNSP Inputs Capex'!G15/'DNSP Inputs Capex'!G75","v":139.98996038715347},{"$f":"'DNSP Inputs Capex'!H74/'DNSP Inputs General'!O103+('DNSP Inputs Capex'!H58*'DNSP Inputs Capex'!H12/'DNSP Inputs General'!O95+'DNSP Inputs Capex'!H58/2*'DNSP Inputs Capex'!H14/'DNSP Inputs General'!O103)*'DNSP Inputs Capex'!H15/'DNSP Inputs Capex'!H75","v":139.98996038715347}]
["T5 (2 X 14W) - urban",null,{"$f":"'DNSP Inputs Capex'!C99/'DNSP Inputs General'!J103+'DNSP Inputs Capex'!C100/'DNSP Inputs General'!J103+('DNSP Inputs Capex'!C101*'DNSP Inputs Capex'!C12/'DNSP Inputs General'!J95+'DNSP Inputs Capex'!C101/2*'DNSP Inputs Capex'!C13/'DNSP Inputs General'!J103)*'DNSP Inputs Capex'!C15/'DNSP Inputs Capex'!C102","v":344.80858334360164},{"$f":"'DNSP Inputs Capex'!D99/'DNSP Inputs General'!K103+'DNSP Inputs Capex'!D100/'DNSP Inputs General'!K103+('DNSP Inputs Capex'!D101*'DNSP Inputs Capex'!D12/'DNSP Inputs General'!K95+'DNSP Inputs Capex'!D101/2*'DNSP Inputs Capex'!D13/'DNSP Inputs General'!K103)*'DNSP Inputs Capex'!D15/'DNSP Inputs Capex'!D102","v":344.80858334360164},{"$f":"'DNSP Inputs Capex'!E99/'DNSP Inputs General'!L103+'DNSP Inputs Capex'!E100/'DNSP Inputs General'!L103+('DNSP Inputs Capex'!E101*'DNSP Inputs Capex'!E12/'DNSP Inputs General'!L95+'DNSP Inputs Capex'!E101/2*'DNSP Inputs Capex'!E13/'DNSP Inputs General'!L103)*'DNSP Inputs Capex'!E15/'DNSP Inputs Capex'!E102","v":344.80858334360164},{"$f":"'DNSP Inputs Capex'!F99/'DNSP Inputs General'!M103+'DNSP Inputs Capex'!F100/'DNSP Inputs General'!M103+('DNSP Inputs Capex'!F101*'DNSP Inputs Capex'!F12/'DNSP Inputs General'!M95+'DNSP Inputs Capex'!F101/2*'DNSP Inputs Capex'!F13/'DNSP Inputs General'!M103)*'DNSP Inputs Capex'!F15/'DNSP Inputs Capex'!F102","v":344.80858334360164},{"$f":"'DNSP Inputs Capex'!G99/'DNSP Inputs General'!N103+'DNSP Inputs Capex'!G100/'DNSP Inputs General'!N103+('DNSP Inputs Capex'!G101*'DNSP Inputs Capex'!G12/'DNSP Inputs General'!N95+'DNSP Inputs Capex'!G101/2*'DNSP Inputs Capex'!G13/'DNSP Inputs General'!N103)*'DNSP Inputs Capex'!G15/'DNSP Inputs Capex'!G102","v":344.80858334360164},{"$f":"'DNSP Inputs Capex'!H99/'DNSP Inputs General'!O103+'DNSP Inputs Capex'!H100/'DNSP Inputs General'!O103+('DNSP Inputs Capex'!H101*'DNSP Inputs Capex'!H12/'DNSP Inputs General'!O95+'DNSP Inputs Capex'!H101/2*'DNSP Inputs Capex'!H13/'DNSP Inputs General'!O103)*'DNSP Inputs Capex'!H15/'DNSP Inputs Capex'!H102","v":344.80858334360164}]
["T5 (2 X 14W) - rural",null,{"$f":"('DNSP Inputs Capex'!C99+'DNSP Inputs Capex'!C100)/'DNSP Inputs General'!J103*(1+'DNSP Inputs Capex'!C11)+('DNSP Inputs Capex'!C101*'DNSP Inputs Capex'!C12/'DNSP Inputs General'!J95+'DNSP Inputs Capex'!C101/2*'DNSP Inputs Capex'!C13/'DNSP Inputs General'!J103)*'DNSP Inputs Capex'!C15/'DNSP Inputs Capex'!C103","v":381.84265213257578},{"$f":"('DNSP Inputs Capex'!D99+'DNSP Inputs Capex'!D100)/'DNSP Inputs General'!K103*(1+'DNSP Inputs Capex'!D11)+('DNSP Inputs Capex'!D101*'DNSP Inputs Capex'!D12/'DNSP Inputs General'!K95+'DNSP Inputs Capex'!D101/2*'DNSP Inputs Capex'!D13/'DNSP Inputs General'!K103)*'DNSP Inputs Capex'!D15/'DNSP Inputs Capex'!D103","v":381.84265213257578},{"$f":"('DNSP Inputs Capex'!E99+'DNSP Inputs Capex'!E100)/'DNSP Inputs General'!L103*(1+'DNSP Inputs Capex'!E11)+('DNSP Inputs Capex'!E101*'DNSP Inputs Capex'!E12/'DNSP Inputs General'!L95+'DNSP Inputs Capex'!E101/2*'DNSP Inputs Capex'!E13/'DNSP Inputs General'!L103)*'DNSP Inputs Capex'!E15/'DNSP Inputs Capex'!E103","v":381.84265213257572},{"$f":"('DNSP Inputs Capex'!F99+'DNSP Inputs Capex'!F100)/'DNSP Inputs General'!M103*(1+'DNSP Inputs Capex'!F11)+('DNSP Inputs Capex'!F101*'DNSP Inputs Capex'!F12/'DNSP Inputs General'!M95+'DNSP Inputs Capex'!F101/2*'DNSP Inputs Capex'!F13/'DNSP Inputs General'!M103)*'DNSP Inputs Capex'!F15/'DNSP Inputs Capex'!F103","v":381.84265213257578},{"$f":"('DNSP Inputs Capex'!G99+'DNSP Inputs Capex'!G100)/'DNSP Inputs General'!N103*(1+'DNSP Inputs Capex'!G11)+('DNSP Inputs Capex'!G101*'DNSP Inputs Capex'!G12/'DNSP Inputs General'!N95+'DNSP Inputs Capex'!G101/2*'DNSP Inputs Capex'!G13/'DNSP Inputs General'!N103)*'DNSP Inputs Capex'!G15/'DNSP Inputs Capex'!G103","v":381.84265213257572},{"$f":"('DNSP Inputs Capex'!H99+'DNSP Inputs Capex'!H100)/'DNSP Inputs General'!O103*(1+'DNSP Inputs Capex'!H11)+('DNSP Inputs Capex'!H101*'DNSP Inputs Capex'!H12/'DNSP Inputs General'!O95+'DNSP Inputs Capex'!H101/2*'DNSP Inputs Capex'!H13/'DNSP Inputs General'!O103)*'DNSP Inputs Capex'!H15/'DNSP Inputs Capex'!H103","v":381.84265213257578}]
["LED18W - urban",null,{"$f":"'DNSP Inputs Capex'!C115/'DNSP Inputs General'!J103+('DNSP Inputs Capex'!C116*'DNSP Inputs Capex'!C12/'DNSP Inputs General'!J95+'DNSP Inputs Capex'!C116/2*'DNSP Inputs Capex'!C13/'DNSP Inputs General'!J103)*'DNSP Inputs Capex'!C15/'DNSP Inputs Capex'!C117","v":415.81672982269049},{"$f":"'DNSP Inputs Capex'!D115/'DNSP Inputs General'!K103+('DNSP Inputs Capex'!D116*'DNSP Inputs Capex'!D12/'DNSP Inputs General'!K95+'DNSP Inputs Capex'!D116/2*'DNSP Inputs Capex'!D13/'DNSP Inputs General'!K103)*'DNSP Inputs Capex'!D15/'DNSP Inputs Capex'!D117","v":415.81672982269049},{"$f":"'DNSP Inputs Capex'!E115/'DNSP Inputs General'!L103+('DNSP Inputs Capex'!E116*'DNSP Inputs Capex'!E12/'DNSP Inputs General'!L95+'DNSP Inputs Capex'!E116/2*'DNSP Inputs Capex'!E13/'DNSP Inputs General'!L103)*'DNSP Inputs Capex'!E15/'DNSP Inputs Capex'!E117","v":415.81672982269043},{"$f":"'DNSP Inputs Capex'!F115/'DNSP Inputs General'!M103+('DNSP Inputs Capex'!F116*'DNSP Inputs Capex'!F12/'DNSP Inputs General'!M95+'DNSP Inputs Capex'!F116/2*'DNSP Inputs Capex'!F13/'DNSP Inputs General'!M103)*'DNSP Inputs Capex'!F15/'DNSP Inputs Capex'!F117","v":415.81672982269043},{"$f":"'DNSP Inputs Capex'!G115/'DNSP Inputs General'!N103+('DNSP Inputs Capex'!G116*'DNSP Inputs Capex'!G12/'DNSP Inputs General'!N95+'DNSP Inputs Capex'!G116/2*'DNSP Inputs Capex'!G13/'DNSP Inputs General'!N103)*'DNSP Inputs Capex'!G15/'DNSP Inputs Capex'!G117","v":415.81672982269043},{"$f":"'DNSP Inputs Capex'!H115/'DNSP Inputs General'!O103+('DNSP Inputs Capex'!H116*'DNSP Inputs Capex'!H12/'DNSP Inputs General'!O95+'DNSP Inputs Capex'!H116/2*'DNSP Inputs Capex'!H13/'DNSP Inputs General'!O103)*'DNSP Inputs Capex'!H15/'DNSP Inputs Capex'!H117","v":415.81672982269049}]
["LED18W - rural",null,{"$f":"'DNSP Inputs Capex'!C115/'DNSP Inputs General'!J103*(1+'DNSP Inputs Capex'!C11)+('DNSP Inputs Capex'!C116*'DNSP Inputs Capex'!C12/'DNSP Inputs General'!J95+'DNSP Inputs Capex'!C116/2*'DNSP Inputs Capex'!C14/'DNSP Inputs General'!J103)*'DNSP Inputs Capex'!C15/'DNSP Inputs Capex'!C118","v":463.38228553253538},{"$f":"'DNSP Inputs Capex'!D115/'DNSP Inputs General'!K103*(1+'DNSP Inputs Capex'!D11)+('DNSP Inputs Capex'!D116*'DNSP Inputs Capex'!D12/'DNSP Inputs General'!K95+'DNSP Inputs Capex'!D116/2*'DNSP Inputs Capex'!D14/'DNSP Inputs General'!K103)*'DNSP Inputs Capex'!D15/'DNSP Inputs Capex'!D118","v":463.38228553253538},{"$f":"'DNSP Inputs Capex'!E115/'DNSP Inputs General'!L103*(1+'DNSP Inputs Capex'!E11)+('DNSP Inputs Capex'!E116*'DNSP Inputs Capex'!E12/'DNSP Inputs General'!L95+'DNSP Inputs Capex'!E116/2*'DNSP Inputs Capex'!E14/'DNSP Inputs General'!L103)*'DNSP Inputs Capex'!E15/'DNSP Inputs Capex'!E118","v":463.38228553253532},{"$f":"'DNSP Inputs Capex'!F115/'DNSP Inputs General'!M103*(1+'DNSP Inputs Capex'!F11)+('DNSP Inputs Capex'!F116*'DNSP Inputs Capex'!F12/'DNSP Inputs General'!M95+'DNSP Inputs Capex'!F116/2*'DNSP Inputs Capex'!F14/'DNSP Inputs General'!M103)*'DNSP Inputs Capex'!F15/'DNSP Inputs Capex'!F118","v":463.38228553253532},{"$f":"'DNSP Inputs Capex'!G115/'DNSP Inputs General'!N103*(1+'DNSP Inputs Capex'!G11)+('DNSP Inputs Capex'!G116*'DNSP Inputs Capex'!G12/'DNSP Inputs General'!N95+'DNSP Inputs Capex'!G116/2*'DNSP Inputs Capex'!G14/'DNSP Inputs General'!N103)*'DNSP Inputs Capex'!G15/'DNSP Inputs Capex'!G118","v":463.38228553253532},{"$f":"'DNSP Inputs Capex'!H115/'DNSP Inputs General'!O103*(1+'DNSP Inputs Capex'!H11)+('DNSP Inputs Capex'!H116*'DNSP Inputs Capex'!H12/'DNSP Inputs General'!O95+'DNSP Inputs Capex'!H116/2*'DNSP Inputs Capex'!H14/'DNSP Inputs General'!O103)*'DNSP Inputs Capex'!H15/'DNSP Inputs Capex'!H118","v":463.38228553253538}]
[]
[null,null,"Capex"]
[]
["Calculation = volume * unit rate",null,"Real 2015 $ "]
[]
["Capex",null,{"$f":"'DNSP Inputs General'!J$2","v":2015},{"$f":"'DNSP Inputs General'!K$2","v":2016},{"$f":"'DNSP Inputs General'!L$2","v":2017},{"$f":"'DNSP Inputs General'!M$2","v":2018},{"$f":"'DNSP Inputs General'!N$2","v":2019},{"$f":"'DNSP Inputs General'!O$2","v":2020},null,"Project mapping","RAB asset class mapping","Service classification"]
["MV80 - urban",null,{"$f":"C10*C30","v":57271.259139222522},{"$f":"D10*D30","v":57271.259139222522},{"$f":"E10*E30","v":57271.259139222515},57271.259139222515,57271.259139222522,57271.259139222522,null,"Public lighting Replacement - Minor Rd","Luminaires","ACS - public lighting"]
["MV80 - rural",null,{"$f":"C11*C31","v":2069.6902866196792},{"$f":"D11*D31","v":2069.6902866196792},2069.6902866196792,2069.6902866196792,2069.6902866196792,2069.6902866196792,null,"Public lighting Replacement - Minor Rd","Luminaires","ACS - public lighting"]
["S-HP150 - urban",null,{"$f":"C12*C32","v":5432.3221020459823},{"$f":"D12*D32","v":5432.3221020459887},5432.3221020459878,5432.3221020459878,5432.3221020459887,5432.3221020459887,null,"Public lighting Replacement - Major Rd","Luminaires","ACS - public lighting"]
["S-HP150 - rural",null,{"$f":"C13*C33","v":4982.5211431512143},{"$f":"D13*D33","v":4982.5211431512189},4982.521143151218,4982.521143151218,4982.521143151218,4982.5211431512189,null,"Public lighting Replacement - Major Rd","Luminaires","ACS - public lighting"]
["S-HP250 - urban",null,{"$f":"C14*C34","v":41492.882576995347},{"$f":"D14*D34","v":41492.882576995406},41492.882576995398,41492.882576995398,41492.882576995406,41492.882576995406,null,"Public lighting Replacement - Major Rd","Luminaires","ACS - public lighting"]
["S-HP250 - rural",null,{"$f":"C15*C35","v":3798.5584380233217},{"$f":"D15*D35","v":3798.5584380233263},3798.5584380233263,3798.5584380233263,3798.5584380233263,3798.5584380233263,null,"Public lighting Replacement - Major Rd","Luminaires","ACS - public lighting"]
["Poles and brackets (dedicated poles) - urban",null,{"$f":"C16*C36","v":332611.48619124421},{"$f":"D16*D36","v":334066.49511441001},334066.49511441001,334066.49511440995,334066.49511441001,334066.49511441006,null,"Public lighting Replacement (Dedicated) - Major Rd","Poles and brackets","ACS - public lighting"]
["Poles and brackets (dedicated poles) - rural",null,{"$f":"C17*C37","v":18000.643168761249},{"$f":"D17*D37","v":18077.699716094015},18077.699716094015,18077.699716094012,18077.699716094015,18077.699716094023,null,"Public lighting Replacement (Dedicated) - Major Rd","Poles and brackets","ACS - public lighting"]
["Brackets on non-dedicated poles - urban",null,{"$f":"C18*C38","v":4469.9245354222103},{"$f":"D18*D38","v":4469.9245354222103},4469.9245354222103,4469.9245354222103,4469.9245354222103,4469.9245354222103,null,"Public lighting Pole Replacement - Major Roads","Poles and brackets","ACS - public lighting"]
["Brackets on non-dedicated poles - rural",null,{"$f":"C19*C39","v":279.97992077430695},{"$f":"D19*D39","v":279.97992077430695},279.97992077430695,279.97992077430695,279.97992077430695,279.97992077430695,null,"Public lighting Pole Replacement - Major Roads","Poles and brackets","ACS - public lighting"]
["T5 (2 X 14W) - urban",null,{"$f":"C20*C40","v":170335.4401717392},{"$f":"D20*D40","v":170335.4401717392},170335.4401717392,170335.4401717392,170335.4401717392,170335.4401717392,null,"Public lighting Replacement - Minor Rd","Luminaires and Ballasts","ACS - public lighting"]
["T5 (2 X 14W) - rural",null,{"$f":"C21*C41","v":5727.639781988637},{"$f":"D21*D41","v":5727.639781988637},5727.6397819886361,5727.639781988637,5727.6397819886361,5727.639781988637,null,"Public lighting Replacement - Minor Rd","Luminaires and Ballasts","ACS - public lighting"]
["LED18W - urban",null,{"$f":"C22*C42","v":2910.7171087588335},{"$f":"D22*D42","v":2910.7171087588335},2910.7171087588331,2910.7171087588331,2910.7171087588331,2910.7171087588335,null,"Public lighting Replacement - Minor Rd","Luminaires and Ballasts","ACS - public lighting"]
["LED18W - rural",null,{"$f":"C23*C43","v":0},{"$f":"D23*D43","v":0},0,0,0,0,null,"Public lighting Replacement - Minor Rd","Luminaires and Ballasts","ACS - public lighting"]
[]
["Input into capex forecast model",null,"Real 2014 $"]
[null,null,null,null,null,null,null,null,null,"Service classification","RAB asset class mapping","Service code"]
["Capex",null,{"$f":"'DNSP Inputs General'!J$2","v":2015},{"$f":"'DNSP Inputs General'!K$2","v":2016},{"$f":"'DNSP Inputs General'!L$2","v":2017},{"$f":"'DNSP Inputs General'!M$2","v":2018},{"$f":"'DNSP Inputs General'!N$2","v":2019},{"$f":"'DNSP Inputs General'!O$2","v":2020}]
["Public lighting Replacement - Major Rd",null,null,{"$f":"SUMIFS(D$50:D$63,$J$50:$J$63,$A68,$K$50:$K$63,$K68)/(1+$C$5)","v":0},{"$f":"SUMIFS(E$50:E$63,$J$50:$J$63,$A68,$K$50:$K$63,$K68)/(1+$C$5)","v":0},0,0,0,null,"ACS - public lighting","Poles and brackets","RLJ"]
["Public lighting Replacement - Major Rd",null,null,{"$f":"SUMIFS(D$50:D$63,$J$50:$J$63,$A69,$K$50:$K$63,$K69)/(1+$C$5)","v":54449.751532541894},54449.751532541879,54449.751532541879,54449.751532541894,54449.751532541894,null,{"$f":"J$68","v":"ACS - public lighting"},"Luminaires",{"$f":"L68","v":"RLJ"}]
["Public lighting Replacement - Major Rd",null,null,0,0,0,0,0,null,{"$f":"J$68","v":"ACS - public lighting"},"Luminaires and Ballasts",{"$f":"L68","v":"RLJ"}]
["Public lighting Replacement - Minor Rd",null,null,0,0,0,0,0,null,"ACS - public lighting",{"$f":"K$68","v":"Poles and brackets"},"RLM"]
["Public lighting Replacement - Minor Rd",null,null,58002.431769620183,58002.431769620176,58002.431769620176,58002.431769620183,58002.431769620183,null,"ACS - public lighting",{"$f":"K$69","v":"Luminaires"},{"$f":"L71","v":"RLM"}]
["Public lighting Replacement - Minor Rd",null,null,174936.79412122755,174936.79412122755,174936.79412122755,174936.79412122755,174936.79412122755,null,"ACS - public lighting",{"$f":"K$70","v":"Luminaires and Ballasts"},{"$f":"L71","v":"RLM"}]
["Public lighting Pole Replacement - Major Roads",null,null,4642.7637541770464,4642.7637541770464,4642.7637541770464,4642.7637541770464,4642.7637541770464,null,"ACS - public lighting",{"$f":"K$68","v":"Poles and brackets"},"RPA"]
["Public lighting Pole Replacement - Major Roads",null,null,0,0,0,0,0,null,"ACS - public lighting",{"$f":"K$69","v":"Luminaires"},{"$f":"L74","v":"RPA"}]
["Public lighting Pole Replacement - Major Roads",null,null,0,0,0,0,0,null,"ACS - public lighting",{"$f":"K$70","v":"Luminaires and Ballasts"},{"$f":"L74","v":"RPA"}]
["Public lighting Pole Replacement - Minor Roads",null,null,0,0,0,0,0,null,"ACS - public lighting",{"$f":"K$68","v":"Poles and brackets"},"RPB"]
["Public lighting Pole Replacement - Minor Roads",null,null,0,0,0,0,0,null,"ACS - public lighting",{"$f":"K$69","v":"Luminaires"},{"$f":"L77","v":"RPB"}]
["Public lighting Pole Replacement - Minor Roads",null,null,0,0,0,0,0,null,"ACS - public lighting",{"$f":"K$70","v":"Luminaires and Ballasts"},{"$f":"L77","v":"RPB"}]
["Public lighting Replacement (Dedicated) - Major Rd",null,null,344201.09269147005,344201.09269147005,344201.09269147,344201.09269147005,344201.09269147011,null,"ACS - public lighting",{"$f":"K$68","v":"Poles and brackets"},"RLJ"]
["Public lighting Replacement (Dedicated) - Major Rd",null,null,0,0,0,0,0,null,"ACS - public lighting",{"$f":"K$69","v":"Luminaires"},{"$f":"L80","v":"RLJ"}]
["Public lighting Replacement (Dedicated) - Major Rd",null,null,0,0,0,0,0,null,"ACS - public lighting",{"$f":"K$70","v":"Luminaires and Ballasts"},{"$f":"L80","v":"RLJ"}]
["Public lighting Replacement (Dedicated) - Minor Rd",null,null,0,0,0,0,0,null,"ACS - public lighting",{"$f":"K$68","v":"Poles and brackets"},"RLM"]
["Public lighting Replacement (Dedicated) - Minor Rd",null,null,0,0,0,0,0,null,"ACS - public lighting",{"$f":"K$69","v":"Luminaires"},{"$f":"L83","v":"RLM"}]
["Public lighting Replacement (Dedicated) - Minor Rd",null,null,{"$f":"SUMIFS(D$50:D$63,$J$50:$J$63,$A85,$K$50:$K$63,$K85)/(1+$C$5)","v":0},0,0,0,0,null,"ACS - public lighting",{"$f":"K$70","v":"Luminaires and Ballasts"},{"$f":"L83","v":"RLM"}]
[]
[]
["Check",null,{"$f":"SUM(D88:H88)","v":0},{"$f":"SUM(D68:D85)-SUM(D50:D63)/(1+$C$5)","v":0},{"$f":"SUM(E68:E85)-SUM(E50:E63)/(1+$C$5)","v":0},0,0,0]

{"sheet":"Output|RIN","index":9,"n_rows":23,"n_cols":20,"rows_kept":23,"cut":false,"hidden":false,"merged":[[7,2,7,7],[7,8,7,13],[7,14,7,19],[5,2,5,7]]}
[{"$f":"'DNSP Inputs O & M'!$A$3","v":"Jemena"},null,null,null,"Check",{"$f":"SUM(B17,B23)","v":0}]
[]
["Output for RIN"]
[]
[]
[null,null,"Real 2015 $ "]
["TABLE 2.2.1 - REPLACEMENT EXPENDITURE, VOLUMES AND ASSET FAILURES BY ASSET CATEGORY"]
["ASSET GROUP",null,"EXPENDITURE\n($0's, real December 2015)",null,null,null,null,null,"ASSET REPLACEMENTS (0's)",null,null,null,null,null,"ASSET FAILURES (0's)"]
["PUBLIC LIGHTING BY: \nAsset type ; Lighting obligation",null,"2015","2016","2017","2018","2019","2020","2015","2016","2017","2018","2019","2020","2015","2016","2017","2018","2019","2020"]
["ASSET CATEGORY",null,"$dollars","$dollars","$dollars","$dollars","$dollars","$dollars","number","number","number","number","number","number","number","number","number","number","number","number"]
["Luminaires",null,{"$f":"SUM('Output|Capex Forecast Model'!C50:C55,'Output|Capex Forecast Model'!C60:C63)","v":294021.03074854473},{"$f":"SUM('Output|Capex Forecast Model'!D50:D55,'Output|Capex Forecast Model'!D60:D63)","v":294021.03074854478},{"$f":"SUM('Output|Capex Forecast Model'!E50:E55,'Output|Capex Forecast Model'!E60:E63)","v":294021.03074854473},{"$f":"SUM('Output|Capex Forecast Model'!F50:F55,'Output|Capex Forecast Model'!F60:F63)","v":294021.03074854473},{"$f":"SUM('Output|Capex Forecast Model'!G50:G55,'Output|Capex Forecast Model'!G60:G63)","v":294021.03074854478},{"$f":"SUM('Output|Capex Forecast Model'!H50:H55,'Output|Capex Forecast Model'!H60:H63)","v":294021.03074854478},{"$f":"SUM('Output|Capex Forecast Model'!C10:C15,'Output|Capex Forecast Model'!C20:C23)","v":871},{"$f":"SUM('Output|Capex Forecast Model'!D10:D15,'Output|Capex Forecast Model'!D20:D23)","v":871},{"$f":"SUM('Output|Capex Forecast Model'!E10:E15,'Output|Capex Forecast Model'!E20:E23)","v":871},{"$f":"SUM('Output|Capex Forecast Model'!F10:F15,'Output|Capex Forecast Model'!F20:F23)","v":871},{"$f":"SUM('Output|Capex Forecast Model'!G10:G15,'Output|Capex Forecast Model'!G20:G23)","v":871},{"$f":"SUM('Output|Capex Forecast Model'!H10:H15,'Output|Capex Forecast Model'!H20:H23)","v":871},{"$f":"I11","v":871},{"$f":"J11","v":871},{"$f":"K11","v":871},{"$f":"L11","v":871},{"$f":"M11","v":871},{"$f":"N11","v":871}]
["Brackets",null,{"$f":"SUM('Output|Capex Forecast Model'!C58:C59)","v":4749.9044561965175},{"$f":"SUM('Output|Capex Forecast Model'!D58:D59)","v":4749.9044561965175},{"$f":"SUM('Output|Capex Forecast Model'!E58:E59)","v":4749.9044561965175},{"$f":"SUM('Output|Capex Forecast Model'!F58:F59)","v":4749.9044561965175},{"$f":"SUM('Output|Capex Forecast Model'!G58:G59)","v":4749.9044561965175},{"$f":"SUM('Output|Capex Forecast Model'!H58:H59)","v":4749.9044561965175},{"$f":"SUM('Output|Capex Forecast Model'!C18:C19)","v":35},{"$f":"SUM('Output|Capex Forecast Model'!D18:D19)","v":35},{"$f":"SUM('Output|Capex Forecast Model'!E18:E19)","v":35},{"$f":"SUM('Output|Capex Forecast Model'!F18:F19)","v":35},{"$f":"SUM('Output|Capex Forecast Model'!G18:G19)","v":35},{"$f":"SUM('Output|Capex Forecast Model'!H18:H19)","v":35},{"$f":"I12","v":35},35,35,35,35,35]
["Lamps",null,null,null,null,null,null,null,null,null,null,null,null,null,0,0,0,0,0,0]
["Poles / Columns",null,{"$f":"SUM('Output|Capex Forecast Model'!C56:C57)","v":350612.12936000549},{"$f":"SUM('Output|Capex Forecast Model'!D56:D57)","v":352144.19483050401},{"$f":"SUM('Output|Capex Forecast Model'!E56:E57)","v":352144.19483050401},{"$f":"SUM('Output|Capex Forecast Model'!F56:F57)","v":352144.19483050396},{"$f":"SUM('Output|Capex Forecast Model'!G56:G57)","v":352144.19483050401},{"$f":"SUM('Output|Capex Forecast Model'!H56:H57)","v":352144.19483050407},{"$f":"SUM('Output|Capex Forecast Model'!C16:C17)","v":338},{"$f":"SUM('Output|Capex Forecast Model'!D16:D17)","v":338},{"$f":"SUM('Output|Capex Forecast Model'!E16:E17)","v":338},{"$f":"SUM('Output|Capex Forecast Model'!F16:F17)","v":338},{"$f":"SUM('Output|Capex Forecast Model'!G16:G17)","v":338},{"$f":"SUM('Output|Capex Forecast Model'!H16:H17)","v":338},338,338,338,338,338,338]
["Other",null,null,null,null,null,null,null,null,null,null,null,null,null,0,0,0,0,0,0]
[]
["Check",{"$f":"SUM(C17:N17)","v":0},{"$f":"SUM(C11:C15)-SUM('Output|Capex Forecast Model'!C50:C63)","v":0},{"$f":"SUM(D11:D15)-SUM('Output|Capex Forecast Model'!D50:D63)","v":0},{"$f":"SUM(E11:E15)-SUM('Output|Capex Forecast Model'!E50:E63)","v":0},{"$f":"SUM(F11:F15)-SUM('Output|Capex Forecast Model'!F50:F63)","v":0},{"$f":"SUM(G11:G15)-SUM('Output|Capex Forecast Model'!G50:G63)","v":0},{"$f":"SUM(H11:H15)-SUM('Output|Capex Forecast Model'!H50:H63)","v":0},{"$f":"SUM(I11:I15)-SUM('Output|Capex Forecast Model'!C10:C23)","v":0},{"$f":"SUM(J11:J15)-SUM('Output|Capex Forecast Model'!D10:D23)","v":0},{"$f":"SUM(K11:K15)-SUM('Output|Capex Forecast Model'!E10:E23)","v":0},{"$f":"SUM(L11:L15)-SUM('Output|Capex Forecast Model'!F10:F23)","v":0},{"$f":"SUM(M11:M15)-SUM('Output|Capex Forecast Model'!G10:G23)","v":0},{"$f":"SUM(N11:N15)-SUM('Output|Capex Forecast Model'!H10:H23)","v":0}]
[]
["RIN E",null,"2015","2016","2017","2018","2019","2020"]
[null,null,"$millions","$millions","$millions","$millions","$millions","$millions"]
["Public lighting revenue",null,{"$f":"'Cashflow Summary'!J75/10^6","v":3.8317448663753781},{"$f":"'Cashflow Summary'!K75/10^6","v":4.0511717273564516},{"$f":"'Cashflow Summary'!L75/10^6","v":4.1521647816301286},{"$f":"'Cashflow Summary'!M75/10^6","v":4.2430395649738202},{"$f":"'Cashflow Summary'!N75/10^6","v":4.2487371724917571},{"$f":"'Cashflow Summary'!O75/10^6","v":4.2935650015193696}]
[]
["Check",{"$f":"SUM(C23:H23)","v":0},{"$f":"C21-'Cashflow Summary'!J75/10^6","v":0},{"$f":"D21-'Cashflow Summary'!K75/10^6","v":0},{"$f":"E21-'Cashflow Summary'!L75/10^6","v":0},{"$f":"F21-'Cashflow Summary'!M75/10^6","v":0},{"$f":"G21-'Cashflow Summary'!N75/10^6","v":0},{"$f":"H21-'Cashflow Summary'!O75/10^6","v":0}]

{"sheet":"Cashflow Summary","index":10,"n_rows":192,"n_cols":15,"rows_kept":192,"cut":false,"hidden":false,"merged":[[171,3,171,7],[183,3,183,7],[120,3,120,7],[120,10,120,14],[164,3,164,7],[164,10,164,14],[3,2,3,7],[3,9,3,14],[40,2,40,7],[40,9,40,14],[77,3,77,7],[77,10,77,14]]}
[{"$f":"'DNSP Inputs O & M'!$A$3","v":"Jemena"},null,null,null,"Check",{"$f":"SUM(C163,C169,C192)","v":1.0011717677116394E-8}]
[null,null,{"$f":"'DNSP Inputs General'!J$2","v":2015},{"$f":"'DNSP Inputs General'!K$2","v":2016},{"$f":"'DNSP Inputs General'!L$2","v":2017},{"$f":"'DNSP Inputs General'!M$2","v":2018},{"$f":"'DNSP Inputs General'!N$2","v":2019},{"$f":"'DNSP Inputs General'!O$2","v":2020},null,{"$f":"C2","v":2015},{"$f":"D2","v":2016},2017,2018,2019,2020]
[]
["Public Lighting - Revenue",null,"Revenue - Nominal ",null,null,null,null,null,null,"Revenue - Real 2015 $ "]
["Including Revenue Recovery",null,{"$f":"C$2","v":2015},{"$f":"D$2","v":2016},2017,2018,2019,2020,null,{"$f":"J$2","v":2015},2016,2017,2018,2019,2020]
[{"$f":"'DNSP Inputs General'!A$40","v":"Existing Lights"}]
[{"$f":"'DNSP Inputs General'!A$41","v":"Mercury Vapour 80 watt"},null,{"$f":"#REF!","v":{"$error":"#REF!"}},{"$f":"#REF!","v":{"$error":"#REF!"}},{"$f":"#REF!","v":{"$error":"#REF!"}},{"$f":"#REF!","v":{"$error":"#REF!"}},{"$f":"#REF!","v":{"$error":"#REF!"}},{"$f":"#REF!","v":{"$error":"#REF!"}},null,{"$f":"C7","v":{"$error":"#REF!"}},{"$f":"D7/'Charges Summary'!D$4","v":{"$error":"#REF!"}},{"$f":"E7/'Charges Summary'!E$4","v":{"$error":"#REF!"}},{"$f":"F7/'Charges Summary'!F$4","v":{"$error":"#REF!"}},{"$f":"G7/'Charges Summary'!G$4","v":{"$error":"#REF!"}},{"$f":"H7/'Charges Summary'!H$4","v":{"$error":"#REF!"}}]
[{"$f":"'DNSP Inputs General'!A$42","v":"Sodium High Pressure 150 watt"},null,{"$f":"#REF!","v":{"$error":"#REF!"}},{"$f":"#REF!","v":{"$error":"#REF!"}},{"$f":"#REF!","v":{"$error":"#REF!"}},{"$f":"#REF!","v":{"$error":"#REF!"}},{"$f":"#REF!","v":{"$error":"#REF!"}},{"$f":"#REF!","v":{"$error":"#REF!"}},null,{"$error":"#REF!"},{"$f":"D8/'Charges Summary'!D$4","v":{"$error":"#REF!"}},{"$f":"E8/'Charges Summary'!E$4","v":{"$error":"#REF!"}},{"$f":"F8/'Charges Summary'!F$4","v":{"$error":"#REF!"}},{"$f":"G8/'Charges Summary'!G$4","v":{"$error":"#REF!"}},{"$f":"H8/'Charges Summary'!H$4","v":{"$error":"#REF!"}}]
[{"$f":"'DNSP Inputs General'!A$43","v":"Sodium High Pressure 250 watt"},null,{"$f":"#REF!","v":{"$error":"#REF!"}},{"$f":"#REF!","v":{"$error":"#REF!"}},{"$f":"#REF!","v":{"$error":"#REF!"}},{"$f":"#REF!","v":{"$error":"#REF!"}},{"$f":"#REF!","v":{"$error":"#REF!"}},{"$f":"#REF!","v":{"$error":"#REF!"}},null,{"$error":"#REF!"},{"$f":"D9/'Charges Summary'!D$4","v":{"$error":"#REF!"}},{"$f":"E9/'Charges Summary'!E$4","v":{"$error":"#REF!"}},{"$f":"F9/'Charges Summary'!F$4","v":{"$error":"#REF!"}},{"$f":"G9/'Charges Summary'!G$4","v":{"$error":"#REF!"}},{"$f":"H9/'Charges Summary'!H$4","v":{"$error":"#REF!"}}]
[{"$f":"'DNSP Inputs General'!A$44","v":"55W Ind"},null,{"$f":"#REF!","v":{"$error":"#REF!"}},{"$f":"#REF!","v":{"$error":"#REF!"}},{"$f":"#REF!","v":{"$error":"#REF!"}},{"$f":"#REF!","v":{"$error":"#REF!"}},{"$f":"#REF!","v":{"$error":"#REF!"}},{"$f":"#REF!","v":{"$error":"#REF!"}},null,{"$error":"#REF!"},{"$f":"D10/'Charges Summary'!D$4","v":{"$error":"#REF!"}},{"$f":"E10/'Charges Summary'!E$4","v":{"$error":"#REF!"}},{"$f":"F10/'Charges Summary'!F$4","v":{"$error":"#REF!"}},{"$f":"G10/'Charges Summary'!G$4","v":{"$error":"#REF!"}},{"$f":"H10/'Charges Summary'!H$4","v":{"$error":"#REF!"}}]
[{"$f":"'DNSP Inputs General'!A$45","v":"Fluorescent 20 watt"},null,{"$f":"#REF!","v":{"$error":"#REF!"}},{"$f":"#REF!","v":{"$error":"#REF!"}},{"$f":"#REF!","v":{"$error":"#REF!"}},{"$f":"#REF!","v":{"$error":"#REF!"}},{"$f":"#REF!","v":{"$error":"#REF!"}},{"$f":"#REF!","v":{"$error":"#REF!"}},null,{"$error":"#REF!"},{"$f":"D11/'Charges Summary'!D$4","v":{"$error":"#REF!"}},{"$f":"E11/'Charges Summary'!E$4","v":{"$error":"#REF!"}},{"$f":"F11/'Charges Summary'!F$4","v":{"$error":"#REF!"}},{"$f":"G11/'Charges Summary'!G$4","v":{"$error":"#REF!"}},{"$f":"H11/'Charges Summary'!H$4","v":{"$error":"#REF!"}}]
[{"$f":"'DNSP Inputs General'!A$46","v":"Fluorescent 40 watt"},null,{"$f":"#REF!","v":{"$error":"#REF!"}},{"$f":"#REF!","v":{"$error":"#REF!"}},{"$f":"#REF!","v":{"$error":"#REF!"}},{"$f":"#REF!","v":{"$error":"#REF!"}},{"$f":"#REF!","v":{"$error":"#REF!"}},{"$f":"#REF!","v":{"$error":"#REF!"}},null,{"$error":"#REF!"},{"$f":"D12/'Charges Summary'!D$4","v":{"$error":"#REF!"}},{"$f":"E12/'Charges Summary'!E$4","v":{"$error":"#REF!"}},{"$f":"F12/'Charges Summary'!F$4","v":{"$error":"#REF!"}},{"$f":"G12/'Charges Summary'!G$4","v":{"$error":"#REF!"}},{"$f":"H12/'Charges Summary'!H$4","v":{"$error":"#REF!"}}]
[{"$f":"'DNSP Inputs General'!A$47","v":"Fluorescent 80 watt"},null,{"$f":"#REF!","v":{"$error":"#REF!"}},{"$f":"#REF!","v":{"$error":"#REF!"}},{"$f":"#REF!","v":{"$error":"#REF!"}},{"$f":"#REF!","v":{"$error":"#REF!"}},{"$f":"#REF!","v":{"$error":"#REF!"}},{"$f":"#REF!","v":{"$error":"#REF!"}},null,{"$error":"#REF!"},{"$f":"D13/'Charges Summary'!D$4","v":{"$error":"#REF!"}},{"$f":"E13/'Charges Summary'!E$4","v":{"$error":"#REF!"}},{"$f":"F13/'Charges Summary'!F$4","v":{"$error":"#REF!"}},{"$f":"G13/'Charges Summary'!G$4","v":{"$error":"#REF!"}},{"$f":"H13/'Charges Summary'!H$4","v":{"$error":"#REF!"}}]
[{"$f":"'DNSP Inputs General'!A$48","v":"Mercury Vapour 50 watt"},null,{"$f":"#REF!","v":{"$error":"#REF!"}},{"$f":"#REF!","v":{"$error":"#REF!"}},{"$f":"#REF!","v":{"$error":"#REF!"}},{"$f":"#REF!","v":{"$error":"#REF!"}},{"$f":"#REF!","v":{"$error":"#REF!"}},{"$f":"#REF!","v":{"$error":"#REF!"}},null,{"$error":"#REF!"},{"$f":"D14/'Charges Summary'!D$4","v":{"$error":"#REF!"}},{"$f":"E14/'Charges Summary'!E$4","v":{"$error":"#REF!"}},{"$f":"F14/'Charges Summary'!F$4","v":{"$error":"#REF!"}},{"$f":"G14/'Charges Summary'!G$4","v":{"$error":"#REF!"}},{"$f":"H14/'Charges Summary'!H$4","v":{"$error":"#REF!"}}]
[{"$f":"'DNSP Inputs General'!A$49","v":"Mercury Vapour 125 watt"},null,{"$f":"#REF!","v":{"$error":"#REF!"}},{"$f":"#REF!","v":{"$error":"#REF!"}},{"$f":"#REF!","v":{"$error":"#REF!"}},{"$f":"#REF!","v":{"$error":"#REF!"}},{"$f":"#REF!","v":{"$error":"#REF!"}},{"$f":"#REF!","v":{"$error":"#REF!"}},null,{"$error":"#REF!"},{"$f":"D15/'Charges Summary'!D$4","v":{"$error":"#REF!"}},{"$f":"E15/'Charges Summary'!E$4","v":{"$error":"#REF!"}},{"$f":"F15/'Charges Summary'!F$4","v":{"$error":"#REF!"}},{"$f":"G15/'Charges Summary'!G$4","v":{"$error":"#REF!"}},{"$f":"H15/'Charges Summary'!H$4","v":{"$error":"#REF!"}}]
[{"$f":"'DNSP Inputs General'!A$50","v":"Mercury Vapour 250 watt"},null,{"$f":"#REF!","v":{"$error":"#REF!"}},{"$f":"#REF!","v":{"$error":"#REF!"}},{"$f":"#REF!","v":{"$error":"#REF!"}},{"$f":"#REF!","v":{"$error":"#REF!"}},{"$f":"#REF!","v":{"$error":"#REF!"}},{"$f":"#REF!","v":{"$error":"#REF!"}},null,{"$error":"#REF!"},{"$f":"D16/'Charges Summary'!D$4","v":{"$error":"#REF!"}},{"$f":"E16/'Charges Summary'!E$4","v":{"$error":"#REF!"}},{"$f":"F16/'Charges Summary'!F$4","v":{"$error":"#REF!"}},{"$f":"G16/'Charges Summary'!G$4","v":{"$error":"#REF!"}},{"$f":"H16/'Charges Summary'!H$4","v":{"$error":"#REF!"}}]
[{"$f":"'DNSP Inputs General'!A$51","v":"Mercury Vapour 400 watt"},null,{"$f":"#REF!","v":{"$error":"#REF!"}},{"$f":"#REF!","v":{"$error":"#REF!"}},{"$f":"#REF!","v":{"$error":"#REF!"}},{"$f":"#REF!","v":{"$error":"#REF!"}},{"$f":"#REF!","v":{"$error":"#REF!"}},{"$f":"#REF!","v":{"$error":"#REF!"}},null,{"$error":"#REF!"},{"$f":"D17/'Charges Summary'!D$4","v":{"$error":"#REF!"}},{"$f":"E17/'Charges Summary'!E$4","v":{"$error":"#REF!"}},{"$f":"F17/'Charges Summary'!F$4","v":{"$error":"#REF!"}},{"$f":"G17/'Charges Summary'!G$4","v":{"$error":"#REF!"}},{"$f":"H17/'Charges Summary'!H$4","v":{"$error":"#REF!"}}]
[{"$f":"'DNSP Inputs General'!A$52","v":"Sodium High Pressure 50 watt"},null,{"$f":"#REF!","v":{"$error":"#REF!"}},{"$f":"#REF!","v":{"$error":"#REF!"}},{"$f":"#REF!","v":{"$error":"#REF!"}},{"$f":"#REF!","v":{"$error":"#REF!"}},{"$f":"#REF!","v":{"$error":"#REF!"}},{"$f":"#REF!","v":{"$error":"#REF!"}},null,{"$error":"#REF!"},{"$f":"D18/'Charges Summary'!D$4","v":{"$error":"#REF!"}},{"$f":"E18/'Charges Summary'!E$4","v":{"$error":"#REF!"}},{"$f":"F18/'Charges Summary'!F$4","v":{"$error":"#REF!"}},{"$f":"G18/'Charges Summary'!G$4","v":{"$error":"#REF!"}},{"$f":"H18/'Charges Summary'!H$4","v":{"$error":"#REF!"}}]
[{"$f":"'DNSP Inputs General'!A$53","v":"Sodium Low Pressure 90 watt"},null,{"$f":"#REF!","v":{"$error":"#REF!"}},{"$f":"#REF!","v":{"$error":"#REF!"}},{"$f":"#REF!","v":{"$error":"#REF!"}},{"$f":"#REF!","v":{"$error":"#REF!"}},{"$f":"#REF!","v":{"$error":"#REF!"}},{"$f":"#REF!","v":{"$error":"#REF!"}},null,{"$error":"#REF!"},{"$f":"D19/'Charges Summary'!D$4","v":{"$error":"#REF!"}},{"$f":"E19/'Charges Summary'!E$4","v":{"$error":"#REF!"}},{"$f":"F19/'Charges Summary'!F$4","v":{"$error":"#REF!"}},{"$f":"G19/'Charges Summary'!G$4","v":{"$error":"#REF!"}},{"$f":"H19/'Charges Summary'!H$4","v":{"$error":"#REF!"}}]
[{"$f":"'DNSP Inputs General'!A$54","v":"Sodium High Pressure 100 watt"},null,{"$f":"#REF!","v":{"$error":"#REF!"}},{"$f":"#REF!","v":{"$error":"#REF!"}},{"$f":"#REF!","v":{"$error":"#REF!"}},{"$f":"#REF!","v":{"$error":"#REF!"}},{"$f":"#REF!","v":{"$error":"#REF!"}},{"$f":"#REF!","v":{"$error":"#REF!"}},null,{"$error":"#REF!"},{"$f":"D20/'Charges Summary'!D$4","v":{"$error":"#REF!"}},{"$f":"E20/'Charges Summary'!E$4","v":{"$error":"#REF!"}},{"$f":"F20/'Charges Summary'!F$4","v":{"$error":"#REF!"}},{"$f":"G20/'Charges Summary'!G$4","v":{"$error":"#REF!"}},{"$f":"H20/'Charges Summary'!H$4","v":{"$error":"#REF!"}}]
[{"$f":"'DNSP Inputs General'!A$55","v":"Sodium High Pressure 400 watt"},null,{"$f":"#REF!","v":{"$error":"#REF!"}},{"$f":"#REF!","v":{"$error":"#REF!"}},{"$f":"#REF!","v":{"$error":"#REF!"}},{"$f":"#REF!","v":{"$error":"#REF!"}},{"$f":"#REF!","v":{"$error":"#REF!"}},{"$f":"#REF!","v":{"$error":"#REF!"}},null,{"$error":"#REF!"},{"$f":"D21/'Charges Summary'!D$4","v":{"$error":"#REF!"}},{"$f":"E21/'Charges Summary'!E$4","v":{"$error":"#REF!"}},{"$f":"F21/'Charges Summary'!F$4","v":{"$error":"#REF!"}},{"$f":"G21/'Charges Summary'!G$4","v":{"$error":"#REF!"}},{"$f":"H21/'Charges Summary'!H$4","v":{"$error":"#REF!"}}]
[{"$f":"'DNSP Inputs General'!A$56","v":"Metal Halide 70 watt"},null,{"$f":"#REF!","v":{"$error":"#REF!"}},{"$f":"#REF!","v":{"$error":"#REF!"}},{"$f":"#REF!","v":{"$error":"#REF!"}},{"$f":"#REF!","v":{"$error":"#REF!"}},{"$f":"#REF!","v":{"$error":"#REF!"}},{"$f":"#REF!","v":{"$error":"#REF!"}},null,{"$error":"#REF!"},{"$f":"D22/'Charges Summary'!D$4","v":{"$error":"#REF!"}},{"$f":"E22/'Charges Summary'!E$4","v":{"$error":"#REF!"}},{"$f":"F22/'Charges Summary'!F$4","v":{"$error":"#REF!"}},{"$f":"G22/'Charges Summary'!G$4","v":{"$error":"#REF!"}},{"$f":"H22/'Charges Summary'!H$4","v":{"$error":"#REF!"}}]
[{"$f":"'DNSP Inputs General'!A$57","v":"Metal Halide 150 watt"},null,{"$f":"#REF!","v":{"$error":"#REF!"}},{"$f":"#REF!","v":{"$error":"#REF!"}},{"$f":"#REF!","v":{"$error":"#REF!"}},{"$f":"#REF!","v":{"$error":"#REF!"}},{"$f":"#REF!","v":{"$error":"#REF!"}},{"$f":"#REF!","v":{"$error":"#REF!"}},null,{"$error":"#REF!"},{"$f":"D23/'Charges Summary'!D$4","v":{"$error":"#REF!"}},{"$f":"E23/'Charges Summary'!E$4","v":{"$error":"#REF!"}},{"$f":"F23/'Charges Summary'!F$4","v":{"$error":"#REF!"}},{"$f":"G23/'Charges Summary'!G$4","v":{"$error":"#REF!"}},{"$f":"H23/'Charges Summary'!H$4","v":{"$error":"#REF!"}}]
[{"$f":"'DNSP Inputs General'!A$58","v":"Metal Halide 250 watt"},null,{"$f":"#REF!","v":{"$error":"#REF!"}},{"$f":"#REF!","v":{"$error":"#REF!"}},{"$f":"#REF!","v":{"$error":"#REF!"}},{"$f":"#REF!","v":{"$error":"#REF!"}},{"$f":"#REF!","v":{"$error":"#REF!"}},{"$f":"#REF!","v":{"$error":"#REF!"}},null,{"$error":"#REF!"},{"$f":"D24/'Charges Summary'!D$4","v":{"$error":"#REF!"}},{"$f":"E24/'Charges Summary'!E$4","v":{"$error":"#REF!"}},{"$f":"F24/'Charges Summary'!F$4","v":{"$error":"#REF!"}},{"$f":"G24/'Charges Summary'!G$4","v":{"$error":"#REF!"}},{"$f":"H24/'Charges Summary'!H$4","v":{"$error":"#REF!"}}]
[{"$f":"'DNSP Inputs General'!A$59","v":"Incandescent 100 watt"},null,{"$f":"#REF!","v":{"$error":"#REF!"}},{"$f":"#REF!","v":{"$error":"#REF!"}},{"$f":"#REF!","v":{"$error":"#REF!"}},{"$f":"#REF!","v":{"$error":"#REF!"}},{"$f":"#REF!","v":{"$error":"#REF!"}},{"$f":"#REF!","v":{"$error":"#REF!"}},null,{"$error":"#REF!"},{"$f":"D25/'Charges Summary'!D$4","v":{"$error":"#REF!"}},{"$f":"E25/'Charges Summary'!E$4","v":{"$error":"#REF!"}},{"$f":"F25/'Charges Summary'!F$4","v":{"$error":"#REF!"}},{"$f":"G25/'Charges Summary'!G$4","v":{"$error":"#REF!"}},{"$f":"H25/'Charges Summary'!H$4","v":{"$error":"#REF!"}}]
[{"$f":"'DNSP Inputs General'!A$60","v":"Incandescent 150 watt"},null,{"$f":"#REF!","v":{"$error":"#REF!"}},{"$f":"#REF!","v":{"$error":"#REF!"}},{"$f":"#REF!","v":{"$error":"#REF!"}},{"$f":"#REF!","v":{"$error":"#REF!"}},{"$f":"#REF!","v":{"$error":"#REF!"}},{"$f":"#REF!","v":{"$error":"#REF!"}},null,{"$error":"#REF!"},{"$f":"D26/'Charges Summary'!D$4","v":{"$error":"#REF!"}},{"$f":"E26/'Charges Summary'!E$4","v":{"$error":"#REF!"}},{"$f":"F26/'Charges Summary'!F$4","v":{"$error":"#REF!"}},{"$f":"G26/'Charges Summary'!G$4","v":{"$error":"#REF!"}},{"$f":"H26/'Charges Summary'!H$4","v":{"$error":"#REF!"}}]
[{"$f":"'DNSP Inputs General'!A$61","v":"Sodium High Pressure 250 watt (24 hrs)"},null,{"$f":"#REF!","v":{"$error":"#REF!"}},{"$f":"#REF!","v":{"$error":"#REF!"}},{"$f":"#REF!","v":{"$error":"#REF!"}},{"$f":"#REF!","v":{"$error":"#REF!"}},{"$f":"#REF!","v":{"$error":"#REF!"}},{"$f":"#REF!","v":{"$error":"#REF!"}},null,{"$error":"#REF!"},{"$f":"D27/'Charges Summary'!D$4","v":{"$error":"#REF!"}},{"$f":"E27/'Charges Summary'!E$4","v":{"$error":"#REF!"}},{"$f":"F27/'Charges Summary'!F$4","v":{"$error":"#REF!"}},{"$f":"G27/'Charges Summary'!G$4","v":{"$error":"#REF!"}},{"$f":"H27/'Charges Summary'!H$4","v":{"$error":"#REF!"}}]
[{"$f":"'DNSP Inputs General'!A$62","v":"Metal Halide 100 watt"},null,{"$f":"#REF!","v":{"$error":"#REF!"}},{"$f":"#REF!","v":{"$error":"#REF!"}},{"$f":"#REF!","v":{"$error":"#REF!"}},{"$f":"#REF!","v":{"$error":"#REF!"}},{"$f":"#REF!","v":{"$error":"#REF!"}},{"$f":"#REF!","v":{"$error":"#REF!"}},null,{"$error":"#REF!"},{"$f":"D28/'Charges Summary'!D$4","v":{"$error":"#REF!"}},{"$f":"E28/'Charges Summary'!E$4","v":{"$error":"#REF!"}},{"$f":"F28/'Charges Summary'!F$4","v":{"$error":"#REF!"}},{"$f":"G28/'Charges Summary'!G$4","v":{"$error":"#REF!"}},{"$f":"H28/'Charges Summary'!H$4","v":{"$error":"#REF!"}}]
[]
[]
[{"$f":"'DNSP Inputs General'!A$67","v":"Energy Efficient Lights"}]
[{"$f":"'DNSP Inputs General'!A$68","v":"T5 2X14W"},null,{"$f":"#REF!","v":{"$error":"#REF!"}},{"$f":"#REF!","v":{"$error":"#REF!"}},{"$f":"#REF!","v":{"$error":"#REF!"}},{"$f":"#REF!","v":{"$error":"#REF!"}},{"$f":"#REF!","v":{"$error":"#REF!"}},{"$f":"#REF!","v":{"$error":"#REF!"}},null,{"$f":"C32","v":{"$error":"#REF!"}},{"$f":"D32/'Charges Summary'!D$4","v":{"$error":"#REF!"}},{"$f":"E32/'Charges Summary'!E$4","v":{"$error":"#REF!"}},{"$f":"F32/'Charges Summary'!F$4","v":{"$error":"#REF!"}},{"$f":"G32/'Charges Summary'!G$4","v":{"$error":"#REF!"}},{"$f":"H32/'Charges Summary'!H$4","v":{"$error":"#REF!"}}]
[{"$f":"'DNSP Inputs General'!A$69","v":"T5 (2x24W)"},null,{"$f":"#REF!","v":{"$error":"#REF!"}},{"$f":"#REF!","v":{"$error":"#REF!"}},{"$f":"#REF!","v":{"$error":"#REF!"}},{"$f":"#REF!","v":{"$error":"#REF!"}},{"$f":"#REF!","v":{"$error":"#REF!"}},{"$f":"#REF!","v":{"$error":"#REF!"}},null,{"$f":"C33","v":{"$error":"#REF!"}},{"$f":"D33/'Charges Summary'!D$4","v":{"$error":"#REF!"}},{"$f":"E33/'Charges Summary'!E$4","v":{"$error":"#REF!"}},{"$f":"F33/'Charges Summary'!F$4","v":{"$error":"#REF!"}},{"$f":"G33/'Charges Summary'!G$4","v":{"$error":"#REF!"}},{"$f":"H33/'Charges Summary'!H$4","v":{"$error":"#REF!"}}]
[{"$f":"'DNSP Inputs General'!A$70","v":"LED 18W"},null,{"$f":"#REF!","v":{"$error":"#REF!"}},{"$f":"#REF!","v":{"$error":"#REF!"}},{"$f":"#REF!","v":{"$error":"#REF!"}},{"$f":"#REF!","v":{"$error":"#REF!"}},{"$f":"#REF!","v":{"$error":"#REF!"}},{"$f":"#REF!","v":{"$error":"#REF!"}},null,{"$error":"#REF!"},{"$f":"D34/'Charges Summary'!D$4","v":{"$error":"#REF!"}},{"$f":"E34/'Charges Summary'!E$4","v":{"$error":"#REF!"}},{"$f":"F34/'Charges Summary'!F$4","v":{"$error":"#REF!"}},{"$f":"G34/'Charges Summary'!G$4","v":{"$error":"#REF!"}},{"$f":"H34/'Charges Summary'!H$4","v":{"$error":"#REF!"}}]
[{"$f":"'DNSP Inputs General'!A$71","v":"Compact Fluoro 32W"},null,{"$f":"#REF!","v":{"$error":"#REF!"}},{"$f":"#REF!","v":{"$error":"#REF!"}},{"$f":"#REF!","v":{"$error":"#REF!"}},{"$f":"#REF!","v":{"$error":"#REF!"}},{"$f":"#REF!","v":{"$error":"#REF!"}},{"$f":"#REF!","v":{"$error":"#REF!"}},null,{"$error":"#REF!"},{"$f":"D35/'Charges Summary'!D$4","v":{"$error":"#REF!"}},{"$f":"E35/'Charges Summary'!E$4","v":{"$error":"#REF!"}},{"$f":"F35/'Charges Summary'!F$4","v":{"$error":"#REF!"}},{"$f":"G35/'Charges Summary'!G$4","v":{"$error":"#REF!"}},{"$f":"H35/'Charges Summary'!H$4","v":{"$error":"#REF!"}}]
[{"$f":"'DNSP Inputs General'!A$72","v":"Compact Fluoro 42W"},null,{"$f":"#REF!","v":{"$error":"#REF!"}},{"$f":"#REF!","v":{"$error":"#REF!"}},{"$f":"#REF!","v":{"$error":"#REF!"}},{"$f":"#REF!","v":{"$error":"#REF!"}},{"$f":"#REF!","v":{"$error":"#REF!"}},{"$f":"#REF!","v":{"$error":"#REF!"}},null,{"$error":"#REF!"},{"$f":"D36/'Charges Summary'!D$4","v":{"$error":"#REF!"}},{"$f":"E36/'Charges Summary'!E$4","v":{"$error":"#REF!"}},{"$f":"F36/'Charges Summary'!F$4","v":{"$error":"#REF!"}},{"$f":"G36/'Charges Summary'!G$4","v":{"$error":"#REF!"}},{"$f":"H36/'Charges Summary'!H$4","v":{"$error":"#REF!"}}]
[]
["Total Revenue",null,{"$f":"SUM(C7:C37)","v":{"$error":"#REF!"}},{"$f":"SUM(D7:D37)","v":{"$error":"#REF!"}},{"$error":"#REF!"},{"$error":"#REF!"},{"$error":"#REF!"},{"$error":"#REF!"},null,{"$f":"IF(SUM(J7:J36)=0,\"\",SUM(J7:J36))","v":{"$error":"#REF!"}},{"$f":"SUM(K7:K36)","v":{"$error":"#REF!"}},{"$f":"SUM(L7:L36)","v":{"$error":"#REF!"}},{"$f":"SUM(M7:M36)","v":{"$error":"#REF!"}},{"$f":"SUM(N7:N36)","v":{"$error":"#REF!"}},{"$f":"SUM(O7:O36)","v":{"$error":"#REF!"}}]
[]
[]
["Public Lighting - Revenue",null,"Revenue - Nominal ",null,null,null,null,null,null,"Revenue - Real 2015 $ "]
["Excluding Revenue Recovery",null,{"$f":"C$2","v":2015},{"$f":"D$2","v":2016},2017,2018,2019,2020,null,{"$f":"J$2","v":2015},2016,2017,2018,2019,2020]
[{"$f":"'DNSP Inputs General'!A$40","v":"Existing Lights"}]
[{"$f":"'DNSP Inputs General'!A$41","v":"Mercury Vapour 80 watt"},null,{"$f":"IF('PL Tariffs - Excl. RR'!C6=0,\"\",'DNSP Inputs General'!J41*'PL Tariffs - Excl. RR'!C6)","v":665016.78566399997},{"$f":"'DNSP Inputs General'!K41*'PL Tariffs - Excl. RR'!D6","v":706241.01806508191},{"$f":"'DNSP Inputs General'!L41*'PL Tariffs - Excl. RR'!E6","v":711402.25420034723},{"$f":"'DNSP Inputs General'!M41*'PL Tariffs - Excl. RR'!F6","v":724783.9582728633},{"$f":"'DNSP Inputs General'!N41*'PL Tariffs - Excl. RR'!G6","v":725284.45660144603},{"$f":"'DNSP Inputs General'!O41*'PL Tariffs - Excl. RR'!H6","v":731571.91277859278},null,{"$f":"C44","v":665016.78566399997},{"$f":"D44/'Charges Summary'!D$4","v":690206.9594666186},{"$f":"E44/'Charges Summary'!E$4","v":679466.46964697074},{"$f":"F44/'Charges Summary'!F$4","v":676531.0940626685},{"$f":"G44/'Charges Summary'!G$4","v":661628.12206431618},{"$f":"H44/'Charges Summary'!H$4","v":652212.3314673095}]
[{"$f":"'DNSP Inputs General'!A$42","v":"Sodium High Pressure 150 watt"},null,{"$f":"IF('PL Tariffs - Excl. RR'!C7=0,\"\",'DNSP Inputs General'!J42*'PL Tariffs - Excl. RR'!C7)","v":1418078.6630596858},{"$f":"'DNSP Inputs General'!K42*'PL Tariffs - Excl. RR'!D7","v":1502009.8889654598},{"$f":"'DNSP Inputs General'!L42*'PL Tariffs - Excl. RR'!E7","v":1579498.9639635035},{"$f":"'DNSP Inputs General'!M42*'PL Tariffs - Excl. RR'!F7","v":1653061.2389162723},{"$f":"'DNSP Inputs General'!N42*'PL Tariffs - Excl. RR'!G7","v":1694864.2963149976},{"$f":"'DNSP Inputs General'!O42*'PL Tariffs - Excl. RR'!H7","v":1754813.3373909926},null,1418078.6630596858,{"$f":"D45/'Charges Summary'!D$4","v":1467909.1868551157},{"$f":"E45/'Charges Summary'!E$4","v":1508593.1742817997},{"$f":"F45/'Charges Summary'!F$4","v":1543007.8380619811},{"$f":"G45/'Charges Summary'!G$4","v":1546110.4554470812},{"$f":"H45/'Charges Summary'!H$4","v":1564454.4002827117}]
[{"$f":"'DNSP Inputs General'!A$43","v":"Sodium High Pressure 250 watt"},null,{"$f":"IF('PL Tariffs - Excl. RR'!C8=0,\"\",'DNSP Inputs General'!J43*'PL Tariffs - Excl. RR'!C8)","v":444614.60022321431},{"$f":"'DNSP Inputs General'!K43*'PL Tariffs - Excl. RR'!D8","v":459197.1960470276},{"$f":"'DNSP Inputs General'!L43*'PL Tariffs - Excl. RR'!E8","v":477299.32843294105},{"$f":"'DNSP Inputs General'!M43*'PL Tariffs - Excl. RR'!F8","v":493885.6671075669},{"$f":"'DNSP Inputs General'!N43*'PL Tariffs - Excl. RR'!G8","v":500816.62727824191},{"$f":"'DNSP Inputs General'!O43*'PL Tariffs - Excl. RR'!H8","v":512894.73334134102},null,444614.60022321431,{"$f":"D46/'Charges Summary'!D$4","v":448771.8673542249},{"$f":"E46/'Charges Summary'!E$4","v":455872.73267743626},{"$f":"F46/'Charges Summary'!F$4","v":461004.97520167491},{"$f":"G46/'Charges Summary'!G$4","v":456861.25159410614},{"$f":"H46/'Charges Summary'!H$4","v":457256.85197416809}]
[{"$f":"'DNSP Inputs General'!A$44","v":"55W Ind"},null,{"$f":"IF('PL Tariffs - Excl. RR'!C9=0,\"\",'DNSP Inputs General'!J44*'PL Tariffs - Excl. RR'!C9)","v":0},{"$f":"'DNSP Inputs General'!K44*'PL Tariffs - Excl. RR'!D9","v":0},{"$f":"'DNSP Inputs General'!L44*'PL Tariffs - Excl. RR'!E9","v":0},{"$f":"'DNSP Inputs General'!M44*'PL Tariffs - Excl. RR'!F9","v":0},{"$f":"'DNSP Inputs General'!N44*'PL Tariffs - Excl. RR'!G9","v":0},{"$f":"'DNSP Inputs General'!O44*'PL Tariffs - Excl. RR'!H9","v":0},null,0,{"$f":"D47/'Charges Summary'!D$4","v":0},{"$f":"E47/'Charges Summary'!E$4","v":0},{"$f":"F47/'Charges Summary'!F$4","v":0},{"$f":"G47/'Charges Summary'!G$4","v":0},{"$f":"H47/'Charges Summary'!H$4","v":0}]
[{"$f":"'DNSP Inputs General'!A$45","v":"Fluorescent 20 watt"},null,{"$f":"IF('PL Tariffs - Excl. RR'!C10=0,\"\",'DNSP Inputs General'!J45*'PL Tariffs - Excl. RR'!C10)","v":0},{"$f":"'DNSP Inputs General'!K45*'PL Tariffs - Excl. RR'!D10","v":0},{"$f":"'DNSP Inputs General'!L45*'PL Tariffs - Excl. RR'!E10","v":0},{"$f":"'DNSP Inputs General'!M45*'PL Tariffs - Excl. RR'!F10","v":0},{"$f":"'DNSP Inputs General'!N45*'PL Tariffs - Excl. RR'!G10","v":0},{"$f":"'DNSP Inputs General'!O45*'PL Tariffs - Excl. RR'!H10","v":0},null,0,{"$f":"D48/'Charges Summary'!D$4","v":0},{"$f":"E48/'Charges Summary'!E$4","v":0},{"$f":"F48/'Charges Summary'!F$4","v":0},{"$f":"G48/'Charges Summary'!G$4","v":0},{"$f":"H48/'Charges Summary'!H$4","v":0}]
[{"$f":"'DNSP Inputs General'!A$46","v":"Fluorescent 40 watt"},null,{"$f":"IF('PL Tariffs - Excl. RR'!C11=0,\"\",'DNSP Inputs General'!J46*'PL Tariffs - Excl. RR'!C11)","v":1306.4940740740742},{"$f":"'DNSP Inputs General'!K46*'PL Tariffs - Excl. RR'!D11","v":0},{"$f":"'DNSP Inputs General'!L46*'PL Tariffs - Excl. RR'!E11","v":0},{"$f":"'DNSP Inputs General'!M46*'PL Tariffs - Excl. RR'!F11","v":0},{"$f":"'DNSP Inputs General'!N46*'PL Tariffs - Excl. RR'!G11","v":0},{"$f":"'DNSP Inputs General'!O46*'PL Tariffs - Excl. RR'!H11","v":0},null,1306.4940740740742,{"$f":"D49/'Charges Summary'!D$4","v":0},{"$f":"E49/'Charges Summary'!E$4","v":0},{"$f":"F49/'Charges Summary'!F$4","v":0},{"$f":"G49/'Charges Summary'!G$4","v":0},{"$f":"H49/'Charges Summary'!H$4","v":0}]
[{"$f":"'DNSP Inputs General'!A$47","v":"Fluorescent 80 watt"},null,{"$f":"IF('PL Tariffs - Excl. RR'!C12=0,\"\",'DNSP Inputs General'!J47*'PL Tariffs - Excl. RR'!C12)","v":0},{"$f":"'DNSP Inputs General'!K47*'PL Tariffs - Excl. RR'!D12","v":0},{"$f":"'DNSP Inputs General'!L47*'PL Tariffs - Excl. RR'!E12","v":0},{"$f":"'DNSP Inputs General'!M47*'PL Tariffs - Excl. RR'!F12","v":0},{"$f":"'DNSP Inputs General'!N47*'PL Tariffs - Excl. RR'!G12","v":0},{"$f":"'DNSP Inputs General'!O47*'PL Tariffs - Excl. RR'!H12","v":0},null,0,{"$f":"D50/'Charges Summary'!D$4","v":0},{"$f":"E50/'Charges Summary'!E$4","v":0},{"$f":"F50/'Charges Summary'!F$4","v":0},{"$f":"G50/'Charges Summary'!G$4","v":0},{"$f":"H50/'Charges Summary'!H$4","v":0}]
[{"$f":"'DNSP Inputs General'!A$48","v":"Mercury Vapour 50 watt"},null,{"$f":"IF('PL Tariffs - Excl. RR'!C13=0,\"\",'DNSP Inputs General'!J48*'PL Tariffs - Excl. RR'!C13)","v":1037.51},{"$f":"'DNSP Inputs General'!K48*'PL Tariffs - Excl. RR'!D13","v":0},{"$f":"'DNSP Inputs General'!L48*'PL Tariffs - Excl. RR'!E13","v":0},{"$f":"'DNSP Inputs General'!M48*'PL Tariffs - Excl. RR'!F13","v":0},{"$f":"'DNSP Inputs General'!N48*'PL Tariffs - Excl. RR'!G13","v":0},{"$f":"'DNSP Inputs General'!O48*'PL Tariffs - Excl. RR'!H13","v":0},null,1037.51,{"$f":"D51/'Charges Summary'!D$4","v":0},{"$f":"E51/'Charges Summary'!E$4","v":0},{"$f":"F51/'Charges Summary'!F$4","v":0},{"$f":"G51/'Charges Summary'!G$4","v":0},{"$f":"H51/'Charges Summary'!H$4","v":0}]
[{"$f":"'DNSP Inputs General'!A$49","v":"Mercury Vapour 125 watt"},null,{"$f":"IF('PL Tariffs - Excl. RR'!C14=0,\"\",'DNSP Inputs General'!J49*'PL Tariffs - Excl. RR'!C14)","v":25818.826880000001},{"$f":"'DNSP Inputs General'!K49*'PL Tariffs - Excl. RR'!D14","v":27423.188467420736},{"$f":"'DNSP Inputs General'!L49*'PL Tariffs - Excl. RR'!E14","v":27623.598168417746},{"$f":"'DNSP Inputs General'!M49*'PL Tariffs - Excl. RR'!F14","v":28143.206890382462},{"$f":"'DNSP Inputs General'!N49*'PL Tariffs - Excl. RR'!G14","v":28162.641133992329},{"$f":"'DNSP Inputs General'!O49*'PL Tariffs - Excl. RR'!H14","v":28406.781719594303},null,25818.826880000001,{"$f":"D52/'Charges Summary'!D$4","v":26800.589383544237},{"$f":"E52/'Charges Summary'!E$4","v":26383.538449057913},{"$f":"F52/'Charges Summary'!F$4","v":26269.558439667449},{"$f":"G52/'Charges Summary'!G$4","v":25690.879207816542},{"$f":"H52/'Charges Summary'!H$4","v":25325.266062294471}]
[{"$f":"'DNSP Inputs General'!A$50","v":"Mercury Vapour 250 watt"},null,{"$f":"IF('PL Tariffs - Excl. RR'!C15=0,\"\",'DNSP Inputs General'!J50*'PL Tariffs - Excl. RR'!C15)","v":12545.853979057592},{"$f":"'DNSP Inputs General'!K50*'PL Tariffs - Excl. RR'!D15","v":11034.884927494759},{"$f":"'DNSP Inputs General'!L50*'PL Tariffs - Excl. RR'!E15","v":9768.9614134899603},{"$f":"'DNSP Inputs General'!M50*'PL Tariffs - Excl. RR'!F15","v":8610.2759254619668},{"$f":"'DNSP Inputs General'!N50*'PL Tariffs - Excl. RR'!G15","v":7437.7953267794383},{"$f":"'DNSP Inputs General'!O50*'PL Tariffs - Excl. RR'!H15","v":6489.4535873039786},null,12545.853979057592,{"$f":"D53/'Charges Summary'!D$4","v":10784.355735577383},{"$f":"E53/'Charges Summary'!E$4","v":9330.4198637978734},{"$f":"F53/'Charges Summary'!F$4","v":8037.0423842096488},{"$f":"G53/'Charges Summary'!G$4","v":6784.999333109954},{"$f":"H53/'Charges Summary'!H$4","v":5785.4895468155737}]
[{"$f":"'DNSP Inputs General'!A$51","v":"Mercury Vapour 400 watt"},null,{"$f":"IF('PL Tariffs - Excl. RR'!C16=0,\"\",'DNSP Inputs General'!J51*'PL Tariffs - Excl. RR'!C16)","v":20551.751919642858},{"$f":"'DNSP Inputs General'!K51*'PL Tariffs - Excl. RR'!D16","v":20140.350583142685},{"$f":"'DNSP Inputs General'!L51*'PL Tariffs - Excl. RR'!E16","v":19866.664584800426},{"$f":"'DNSP Inputs General'!M51*'PL Tariffs - Excl. RR'!F16","v":19510.616044202688},{"$f":"'DNSP Inputs General'!N51*'PL Tariffs - Excl. RR'!G16","v":18779.130696472035},{"$f":"'DNSP Inputs General'!O51*'PL Tariffs - Excl. RR'!H16","v":18256.467143370686},null,20551.751919642858,{"$f":"D54/'Charges Summary'!D$4","v":19683.096539291688},{"$f":"E54/'Charges Summary'!E$4","v":18974.823834748902},{"$f":"F54/'Charges Summary'!F$4","v":18211.686762045851},{"$f":"G54/'Charges Summary'!G$4","v":17130.935129821413},{"$f":"H54/'Charges Summary'!H$4","v":16276.039022205818}]
[{"$f":"'DNSP Inputs General'!A$52","v":"Sodium High Pressure 50 watt"},null,{"$f":"IF('PL Tariffs - Excl. RR'!C17=0,\"\",'DNSP Inputs General'!J52*'PL Tariffs - Excl. RR'!C17)","v":0},{"$f":"'DNSP Inputs General'!K52*'PL Tariffs - Excl. RR'!D17","v":0},{"$f":"'DNSP Inputs General'!L52*'PL Tariffs - Excl. RR'!E17","v":0},{"$f":"'DNSP Inputs General'!M52*'PL Tariffs - Excl. RR'!F17","v":0},{"$f":"'DNSP Inputs General'!N52*'PL Tariffs - Excl. RR'!G17","v":0},{"$f":"'DNSP Inputs General'!O52*'PL Tariffs - Excl. RR'!H17","v":0},null,0,{"$f":"D55/'Charges Summary'!D$4","v":0},{"$f":"E55/'Charges Summary'!E$4","v":0},{"$f":"F55/'Charges Summary'!F$4","v":0},{"$f":"G55/'Charges Summary'!G$4","v":0},{"$f":"H55/'Charges Summary'!H$4","v":0}]
[{"$f":"'DNSP Inputs General'!A$53","v":"Sodium Low Pressure 90 watt"},null,{"$f":"IF('PL Tariffs - Excl. RR'!C18=0,\"\",'DNSP Inputs General'!J53*'PL Tariffs - Excl. RR'!C18)","v":0},{"$f":"'DNSP Inputs General'!K53*'PL Tariffs - Excl. RR'!D18","v":0},{"$f":"'DNSP Inputs General'!L53*'PL Tariffs - Excl. RR'!E18","v":0},{"$f":"'DNSP Inputs General'!M53*'PL Tariffs - Excl. RR'!F18","v":0},{"$f":"'DNSP Inputs General'!N53*'PL Tariffs - Excl. RR'!G18","v":0},{"$f":"'DNSP Inputs General'!O53*'PL Tariffs - Excl. RR'!H18","v":0},null,0,{"$f":"D56/'Charges Summary'!D$4","v":0},{"$f":"E56/'Charges Summary'!E$4","v":0},{"$f":"F56/'Charges Summary'!F$4","v":0},{"$f":"G56/'Charges Summary'!G$4","v":0},{"$f":"H56/'Charges Summary'!H$4","v":0}]
[{"$f":"'DNSP Inputs General'!A$54","v":"Sodium High Pressure 100 watt"},null,{"$f":"IF('PL Tariffs - Excl. RR'!C19=0,\"\",'DNSP Inputs General'!J54*'PL Tariffs - Excl. RR'!C19)","v":146100.04147199998},{"$f":"'DNSP Inputs General'!K54*'PL Tariffs - Excl. RR'!D19","v":150422.65211819366},{"$f":"'DNSP Inputs General'!L54*'PL Tariffs - Excl. RR'!E19","v":153820.59531713615},{"$f":"'DNSP Inputs General'!M54*'PL Tariffs - Excl. RR'!F19","v":156597.60286261284},{"$f":"'DNSP Inputs General'!N54*'PL Tariffs - Excl. RR'!G19","v":156229.78161860153},{"$f":"'DNSP Inputs General'!O54*'PL Tariffs - Excl. RR'!H19","v":157438.81107148211},null,146100.04147199998,{"$f":"D57/'Charges Summary'!D$4","v":147007.54940268258},{"$f":"E57/'Charges Summary'!E$4","v":146915.3861152874},{"$f":"F57/'Charges Summary'!F$4","v":146172.03703665547},{"$f":"G57/'Charges Summary'!G$4","v":142517.89912496999},{"$f":"H57/'Charges Summary'!H$4","v":140360.13717690299}]
[{"$f":"'DNSP Inputs General'!A$55","v":"Sodium High Pressure 400 watt"},null,{"$f":"IF('PL Tariffs - Excl. RR'!C20=0,\"\",'DNSP Inputs General'!J55*'PL Tariffs - Excl. RR'!C20)","v":35988.479999999996},{"$f":"'DNSP Inputs General'!K55*'PL Tariffs - Excl. RR'!D20","v":37088.957442892548},{"$f":"'DNSP Inputs General'!L55*'PL Tariffs - Excl. RR'!E20","v":38474.321878222821},{"$f":"'DNSP Inputs General'!M55*'PL Tariffs - Excl. RR'!F20","v":39736.115721558861},{"$f":"'DNSP Inputs General'!N55*'PL Tariffs - Excl. RR'!G20","v":40221.506099224556},{"$f":"'DNSP Inputs General'!O55*'PL Tariffs - Excl. RR'!H20","v":41121.410132911056},null,35988.479999999996,{"$f":"D58/'Charges Summary'!D$4","v":36246.912727584822},{"$f":"E58/'Charges Summary'!E$4","v":36747.15887433086},{"$f":"F58/'Charges Summary'!F$4","v":37090.663412263792},{"$f":"G58/'Charges Summary'!G$4","v":36691.368889560901},{"$f":"H58/'Charges Summary'!H$4","v":36660.634870664166}]
[{"$f":"'DNSP Inputs General'!A$56","v":"Metal Halide 70 watt"},null,{"$f":"IF('PL Tariffs - Excl. RR'!C21=0,\"\",'DNSP Inputs General'!J56*'PL Tariffs - Excl. RR'!C21)","v":1505.76},{"$f":"'DNSP Inputs General'!K56*'PL Tariffs - Excl. RR'!D21","v":1622.6345871733836},{"$f":"'DNSP Inputs General'!L56*'PL Tariffs - Excl. RR'!E21","v":1658.3734397872481},{"$f":"'DNSP Inputs General'!M56*'PL Tariffs - Excl. RR'!F21","v":1714.2532213079332},{"$f":"'DNSP Inputs General'!N56*'PL Tariffs - Excl. RR'!G21","v":1740.5001988146587},{"$f":"'DNSP Inputs General'!O56*'PL Tariffs - Excl. RR'!H21","v":1781.238343731553},null,1505.76,{"$f":"D59/'Charges Summary'!D$4","v":1585.7952966349887},{"$f":"E59/'Charges Summary'!E$4","v":1583.9268709587323},{"$f":"F59/'Charges Summary'!F$4","v":1600.1259328028534},{"$f":"G59/'Charges Summary'!G$4","v":1587.7410132161594},{"$f":"H59/'Charges Summary'!H$4","v":1588.0128703297039}]
[{"$f":"'DNSP Inputs General'!A$57","v":"Metal Halide 150 watt"},null,{"$f":"IF('PL Tariffs - Excl. RR'!C22=0,\"\",'DNSP Inputs General'!J57*'PL Tariffs - Excl. RR'!C22)","v":6706.26},{"$f":"'DNSP Inputs General'!K57*'PL Tariffs - Excl. RR'!D22","v":7005.525568608562},{"$f":"'DNSP Inputs General'!L57*'PL Tariffs - Excl. RR'!E22","v":7268.4410753069551},{"$f":"'DNSP Inputs General'!M57*'PL Tariffs - Excl. RR'!F22","v":7507.7741753747496},{"$f":"'DNSP Inputs General'!N57*'PL Tariffs - Excl. RR'!G22","v":7599.5735445747523},{"$f":"'DNSP Inputs General'!O57*'PL Tariffs - Excl. RR'!H22","v":7770.2770367397598},null,6706.26,{"$f":"D60/'Charges Summary'!D$4","v":6846.4764556189921},{"$f":"E60/'Charges Summary'!E$4","v":6942.1511783472752},{"$f":"F60/'Charges Summary'!F$4","v":7007.9402542868065},{"$f":"G60/'Charges Summary'!G$4","v":6932.578696567406},{"$f":"H60/'Charges Summary'!H$4","v":6927.3716141323557}]
[{"$f":"'DNSP Inputs General'!A$58","v":"Metal Halide 250 watt"},null,{"$f":"IF('PL Tariffs - Excl. RR'!C23=0,\"\",'DNSP Inputs General'!J58*'PL Tariffs - Excl. RR'!C23)","v":14544},{"$f":"'DNSP Inputs General'!K58*'PL Tariffs - Excl. RR'!D23","v":14988.958365078754},{"$f":"'DNSP Inputs General'!L58*'PL Tariffs - Excl. RR'!E23","v":15548.833089883283},{"$f":"'DNSP Inputs General'!M58*'PL Tariffs - Excl. RR'!F23","v":16058.768571682624},{"$f":"'DNSP Inputs General'!N58*'PL Tariffs - Excl. RR'!G23","v":16254.931976190373},{"$f":"'DNSP Inputs General'!O58*'PL Tariffs - Excl. RR'!H23","v":16618.614997323075},null,14544,{"$f":"D61/'Charges Summary'!D$4","v":14648.65833915552},{"$f":"E61/'Charges Summary'!E$4","v":14850.825484926945},{"$f":"F61/'Charges Summary'!F$4","v":14989.647807587811},{"$f":"G61/'Charges Summary'!G$4","v":14828.278780555627},{"$f":"H61/'Charges Summary'!H$4","v":14815.858077430066}]
[{"$f":"'DNSP Inputs General'!A$59","v":"Incandescent 100 watt"},null,{"$f":"IF('PL Tariffs - Excl. RR'!C24=0,\"\",'DNSP Inputs General'!J59*'PL Tariffs - Excl. RR'!C24)","v":0},{"$f":"'DNSP Inputs General'!K59*'PL Tariffs - Excl. RR'!D24","v":0},{"$f":"'DNSP Inputs General'!L59*'PL Tariffs - Excl. RR'!E24","v":0},{"$f":"'DNSP Inputs General'!M59*'PL Tariffs - Excl. RR'!F24","v":0},{"$f":"'DNSP Inputs General'!N59*'PL Tariffs - Excl. RR'!G24","v":0},{"$f":"'DNSP Inputs General'!O59*'PL Tariffs - Excl. RR'!H24","v":0},null,0,{"$f":"D62/'Charges Summary'!D$4","v":0},{"$f":"E62/'Charges Summary'!E$4","v":0},{"$f":"F62/'Charges Summary'!F$4","v":0},{"$f":"G62/'Charges Summary'!G$4","v":0},{"$f":"H62/'Charges Summary'!H$4","v":0}]
[{"$f":"'DNSP Inputs General'!A$60","v":"Incandescent 150 watt"},null,{"$f":"IF('PL Tariffs - Excl. RR'!C25=0,\"\",'DNSP Inputs General'!J60*'PL Tariffs - Excl. RR'!C25)","v":0},{"$f":"'DNSP Inputs General'!K60*'PL Tariffs - Excl. RR'!D25","v":0},{"$f":"'DNSP Inputs General'!L60*'PL Tariffs - Excl. RR'!E25","v":0},{"$f":"'DNSP Inputs General'!M60*'PL Tariffs - Excl. RR'!F25","v":0},{"$f":"'DNSP Inputs General'!N60*'PL Tariffs - Excl. RR'!G25","v":0},{"$f":"'DNSP Inputs General'!O60*'PL Tariffs - Excl. RR'!H25","v":0},null,0,{"$f":"D63/'Charges Summary'!D$4","v":0},{"$f":"E63/'Charges Summary'!E$4","v":0},{"$f":"F63/'Charges Summary'!F$4","v":0},{"$f":"G63/'Charges Summary'!G$4","v":0},{"$f":"H63/'Charges Summary'!H$4","v":0}]
[{"$f":"'DNSP Inputs General'!A$61","v":"Sodium High Pressure 250 watt (24 hrs)"},null,{"$f":"IF('PL Tariffs - Excl. RR'!C26=0,\"\",'DNSP Inputs General'!J61*'PL Tariffs - Excl. RR'!C26)","v":0},{"$f":"'DNSP Inputs General'!K61*'PL Tariffs - Excl. RR'!D26","v":0},{"$f":"'DNSP Inputs General'!L61*'PL Tariffs - Excl. RR'!E26","v":0},{"$f":"'DNSP Inputs General'!M61*'PL Tariffs - Excl. RR'!F26","v":0},{"$f":"'DNSP Inputs General'!N61*'PL Tariffs - Excl. RR'!G26","v":0},{"$f":"'DNSP Inputs General'!O61*'PL Tariffs - Excl. RR'!H26","v":0},null,0,{"$f":"D64/'Charges Summary'!D$4","v":0},{"$f":"E64/'Charges Summary'!E$4","v":0},{"$f":"F64/'Charges Summary'!F$4","v":0},{"$f":"G64/'Charges Summary'!G$4","v":0},{"$f":"H64/'Charges Summary'!H$4","v":0}]
[{"$f":"'DNSP Inputs General'!A$62","v":"Metal Halide 100 watt"},null,{"$f":"IF('PL Tariffs - Excl. RR'!C27=0,\"\",'DNSP Inputs General'!J62*'PL Tariffs - Excl. RR'!C27)","v":0},{"$f":"'DNSP Inputs General'!K62*'PL Tariffs - Excl. RR'!D27","v":0},{"$f":"'DNSP Inputs General'!L62*'PL Tariffs - Excl. RR'!E27","v":0},{"$f":"'DNSP Inputs General'!M62*'PL Tariffs - Excl. RR'!F27","v":0},{"$f":"'DNSP Inputs General'!N62*'PL Tariffs - Excl. RR'!G27","v":0},{"$f":"'DNSP Inputs General'!O62*'PL Tariffs - Excl. RR'!H27","v":0},null,0,{"$f":"D65/'Charges Summary'!D$4","v":0},{"$f":"E65/'Charges Summary'!E$4","v":0},{"$f":"F65/'Charges Summary'!F$4","v":0},{"$f":"G65/'Charges Summary'!G$4","v":0},{"$f":"H65/'Charges Summary'!H$4","v":0}]
[]
[]
[{"$f":"'DNSP Inputs General'!A$67","v":"Energy Efficient Lights"}]
[{"$f":"'DNSP Inputs General'!A$68","v":"T5 2X14W"},null,{"$f":"IF('PL Tariffs - Excl. RR'!C31=0,\"\",'DNSP Inputs General'!J68*'PL Tariffs - Excl. RR'!C31)","v":1037929.8391037037},{"$f":"'DNSP Inputs General'!K68*'PL Tariffs - Excl. RR'!D31","v":1183957.2265519169},{"$f":"'DNSP Inputs General'!L68*'PL Tariffs - Excl. RR'!E31","v":1274271.7193400073},{"$f":"'DNSP Inputs General'!M68*'PL Tariffs - Excl. RR'!F31","v":1357960.3297171225},{"$f":"'DNSP Inputs General'!N68*'PL Tariffs - Excl. RR'!G31","v":1415195.7192877473},{"$f":"'DNSP Inputs General'!O68*'PL Tariffs - Excl. RR'!H31","v":1486389.1180822514},null,{"$f":"C69","v":1037929.8391037037},{"$f":"D69/'Charges Summary'!D$4","v":1157077.3950736804},{"$f":"E69/'Charges Summary'!E$4","v":1217067.9828448985},{"$f":"F69/'Charges Summary'!F$4","v":1267553.4234318112},{"$f":"G69/'Charges Summary'!G$4","v":1290987.6636448307},{"$f":"H69/'Charges Summary'!H$4","v":1325148.3486975539}]
[{"$f":"'DNSP Inputs General'!A$69","v":"T5 (2x24W)"},null,{"$f":"IF('PL Tariffs - Excl. RR'!C32=0,\"\",'DNSP Inputs General'!J69*'PL Tariffs - Excl. RR'!C32)","v":""},{"$f":"'DNSP Inputs General'!K69*'PL Tariffs - Excl. RR'!D32","v":12655.479349916614},{"$f":"'DNSP Inputs General'!L69*'PL Tariffs - Excl. RR'!E32","v":13437.587587969218},{"$f":"'DNSP Inputs General'!M69*'PL Tariffs - Excl. RR'!F32","v":14129.983652855773},{"$f":"'DNSP Inputs General'!N69*'PL Tariffs - Excl. RR'!G32","v":14532.587872300586},{"$f":"'DNSP Inputs General'!O69*'PL Tariffs - Excl. RR'!H32","v":15066.258416669036},null,{"$f":"C70","v":""},{"$f":"D70/'Charges Summary'!D$4","v":12368.157186097596},{"$f":"E70/'Charges Summary'!E$4","v":12834.356575426409},{"$f":"F70/'Charges Summary'!F$4","v":13189.272735193828},{"$f":"G70/'Charges Summary'!G$4","v":13257.100348930493},{"$f":"H70/'Charges Summary'!H$4","v":13431.89829568895}]
[{"$f":"'DNSP Inputs General'!A$70","v":"LED 18W"},null,{"$f":"IF('PL Tariffs - Excl. RR'!C33=0,\"\",'DNSP Inputs General'!J70*'PL Tariffs - Excl. RR'!C33)","v":""},{"$f":"'DNSP Inputs General'!K70*'PL Tariffs - Excl. RR'!D33","v":9030.7680407295993},{"$f":"'DNSP Inputs General'!L70*'PL Tariffs - Excl. RR'!E33","v":14764.857101968548},{"$f":"'DNSP Inputs General'!M70*'PL Tariffs - Excl. RR'!F33","v":21217.934367512564},{"$f":"'DNSP Inputs General'!N70*'PL Tariffs - Excl. RR'!G33","v":27565.084139312807},{"$f":"'DNSP Inputs General'!O70*'PL Tariffs - Excl. RR'!H33","v":34442.437085315643},null,"",{"$f":"D71/'Charges Summary'!D$4","v":8825.7390771742084},{"$f":"E71/'Charges Summary'!E$4","v":14102.043212097085},{"$f":"F71/'Charges Summary'!F$4","v":19805.33949124605},{"$f":"G71/'Charges Summary'!G$4","v":25145.768239812624},{"$f":"H71/'Charges Summary'!H$4","v":30706.184587527227}]
[{"$f":"'DNSP Inputs General'!A$71","v":"Compact Fluoro 32W"},null,{"$f":"IF('PL Tariffs - Excl. RR'!C34=0,\"\",'DNSP Inputs General'!J71*'PL Tariffs - Excl. RR'!C34)","v":""},{"$f":"'DNSP Inputs General'!K71*'PL Tariffs - Excl. RR'!D34","v":232.84602079022687},{"$f":"'DNSP Inputs General'!L71*'PL Tariffs - Excl. RR'!E34","v":247.23589777730473},{"$f":"'DNSP Inputs General'!M71*'PL Tariffs - Excl. RR'!F34","v":259.97517568705126},{"$f":"'DNSP Inputs General'!N71*'PL Tariffs - Excl. RR'!G34","v":267.38262252166663},{"$f":"'DNSP Inputs General'!O71*'PL Tariffs - Excl. RR'!H34","v":277.20153646663442},null,"",{"$f":"D72/'Charges Summary'!D$4","v":227.55962896892169},{"$f":"E72/'Charges Summary'!E$4","v":236.1371525615593},{"$f":"F72/'Charges Summary'!F$4","v":242.66719486426641},{"$f":"G72/'Charges Summary'!G$4","v":243.91514363978101},{"$f":"H72/'Charges Summary'!H$4","v":247.13122145237509}]
[{"$f":"'DNSP Inputs General'!A$72","v":"Compact Fluoro 42W"},null,{"$f":"IF('PL Tariffs - Excl. RR'!C35=0,\"\",'DNSP Inputs General'!J72*'PL Tariffs - Excl. RR'!C35)","v":""},{"$f":"'DNSP Inputs General'!K72*'PL Tariffs - Excl. RR'!D35","v":2232.1051675443564},{"$f":"'DNSP Inputs General'!L72*'PL Tariffs - Excl. RR'!E35","v":2370.0491988581707},{"$f":"'DNSP Inputs General'!M72*'PL Tariffs - Excl. RR'!F35","v":2492.1702810936563},{"$f":"'DNSP Inputs General'!N72*'PL Tariffs - Excl. RR'!G35","v":2563.1794411460451},{"$f":"'DNSP Inputs General'!O72*'PL Tariffs - Excl. RR'!H35","v":2657.3053724454298},null,{"$f":"C73","v":""},{"$f":"D73/'Charges Summary'!D$4","v":2181.4288344811857},{"$f":"E73/'Charges Summary'!E$4","v":2263.654567482261},{"$f":"F73/'Charges Summary'!F$4","v":2326.2527648604637},{"$f":"G73/'Charges Summary'!G$4","v":2338.2158334205506},{"$f":"H73/'Charges Summary'!H$4","v":2369.045752181255}]
[]
["Total Revenue",null,{"$f":"IF(SUM(C44:C73)=0,\"\",SUM(C44:C73))","v":3831744.8663753783},{"$f":"SUM(D44:D73)","v":4145283.6802684721},{"$f":"SUM(E44:E73)","v":4347321.7846904183},{"$f":"SUM(F44:F73)","v":4545669.8709035581},{"$f":"SUM(G44:G73)","v":4657515.1941523626},{"$f":"SUM(H44:H73)","v":4815995.3580365311},null,{"$f":"IF(SUM(J44:J73)=0,\"\",SUM(J44:J73))","v":3831744.8663753783},{"$f":"SUM(K44:K73)","v":4051171.7273564516},{"$f":"SUM(L44:L73)","v":4152164.7816301286},{"$f":"SUM(M44:M73)","v":4243039.56497382},{"$f":"SUM(N44:N73)","v":4248737.1724917572},{"$f":"SUM(O44:O73)","v":4293565.0015193699}]
[]
[]
["Public Lighting - O & M",null,null,"Forecast O & M - Nominal ",null,null,null,null,null,null,"Forecast O & M - Real 2015 $ "]
["Excluding Revenue Recovery",null,null,{"$f":"D$2","v":2016},2017,2018,2019,2020,null,null,{"$f":"K$2","v":2016},2017,2018,2019,2020]
[]
["Unit cost"]
[{"$f":"'DNSP Inputs General'!A$41","v":"Mercury Vapour 80 watt"},null,null,{"$f":"SUM('Charges Summary'!D25,'Charges Summary'!D8)","v":34.661234702104494},{"$f":"SUM('Charges Summary'!E25,'Charges Summary'!E8)","v":35.128886985626494},{"$f":"SUM('Charges Summary'!F25,'Charges Summary'!F8)","v":36.225539307785333},{"$f":"SUM('Charges Summary'!G25,'Charges Summary'!G8)","v":36.392953657095816},{"$f":"SUM('Charges Summary'!H25,'Charges Summary'!H8)","v":37.081830599373951}]
[{"$f":"'DNSP Inputs General'!A$42","v":"Sodium High Pressure 150 watt"},null,null,{"$f":"SUM('Charges Summary'!D49,'Charges Summary'!D8)","v":75.435627015673546},{"$f":"SUM('Charges Summary'!E49,'Charges Summary'!E8)","v":78.298516624089046},{"$f":"SUM('Charges Summary'!F49,'Charges Summary'!F8)","v":80.812395517441871},{"$f":"SUM('Charges Summary'!G49,'Charges Summary'!G8)","v":81.346442720341415},{"$f":"SUM('Charges Summary'!H49,'Charges Summary'!H8)","v":83.01344678382705}]
[{"$f":"'DNSP Inputs General'!A$43","v":"Sodium High Pressure 250 watt"},null,null,{"$f":"SUM('Charges Summary'!D65,'Charges Summary'!D8)","v":75.706332273550174},{"$f":"SUM('Charges Summary'!E65,'Charges Summary'!E8)","v":78.58272186171159},{"$f":"SUM('Charges Summary'!F65,'Charges Summary'!F8)","v":81.108132733876261},{"$f":"SUM('Charges Summary'!G65,'Charges Summary'!G8)","v":81.641592544569988},{"$f":"SUM('Charges Summary'!H65,'Charges Summary'!H8)","v":83.314940403401863}]
[]
[{"$f":"'DNSP Inputs General'!A$40","v":"Existing Lights"}]
[{"$f":"'DNSP Inputs General'!A$41","v":"Mercury Vapour 80 watt"},null,null,{"$f":"D82*'DNSP Inputs General'!K41","v":465254.52646203525},{"$f":"E82*'DNSP Inputs General'!L41","v":464741.72190038004},{"$f":"F82*'DNSP Inputs General'!M41","v":472348.81197483191},{"$f":"G82*'DNSP Inputs General'!N41","v":467698.48903905426},{"$f":"H82*'DNSP Inputs General'!O41","v":469689.14451794914},null,null,{"$f":"D87/'Charges Summary'!D$4","v":454691.675891658},{"$f":"E87/'Charges Summary'!E$4","v":443878.85364835459},{"$f":"F87/'Charges Summary'!F$4","v":440901.94725892204},{"$f":"G87/'Charges Summary'!G$4","v":426649.80640178063},{"$f":"H87/'Charges Summary'!H$4","v":418738.1263004411}]
[{"$f":"'DNSP Inputs General'!A$42","v":"Sodium High Pressure 150 watt"},null,null,{"$f":"D83*'DNSP Inputs General'!K42","v":1184883.0541045195},{"$f":"E83*'DNSP Inputs General'!L42","v":1246517.9020722802},{"$f":"F83*'DNSP Inputs General'!M42","v":1303534.8201976076},{"$f":"G83*'DNSP Inputs General'!N42","v":1329080.2029933524},{"$f":"H83*'DNSP Inputs General'!O42","v":1373440.2929531417},null,null,{"$f":"D88/'Charges Summary'!D$4","v":1157982.2032110258},{"$f":"E88/'Charges Summary'!E$4","v":1190560.0710034792},{"$f":"F88/'Charges Summary'!F$4","v":1216751.3201569295},{"$f":"G88/'Charges Summary'!G$4","v":1212430.2827332902},{"$f":"H88/'Charges Summary'!H$4","v":1224452.005266112}]
[{"$f":"'DNSP Inputs General'!A$43","v":"Sodium High Pressure 250 watt"},null,null,{"$f":"D84*'DNSP Inputs General'!K43","v":359030.16372405807},{"$f":"E84*'DNSP Inputs General'!L43","v":373414.38601027813},{"$f":"F84*'DNSP Inputs General'!M43","v":386144.22402035852},{"$f":"G84*'DNSP Inputs General'!N43","v":389382.1213496718},{"$f":"H84*'DNSP Inputs General'!O43","v":398040.49460065435},null,null,{"$f":"D89/'Charges Summary'!D$4","v":350878.96528540138},{"$f":"E89/'Charges Summary'!E$4","v":356651.32220165944},{"$f":"F89/'Charges Summary'!F$4","v":360436.47401495528},{"$f":"G89/'Charges Summary'!G$4","v":355207.06306211691},{"$f":"H89/'Charges Summary'!H$4","v":354861.79071019468}]
[{"$f":"'DNSP Inputs General'!A$44","v":"55W Ind"},null,null,{"$f":"IF('DNSP Inputs General'!$B44='DNSP Inputs General'!$A$41,D$82,IF('DNSP Inputs General'!$B44='DNSP Inputs General'!$A$42,D$83,D$84))*'DNSP Inputs General'!$D44*'DNSP Inputs General'!K44","v":0},{"$f":"IF('DNSP Inputs General'!$B44='DNSP Inputs General'!$A$41,E$82,IF('DNSP Inputs General'!$B44='DNSP Inputs General'!$A$42,E$83,E$84))*'DNSP Inputs General'!$D44*'DNSP Inputs General'!L44","v":0},{"$f":"IF('DNSP Inputs General'!$B44='DNSP Inputs General'!$A$41,F$82,IF('DNSP Inputs General'!$B44='DNSP Inputs General'!$A$42,F$83,F$84))*'DNSP Inputs General'!$D44*'DNSP Inputs General'!M44","v":0},{"$f":"IF('DNSP Inputs General'!$B44='DNSP Inputs General'!$A$41,G$82,IF('DNSP Inputs General'!$B44='DNSP Inputs General'!$A$42,G$83,G$84))*'DNSP Inputs General'!$D44*'DNSP Inputs General'!N44","v":0},{"$f":"IF('DNSP Inputs General'!$B44='DNSP Inputs General'!$A$41,H$82,IF('DNSP Inputs General'!$B44='DNSP Inputs General'!$A$42,H$83,H$84))*'DNSP Inputs General'!$D44*'DNSP Inputs General'!O44","v":0},null,null,{"$f":"D90/'Charges Summary'!D$4","v":0},{"$f":"E90/'Charges Summary'!E$4","v":0},{"$f":"F90/'Charges Summary'!F$4","v":0},{"$f":"G90/'Charges Summary'!G$4","v":0},{"$f":"H90/'Charges Summary'!H$4","v":0}]
[{"$f":"'DNSP Inputs General'!A$45","v":"Fluorescent 20 watt"},null,null,{"$f":"IF('DNSP Inputs General'!$B45='DNSP Inputs General'!$A$41,D$82,IF('DNSP Inputs General'!$B45='DNSP Inputs General'!$A$42,D$83,D$84))*'DNSP Inputs General'!$D45*'DNSP Inputs General'!K45","v":0},{"$f":"IF('DNSP Inputs General'!$B45='DNSP Inputs General'!$A$41,E$82,IF('DNSP Inputs General'!$B45='DNSP Inputs General'!$A$42,E$83,E$84))*'DNSP Inputs General'!$D45*'DNSP Inputs General'!L45","v":0},{"$f":"IF('DNSP Inputs General'!$B45='DNSP Inputs General'!$A$41,F$82,IF('DNSP Inputs General'!$B45='DNSP Inputs General'!$A$42,F$83,F$84))*'DNSP Inputs General'!$D45*'DNSP Inputs General'!M45","v":0},{"$f":"IF('DNSP Inputs General'!$B45='DNSP Inputs General'!$A$41,G$82,IF('DNSP Inputs General'!$B45='DNSP Inputs General'!$A$42,G$83,G$84))*'DNSP Inputs General'!$D45*'DNSP Inputs General'!N45","v":0},{"$f":"IF('DNSP Inputs General'!$B45='DNSP Inputs General'!$A$41,H$82,IF('DNSP Inputs General'!$B45='DNSP Inputs General'!$A$42,H$83,H$84))*'DNSP Inputs General'!$D45*'DNSP Inputs General'!O45","v":0},null,null,{"$f":"D91/'Charges Summary'!D$4","v":0},{"$f":"E91/'Charges Summary'!E$4","v":0},{"$f":"F91/'Charges Summary'!F$4","v":0},{"$f":"G91/'Charges Summary'!G$4","v":0},{"$f":"H91/'Charges Summary'!H$4","v":0}]
[{"$f":"'DNSP Inputs General'!A$46","v":"Fluorescent 40 watt"},null,null,{"$f":"IF('DNSP Inputs General'!$B46='DNSP Inputs General'!$A$41,D$82,IF('DNSP Inputs General'!$B46='DNSP Inputs General'!$A$42,D$83,D$84))*'DNSP Inputs General'!$D46*'DNSP Inputs General'!K46","v":0},{"$f":"IF('DNSP Inputs General'!$B46='DNSP Inputs General'!$A$41,E$82,IF('DNSP Inputs General'!$B46='DNSP Inputs General'!$A$42,E$83,E$84))*'DNSP Inputs General'!$D46*'DNSP Inputs General'!L46","v":0},{"$f":"IF('DNSP Inputs General'!$B46='DNSP Inputs General'!$A$41,F$82,IF('DNSP Inputs General'!$B46='DNSP Inputs General'!$A$42,F$83,F$84))*'DNSP Inputs General'!$D46*'DNSP Inputs General'!M46","v":0},{"$f":"IF('DNSP Inputs General'!$B46='DNSP Inputs General'!$A$41,G$82,IF('DNSP Inputs General'!$B46='DNSP Inputs General'!$A$42,G$83,G$84))*'DNSP Inputs General'!$D46*'DNSP Inputs General'!N46","v":0},{"$f":"IF('DNSP Inputs General'!$B46='DNSP Inputs General'!$A$41,H$82,IF('DNSP Inputs General'!$B46='DNSP Inputs General'!$A$42,H$83,H$84))*'DNSP Inputs General'!$D46*'DNSP Inputs General'!O46","v":0},null,null,{"$f":"D92/'Charges Summary'!D$4","v":0},{"$f":"E92/'Charges Summary'!E$4","v":0},{"$f":"F92/'Charges Summary'!F$4","v":0},{"$f":"G92/'Charges Summary'!G$4","v":0},{"$f":"H92/'Charges Summary'!H$4","v":0}]
[{"$f":"'DNSP Inputs General'!A$47","v":"Fluorescent 80 watt"},null,null,{"$f":"IF('DNSP Inputs General'!$B47='DNSP Inputs General'!$A$41,D$82,IF('DNSP Inputs General'!$B47='DNSP Inputs General'!$A$42,D$83,D$84))*'DNSP Inputs General'!$D47*'DNSP Inputs General'!K47","v":0},{"$f":"IF('DNSP Inputs General'!$B47='DNSP Inputs General'!$A$41,E$82,IF('DNSP Inputs General'!$B47='DNSP Inputs General'!$A$42,E$83,E$84))*'DNSP Inputs General'!$D47*'DNSP Inputs General'!L47","v":0},{"$f":"IF('DNSP Inputs General'!$B47='DNSP Inputs General'!$A$41,F$82,IF('DNSP Inputs General'!$B47='DNSP Inputs General'!$A$42,F$83,F$84))*'DNSP Inputs General'!$D47*'DNSP Inputs General'!M47","v":0},{"$f":"IF('DNSP Inputs General'!$B47='DNSP Inputs General'!$A$41,G$82,IF('DNSP Inputs General'!$B47='DNSP Inputs General'!$A$42,G$83,G$84))*'DNSP Inputs General'!$D47*'DNSP Inputs General'!N47","v":0},{"$f":"IF('DNSP Inputs General'!$B47='DNSP Inputs General'!$A$41,H$82,IF('DNSP Inputs General'!$B47='DNSP Inputs General'!$A$42,H$83,H$84))*'DNSP Inputs General'!$D47*'DNSP Inputs General'!O47","v":0},null,null,{"$f":"D93/'Charges Summary'!D$4","v":0},{"$f":"E93/'Charges Summary'!E$4","v":0},{"$f":"F93/'Charges Summary'!F$4","v":0},{"$f":"G93/'Charges Summary'!G$4","v":0},{"$f":"H93/'Charges Summary'!H$4","v":0}]
[{"$f":"'DNSP Inputs General'!A$48","v":"Mercury Vapour 50 watt"},null,null,{"$f":"IF('DNSP Inputs General'!$B48='DNSP Inputs General'!$A$41,D$82,IF('DNSP Inputs General'!$B48='DNSP Inputs General'!$A$42,D$83,D$84))*'DNSP Inputs General'!$D48*'DNSP Inputs General'!K48","v":0},{"$f":"IF('DNSP Inputs General'!$B48='DNSP Inputs General'!$A$41,E$82,IF('DNSP Inputs General'!$B48='DNSP Inputs General'!$A$42,E$83,E$84))*'DNSP Inputs General'!$D48*'DNSP Inputs General'!L48","v":0},{"$f":"IF('DNSP Inputs General'!$B48='DNSP Inputs General'!$A$41,F$82,IF('DNSP Inputs General'!$B48='DNSP Inputs General'!$A$42,F$83,F$84))*'DNSP Inputs General'!$D48*'DNSP Inputs General'!M48","v":0},{"$f":"IF('DNSP Inputs General'!$B48='DNSP Inputs General'!$A$41,G$82,IF('DNSP Inputs General'!$B48='DNSP Inputs General'!$A$42,G$83,G$84))*'DNSP Inputs General'!$D48*'DNSP Inputs General'!N48","v":0},{"$f":"IF('DNSP Inputs General'!$B48='DNSP Inputs General'!$A$41,H$82,IF('DNSP Inputs General'!$B48='DNSP Inputs General'!$A$42,H$83,H$84))*'DNSP Inputs General'!$D48*'DNSP Inputs General'!O48","v":0},null,null,{"$f":"D94/'Charges Summary'!D$4","v":0},{"$f":"E94/'Charges Summary'!E$4","v":0},{"$f":"F94/'Charges Summary'!F$4","v":0},{"$f":"G94/'Charges Summary'!G$4","v":0},{"$f":"H94/'Charges Summary'!H$4","v":0}]
[{"$f":"'DNSP Inputs General'!A$49","v":"Mercury Vapour 125 watt"},null,null,{"$f":"IF('DNSP Inputs General'!$B49='DNSP Inputs General'!$A$41,D$82,IF('DNSP Inputs General'!$B49='DNSP Inputs General'!$A$42,D$83,D$84))*'DNSP Inputs General'!$D49*'DNSP Inputs General'!K49","v":18065.734272196052},{"$f":"IF('DNSP Inputs General'!$B49='DNSP Inputs General'!$A$41,E$82,IF('DNSP Inputs General'!$B49='DNSP Inputs General'!$A$42,E$83,E$84))*'DNSP Inputs General'!$D49*'DNSP Inputs General'!L49","v":18045.822180174335},{"$f":"IF('DNSP Inputs General'!$B49='DNSP Inputs General'!$A$41,F$82,IF('DNSP Inputs General'!$B49='DNSP Inputs General'!$A$42,F$83,F$84))*'DNSP Inputs General'!$D49*'DNSP Inputs General'!M49","v":18341.203869235498},{"$f":"IF('DNSP Inputs General'!$B49='DNSP Inputs General'!$A$41,G$82,IF('DNSP Inputs General'!$B49='DNSP Inputs General'!$A$42,G$83,G$84))*'DNSP Inputs General'!$D49*'DNSP Inputs General'!N49","v":18160.632819069662},{"$f":"IF('DNSP Inputs General'!$B49='DNSP Inputs General'!$A$41,H$82,IF('DNSP Inputs General'!$B49='DNSP Inputs General'!$A$42,H$83,H$84))*'DNSP Inputs General'!$D49*'DNSP Inputs General'!O49","v":18237.929547771433},null,null,{"$f":"D95/'Charges Summary'!D$4","v":17655.58103196332},{"$f":"E95/'Charges Summary'!E$4","v":17235.721444856325},{"$f":"F95/'Charges Summary'!F$4","v":17120.128803138996},{"$f":"G95/'Charges Summary'!G$4","v":16566.721206026592},{"$f":"H95/'Charges Summary'!H$4","v":16259.51235102777}]
[{"$f":"'DNSP Inputs General'!A$50","v":"Mercury Vapour 250 watt"},null,null,{"$f":"IF('DNSP Inputs General'!$B50='DNSP Inputs General'!$A$41,D$82,IF('DNSP Inputs General'!$B50='DNSP Inputs General'!$A$42,D$83,D$84))*'DNSP Inputs General'!$D50*'DNSP Inputs General'!K50","v":8627.7890551161818},{"$f":"IF('DNSP Inputs General'!$B50='DNSP Inputs General'!$A$41,E$82,IF('DNSP Inputs General'!$B50='DNSP Inputs General'!$A$42,E$83,E$84))*'DNSP Inputs General'!$D50*'DNSP Inputs General'!L50","v":7642.7317426845411},{"$f":"IF('DNSP Inputs General'!$B50='DNSP Inputs General'!$A$41,F$82,IF('DNSP Inputs General'!$B50='DNSP Inputs General'!$A$42,F$83,F$84))*'DNSP Inputs General'!$D50*'DNSP Inputs General'!M50","v":6731.9392670582438},{"$f":"IF('DNSP Inputs General'!$B50='DNSP Inputs General'!$A$41,G$82,IF('DNSP Inputs General'!$B50='DNSP Inputs General'!$A$42,G$83,G$84))*'DNSP Inputs General'!$D50*'DNSP Inputs General'!N50","v":5782.8441883919795},{"$f":"IF('DNSP Inputs General'!$B50='DNSP Inputs General'!$A$41,H$82,IF('DNSP Inputs General'!$B50='DNSP Inputs General'!$A$42,H$83,H$84))*'DNSP Inputs General'!$D50*'DNSP Inputs General'!O50","v":5036.2484690584406},null,null,{"$f":"D96/'Charges Summary'!D$4","v":8431.9090768278566},{"$f":"E96/'Charges Summary'!E$4","v":7299.6394444910529},{"$f":"F96/'Charges Summary'!F$4","v":6283.7569533951328},{"$f":"G96/'Charges Summary'!G$4","v":5275.298961299568},{"$f":"H96/'Charges Summary'!H$4","v":4489.9254584249948}]
[{"$f":"'DNSP Inputs General'!A$51","v":"Mercury Vapour 400 watt"},null,null,{"$f":"IF('DNSP Inputs General'!$B51='DNSP Inputs General'!$A$41,D$82,IF('DNSP Inputs General'!$B51='DNSP Inputs General'!$A$42,D$83,D$84))*'DNSP Inputs General'!$D51*'DNSP Inputs General'!K51","v":15747.032929585008},{"$f":"IF('DNSP Inputs General'!$B51='DNSP Inputs General'!$A$41,E$82,IF('DNSP Inputs General'!$B51='DNSP Inputs General'!$A$42,E$83,E$84))*'DNSP Inputs General'!$D51*'DNSP Inputs General'!L51","v":15542.654087449997},{"$f":"IF('DNSP Inputs General'!$B51='DNSP Inputs General'!$A$41,F$82,IF('DNSP Inputs General'!$B51='DNSP Inputs General'!$A$42,F$83,F$84))*'DNSP Inputs General'!$D51*'DNSP Inputs General'!M51","v":15254.363903026448},{"$f":"IF('DNSP Inputs General'!$B51='DNSP Inputs General'!$A$41,G$82,IF('DNSP Inputs General'!$B51='DNSP Inputs General'!$A$42,G$83,G$84))*'DNSP Inputs General'!$D51*'DNSP Inputs General'!N51","v":14600.66888640361},{"$f":"IF('DNSP Inputs General'!$B51='DNSP Inputs General'!$A$41,H$82,IF('DNSP Inputs General'!$B51='DNSP Inputs General'!$A$42,H$83,H$84))*'DNSP Inputs General'!$D51*'DNSP Inputs General'!O51","v":14168.235193344563},null,null,{"$f":"D97/'Charges Summary'!D$4","v":15389.52204833281},{"$f":"E97/'Charges Summary'!E$4","v":14844.923866054505},{"$f":"F97/'Charges Summary'!F$4","v":14238.796792822111},{"$f":"G97/'Charges Summary'!G$4","v":13319.20606910584},{"$f":"H97/'Charges Summary'!H$4","v":12631.290987008002}]
[{"$f":"'DNSP Inputs General'!A$52","v":"Sodium High Pressure 50 watt"},null,null,{"$f":"IF('DNSP Inputs General'!$B52='DNSP Inputs General'!$A$41,D$82,IF('DNSP Inputs General'!$B52='DNSP Inputs General'!$A$42,D$83,D$84))*'DNSP Inputs General'!$D52*'DNSP Inputs General'!K52","v":0},{"$f":"IF('DNSP Inputs General'!$B52='DNSP Inputs General'!$A$41,E$82,IF('DNSP Inputs General'!$B52='DNSP Inputs General'!$A$42,E$83,E$84))*'DNSP Inputs General'!$D52*'DNSP Inputs General'!L52","v":0},{"$f":"IF('DNSP Inputs General'!$B52='DNSP Inputs General'!$A$41,F$82,IF('DNSP Inputs General'!$B52='DNSP Inputs General'!$A$42,F$83,F$84))*'DNSP Inputs General'!$D52*'DNSP Inputs General'!M52","v":0},{"$f":"IF('DNSP Inputs General'!$B52='DNSP Inputs General'!$A$41,G$82,IF('DNSP Inputs General'!$B52='DNSP Inputs General'!$A$42,G$83,G$84))*'DNSP Inputs General'!$D52*'DNSP Inputs General'!N52","v":0},{"$f":"IF('DNSP Inputs General'!$B52='DNSP Inputs General'!$A$41,H$82,IF('DNSP Inputs General'!$B52='DNSP Inputs General'!$A$42,H$83,H$84))*'DNSP Inputs General'!$D52*'DNSP Inputs General'!O52","v":0},null,null,{"$f":"D98/'Charges Summary'!D$4","v":0},{"$f":"E98/'Charges Summary'!E$4","v":0},{"$f":"F98/'Charges Summary'!F$4","v":0},{"$f":"G98/'Charges Summary'!G$4","v":0},{"$f":"H98/'Charges Summary'!H$4","v":0}]
[{"$f":"'DNSP Inputs General'!A$53","v":"Sodium Low Pressure 90 watt"},null,null,{"$f":"IF('DNSP Inputs General'!$B53='DNSP Inputs General'!$A$41,D$82,IF('DNSP Inputs General'!$B53='DNSP Inputs General'!$A$42,D$83,D$84))*'DNSP Inputs General'!$D53*'DNSP Inputs General'!K53","v":0},{"$f":"IF('DNSP Inputs General'!$B53='DNSP Inputs General'!$A$41,E$82,IF('DNSP Inputs General'!$B53='DNSP Inputs General'!$A$42,E$83,E$84))*'DNSP Inputs General'!$D53*'DNSP Inputs General'!L53","v":0},{"$f":"IF('DNSP Inputs General'!$B53='DNSP Inputs General'!$A$41,F$82,IF('DNSP Inputs General'!$B53='DNSP Inputs General'!$A$42,F$83,F$84))*'DNSP Inputs General'!$D53*'DNSP Inputs General'!M53","v":0},{"$f":"IF('DNSP Inputs General'!$B53='DNSP Inputs General'!$A$41,G$82,IF('DNSP Inputs General'!$B53='DNSP Inputs General'!$A$42,G$83,G$84))*'DNSP Inputs General'!$D53*'DNSP Inputs General'!N53","v":0},{"$f":"IF('DNSP Inputs General'!$B53='DNSP Inputs General'!$A$41,H$82,IF('DNSP Inputs General'!$B53='DNSP Inputs General'!$A$42,H$83,H$84))*'DNSP Inputs General'!$D53*'DNSP Inputs General'!O53","v":0},null,null,{"$f":"D99/'Charges Summary'!D$4","v":0},{"$f":"E99/'Charges Summary'!E$4","v":0},{"$f":"F99/'Charges Summary'!F$4","v":0},{"$f":"G99/'Charges Summary'!G$4","v":0},{"$f":"H99/'Charges Summary'!H$4","v":0}]
[{"$f":"'DNSP Inputs General'!A$54","v":"Sodium High Pressure 100 watt"},null,null,{"$f":"IF('DNSP Inputs General'!$B54='DNSP Inputs General'!$A$41,D$82,IF('DNSP Inputs General'!$B54='DNSP Inputs General'!$A$42,D$83,D$84))*'DNSP Inputs General'!$D54*'DNSP Inputs General'!K54","v":118663.1677711981},{"$f":"IF('DNSP Inputs General'!$B54='DNSP Inputs General'!$A$41,E$82,IF('DNSP Inputs General'!$B54='DNSP Inputs General'!$A$42,E$83,E$84))*'DNSP Inputs General'!$D54*'DNSP Inputs General'!L54","v":121393.00508883156},{"$f":"IF('DNSP Inputs General'!$B54='DNSP Inputs General'!$A$41,F$82,IF('DNSP Inputs General'!$B54='DNSP Inputs General'!$A$42,F$83,F$84))*'DNSP Inputs General'!$D54*'DNSP Inputs General'!M54","v":123486.3072735998},{"$f":"IF('DNSP Inputs General'!$B54='DNSP Inputs General'!$A$41,G$82,IF('DNSP Inputs General'!$B54='DNSP Inputs General'!$A$42,G$83,G$84))*'DNSP Inputs General'!$D54*'DNSP Inputs General'!N54","v":122512.41017862997},{"$f":"IF('DNSP Inputs General'!$B54='DNSP Inputs General'!$A$41,H$82,IF('DNSP Inputs General'!$B54='DNSP Inputs General'!$A$42,H$83,H$84))*'DNSP Inputs General'!$D54*'DNSP Inputs General'!O54","v":123222.68254565445},null,null,{"$f":"D100/'Charges Summary'!D$4","v":115969.11271512753},{"$f":"E100/'Charges Summary'!E$4","v":115943.51313977728},{"$f":"F100/'Charges Summary'!F$4","v":115265.14295466195},{"$f":"G100/'Charges Summary'!G$4","v":111759.813874796},{"$f":"H100/'Charges Summary'!H$4","v":109855.71161078771}]
[{"$f":"'DNSP Inputs General'!A$55","v":"Sodium High Pressure 400 watt"},null,null,{"$f":"IF('DNSP Inputs General'!$B55='DNSP Inputs General'!$A$41,D$82,IF('DNSP Inputs General'!$B55='DNSP Inputs General'!$A$42,D$83,D$84))*'DNSP Inputs General'!$D55*'DNSP Inputs General'!K55","v":28998.553514060663},{"$f":"IF('DNSP Inputs General'!$B55='DNSP Inputs General'!$A$41,E$82,IF('DNSP Inputs General'!$B55='DNSP Inputs General'!$A$42,E$83,E$84))*'DNSP Inputs General'!$D55*'DNSP Inputs General'!L55","v":30100.325781910011},{"$f":"IF('DNSP Inputs General'!$B55='DNSP Inputs General'!$A$41,F$82,IF('DNSP Inputs General'!$B55='DNSP Inputs General'!$A$42,F$83,F$84))*'DNSP Inputs General'!$D55*'DNSP Inputs General'!M55","v":31067.659162383963},{"$f":"IF('DNSP Inputs General'!$B55='DNSP Inputs General'!$A$41,G$82,IF('DNSP Inputs General'!$B55='DNSP Inputs General'!$A$42,G$83,G$84))*'DNSP Inputs General'!$D55*'DNSP Inputs General'!N55","v":31271.995608272089},{"$f":"IF('DNSP Inputs General'!$B55='DNSP Inputs General'!$A$41,H$82,IF('DNSP Inputs General'!$B55='DNSP Inputs General'!$A$42,H$83,H$84))*'DNSP Inputs General'!$D55*'DNSP Inputs General'!O55","v":31912.95477211905},null,null,{"$f":"D101/'Charges Summary'!D$4","v":28340.188318013279},{"$f":"E101/'Charges Summary'!E$4","v":28749.08249657906},{"$f":"F101/'Charges Summary'!F$4","v":28999.313799907337},{"$f":"G101/'Charges Summary'!G$4","v":28527.333709116403},{"$f":"H101/'Charges Summary'!H$4","v":28451.095883220223}]
[{"$f":"'DNSP Inputs General'!A$56","v":"Metal Halide 70 watt"},null,null,{"$f":"IF('DNSP Inputs General'!$B56='DNSP Inputs General'!$A$41,D$82,IF('DNSP Inputs General'!$B56='DNSP Inputs General'!$A$42,D$83,D$84))*'DNSP Inputs General'!$D56*'DNSP Inputs General'!K56","v":1068.9524782129024},{"$f":"IF('DNSP Inputs General'!$B56='DNSP Inputs General'!$A$41,E$82,IF('DNSP Inputs General'!$B56='DNSP Inputs General'!$A$42,E$83,E$84))*'DNSP Inputs General'!$D56*'DNSP Inputs General'!L56","v":1083.374874636721},{"$f":"IF('DNSP Inputs General'!$B56='DNSP Inputs General'!$A$41,F$82,IF('DNSP Inputs General'!$B56='DNSP Inputs General'!$A$42,F$83,F$84))*'DNSP Inputs General'!$D56*'DNSP Inputs General'!M56","v":1117.1956322520996},{"$f":"IF('DNSP Inputs General'!$B56='DNSP Inputs General'!$A$41,G$82,IF('DNSP Inputs General'!$B56='DNSP Inputs General'!$A$42,G$83,G$84))*'DNSP Inputs General'!$D56*'DNSP Inputs General'!N56","v":1122.3586907848348},{"$f":"IF('DNSP Inputs General'!$B56='DNSP Inputs General'!$A$41,H$82,IF('DNSP Inputs General'!$B56='DNSP Inputs General'!$A$42,H$83,H$84))*'DNSP Inputs General'!$D56*'DNSP Inputs General'!O56","v":1143.6036556846925},null,null,{"$f":"D102/'Charges Summary'!D$4","v":1044.6836433021288},{"$f":"E102/'Charges Summary'!E$4","v":1034.7407490310466},{"$f":"F102/'Charges Summary'!F$4","v":1042.8177593370533},{"$f":"G102/'Charges Summary'!G$4","v":1023.8521811788877},{"$f":"H102/'Charges Summary'!H$4","v":1019.5476254900818}]
[{"$f":"'DNSP Inputs General'!A$57","v":"Metal Halide 150 watt"},null,null,{"$f":"IF('DNSP Inputs General'!$B57='DNSP Inputs General'!$A$41,D$82,IF('DNSP Inputs General'!$B57='DNSP Inputs General'!$A$42,D$83,D$84))*'DNSP Inputs General'!$D57*'DNSP Inputs General'!K57","v":5526.4140351682445},{"$f":"IF('DNSP Inputs General'!$B57='DNSP Inputs General'!$A$41,E$82,IF('DNSP Inputs General'!$B57='DNSP Inputs General'!$A$42,E$83,E$84))*'DNSP Inputs General'!$D57*'DNSP Inputs General'!L57","v":5736.1493278807638},{"$f":"IF('DNSP Inputs General'!$B57='DNSP Inputs General'!$A$41,F$82,IF('DNSP Inputs General'!$B57='DNSP Inputs General'!$A$42,F$83,F$84))*'DNSP Inputs General'!$D57*'DNSP Inputs General'!M57","v":5920.3160956077918},{"$f":"IF('DNSP Inputs General'!$B57='DNSP Inputs General'!$A$41,G$82,IF('DNSP Inputs General'!$B57='DNSP Inputs General'!$A$42,G$83,G$84))*'DNSP Inputs General'!$D57*'DNSP Inputs General'!N57","v":5959.4403936922126},{"$f":"IF('DNSP Inputs General'!$B57='DNSP Inputs General'!$A$41,H$82,IF('DNSP Inputs General'!$B57='DNSP Inputs General'!$A$42,H$83,H$84))*'DNSP Inputs General'!$D57*'DNSP Inputs General'!O57","v":6081.56511138317},null,null,{"$f":"D103/'Charges Summary'!D$4","v":5400.9457542093896},{"$f":"E103/'Charges Summary'!E$4","v":5478.6460264509578},{"$f":"F103/'Charges Summary'!F$4","v":5526.1680113655011},{"$f":"G103/'Charges Summary'!G$4","v":5436.3957759534678},{"$f":"H103/'Charges Summary'!H$4","v":5421.8480657634282}]
[{"$f":"'DNSP Inputs General'!A$58","v":"Metal Halide 250 watt"},null,null,{"$f":"IF('DNSP Inputs General'!$B58='DNSP Inputs General'!$A$41,D$82,IF('DNSP Inputs General'!$B58='DNSP Inputs General'!$A$42,D$83,D$84))*'DNSP Inputs General'!$D58*'DNSP Inputs General'!K58","v":11719.340235945567},{"$f":"IF('DNSP Inputs General'!$B58='DNSP Inputs General'!$A$41,E$82,IF('DNSP Inputs General'!$B58='DNSP Inputs General'!$A$42,E$83,E$84))*'DNSP Inputs General'!$D58*'DNSP Inputs General'!L58","v":12164.605344192954},{"$f":"IF('DNSP Inputs General'!$B58='DNSP Inputs General'!$A$41,F$82,IF('DNSP Inputs General'!$B58='DNSP Inputs General'!$A$42,F$83,F$84))*'DNSP Inputs General'!$D58*'DNSP Inputs General'!M58","v":12555.538947204044},{"$f":"IF('DNSP Inputs General'!$B58='DNSP Inputs General'!$A$41,G$82,IF('DNSP Inputs General'!$B58='DNSP Inputs General'!$A$42,G$83,G$84))*'DNSP Inputs General'!$D58*'DNSP Inputs General'!N58","v":12638.118525899434},{"$f":"IF('DNSP Inputs General'!$B58='DNSP Inputs General'!$A$41,H$82,IF('DNSP Inputs General'!$B58='DNSP Inputs General'!$A$42,H$83,H$84))*'DNSP Inputs General'!$D58*'DNSP Inputs General'!O58","v":12897.152774446608},null,null,{"$f":"D104/'Charges Summary'!D$4","v":11453.271594685815},{"$f":"E104/'Charges Summary'!E$4","v":11618.520181888152},{"$f":"F104/'Charges Summary'!F$4","v":11719.647494323453},{"$f":"G104/'Charges Summary'!G$4","v":11528.903660639147},{"$f":"H104/'Charges Summary'!H$4","v":11498.093261075841}]
[{"$f":"'DNSP Inputs General'!A$59","v":"Incandescent 100 watt"},null,null,{"$f":"IF('DNSP Inputs General'!$B59='DNSP Inputs General'!$A$41,D$82,IF('DNSP Inputs General'!$B59='DNSP Inputs General'!$A$42,D$83,D$84))*'DNSP Inputs General'!$D59*'DNSP Inputs General'!K59","v":0},{"$f":"IF('DNSP Inputs General'!$B59='DNSP Inputs General'!$A$41,E$82,IF('DNSP Inputs General'!$B59='DNSP Inputs General'!$A$42,E$83,E$84))*'DNSP Inputs General'!$D59*'DNSP Inputs General'!L59","v":0},{"$f":"IF('DNSP Inputs General'!$B59='DNSP Inputs General'!$A$41,F$82,IF('DNSP Inputs General'!$B59='DNSP Inputs General'!$A$42,F$83,F$84))*'DNSP Inputs General'!$D59*'DNSP Inputs General'!M59","v":0},{"$f":"IF('DNSP Inputs General'!$B59='DNSP Inputs General'!$A$41,G$82,IF('DNSP Inputs General'!$B59='DNSP Inputs General'!$A$42,G$83,G$84))*'DNSP Inputs General'!$D59*'DNSP Inputs General'!N59","v":0},{"$f":"IF('DNSP Inputs General'!$B59='DNSP Inputs General'!$A$41,H$82,IF('DNSP Inputs General'!$B59='DNSP Inputs General'!$A$42,H$83,H$84))*'DNSP Inputs General'!$D59*'DNSP Inputs General'!O59","v":0},null,null,{"$f":"D105/'Charges Summary'!D$4","v":0},{"$f":"E105/'Charges Summary'!E$4","v":0},{"$f":"F105/'Charges Summary'!F$4","v":0},{"$f":"G105/'Charges Summary'!G$4","v":0},{"$f":"H105/'Charges Summary'!H$4","v":0}]
[{"$f":"'DNSP Inputs General'!A$60","v":"Incandescent 150 watt"},null,null,{"$f":"IF('DNSP Inputs General'!$B60='DNSP Inputs General'!$A$41,D$82,IF('DNSP Inputs General'!$B60='DNSP Inputs General'!$A$42,D$83,D$84))*'DNSP Inputs General'!$D60*'DNSP Inputs General'!K60","v":0},{"$f":"IF('DNSP Inputs General'!$B60='DNSP Inputs General'!$A$41,E$82,IF('DNSP Inputs General'!$B60='DNSP Inputs General'!$A$42,E$83,E$84))*'DNSP Inputs General'!$D60*'DNSP Inputs General'!L60","v":0},{"$f":"IF('DNSP Inputs General'!$B60='DNSP Inputs General'!$A$41,F$82,IF('DNSP Inputs General'!$B60='DNSP Inputs General'!$A$42,F$83,F$84))*'DNSP Inputs General'!$D60*'DNSP Inputs General'!M60","v":0},{"$f":"IF('DNSP Inputs General'!$B60='DNSP Inputs General'!$A$41,G$82,IF('DNSP Inputs General'!$B60='DNSP Inputs General'!$A$42,G$83,G$84))*'DNSP Inputs General'!$D60*'DNSP Inputs General'!N60","v":0},{"$f":"IF('DNSP Inputs General'!$B60='DNSP Inputs General'!$A$41,H$82,IF('DNSP Inputs General'!$B60='DNSP Inputs General'!$A$42,H$83,H$84))*'DNSP Inputs General'!$D60*'DNSP Inputs General'!O60","v":0},null,null,{"$f":"D106/'Charges Summary'!D$4","v":0},{"$f":"E106/'Charges Summary'!E$4","v":0},{"$f":"F106/'Charges Summary'!F$4","v":0},{"$f":"G106/'Charges Summary'!G$4","v":0},{"$f":"H106/'Charges Summary'!H$4","v":0}]
[{"$f":"'DNSP Inputs General'!A$61","v":"Sodium High Pressure 250 watt (24 hrs)"},null,null,{"$f":"IF('DNSP Inputs General'!$B61='DNSP Inputs General'!$A$41,D$82,IF('DNSP Inputs General'!$B61='DNSP Inputs General'!$A$42,D$83,D$84))*'DNSP Inputs General'!$D61*'DNSP Inputs General'!K61","v":0},{"$f":"IF('DNSP Inputs General'!$B61='DNSP Inputs General'!$A$41,E$82,IF('DNSP Inputs General'!$B61='DNSP Inputs General'!$A$42,E$83,E$84))*'DNSP Inputs General'!$D61*'DNSP Inputs General'!L61","v":0},{"$f":"IF('DNSP Inputs General'!$B61='DNSP Inputs General'!$A$41,F$82,IF('DNSP Inputs General'!$B61='DNSP Inputs General'!$A$42,F$83,F$84))*'DNSP Inputs General'!$D61*'DNSP Inputs General'!M61","v":0},{"$f":"IF('DNSP Inputs General'!$B61='DNSP Inputs General'!$A$41,G$82,IF('DNSP Inputs General'!$B61='DNSP Inputs General'!$A$42,G$83,G$84))*'DNSP Inputs General'!$D61*'DNSP Inputs General'!N61","v":0},{"$f":"IF('DNSP Inputs General'!$B61='DNSP Inputs General'!$A$41,H$82,IF('DNSP Inputs General'!$B61='DNSP Inputs General'!$A$42,H$83,H$84))*'DNSP Inputs General'!$D61*'DNSP Inputs General'!O61","v":0},null,null,{"$f":"D107/'Charges Summary'!D$4","v":0},{"$f":"E107/'Charges Summary'!E$4","v":0},{"$f":"F107/'Charges Summary'!F$4","v":0},{"$f":"G107/'Charges Summary'!G$4","v":0},{"$f":"H107/'Charges Summary'!H$4","v":0}]
[{"$f":"'DNSP Inputs General'!A$62","v":"Metal Halide 100 watt"},null,null,{"$f":"IF('DNSP Inputs General'!$B62='DNSP Inputs General'!$A$41,D$82,IF('DNSP Inputs General'!$B62='DNSP Inputs General'!$A$42,D$83,D$84))*'DNSP Inputs General'!$D62*'DNSP Inputs General'!K62","v":0},{"$f":"IF('DNSP Inputs General'!$B62='DNSP Inputs General'!$A$41,E$82,IF('DNSP Inputs General'!$B62='DNSP Inputs General'!$A$42,E$83,E$84))*'DNSP Inputs General'!$D62*'DNSP Inputs General'!L62","v":0},{"$f":"IF('DNSP Inputs General'!$B62='DNSP Inputs General'!$A$41,F$82,IF('DNSP Inputs General'!$B62='DNSP Inputs General'!$A$42,F$83,F$84))*'DNSP Inputs General'!$D62*'DNSP Inputs General'!M62","v":0},{"$f":"IF('DNSP Inputs General'!$B62='DNSP Inputs General'!$A$41,G$82,IF('DNSP Inputs General'!$B62='DNSP Inputs General'!$A$42,G$83,G$84))*'DNSP Inputs General'!$D62*'DNSP Inputs General'!N62","v":0},{"$f":"IF('DNSP Inputs General'!$B62='DNSP Inputs General'!$A$41,H$82,IF('DNSP Inputs General'!$B62='DNSP Inputs General'!$A$42,H$83,H$84))*'DNSP Inputs General'!$D62*'DNSP Inputs General'!O62","v":0},null,null,{"$f":"D108/'Charges Summary'!D$4","v":0},{"$f":"E108/'Charges Summary'!E$4","v":0},{"$f":"F108/'Charges Summary'!F$4","v":0},{"$f":"G108/'Charges Summary'!G$4","v":0},{"$f":"H108/'Charges Summary'!H$4","v":0}]
[]
[]
[{"$f":"'DNSP Inputs General'!A$67","v":"Energy Efficient Lights"}]
[{"$f":"'DNSP Inputs General'!A$68","v":"T5 2X14W"},null,null,{"$f":"SUM('Charges Summary'!D83,'Charges Summary'!D8)*'DNSP Inputs General'!$D68*'DNSP Inputs General'!K68","v":919429.94638002373},{"$f":"SUM('Charges Summary'!E83,'Charges Summary'!E8)*'DNSP Inputs General'!$D68*'DNSP Inputs General'!L68","v":970894.33163150307},{"$f":"SUM('Charges Summary'!F83,'Charges Summary'!F8)*'DNSP Inputs General'!$D68*'DNSP Inputs General'!M68","v":1014463.455274592},{"$f":"SUM('Charges Summary'!G83,'Charges Summary'!G8)*'DNSP Inputs General'!$D68*'DNSP Inputs General'!N68","v":1032056.6483685313},{"$f":"SUM('Charges Summary'!H83,'Charges Summary'!H8)*'DNSP Inputs General'!$D68*'DNSP Inputs General'!O68","v":1064757.3025519152},null,null,{"$f":"D112/'Charges Summary'!D$4","v":898555.77841137606},{"$f":"E112/'Charges Summary'!E$4","v":927309.60580865503},{"$f":"F112/'Charges Summary'!F$4","v":946925.0297964426},{"$f":"G112/'Charges Summary'!G$4","v":941475.71467851335},{"$f":"H112/'Charges Summary'!H$4","v":949254.38034743106}]
[{"$f":"'DNSP Inputs General'!A$69","v":"T5 (2x24W)"},null,null,{"$f":"SUM('Charges Summary'!D$83,'Charges Summary'!D$8)*'DNSP Inputs General'!$D69*'DNSP Inputs General'!K69","v":9827.9113798686685},{"$f":"SUM('Charges Summary'!E$83,'Charges Summary'!E$8)*'DNSP Inputs General'!$D69*'DNSP Inputs General'!L69","v":10238.379634383167},{"$f":"SUM('Charges Summary'!F$83,'Charges Summary'!F$8)*'DNSP Inputs General'!$D69*'DNSP Inputs General'!M69","v":10555.795869556488},{"$f":"SUM('Charges Summary'!G$83,'Charges Summary'!G$8)*'DNSP Inputs General'!$D69*'DNSP Inputs General'!N69","v":10598.148176392357},{"$f":"SUM('Charges Summary'!H$83,'Charges Summary'!H$8)*'DNSP Inputs General'!$D69*'DNSP Inputs General'!O69","v":10792.536406603935},null,null,{"$f":"D113/'Charges Summary'!D$4","v":9604.7845677259102},{"$f":"E113/'Charges Summary'!E$4","v":9778.7652822373893},{"$f":"F113/'Charges Summary'!F$4","v":9853.0383389704057},{"$f":"G113/'Charges Summary'!G$4","v":9667.9762146881949},{"$f":"H113/'Charges Summary'!H$4","v":9621.781822462206}]
[{"$f":"'DNSP Inputs General'!A$70","v":"LED 18W"},null,null,{"$f":"SUM('Charges Summary'!D$101,'Charges Summary'!D$8)*'DNSP Inputs General'!$D70*'DNSP Inputs General'!K70","v":5240.4062306296519},{"$f":"SUM('Charges Summary'!E$101,'Charges Summary'!E$8)*'DNSP Inputs General'!$D70*'DNSP Inputs General'!L70","v":8420.5251457210215},{"$f":"SUM('Charges Summary'!F$101,'Charges Summary'!F$8)*'DNSP Inputs General'!$D70*'DNSP Inputs General'!M70","v":11851.666870976558},{"$f":"SUM('Charges Summary'!G$101,'Charges Summary'!G$8)*'DNSP Inputs General'!$D70*'DNSP Inputs General'!N70","v":14773.598440972139},{"$f":"SUM('Charges Summary'!H$101,'Charges Summary'!H$8)*'DNSP Inputs General'!$D70*'DNSP Inputs General'!O70","v":17885.536223224281},null,null,{"$f":"D114/'Charges Summary'!D$4","v":5121.4312936996575},{"$f":"E114/'Charges Summary'!E$4","v":8042.5166768241788},{"$f":"F114/'Charges Summary'!F$4","v":11062.636063020405},{"$f":"G114/'Charges Summary'!G$4","v":13476.958045447265},{"$f":"H114/'Charges Summary'!H$4","v":15945.346008961034}]
[{"$f":"'DNSP Inputs General'!A$71","v":"Compact Fluoro 32W"},null,null,{"$f":"SUM('Charges Summary'!D$83,'Charges Summary'!D$8)*'DNSP Inputs General'!$D71*'DNSP Inputs General'!K71","v":180.82207668384248},{"$f":"SUM('Charges Summary'!E$83,'Charges Summary'!E$8)*'DNSP Inputs General'!$D71*'DNSP Inputs General'!L71","v":188.37421256758054},{"$f":"SUM('Charges Summary'!F$83,'Charges Summary'!F$8)*'DNSP Inputs General'!$D71*'DNSP Inputs General'!M71","v":194.21430010996269},{"$f":"SUM('Charges Summary'!G$83,'Charges Summary'!G$8)*'DNSP Inputs General'!$D71*'DNSP Inputs General'!N71","v":194.99353302918701},{"$f":"SUM('Charges Summary'!H$83,'Charges Summary'!H$8)*'DNSP Inputs General'!$D71*'DNSP Inputs General'!O71","v":198.57004914854826},null,null,{"$f":"D115/'Charges Summary'!D$4","v":176.71680426368781},{"$f":"E115/'Charges Summary'!E$4","v":179.91784595860437},{"$f":"F115/'Charges Summary'!F$4","v":181.28438334798608},{"$f":"G115/'Charges Summary'!G$4","v":177.87945667182797},{"$f":"H115/'Charges Summary'!H$4","v":177.02953387433902}]
[{"$f":"'DNSP Inputs General'!A$72","v":"Compact Fluoro 42W"},null,null,{"$f":"SUM('Charges Summary'!D$83,'Charges Summary'!D$8)*'DNSP Inputs General'!$D72*'DNSP Inputs General'!K72","v":1733.3939845840275},{"$f":"SUM('Charges Summary'!E$83,'Charges Summary'!E$8)*'DNSP Inputs General'!$D72*'DNSP Inputs General'!L72","v":1805.7901607131259},{"$f":"SUM('Charges Summary'!F$83,'Charges Summary'!F$8)*'DNSP Inputs General'!$D72*'DNSP Inputs General'!M72","v":1861.7743237150203},{"$f":"SUM('Charges Summary'!G$83,'Charges Summary'!G$8)*'DNSP Inputs General'!$D72*'DNSP Inputs General'!N72","v":1869.2441950910413},{"$f":"SUM('Charges Summary'!H$83,'Charges Summary'!H$8)*'DNSP Inputs General'!$D72*'DNSP Inputs General'!O72","v":1903.5293423516168},null,null,{"$f":"D116/'Charges Summary'!D$4","v":1694.0400812958972},{"$f":"E116/'Charges Summary'!E$4","v":1724.7258610420984},{"$f":"F116/'Charges Summary'!F$4","v":1737.8257420627383},{"$f":"G116/'Charges Summary'!G$4","v":1705.1854830487819},{"$f":"H116/'Charges Summary'!H$4","v":1697.0379653808809}]
[]
["Total O & M",null,null,{"$f":"SUM(D87:D116)","v":3153997.2086338857},{"$f":"SUM(E87:E116)","v":3287930.0791955879},{"$f":"SUM(F87:F116)","v":3415429.2869821158},{"$f":"SUM(G87:G116)","v":3457701.9153872388},{"$f":"SUM(H87:H116)","v":3549407.7787144519},null,null,{"$f":"SUM(K87:K116)","v":3082390.8097289088},{"$f":"SUM(L87:L116)","v":3140330.5656773392},{"$f":"SUM(M87:M116)","v":3188045.3283236027},{"$f":"SUM(N87:N116)","v":3154228.3915136731},{"$f":"SUM(O87:O116)","v":3164374.5231976551}]
[]
[]
["Public Lighting - Capital Charge",null,null,"Capital Charge - Nominal ",null,null,null,null,null,null,"Capital Charge - Real 2015 $ "]
["Excluding Revenue Recovery",null,null,{"$f":"D$2","v":2016},2017,2018,2019,2020,null,null,{"$f":"K$2","v":2016},2017,2018,2019,2020]
[]
["Unit cost"]
[{"$f":"'DNSP Inputs General'!A$41","v":"Mercury Vapour 80 watt"},null,null,{"$f":"SUM('Charges Summary'!D27,'Charges Summary'!D11)","v":17.953375776928691},{"$f":"SUM('Charges Summary'!E27,'Charges Summary'!E11)","v":18.644570854426956},{"$f":"SUM('Charges Summary'!F27,'Charges Summary'!F11)","v":19.359844003107455},{"$f":"SUM('Charges Summary'!G27,'Charges Summary'!G11)","v":20.04349896335356},{"$f":"SUM('Charges Summary'!H27,'Charges Summary'!H11)","v":20.675573542375496}]
[{"$f":"'DNSP Inputs General'!A$42","v":"Sodium High Pressure 150 watt"},null,null,{"$f":"SUM('Charges Summary'!D51,'Charges Summary'!D11)","v":20.189892621352957},{"$f":"SUM('Charges Summary'!E51,'Charges Summary'!E11)","v":20.91580326817078},{"$f":"SUM('Charges Summary'!F51,'Charges Summary'!F11)","v":21.668824457643417},{"$f":"SUM('Charges Summary'!G51,'Charges Summary'!G11)","v":22.387839897386577},{"$f":"SUM('Charges Summary'!H51,'Charges Summary'!H11)","v":23.050940832058288}]
[{"$f":"'DNSP Inputs General'!A$43","v":"Sodium High Pressure 250 watt"},null,null,{"$f":"SUM('Charges Summary'!D67,'Charges Summary'!D11)","v":21.121564141687255},{"$f":"SUM('Charges Summary'!E67,'Charges Summary'!E11)","v":21.861936341668802},{"$f":"SUM('Charges Summary'!F67,'Charges Summary'!F11)","v":22.630682328672986},{"$f":"SUM('Charges Summary'!G67,'Charges Summary'!G11)","v":23.36442797345569},{"$f":"SUM('Charges Summary'!H67,'Charges Summary'!H11)","v":24.040453636152911}]
[]
[{"$f":"'DNSP Inputs General'!A$40","v":"Existing Lights"}]
[{"$f":"'DNSP Inputs General'!A$41","v":"Mercury Vapour 80 watt"},null,null,{"$f":"D125*'DNSP Inputs General'!K41","v":240986.49160304663},{"$f":"E125*'DNSP Inputs General'!L41","v":246660.53229996725},{"$f":"F125*'DNSP Inputs General'!M41","v":252435.14629803147},{"$f":"G125*'DNSP Inputs General'!N41","v":257585.9675623918},{"$f":"H125*'DNSP Inputs General'!O41","v":261882.76826064358},null,null,{"$f":"D130/'Charges Summary'!D$4","v":235515.2835749606},{"$f":"E130/'Charges Summary'!E$4","v":235587.61599861618},{"$f":"F130/'Charges Summary'!F$4","v":235629.14680374652},{"$f":"G130/'Charges Summary'!G$4","v":234978.31566253555},{"$f":"H130/'Charges Summary'!H$4","v":233474.20516686831}]
[{"$f":"'DNSP Inputs General'!A$42","v":"Sodium High Pressure 150 watt"},null,null,{"$f":"D126*'DNSP Inputs General'!K42","v":317126.83486094035},{"$f":"E126*'DNSP Inputs General'!L42","v":332981.06189122342},{"$f":"F126*'DNSP Inputs General'!M42","v":349526.41871866473},{"$f":"G126*'DNSP Inputs General'!N42","v":365784.09332164517},{"$f":"H126*'DNSP Inputs General'!O42","v":381373.04443785117},null,null,{"$f":"D131/'Charges Summary'!D$4","v":309926.98364409001},{"$f":"E131/'Charges Summary'!E$4","v":318033.10327832052},{"$f":"F131/'Charges Summary'!F$4","v":326256.51790505165},{"$f":"G131/'Charges Summary'!G$4","v":333680.17271379114},{"$f":"H131/'Charges Summary'!H$4","v":340002.39501659997}]
[{"$f":"'DNSP Inputs General'!A$43","v":"Sodium High Pressure 250 watt"},null,null,{"$f":"D127*'DNSP Inputs General'!K43","v":100167.03232296949},{"$f":"E127*'DNSP Inputs General'!L43","v":103884.94242266291},{"$f":"F127*'DNSP Inputs General'!M43","v":107741.44308720836},{"$f":"G127*'DNSP Inputs General'!N43","v":111434.50592857011},{"$f":"H127*'DNSP Inputs General'!O43","v":114854.23874068672},null,null,{"$f":"D132/'Charges Summary'!D$4","v":97892.902068823518},{"$f":"E132/'Charges Summary'!E$4","v":99221.410475776836},{"$f":"F132/'Charges Summary'!F$4","v":100568.50118671963},{"$f":"G132/'Charges Summary'!G$4","v":101654.18853198923},{"$f":"H132/'Charges Summary'!H$4","v":102395.06126397348}]
[{"$f":"'DNSP Inputs General'!A$44","v":"55W Ind"},null,null,{"$f":"IF('DNSP Inputs General'!$B44='DNSP Inputs General'!$A$41,D$125,IF('DNSP Inputs General'!$B44='DNSP Inputs General'!$A$42,D$126,D$127))*'DNSP Inputs General'!$D44*'DNSP Inputs General'!K44","v":0},{"$f":"IF('DNSP Inputs General'!$B44='DNSP Inputs General'!$A$41,E$125,IF('DNSP Inputs General'!$B44='DNSP Inputs General'!$A$42,E$126,E$127))*'DNSP Inputs General'!$D44*'DNSP Inputs General'!L44","v":0},{"$f":"IF('DNSP Inputs General'!$B44='DNSP Inputs General'!$A$41,F$125,IF('DNSP Inputs General'!$B44='DNSP Inputs General'!$A$42,F$126,F$127))*'DNSP Inputs General'!$D44*'DNSP Inputs General'!M44","v":0},{"$f":"IF('DNSP Inputs General'!$B44='DNSP Inputs General'!$A$41,G$125,IF('DNSP Inputs General'!$B44='DNSP Inputs General'!$A$42,G$126,G$127))*'DNSP Inputs General'!$D44*'DNSP Inputs General'!N44","v":0},{"$f":"IF('DNSP Inputs General'!$B44='DNSP Inputs General'!$A$41,H$125,IF('DNSP Inputs General'!$B44='DNSP Inputs General'!$A$42,H$126,H$127))*'DNSP Inputs General'!$D44*'DNSP Inputs General'!O44","v":0},null,null,{"$f":"D133/'Charges Summary'!D$4","v":0},{"$f":"E133/'Charges Summary'!E$4","v":0},{"$f":"F133/'Charges Summary'!F$4","v":0},{"$f":"G133/'Charges Summary'!G$4","v":0},{"$f":"H133/'Charges Summary'!H$4","v":0}]
[{"$f":"'DNSP Inputs General'!A$45","v":"Fluorescent 20 watt"},null,null,{"$f":"IF('DNSP Inputs General'!$B45='DNSP Inputs General'!$A$41,D$125,IF('DNSP Inputs General'!$B45='DNSP Inputs General'!$A$42,D$126,D$127))*'DNSP Inputs General'!$D45*'DNSP Inputs General'!K45","v":0},{"$f":"IF('DNSP Inputs General'!$B45='DNSP Inputs General'!$A$41,E$125,IF('DNSP Inputs General'!$B45='DNSP Inputs General'!$A$42,E$126,E$127))*'DNSP Inputs General'!$D45*'DNSP Inputs General'!L45","v":0},{"$f":"IF('DNSP Inputs General'!$B45='DNSP Inputs General'!$A$41,F$125,IF('DNSP Inputs General'!$B45='DNSP Inputs General'!$A$42,F$126,F$127))*'DNSP Inputs General'!$D45*'DNSP Inputs General'!M45","v":0},{"$f":"IF('DNSP Inputs General'!$B45='DNSP Inputs General'!$A$41,G$125,IF('DNSP Inputs General'!$B45='DNSP Inputs General'!$A$42,G$126,G$127))*'DNSP Inputs General'!$D45*'DNSP Inputs General'!N45","v":0},{"$f":"IF('DNSP Inputs General'!$B45='DNSP Inputs General'!$A$41,H$125,IF('DNSP Inputs General'!$B45='DNSP Inputs General'!$A$42,H$126,H$127))*'DNSP Inputs General'!$D45*'DNSP Inputs General'!O45","v":0},null,null,{"$f":"D134/'Charges Summary'!D$4","v":0},{"$f":"E134/'Charges Summary'!E$4","v":0},{"$f":"F134/'Charges Summary'!F$4","v":0},{"$f":"G134/'Charges Summary'!G$4","v":0},{"$f":"H134/'Charges Summary'!H$4","v":0}]
[{"$f":"'DNSP Inputs General'!A$46","v":"Fluorescent 40 watt"},null,null,{"$f":"IF('DNSP Inputs General'!$B46='DNSP Inputs General'!$A$41,D$125,IF('DNSP Inputs General'!$B46='DNSP Inputs General'!$A$42,D$126,D$127))*'DNSP Inputs General'!$D46*'DNSP Inputs General'!K46","v":0},{"$f":"IF('DNSP Inputs General'!$B46='DNSP Inputs General'!$A$41,E$125,IF('DNSP Inputs General'!$B46='DNSP Inputs General'!$A$42,E$126,E$127))*'DNSP Inputs General'!$D46*'DNSP Inputs General'!L46","v":0},{"$f":"IF('DNSP Inputs General'!$B46='DNSP Inputs General'!$A$41,F$125,IF('DNSP Inputs General'!$B46='DNSP Inputs General'!$A$42,F$126,F$127))*'DNSP Inputs General'!$D46*'DNSP Inputs General'!M46","v":0},{"$f":"IF('DNSP Inputs General'!$B46='DNSP Inputs General'!$A$41,G$125,IF('DNSP Inputs General'!$B46='DNSP Inputs General'!$A$42,G$126,G$127))*'DNSP Inputs General'!$D46*'DNSP Inputs General'!N46","v":0},{"$f":"IF('DNSP Inputs General'!$B46='DNSP Inputs General'!$A$41,H$125,IF('DNSP Inputs General'!$B46='DNSP Inputs General'!$A$42,H$126,H$127))*'DNSP Inputs General'!$D46*'DNSP Inputs General'!O46","v":0},null,null,{"$f":"D135/'Charges Summary'!D$4","v":0},{"$f":"E135/'Charges Summary'!E$4","v":0},{"$f":"F135/'Charges Summary'!F$4","v":0},{"$f":"G135/'Charges Summary'!G$4","v":0},{"$f":"H135/'Charges Summary'!H$4","v":0}]
[{"$f":"'DNSP Inputs General'!A$47","v":"Fluorescent 80 watt"},null,null,{"$f":"IF('DNSP Inputs General'!$B47='DNSP Inputs General'!$A$41,D$125,IF('DNSP Inputs General'!$B47='DNSP Inputs General'!$A$42,D$126,D$127))*'DNSP Inputs General'!$D47*'DNSP Inputs General'!K47","v":0},{"$f":"IF('DNSP Inputs General'!$B47='DNSP Inputs General'!$A$41,E$125,IF('DNSP Inputs General'!$B47='DNSP Inputs General'!$A$42,E$126,E$127))*'DNSP Inputs General'!$D47*'DNSP Inputs General'!L47","v":0},{"$f":"IF('DNSP Inputs General'!$B47='DNSP Inputs General'!$A$41,F$125,IF('DNSP Inputs General'!$B47='DNSP Inputs General'!$A$42,F$126,F$127))*'DNSP Inputs General'!$D47*'DNSP Inputs General'!M47","v":0},{"$f":"IF('DNSP Inputs General'!$B47='DNSP Inputs General'!$A$41,G$125,IF('DNSP Inputs General'!$B47='DNSP Inputs General'!$A$42,G$126,G$127))*'DNSP Inputs General'!$D47*'DNSP Inputs General'!N47","v":0},{"$f":"IF('DNSP Inputs General'!$B47='DNSP Inputs General'!$A$41,H$125,IF('DNSP Inputs General'!$B47='DNSP Inputs General'!$A$42,H$126,H$127))*'DNSP Inputs General'!$D47*'DNSP Inputs General'!O47","v":0},null,null,{"$f":"D136/'Charges Summary'!D$4","v":0},{"$f":"E136/'Charges Summary'!E$4","v":0},{"$f":"F136/'Charges Summary'!F$4","v":0},{"$f":"G136/'Charges Summary'!G$4","v":0},{"$f":"H136/'Charges Summary'!H$4","v":0}]
[{"$f":"'DNSP Inputs General'!A$48","v":"Mercury Vapour 50 watt"},null,null,{"$f":"IF('DNSP Inputs General'!$B48='DNSP Inputs General'!$A$41,D$125,IF('DNSP Inputs General'!$B48='DNSP Inputs General'!$A$42,D$126,D$127))*'DNSP Inputs General'!$D48*'DNSP Inputs General'!K48","v":0},{"$f":"IF('DNSP Inputs General'!$B48='DNSP Inputs General'!$A$41,E$125,IF('DNSP Inputs General'!$B48='DNSP Inputs General'!$A$42,E$126,E$127))*'DNSP Inputs General'!$D48*'DNSP Inputs General'!L48","v":0},{"$f":"IF('DNSP Inputs General'!$B48='DNSP Inputs General'!$A$41,F$125,IF('DNSP Inputs General'!$B48='DNSP Inputs General'!$A$42,F$126,F$127))*'DNSP Inputs General'!$D48*'DNSP Inputs General'!M48","v":0},{"$f":"IF('DNSP Inputs General'!$B48='DNSP Inputs General'!$A$41,G$125,IF('DNSP Inputs General'!$B48='DNSP Inputs General'!$A$42,G$126,G$127))*'DNSP Inputs General'!$D48*'DNSP Inputs General'!N48","v":0},{"$f":"IF('DNSP Inputs General'!$B48='DNSP Inputs General'!$A$41,H$125,IF('DNSP Inputs General'!$B48='DNSP Inputs General'!$A$42,H$126,H$127))*'DNSP Inputs General'!$D48*'DNSP Inputs General'!O48","v":0},null,null,{"$f":"D137/'Charges Summary'!D$4","v":0},{"$f":"E137/'Charges Summary'!E$4","v":0},{"$f":"F137/'Charges Summary'!F$4","v":0},{"$f":"G137/'Charges Summary'!G$4","v":0},{"$f":"H137/'Charges Summary'!H$4","v":0}]
[{"$f":"'DNSP Inputs General'!A$49","v":"Mercury Vapour 125 watt"},null,null,{"$f":"IF('DNSP Inputs General'!$B49='DNSP Inputs General'!$A$41,D$125,IF('DNSP Inputs General'!$B49='DNSP Inputs General'!$A$42,D$126,D$127))*'DNSP Inputs General'!$D49*'DNSP Inputs General'!K49","v":9357.4541952246836},{"$f":"IF('DNSP Inputs General'!$B49='DNSP Inputs General'!$A$41,E$125,IF('DNSP Inputs General'!$B49='DNSP Inputs General'!$A$42,E$126,E$127))*'DNSP Inputs General'!$D49*'DNSP Inputs General'!L49","v":9577.7759882434111},{"$f":"IF('DNSP Inputs General'!$B49='DNSP Inputs General'!$A$41,F$125,IF('DNSP Inputs General'!$B49='DNSP Inputs General'!$A$42,F$126,F$127))*'DNSP Inputs General'!$D49*'DNSP Inputs General'!M49","v":9802.0030211469675},{"$f":"IF('DNSP Inputs General'!$B49='DNSP Inputs General'!$A$41,G$125,IF('DNSP Inputs General'!$B49='DNSP Inputs General'!$A$42,G$126,G$127))*'DNSP Inputs General'!$D49*'DNSP Inputs General'!N49","v":10002.008314922661},{"$f":"IF('DNSP Inputs General'!$B49='DNSP Inputs General'!$A$41,H$125,IF('DNSP Inputs General'!$B49='DNSP Inputs General'!$A$42,H$126,H$127))*'DNSP Inputs General'!$D49*'DNSP Inputs General'!O49","v":10168.852171822864},null,null,{"$f":"D138/'Charges Summary'!D$4","v":9145.0083515809183},{"$f":"E138/'Charges Summary'!E$4","v":9147.8170042015881},{"$f":"F138/'Charges Summary'!F$4","v":9149.4296365284572},{"$f":"G138/'Charges Summary'!G$4","v":9124.158001789945},{"$f":"H138/'Charges Summary'!H$4","v":9065.753711266696}]
[{"$f":"'DNSP Inputs General'!A$50","v":"Mercury Vapour 250 watt"},null,null,{"$f":"IF('DNSP Inputs General'!$B50='DNSP Inputs General'!$A$41,D$125,IF('DNSP Inputs General'!$B50='DNSP Inputs General'!$A$42,D$126,D$127))*'DNSP Inputs General'!$D50*'DNSP Inputs General'!K50","v":2407.0958723785775},{"$f":"IF('DNSP Inputs General'!$B50='DNSP Inputs General'!$A$41,E$125,IF('DNSP Inputs General'!$B50='DNSP Inputs General'!$A$42,E$126,E$127))*'DNSP Inputs General'!$D50*'DNSP Inputs General'!L50","v":2126.2296708054196},{"$f":"IF('DNSP Inputs General'!$B50='DNSP Inputs General'!$A$41,F$125,IF('DNSP Inputs General'!$B50='DNSP Inputs General'!$A$42,F$126,F$127))*'DNSP Inputs General'!$D50*'DNSP Inputs General'!M50","v":1878.336658403723},{"$f":"IF('DNSP Inputs General'!$B50='DNSP Inputs General'!$A$41,G$125,IF('DNSP Inputs General'!$B50='DNSP Inputs General'!$A$42,G$126,G$127))*'DNSP Inputs General'!$D50*'DNSP Inputs General'!N50","v":1654.9511383874594},{"$f":"IF('DNSP Inputs General'!$B50='DNSP Inputs General'!$A$41,H$125,IF('DNSP Inputs General'!$B50='DNSP Inputs General'!$A$42,H$126,H$127))*'DNSP Inputs General'!$D50*'DNSP Inputs General'!O50","v":1453.2051182455377},null,null,{"$f":"D139/'Charges Summary'!D$4","v":2352.4466587495263},{"$f":"E139/'Charges Summary'!E$4","v":2030.7804193068216},{"$f":"F139/'Charges Summary'!F$4","v":1753.2854308145163},{"$f":"G139/'Charges Summary'!G$4","v":1509.7003718103863},{"$f":"H139/'Charges Summary'!H$4","v":1295.5640883905785}]
[{"$f":"'DNSP Inputs General'!A$51","v":"Mercury Vapour 400 watt"},null,null,{"$f":"IF('DNSP Inputs General'!$B51='DNSP Inputs General'!$A$41,D$125,IF('DNSP Inputs General'!$B51='DNSP Inputs General'!$A$42,D$126,D$127))*'DNSP Inputs General'!$D51*'DNSP Inputs General'!K51","v":4393.317653557674},{"$f":"IF('DNSP Inputs General'!$B51='DNSP Inputs General'!$A$41,E$125,IF('DNSP Inputs General'!$B51='DNSP Inputs General'!$A$42,E$126,E$127))*'DNSP Inputs General'!$D51*'DNSP Inputs General'!L51","v":4324.0104973504322},{"$f":"IF('DNSP Inputs General'!$B51='DNSP Inputs General'!$A$41,F$125,IF('DNSP Inputs General'!$B51='DNSP Inputs General'!$A$42,F$126,F$127))*'DNSP Inputs General'!$D51*'DNSP Inputs General'!M51","v":4256.2521411762418},{"$f":"IF('DNSP Inputs General'!$B51='DNSP Inputs General'!$A$41,G$125,IF('DNSP Inputs General'!$B51='DNSP Inputs General'!$A$42,G$126,G$127))*'DNSP Inputs General'!$D51*'DNSP Inputs General'!N51","v":4178.4618100684247},{"$f":"IF('DNSP Inputs General'!$B51='DNSP Inputs General'!$A$41,H$125,IF('DNSP Inputs General'!$B51='DNSP Inputs General'!$A$42,H$126,H$127))*'DNSP Inputs General'!$D51*'DNSP Inputs General'!O51","v":4088.2319500261242},null,null,{"$f":"D140/'Charges Summary'!D$4","v":4293.5744909588748},{"$f":"E140/'Charges Summary'!E$4","v":4129.8999686944007},{"$f":"F140/'Charges Summary'!F$4","v":3972.8899692237428},{"$f":"G140/'Charges Summary'!G$4","v":3811.7290607155737},{"$f":"H140/'Charges Summary'!H$4","v":3644.7480351978152}]
[{"$f":"'DNSP Inputs General'!A$52","v":"Sodium High Pressure 50 watt"},null,null,{"$f":"IF('DNSP Inputs General'!$B52='DNSP Inputs General'!$A$41,D$125,IF('DNSP Inputs General'!$B52='DNSP Inputs General'!$A$42,D$126,D$127))*'DNSP Inputs General'!$D52*'DNSP Inputs General'!K52","v":0},{"$f":"IF('DNSP Inputs General'!$B52='DNSP Inputs General'!$A$41,E$125,IF('DNSP Inputs General'!$B52='DNSP Inputs General'!$A$42,E$126,E$127))*'DNSP Inputs General'!$D52*'DNSP Inputs General'!L52","v":0},{"$f":"IF('DNSP Inputs General'!$B52='DNSP Inputs General'!$A$41,F$125,IF('DNSP Inputs General'!$B52='DNSP Inputs General'!$A$42,F$126,F$127))*'DNSP Inputs General'!$D52*'DNSP Inputs General'!M52","v":0},{"$f":"IF('DNSP Inputs General'!$B52='DNSP Inputs General'!$A$41,G$125,IF('DNSP Inputs General'!$B52='DNSP Inputs General'!$A$42,G$126,G$127))*'DNSP Inputs General'!$D52*'DNSP Inputs General'!N52","v":0},{"$f":"IF('DNSP Inputs General'!$B52='DNSP Inputs General'!$A$41,H$125,IF('DNSP Inputs General'!$B52='DNSP Inputs General'!$A$42,H$126,H$127))*'DNSP Inputs General'!$D52*'DNSP Inputs General'!O52","v":0},null,null,{"$f":"D141/'Charges Summary'!D$4","v":0},{"$f":"E141/'Charges Summary'!E$4","v":0},{"$f":"F141/'Charges Summary'!F$4","v":0},{"$f":"G141/'Charges Summary'!G$4","v":0},{"$f":"H141/'Charges Summary'!H$4","v":0}]
[{"$f":"'DNSP Inputs General'!A$53","v":"Sodium Low Pressure 90 watt"},null,null,{"$f":"IF('DNSP Inputs General'!$B53='DNSP Inputs General'!$A$41,D$125,IF('DNSP Inputs General'!$B53='DNSP Inputs General'!$A$42,D$126,D$127))*'DNSP Inputs General'!$D53*'DNSP Inputs General'!K53","v":0},{"$f":"IF('DNSP Inputs General'!$B53='DNSP Inputs General'!$A$41,E$125,IF('DNSP Inputs General'!$B53='DNSP Inputs General'!$A$42,E$126,E$127))*'DNSP Inputs General'!$D53*'DNSP Inputs General'!L53","v":0},{"$f":"IF('DNSP Inputs General'!$B53='DNSP Inputs General'!$A$41,F$125,IF('DNSP Inputs General'!$B53='DNSP Inputs General'!$A$42,F$126,F$127))*'DNSP Inputs General'!$D53*'DNSP Inputs General'!M53","v":0},{"$f":"IF('DNSP Inputs General'!$B53='DNSP Inputs General'!$A$41,G$125,IF('DNSP Inputs General'!$B53='DNSP Inputs General'!$A$42,G$126,G$127))*'DNSP Inputs General'!$D53*'DNSP Inputs General'!N53","v":0},{"$f":"IF('DNSP Inputs General'!$B53='DNSP Inputs General'!$A$41,H$125,IF('DNSP Inputs General'!$B53='DNSP Inputs General'!$A$42,H$126,H$127))*'DNSP Inputs General'!$D53*'DNSP Inputs General'!O53","v":0},null,null,{"$f":"D142/'Charges Summary'!D$4","v":0},{"$f":"E142/'Charges Summary'!E$4","v":0},{"$f":"F142/'Charges Summary'!F$4","v":0},{"$f":"G142/'Charges Summary'!G$4","v":0},{"$f":"H142/'Charges Summary'!H$4","v":0}]
[{"$f":"'DNSP Inputs General'!A$54","v":"Sodium High Pressure 100 watt"},null,null,{"$f":"IF('DNSP Inputs General'!$B54='DNSP Inputs General'!$A$41,D$125,IF('DNSP Inputs General'!$B54='DNSP Inputs General'!$A$42,D$126,D$127))*'DNSP Inputs General'!$D54*'DNSP Inputs General'!K54","v":31759.484346995574},{"$f":"IF('DNSP Inputs General'!$B54='DNSP Inputs General'!$A$41,E$125,IF('DNSP Inputs General'!$B54='DNSP Inputs General'!$A$42,E$126,E$127))*'DNSP Inputs General'!$D54*'DNSP Inputs General'!L54","v":32427.590228304602},{"$f":"IF('DNSP Inputs General'!$B54='DNSP Inputs General'!$A$41,F$125,IF('DNSP Inputs General'!$B54='DNSP Inputs General'!$A$42,F$126,F$127))*'DNSP Inputs General'!$D54*'DNSP Inputs General'!M54","v":33111.295589013032},{"$f":"IF('DNSP Inputs General'!$B54='DNSP Inputs General'!$A$41,G$125,IF('DNSP Inputs General'!$B54='DNSP Inputs General'!$A$42,G$126,G$127))*'DNSP Inputs General'!$D54*'DNSP Inputs General'!N54","v":33717.371439971554},{"$f":"IF('DNSP Inputs General'!$B54='DNSP Inputs General'!$A$41,H$125,IF('DNSP Inputs General'!$B54='DNSP Inputs General'!$A$42,H$126,H$127))*'DNSP Inputs General'!$D54*'DNSP Inputs General'!O54","v":34216.128525827677},null,null,{"$f":"D143/'Charges Summary'!D$4","v":31038.436687555073},{"$f":"E143/'Charges Summary'!E$4","v":30971.872975510145},{"$f":"F143/'Charges Summary'!F$4","v":30906.89408199352},{"$f":"G143/'Charges Summary'!G$4","v":30758.085250173979},{"$f":"H143/'Charges Summary'!H$4","v":30504.425566115307}]
[{"$f":"'DNSP Inputs General'!A$55","v":"Sodium High Pressure 400 watt"},null,null,{"$f":"IF('DNSP Inputs General'!$B55='DNSP Inputs General'!$A$41,D$125,IF('DNSP Inputs General'!$B55='DNSP Inputs General'!$A$42,D$126,D$127))*'DNSP Inputs General'!$D55*'DNSP Inputs General'!K55","v":8090.4039288318863},{"$f":"IF('DNSP Inputs General'!$B55='DNSP Inputs General'!$A$41,E$125,IF('DNSP Inputs General'!$B55='DNSP Inputs General'!$A$42,E$126,E$127))*'DNSP Inputs General'!$D55*'DNSP Inputs General'!L55","v":8373.9960963128178},{"$f":"IF('DNSP Inputs General'!$B55='DNSP Inputs General'!$A$41,F$125,IF('DNSP Inputs General'!$B55='DNSP Inputs General'!$A$42,F$126,F$127))*'DNSP Inputs General'!$D55*'DNSP Inputs General'!M55","v":8668.4565591749015},{"$f":"IF('DNSP Inputs General'!$B55='DNSP Inputs General'!$A$41,G$125,IF('DNSP Inputs General'!$B55='DNSP Inputs General'!$A$42,G$126,G$127))*'DNSP Inputs General'!$D55*'DNSP Inputs General'!N55","v":8949.5104909524689},{"$f":"IF('DNSP Inputs General'!$B55='DNSP Inputs General'!$A$41,H$125,IF('DNSP Inputs General'!$B55='DNSP Inputs General'!$A$42,H$126,H$127))*'DNSP Inputs General'!$D55*'DNSP Inputs General'!O55","v":9208.4553607920116},null,null,{"$f":"D144/'Charges Summary'!D$4","v":7906.7244095715459},{"$f":"E144/'Charges Summary'!E$4","v":7998.0763777518086},{"$f":"F144/'Charges Summary'!F$4","v":8091.3496123564573},{"$f":"G144/'Charges Summary'!G$4","v":8164.0351804445008},{"$f":"H144/'Charges Summary'!H$4","v":8209.5389874439497}]
[{"$f":"'DNSP Inputs General'!A$56","v":"Metal Halide 70 watt"},null,null,{"$f":"IF('DNSP Inputs General'!$B56='DNSP Inputs General'!$A$41,D$125,IF('DNSP Inputs General'!$B56='DNSP Inputs General'!$A$42,D$126,D$127))*'DNSP Inputs General'!$D56*'DNSP Inputs General'!K56","v":553.68210896048072},{"$f":"IF('DNSP Inputs General'!$B56='DNSP Inputs General'!$A$41,E$125,IF('DNSP Inputs General'!$B56='DNSP Inputs General'!$A$42,E$126,E$127))*'DNSP Inputs General'!$D56*'DNSP Inputs General'!L56","v":574.99856515052727},{"$f":"IF('DNSP Inputs General'!$B56='DNSP Inputs General'!$A$41,F$125,IF('DNSP Inputs General'!$B56='DNSP Inputs General'!$A$42,F$126,F$127))*'DNSP Inputs General'!$D56*'DNSP Inputs General'!M56","v":597.05758905583389},{"$f":"IF('DNSP Inputs General'!$B56='DNSP Inputs General'!$A$41,G$125,IF('DNSP Inputs General'!$B56='DNSP Inputs General'!$A$42,G$126,G$127))*'DNSP Inputs General'!$D56*'DNSP Inputs General'!N56","v":618.14150802982374},{"$f":"IF('DNSP Inputs General'!$B56='DNSP Inputs General'!$A$41,H$125,IF('DNSP Inputs General'!$B56='DNSP Inputs General'!$A$42,H$126,H$127))*'DNSP Inputs General'!$D56*'DNSP Inputs General'!O56","v":637.63468804686022},null,null,{"$f":"D145/'Charges Summary'!D$4","v":541.11165333285965},{"$f":"E145/'Charges Summary'!E$4","v":549.1861219276858},{"$f":"F145/'Charges Summary'!F$4","v":557.30817346580056},{"$f":"G145/'Charges Summary'!G$4","v":563.88883203727175},{"$f":"H145/'Charges Summary'!H$4","v":568.46524483962196}]
[{"$f":"'DNSP Inputs General'!A$57","v":"Metal Halide 150 watt"},null,null,{"$f":"IF('DNSP Inputs General'!$B57='DNSP Inputs General'!$A$41,D$125,IF('DNSP Inputs General'!$B57='DNSP Inputs General'!$A$42,D$126,D$127))*'DNSP Inputs General'!$D57*'DNSP Inputs General'!K57","v":1479.1115334403178},{"$f":"IF('DNSP Inputs General'!$B57='DNSP Inputs General'!$A$41,E$125,IF('DNSP Inputs General'!$B57='DNSP Inputs General'!$A$42,E$126,E$127))*'DNSP Inputs General'!$D57*'DNSP Inputs General'!L57","v":1532.2917474261915},{"$f":"IF('DNSP Inputs General'!$B57='DNSP Inputs General'!$A$41,F$125,IF('DNSP Inputs General'!$B57='DNSP Inputs General'!$A$42,F$126,F$127))*'DNSP Inputs General'!$D57*'DNSP Inputs General'!M57","v":1587.4580797669569},{"$f":"IF('DNSP Inputs General'!$B57='DNSP Inputs General'!$A$41,G$125,IF('DNSP Inputs General'!$B57='DNSP Inputs General'!$A$42,G$126,G$127))*'DNSP Inputs General'!$D57*'DNSP Inputs General'!N57","v":1640.1331508825408},{"$f":"IF('DNSP Inputs General'!$B57='DNSP Inputs General'!$A$41,H$125,IF('DNSP Inputs General'!$B57='DNSP Inputs General'!$A$42,H$126,H$127))*'DNSP Inputs General'!$D57*'DNSP Inputs General'!O57","v":1688.7119253565902},null,null,{"$f":"D146/'Charges Summary'!D$4","v":1445.5307014096024},{"$f":"E146/'Charges Summary'!E$4","v":1463.5051518963178},{"$f":"F146/'Charges Summary'!F$4","v":1481.772242921305},{"$f":"G146/'Charges Summary'!G$4","v":1496.1829206139389},{"$f":"H146/'Charges Summary'!H$4","v":1505.5235483689278}]
[{"$f":"'DNSP Inputs General'!A$58","v":"Metal Halide 250 watt"},null,null,{"$f":"IF('DNSP Inputs General'!$B58='DNSP Inputs General'!$A$41,D$125,IF('DNSP Inputs General'!$B58='DNSP Inputs General'!$A$42,D$126,D$127))*'DNSP Inputs General'!$D58*'DNSP Inputs General'!K58","v":3269.6181291331868},{"$f":"IF('DNSP Inputs General'!$B58='DNSP Inputs General'!$A$41,E$125,IF('DNSP Inputs General'!$B58='DNSP Inputs General'!$A$42,E$126,E$127))*'DNSP Inputs General'!$D58*'DNSP Inputs General'!L58","v":3384.2277456903303},{"$f":"IF('DNSP Inputs General'!$B58='DNSP Inputs General'!$A$41,F$125,IF('DNSP Inputs General'!$B58='DNSP Inputs General'!$A$42,F$126,F$127))*'DNSP Inputs General'!$D58*'DNSP Inputs General'!M58","v":3503.229624478578},{"$f":"IF('DNSP Inputs General'!$B58='DNSP Inputs General'!$A$41,G$125,IF('DNSP Inputs General'!$B58='DNSP Inputs General'!$A$42,G$126,G$127))*'DNSP Inputs General'!$D58*'DNSP Inputs General'!N58","v":3616.8134502909406},{"$f":"IF('DNSP Inputs General'!$B58='DNSP Inputs General'!$A$41,H$125,IF('DNSP Inputs General'!$B58='DNSP Inputs General'!$A$42,H$126,H$127))*'DNSP Inputs General'!$D58*'DNSP Inputs General'!O58","v":3721.4622228764706},null,null,{"$f":"D147/'Charges Summary'!D$4","v":3195.3867444697034},{"$f":"E147/'Charges Summary'!E$4","v":3232.3053030387946},{"$f":"F147/'Charges Summary'!F$4","v":3270.0003132643569},{"$f":"G147/'Charges Summary'!G$4","v":3299.3751199164799},{"$f":"H147/'Charges Summary'!H$4","v":3317.7648163542276}]
[{"$f":"'DNSP Inputs General'!A$59","v":"Incandescent 100 watt"},null,null,{"$f":"IF('DNSP Inputs General'!$B59='DNSP Inputs General'!$A$41,D$125,IF('DNSP Inputs General'!$B59='DNSP Inputs General'!$A$42,D$126,D$127))*'DNSP Inputs General'!$D59*'DNSP Inputs General'!K59","v":0},{"$f":"IF('DNSP Inputs General'!$B59='DNSP Inputs General'!$A$41,E$125,IF('DNSP Inputs General'!$B59='DNSP Inputs General'!$A$42,E$126,E$127))*'DNSP Inputs General'!$D59*'DNSP Inputs General'!L59","v":0},{"$f":"IF('DNSP Inputs General'!$B59='DNSP Inputs General'!$A$41,F$125,IF('DNSP Inputs General'!$B59='DNSP Inputs General'!$A$42,F$126,F$127))*'DNSP Inputs General'!$D59*'DNSP Inputs General'!M59","v":0},{"$f":"IF('DNSP Inputs General'!$B59='DNSP Inputs General'!$A$41,G$125,IF('DNSP Inputs General'!$B59='DNSP Inputs General'!$A$42,G$126,G$127))*'DNSP Inputs General'!$D59*'DNSP Inputs General'!N59","v":0},{"$f":"IF('DNSP Inputs General'!$B59='DNSP Inputs General'!$A$41,H$125,IF('DNSP Inputs General'!$B59='DNSP Inputs General'!$A$42,H$126,H$127))*'DNSP Inputs General'!$D59*'DNSP Inputs General'!O59","v":0},null,null,{"$f":"D148/'Charges Summary'!D$4","v":0},{"$f":"E148/'Charges Summary'!E$4","v":0},{"$f":"F148/'Charges Summary'!F$4","v":0},{"$f":"G148/'Charges Summary'!G$4","v":0},{"$f":"H148/'Charges Summary'!H$4","v":0}]
[{"$f":"'DNSP Inputs General'!A$60","v":"Incandescent 150 watt"},null,null,{"$f":"IF('DNSP Inputs General'!$B60='DNSP Inputs General'!$A$41,D$125,IF('DNSP Inputs General'!$B60='DNSP Inputs General'!$A$42,D$126,D$127))*'DNSP Inputs General'!$D60*'DNSP Inputs General'!K60","v":0},{"$f":"IF('DNSP Inputs General'!$B60='DNSP Inputs General'!$A$41,E$125,IF('DNSP Inputs General'!$B60='DNSP Inputs General'!$A$42,E$126,E$127))*'DNSP Inputs General'!$D60*'DNSP Inputs General'!L60","v":0},{"$f":"IF('DNSP Inputs General'!$B60='DNSP Inputs General'!$A$41,F$125,IF('DNSP Inputs General'!$B60='DNSP Inputs General'!$A$42,F$126,F$127))*'DNSP Inputs General'!$D60*'DNSP Inputs General'!M60","v":0},{"$f":"IF('DNSP Inputs General'!$B60='DNSP Inputs General'!$A$41,G$125,IF('DNSP Inputs General'!$B60='DNSP Inputs General'!$A$42,G$126,G$127))*'DNSP Inputs General'!$D60*'DNSP Inputs General'!N60","v":0},{"$f":"IF('DNSP Inputs General'!$B60='DNSP Inputs General'!$A$41,H$125,IF('DNSP Inputs General'!$B60='DNSP Inputs General'!$A$42,H$126,H$127))*'DNSP Inputs General'!$D60*'DNSP Inputs General'!O60","v":0},null,null,{"$f":"D149/'Charges Summary'!D$4","v":0},{"$f":"E149/'Charges Summary'!E$4","v":0},{"$f":"F149/'Charges Summary'!F$4","v":0},{"$f":"G149/'Charges Summary'!G$4","v":0},{"$f":"H149/'Charges Summary'!H$4","v":0}]
[{"$f":"'DNSP Inputs General'!A$61","v":"Sodium High Pressure 250 watt (24 hrs)"},null,null,{"$f":"IF('DNSP Inputs General'!$B61='DNSP Inputs General'!$A$41,D$125,IF('DNSP Inputs General'!$B61='DNSP Inputs General'!$A$42,D$126,D$127))*'DNSP Inputs General'!$D61*'DNSP Inputs General'!K61","v":0},{"$f":"IF('DNSP Inputs General'!$B61='DNSP Inputs General'!$A$41,E$125,IF('DNSP Inputs General'!$B61='DNSP Inputs General'!$A$42,E$126,E$127))*'DNSP Inputs General'!$D61*'DNSP Inputs General'!L61","v":0},{"$f":"IF('DNSP Inputs General'!$B61='DNSP Inputs General'!$A$41,F$125,IF('DNSP Inputs General'!$B61='DNSP Inputs General'!$A$42,F$126,F$127))*'DNSP Inputs General'!$D61*'DNSP Inputs General'!M61","v":0},{"$f":"IF('DNSP Inputs General'!$B61='DNSP Inputs General'!$A$41,G$125,IF('DNSP Inputs General'!$B61='DNSP Inputs General'!$A$42,G$126,G$127))*'DNSP Inputs General'!$D61*'DNSP Inputs General'!N61","v":0},{"$f":"IF('DNSP Inputs General'!$B61='DNSP Inputs General'!$A$41,H$125,IF('DNSP Inputs General'!$B61='DNSP Inputs General'!$A$42,H$126,H$127))*'DNSP Inputs General'!$D61*'DNSP Inputs General'!O61","v":0},null,null,{"$f":"D150/'Charges Summary'!D$4","v":0},{"$f":"E150/'Charges Summary'!E$4","v":0},{"$f":"F150/'Charges Summary'!F$4","v":0},{"$f":"G150/'Charges Summary'!G$4","v":0},{"$f":"H150/'Charges Summary'!H$4","v":0}]
[{"$f":"'DNSP Inputs General'!A$62","v":"Metal Halide 100 watt"},null,null,{"$f":"IF('DNSP Inputs General'!$B62='DNSP Inputs General'!$A$41,D$125,IF('DNSP Inputs General'!$B62='DNSP Inputs General'!$A$42,D$126,D$127))*'DNSP Inputs General'!$D62*'DNSP Inputs General'!K62","v":0},{"$f":"IF('DNSP Inputs General'!$B62='DNSP Inputs General'!$A$41,E$125,IF('DNSP Inputs General'!$B62='DNSP Inputs General'!$A$42,E$126,E$127))*'DNSP Inputs General'!$D62*'DNSP Inputs General'!L62","v":0},{"$f":"IF('DNSP Inputs General'!$B62='DNSP Inputs General'!$A$41,F$125,IF('DNSP Inputs General'!$B62='DNSP Inputs General'!$A$42,F$126,F$127))*'DNSP Inputs General'!$D62*'DNSP Inputs General'!M62","v":0},{"$f":"IF('DNSP Inputs General'!$B62='DNSP Inputs General'!$A$41,G$125,IF('DNSP Inputs General'!$B62='DNSP Inputs General'!$A$42,G$126,G$127))*'DNSP Inputs General'!$D62*'DNSP Inputs General'!N62","v":0},{"$f":"IF('DNSP Inputs General'!$B62='DNSP Inputs General'!$A$41,H$125,IF('DNSP Inputs General'!$B62='DNSP Inputs General'!$A$42,H$126,H$127))*'DNSP Inputs General'!$D62*'DNSP Inputs General'!O62","v":0},null,null,{"$f":"D151/'Charges Summary'!D$4","v":0},{"$f":"E151/'Charges Summary'!E$4","v":0},{"$f":"F151/'Charges Summary'!F$4","v":0},{"$f":"G151/'Charges Summary'!G$4","v":0},{"$f":"H151/'Charges Summary'!H$4","v":0}]
[]
[]
[{"$f":"'DNSP Inputs General'!A$67","v":"Energy Efficient Lights"}]
[{"$f":"'DNSP Inputs General'!A$68","v":"T5 2X14W"},null,null,{"$f":"SUM('Charges Summary'!D85,'Charges Summary'!D11)*'DNSP Inputs General'!$D68*'DNSP Inputs General'!K68","v":264527.2801718933},{"$f":"SUM('Charges Summary'!E85,'Charges Summary'!E11)*'DNSP Inputs General'!$D68*'DNSP Inputs General'!L68","v":303377.3877085041},{"$f":"SUM('Charges Summary'!F85,'Charges Summary'!F11)*'DNSP Inputs General'!$D68*'DNSP Inputs General'!M68","v":343496.87444253045},{"$f":"SUM('Charges Summary'!G85,'Charges Summary'!G11)*'DNSP Inputs General'!$D68*'DNSP Inputs General'!N68","v":383139.07091921585},{"$f":"SUM('Charges Summary'!H85,'Charges Summary'!H11)*'DNSP Inputs General'!$D68*'DNSP Inputs General'!O68","v":421631.81553033623},null,null,{"$f":"D155/'Charges Summary'!D$4","v":258521.61666230459},{"$f":"E155/'Charges Summary'!E$4","v":289758.37703624327},{"$f":"F155/'Charges Summary'!F$4","v":320628.39363536861},{"$f":"G155/'Charges Summary'!G$4","v":349511.94896631711},{"$f":"H155/'Charges Summary'!H$4","v":375893.9683501228}]
[{"$f":"'DNSP Inputs General'!A$69","v":"T5 (2x24W)"},null,null,{"$f":"SUM('Charges Summary'!D$85,'Charges Summary'!D$11)*'DNSP Inputs General'!$D69*'DNSP Inputs General'!K69","v":2827.5679700479482},{"$f":"SUM('Charges Summary'!E$85,'Charges Summary'!E$11)*'DNSP Inputs General'!$D69*'DNSP Inputs General'!L69","v":3199.2079535860485},{"$f":"SUM('Charges Summary'!F$85,'Charges Summary'!F$11)*'DNSP Inputs General'!$D69*'DNSP Inputs General'!M69","v":3574.1877832992836},{"$f":"SUM('Charges Summary'!G$85,'Charges Summary'!G$11)*'DNSP Inputs General'!$D69*'DNSP Inputs General'!N69","v":3934.4396959082278},{"$f":"SUM('Charges Summary'!H$85,'Charges Summary'!H$11)*'DNSP Inputs General'!$D69*'DNSP Inputs General'!O69","v":4273.7220100651029},null,null,{"$f":"D156/'Charges Summary'!D$4","v":2763.3726183716899},{"$f":"E156/'Charges Summary'!E$4","v":3055.5912931890189},{"$f":"F156/'Charges Summary'!F$4","v":3336.2343962234222},{"$f":"G156/'Charges Summary'!G$4","v":3589.1241342422973},{"$f":"H156/'Charges Summary'!H$4","v":3810.1164732267466}]
[{"$f":"'DNSP Inputs General'!A$70","v":"LED 18W"},null,null,{"$f":"SUM('Charges Summary'!D$103,'Charges Summary'!D$11)*'DNSP Inputs General'!$D70*'DNSP Inputs General'!K70","v":3790.3618100999474},{"$f":"SUM('Charges Summary'!E$103,'Charges Summary'!E$11)*'DNSP Inputs General'!$D70*'DNSP Inputs General'!L70","v":6344.3319562475263},{"$f":"SUM('Charges Summary'!F$103,'Charges Summary'!F$11)*'DNSP Inputs General'!$D70*'DNSP Inputs General'!M70","v":9366.2674965360038},{"$f":"SUM('Charges Summary'!G$103,'Charges Summary'!G$11)*'DNSP Inputs General'!$D70*'DNSP Inputs General'!N70","v":12791.485698340668},{"$f":"SUM('Charges Summary'!H$103,'Charges Summary'!H$11)*'DNSP Inputs General'!$D70*'DNSP Inputs General'!O70","v":16556.900862091359},null,null,{"$f":"D157/'Charges Summary'!D$4","v":3704.3077834745509},{"$f":"E157/'Charges Summary'!E$4","v":6059.5265352729075},{"$f":"F157/'Charges Summary'!F$4","v":8742.7034282256427},{"$f":"G157/'Charges Summary'!G$4","v":11668.81019436536},{"$f":"H157/'Charges Summary'!H$4","v":14760.838578566189}]
[{"$f":"'DNSP Inputs General'!A$71","v":"Compact Fluoro 32W"},null,null,{"$f":"SUM('Charges Summary'!D$85,'Charges Summary'!D$11)*'DNSP Inputs General'!$D71*'DNSP Inputs General'!K71","v":52.02394410638442},{"$f":"SUM('Charges Summary'!E$85,'Charges Summary'!E$11)*'DNSP Inputs General'!$D71*'DNSP Inputs General'!L71","v":58.861685209724143},{"$f":"SUM('Charges Summary'!F$85,'Charges Summary'!F$11)*'DNSP Inputs General'!$D71*'DNSP Inputs General'!M71","v":65.760875577088541},{"$f":"SUM('Charges Summary'!G$85,'Charges Summary'!G$11)*'DNSP Inputs General'!$D71*'DNSP Inputs General'!N71","v":72.389089492479584},{"$f":"SUM('Charges Summary'!H$85,'Charges Summary'!H$11)*'DNSP Inputs General'!$D71*'DNSP Inputs General'!O71","v":78.631487318086116},null,null,{"$f":"D158/'Charges Summary'!D$4","v":50.842824705233923},{"$f":"E158/'Charges Summary'!E$4","v":56.219306602954894},{"$f":"F158/'Charges Summary'!F$4","v":61.382811516280292},{"$f":"G158/'Charges Summary'!G$4","v":66.035686967953012},{"$f":"H158/'Charges Summary'!H$4","v":70.101687578036007}]
[{"$f":"'DNSP Inputs General'!A$72","v":"Compact Fluoro 42W"},null,null,{"$f":"SUM('Charges Summary'!D$85,'Charges Summary'!D$11)*'DNSP Inputs General'!$D72*'DNSP Inputs General'!K72","v":498.7111829603291},{"$f":"SUM('Charges Summary'!E$85,'Charges Summary'!E$11)*'DNSP Inputs General'!$D72*'DNSP Inputs General'!L72","v":564.25903814504454},{"$f":"SUM('Charges Summary'!F$85,'Charges Summary'!F$11)*'DNSP Inputs General'!$D72*'DNSP Inputs General'!M72","v":630.3959573786359},{"$f":"SUM('Charges Summary'!G$85,'Charges Summary'!G$11)*'DNSP Inputs General'!$D72*'DNSP Inputs General'!N72","v":693.93524605500363},{"$f":"SUM('Charges Summary'!H$85,'Charges Summary'!H$11)*'DNSP Inputs General'!$D72*'DNSP Inputs General'!O72","v":753.77603009381266},null,null,{"$f":"D159/'Charges Summary'!D$4","v":487.38875318528881},{"$f":"E159/'Charges Summary'!E$4","v":538.9287064401625},{"$f":"F159/'Charges Summary'!F$4","v":588.4270227977255},{"$f":"G159/'Charges Summary'!G$4","v":633.03035037176869},{"$f":"H159/'Charges Summary'!H$4","v":672.00778680037399}]
[null,null,null,{"$f":"SUM('Charges Summary'!D$85,'Charges Summary'!D$11)*'DNSP Inputs General'!$D73*'DNSP Inputs General'!K73","v":0},{"$f":"SUM('Charges Summary'!E$85,'Charges Summary'!E$11)*'DNSP Inputs General'!$D73*'DNSP Inputs General'!L73","v":0},{"$f":"SUM('Charges Summary'!F$85,'Charges Summary'!F$11)*'DNSP Inputs General'!$D73*'DNSP Inputs General'!M73","v":0},{"$f":"SUM('Charges Summary'!G$85,'Charges Summary'!G$11)*'DNSP Inputs General'!$D73*'DNSP Inputs General'!N73","v":0},{"$f":"SUM('Charges Summary'!H$85,'Charges Summary'!H$11)*'DNSP Inputs General'!$D73*'DNSP Inputs General'!O73","v":0},null,null,{"$f":"D160/'Charges Summary'!D$4","v":0},{"$f":"E160/'Charges Summary'!E$4","v":0},{"$f":"F160/'Charges Summary'!F$4","v":0},{"$f":"G160/'Charges Summary'!G$4","v":0},{"$f":"H160/'Charges Summary'!H$4","v":0}]
["Total Capital Charge",null,null,{"$f":"SUM(D130:D159)","v":991286.47163458669},{"$f":"SUM(E130:E159)","v":1059391.7054948295},{"$f":"SUM(F130:F159)","v":1130240.5839214425},{"$f":"SUM(G130:G159)","v":1199813.278765125},{"$f":"SUM(H130:H159)","v":1266587.5793220804},null,null,{"$f":"SUM(K130:K159)","v":968780.91762754344},{"$f":"SUM(L130:L159)","v":1011834.2159527894},{"$f":"SUM(M130:M159)","v":1054994.2366502176},{"$f":"SUM(N130:N159)","v":1094508.7809780822},{"$f":"SUM(O130:O159)","v":1129190.4783217132}]
[]
["Check",null,{"$f":"SUM(D163:O163)","v":7.9162418842315674E-9},{"$f":"ABS(D75-SUM(D118,D161))","v":4.6566128730773926E-10},{"$f":"ABS(E75-SUM(E118,E161))","v":9.3132257461547852E-10},{"$f":"ABS(F75-SUM(F118,F161))","v":0},{"$f":"ABS(G75-SUM(G118,G161))","v":9.3132257461547852E-10},{"$f":"ABS(H75-SUM(H118,H161))","v":9.3132257461547852E-10},null,null,{"$f":"ABS(K75-SUM(K118,K161))","v":9.3132257461547852E-10},{"$f":"ABS(L75-SUM(L118,L161))","v":0},{"$f":"ABS(M75-SUM(M118,M161))","v":0},{"$f":"ABS(N75-SUM(N118,N161))","v":1.862645149230957E-9},{"$f":"ABS(O75-SUM(O118,O161))","v":1.862645149230957E-9}]
[]
["Public Lighting - Capital Expenditure",null,null,"Forecast Capital Expenditure - Nominal ",null,null,null,null,null,null,"Forecast Capital Expenditure - Real 2015 $ "]
[null,null,null,{"$f":"D$2","v":2016},2017,2018,2019,2020,null,null,{"$f":"K$2","v":2016},2017,2018,2019,2020]
[]
["Total Capital Expenditure",null,null,{"$f":"K168*'Charges Summary'!D$4","v":916090.35549860075},{"$f":"L168*'Charges Summary'!E$4","v":971634.26851318358},{"$f":"M168*'Charges Summary'!F$4","v":1013257.5167426281},{"$f":"N168*'Charges Summary'!G$4","v":997854.56112309743},{"$f":"O168*'Charges Summary'!H$4","v":1012352.5774561805},null,null,{"$f":"'DNSP Inputs General'!K14","v":895292.00753264048},{"$f":"'DNSP Inputs General'!L14","v":928016.32594875665},{"$f":"'DNSP Inputs General'!M14","v":945799.37724151288},{"$f":"'DNSP Inputs General'!N14","v":910275.45587121451},{"$f":"'DNSP Inputs General'!O14","v":902534.42385706119}]
["Check",null,{"$f":"SUM(D169:H169)","v":1.1641532182693481E-10},{"$f":"ABS(D168-D176)","v":1.1641532182693481E-10},{"$f":"ABS(E168-E176)","v":0},{"$f":"ABS(F168-F176)","v":0},{"$f":"ABS(G168-G176)","v":0},{"$f":"ABS(H168-H176)","v":0}]
[]
[]
["Public Lighting - RAB",null,null,"RAB - Historical Cost ($)"]
[null,null,null,{"$f":"D$2","v":2016},2017,2018,2019,2020]
[]
["Opening RAB",null,null,{"$f":"'Total RAB'!N139","v":6829739.4544968884},{"$f":"D178","v":7258638.3368370039},{"$f":"E178","v":7706341.5192010971},8156961.9075200353,8552897.1784726903]
["Capex",null,null,{"$f":"'Total RAB'!N140","v":916090.35549860063},{"$f":"'Total RAB'!O140","v":971634.26851318358},{"$f":"'Total RAB'!P140","v":1013257.5167426281},{"$f":"'Total RAB'!Q140","v":997854.56112309743},{"$f":"'Total RAB'!R140","v":1012352.5774561805}]
["Depreciation",null,null,{"$f":"'Total RAB'!N141","v":487191.47315848537},{"$f":"'Total RAB'!O141","v":523931.08614908956},{"$f":"'Total RAB'!P141","v":562637.1284236887},{"$f":"'Total RAB'!Q141","v":601919.29017044161},{"$f":"'Total RAB'!R141","v":641248.21345691802}]
["Closing RAB",null,null,{"$f":"D175+D176-D177","v":7258638.3368370039},{"$f":"E175+E176-E177","v":7706341.5192010971},{"$f":"F175+F176-F177","v":8156961.9075200353},{"$f":"G175+G176-G177","v":8552897.1784726903},{"$f":"H175+H176-H177","v":8924001.5424719527}]
[]
["Average RAB",null,null,{"$f":"SUM(D175,D178)/2","v":7044188.8956669457},{"$f":"SUM(E175,E178)/2","v":7482489.9280190505},{"$f":"SUM(F175,F178)/2","v":7931651.7133605666},{"$f":"SUM(G175,G178)/2","v":8354929.5429963628},{"$f":"SUM(H175,H178)/2","v":8738449.3604723215}]
[]
[{"$f":"WACC!A$8","v":"Nominal Pre Tax WACC"},null,null,{"$f":"WACC!E$8","v":7.1561822935523933E-2},{"$f":"WACC!F$8","v":7.1561822935523933E-2},{"$f":"WACC!G$8","v":7.1561822935523933E-2},{"$f":"WACC!H$8","v":7.1561822935523933E-2},{"$f":"WACC!I$8","v":7.1561822935523933E-2}]
[]
["Capital Charge",null,null,"Capital Charge - Nominal "]
[null,null,null,{"$f":"D$2","v":2016},2017,2018,2019,2020]
[]
["Depreciation",null,null,{"$f":"D177","v":487191.47315848537},{"$f":"E177","v":523931.08614908956},{"$f":"F177","v":562637.1284236887},{"$f":"G177","v":601919.29017044161},{"$f":"H177","v":641248.21345691802}]
["Return",null,null,{"$f":"D182*D180","v":504094.99847610184},{"$f":"E182*E180","v":535460.61934574053},{"$f":"F182*F180","v":567603.45549775392},{"$f":"G182*G180","v":597893.98859468359},{"$f":"H182*H180","v":625339.36586516257}]
[]
[null,null,null,{"$f":"SUM(D187:D189)","v":991286.47163458727},{"$f":"SUM(E187:E189)","v":1059391.7054948302},{"$f":"SUM(F187:F189)","v":1130240.5839214427},{"$f":"SUM(G187:G189)","v":1199813.2787651252},{"$f":"SUM(H187:H189)","v":1266587.5793220806}]
[]
["Check",null,{"$f":"SUM(D192:H192)","v":1.9790604710578918E-9},{"$f":"ABS(D161-D190)*IF('DNSP Inputs General'!K75=0,0,1)","v":5.8207660913467407E-10},{"$f":"ABS(E161-E190)*IF('DNSP Inputs General'!L75=0,0,1)","v":6.9849193096160889E-10},{"$f":"ABS(F161-F190)*IF('DNSP Inputs General'!M75=0,0,1)","v":2.3283064365386963E-10},{"$f":"ABS(G161-G190)*IF('DNSP Inputs General'!N75=0,0,1)","v":2.3283064365386963E-10},{"$f":"ABS(H161-H190)*IF('DNSP Inputs General'!O75=0,0,1)","v":2.3283064365386963E-10}]

{"sheet":"Charges Summary","index":11,"n_rows":107,"n_cols":8,"rows_kept":107,"cut":false,"hidden":false,"merged":[]}
[{"$f":"'DNSP Inputs O & M'!$A$3","v":"Jemena"},null,null,{"$f":"'DNSP Inputs General'!K$2","v":2016},{"$f":"'DNSP Inputs General'!L$2","v":2017},{"$f":"'DNSP Inputs General'!M$2","v":2018},{"$f":"'DNSP Inputs General'!N$2","v":2019},{"$f":"'DNSP Inputs General'!O$2","v":2020}]
["Nominal $"]
[]
[{"$f":"'Total RAB'!A20","v":"CPI Index"},null,null,{"$f":"(1+WACC!E6)","v":1.0232307982099371},{"$f":"D4*(1+WACC!F6)","v":1.047001266405345},{"$f":"E4*(1+WACC!G6)","v":1.0713239415507561},{"$f":"F4*(1+WACC!H6)","v":1.0962116518543961},{"$f":"G4*(1+WACC!I6)","v":1.1216775235340073}]
[]
[{"$f":"'DNSP Inputs General'!$A$6","v":"Poles and Brackets"},null,null,{"$f":"'DNSP Inputs General'!F$2","v":2011},{"$f":"'DNSP Inputs General'!G$2","v":2012},{"$f":"'DNSP Inputs General'!H$2","v":2013},{"$f":"'DNSP Inputs General'!I$2","v":2014},{"$f":"'DNSP Inputs General'!J$2","v":2015}]
["O & M"]
[{"$f":"'O & M 2016-2020'!A$10","v":"Dedicated poles - inspection"},null,null,{"$f":"'O & M 2016-2020'!$B$10*D$4","v":0.93844846560712436},{"$f":"'O & M 2016-2020'!$Q$10*E$4","v":0.96761373533876349},{"$f":"'O & M 2016-2020'!$AF$10*F$4","v":0.99860931436267186},{"$f":"'O & M 2016-2020'!$AU$10*G$4","v":1.0230115241866673},{"$f":"'O & M 2016-2020'!$BJ$10*H$4","v":1.0534540913094006}]
[]
["Capital Charge"]
["Depreciation and Return",null,null,{"$f":"'Depn & WACC Post 2004'!H$79","v":5.0535976892009442},{"$f":"'Depn & WACC Post 2004'!H$127","v":5.5445603644582642},{"$f":"'Depn & WACC Post 2004'!H$175","v":6.0421104270466222},{"$f":"'Depn & WACC Post 2004'!H$223","v":6.5218132732164245},{"$f":"'Depn & WACC Post 2004'!H$271","v":6.9749340903872605}]
[]
["Total Charge",null,null,{"$f":"SUM(D8,D11)","v":5.9920461548080688},{"$f":"SUM(E8,E11)","v":6.5121740997970274},{"$f":"SUM(F8,F11)","v":7.0407197414092941},{"$f":"SUM(G8,G11)","v":7.5448247974030913},{"$f":"SUM(H8,H11)","v":8.0283881816966609}]
[]
[]
[]
[]
[{"$f":"'DNSP Inputs General'!$A$8","v":"Existing Lights"}]
[]
[{"$f":"'O & M 2016-2020'!$A$8","v":"MV80"},null,null,{"$f":"D$1","v":2016},{"$f":"E$1","v":2017},2018,2019,2020]
[]
["O & M Charge"]
[{"$f":"'O & M 2016-2020'!A$9","v":"Bulk change & repairs"},null,null,{"$f":"'O & M 2016-2020'!$B$9*D$4","v":30.947924462834923},{"$f":"'O & M 2016-2020'!$Q$9*E$4","v":31.348266375424341},{"$f":"'O & M 2016-2020'!$AF$9*F$4","v":32.375008638434004},{"$f":"'O & M 2016-2020'!$AU$9*G$4","v":32.478324084570531},{"$f":"'O & M 2016-2020'!$BJ$9*H$4","v":33.096266402803494}]
[{"$f":"'O & M 2016-2020'!A$11","v":"Other costs"},null,null,{"$f":"'O & M 2016-2020'!$B$11*D$4","v":2.7748617736624479},{"$f":"'O & M 2016-2020'!$Q$11*E$4","v":2.8130068748633845},{"$f":"'O & M 2016-2020'!$AF$11*F$4","v":2.8519213549886575},{"$f":"'O & M 2016-2020'!$AU$11*G$4","v":2.8916180483386218},{"$f":"'O & M 2016-2020'!$BJ$11*H$4","v":2.932110105261057}]
[null,null,null,{"$f":"SUM(D23:D24)","v":33.72278623649737},{"$f":"SUM(E23:E24)","v":34.161273250287728},{"$f":"SUM(F23:F24)","v":35.226929993422658},{"$f":"SUM(G23:G24)","v":35.369942132909152},{"$f":"SUM(H23:H24)","v":36.028376508064554}]
["Capital Charge"]
["Depreciation and Return",null,null,{"$f":"'Depn & WACC Post 2004'!H$40","v":12.899778087727748},{"$f":"'Depn & WACC Post 2004'!H$88","v":13.100010489968692},{"$f":"'Depn & WACC Post 2004'!H$136","v":13.317733576060833},{"$f":"'Depn & WACC Post 2004'!H$184","v":13.521685690137135},{"$f":"'Depn & WACC Post 2004'!H$232","v":13.700639451988234}]
[]
["Poles & Brackets Charge",null,null,{"$f":"D$13","v":5.9920461548080688},{"$f":"E$13","v":6.5121740997970274},{"$f":"F$13","v":7.0407197414092941},{"$f":"G$13","v":7.5448247974030913},{"$f":"H$13","v":8.0283881816966609}]
[]
["Total Charge",null,null,{"$f":"SUM(D25,D27,D29)","v":52.614610479033189},{"$f":"SUM(E25,E27,E29)","v":53.773457840053446},{"$f":"SUM(F25,F27,F29)","v":55.58538331089278},{"$f":"SUM(G25,G27,G29)","v":56.436452620449373},{"$f":"SUM(H25,H27,H29)","v":57.757404141749454}]
[]
["WDV RAB - MV 80 Luminaire"]
["RAB WDV",null,null,{"$f":"'Depn & WACC Post 2004'!$I$8","v":71.872362743987907},{"$f":"'Depn & WACC Post 2004'!I$40","v":70.29207006952096},{"$f":"'Depn & WACC Post 2004'!I$88","v":68.702389465484018},{"$f":"'Depn & WACC Post 2004'!I$136","v":67.065160482821696},{"$f":"'Depn & WACC Post 2004'!I$184","v":64.980328971378228}]
[]
["Avoided Costs - MV 80 O & M"]
["Materials & labour - bulk lamp change",null,null,{"$f":"'O & M 2016-2020'!$G$9*D$4","v":-21.597289489299563},{"$f":"'O & M 2016-2020'!$V$9*E$4","v":-22.573879253504316},{"$f":"'O & M 2016-2020'!$AK$9*F$4","v":-23.35668134921394},{"$f":"'O & M 2016-2020'!$AZ$9*G$4","v":-23.240475354768982},{"$f":"'O & M 2016-2020'!$BO$9*H$4","v":-23.609674032493093}]
["Materials & Labour - repair of faults",null,null,{"$f":"'O & M 2016-2020'!$G$10*D$4","v":-6.9798474128090753},{"$f":"'O & M 2016-2020'!$V$10*E$4","v":-6.895836736793659},{"$f":"'O & M 2016-2020'!$AK$10*F$4","v":-7.1108331180701185},{"$f":"'O & M 2016-2020'!$AZ$10*G$4","v":-7.1812107951359661},{"$f":"'O & M 2016-2020'!$BO$10*H$4","v":-7.3360880529981234}]
[null,null,null,{"$f":"SUM(D37:D38)","v":-28.577136902108638},{"$f":"SUM(E37:E38)","v":-29.469715990297974},{"$f":"SUM(F37:F38)","v":-30.467514467284058},{"$f":"SUM(G37:G38)","v":-30.42168614990495},{"$f":"SUM(H37:H38)","v":-30.945762085491218}]
[]
[]
[]
[]
[{"$f":"'O & M 2016-2020'!$A$14","v":"S-HP 150"},null,null,{"$f":"D$1","v":2016},{"$f":"E$1","v":2017},2018,2019,2020]
[]
["O & M Charge"]
[{"$f":"'O & M 2016-2020'!A$15","v":"Patrols and repairs"},null,null,{"$f":"'O & M 2016-2020'!$B$15*D$4","v":71.722316776403972},{"$f":"'O & M 2016-2020'!$Q$15*E$4","v":74.517896013886897},{"$f":"'O & M 2016-2020'!$AF$15*F$4","v":76.961864848090542},{"$f":"'O & M 2016-2020'!$AU$15*G$4","v":77.431813147816115},{"$f":"'O & M 2016-2020'!$BJ$15*H$4","v":79.027882587256585}]
[{"$f":"'O & M 2016-2020'!A$17","v":"Other costs"},null,null,{"$f":"'O & M 2016-2020'!$B$17*D$4","v":2.7748617736624479},{"$f":"'O & M 2016-2020'!$Q$17*E$4","v":2.8130068748633845},{"$f":"'O & M 2016-2020'!$AF$17*F$4","v":2.8519213549886575},{"$f":"'O & M 2016-2020'!$AU$17*G$4","v":2.8916180483386218},{"$f":"'O & M 2016-2020'!$BJ$17*H$4","v":2.932110105261057}]
[null,null,null,{"$f":"SUM(D47:D48)","v":74.497178550066423},{"$f":"SUM(E47:E48)","v":77.330902888750288},{"$f":"SUM(F47:F48)","v":79.813786203079204},{"$f":"SUM(G47:G48)","v":80.323431196154743},{"$f":"SUM(H47:H48)","v":81.959992692517645}]
["Capital Charge"]
["Depreciation and Return",null,null,{"$f":"'Depn & WACC Post 2004'!H$41","v":15.136294932152014},{"$f":"'Depn & WACC Post 2004'!H$89","v":15.371242903712515},{"$f":"'Depn & WACC Post 2004'!H$137","v":15.626714030596796},{"$f":"'Depn & WACC Post 2004'!H$185","v":15.866026624170152},{"$f":"'Depn & WACC Post 2004'!H$233","v":16.076006741671026}]
[]
["Poles & Brackets Charge",null,null,{"$f":"D$13","v":5.9920461548080688},{"$f":"E$13","v":6.5121740997970274},{"$f":"F$13","v":7.0407197414092941},{"$f":"G$13","v":7.5448247974030913},{"$f":"H$13","v":8.0283881816966609}]
[]
["Total Charge",null,null,{"$f":"SUM(D49,D51,D53)","v":95.6255196370265},{"$f":"SUM(E49,E51,E53)","v":99.214319892259823},{"$f":"SUM(F49,F51,F53)","v":102.4812199750853},{"$f":"SUM(G49,G51,G53)","v":103.73428261772798},{"$f":"SUM(H49,H51,H53)","v":106.06438761588532}]
[]
[]
[]
[]
[{"$f":"'O & M 2016-2020'!$A$20","v":"S-HP 250"},null,null,{"$f":"D$1","v":2016},{"$f":"E$1","v":2017},2018,2019,2020]
[]
["O & M Charge"]
[{"$f":"'O & M 2016-2020'!A$21","v":"Patrols and repairs"},null,null,{"$f":"'O & M 2016-2020'!$B$21*D$4","v":71.9930220342806},{"$f":"'O & M 2016-2020'!$Q$21*E$4","v":74.802101251509441},{"$f":"'O & M 2016-2020'!$AF$21*F$4","v":77.257602064524932},{"$f":"'O & M 2016-2020'!$AU$21*G$4","v":77.726962972044689},{"$f":"'O & M 2016-2020'!$BJ$21*H$4","v":79.329376206831398}]
[{"$f":"'O & M 2016-2020'!A$23","v":"Other costs"},null,null,{"$f":"'O & M 2016-2020'!$B$23*D$4","v":2.7748617736624479},{"$f":"'O & M 2016-2020'!$Q$23*E$4","v":2.8130068748633845},{"$f":"'O & M 2016-2020'!$AF$23*F$4","v":2.8519213549886575},{"$f":"'O & M 2016-2020'!$AU$23*G$4","v":2.8916180483386218},{"$f":"'O & M 2016-2020'!$BJ$23*H$4","v":2.932110105261057}]
[null,null,null,{"$f":"SUM(D63:D64)","v":74.767883807943051},{"$f":"SUM(E63:E64)","v":77.615108126372832},{"$f":"SUM(F63:F64)","v":80.109523419513593},{"$f":"SUM(G63:G64)","v":80.618581020383317},{"$f":"SUM(H63:H64)","v":82.261486312092458}]
["Capital Charge"]
["Depreciation and Return",null,null,{"$f":"'Depn & WACC Post 2004'!H$42","v":16.06796645248631},{"$f":"'Depn & WACC Post 2004'!H$90","v":16.317375977210538},{"$f":"'Depn & WACC Post 2004'!H$138","v":16.588571901626363},{"$f":"'Depn & WACC Post 2004'!H$186","v":16.842614700239267},{"$f":"'Depn & WACC Post 2004'!H$234","v":17.06551954576565}]
[]
["Poles & Brackets Charge",null,null,{"$f":"D$13","v":5.9920461548080688},{"$f":"E$13","v":6.5121740997970274},{"$f":"F$13","v":7.0407197414092941},{"$f":"G$13","v":7.5448247974030913},{"$f":"H$13","v":8.0283881816966609}]
[]
["Total Charge",null,null,{"$f":"SUM(D65,D67,D69)","v":96.827896415237433},{"$f":"SUM(E65,E67,E69)","v":100.44465820338038},{"$f":"SUM(F65,F67,F69)","v":103.73881506254925},{"$f":"SUM(G65,G67,G69)","v":105.00602051802568},{"$f":"SUM(H65,H67,H69)","v":107.35539403955477}]
[]
[]
[]
[]
[{"$f":"'DNSP Inputs General'!$A$11","v":"Energy Efficient Lights"}]
[]
[{"$f":"'O & M 2016-2020'!$A$26","v":"T5 (2 X 14W)"},null,null,{"$f":"D$1","v":2016},{"$f":"E$1","v":2017},2018,2019,2020]
[]
["O & M Charge"]
[{"$f":"'O & M 2016-2020'!A$27","v":"Bulk change & repairs"},null,null,{"$f":"'O & M 2016-2020'!$B$27*D$4","v":22.491667529122441},{"$f":"'O & M 2016-2020'!$Q$27*E$4","v":23.518822815075644},{"$f":"'O & M 2016-2020'!$AF$27*F$4","v":24.295266071960807},{"$f":"'O & M 2016-2020'!$AU$27*G$4","v":24.344094648103301},{"$f":"'O & M 2016-2020'!$BJ$27*H$4","v":24.791473534858177}]
[{"$f":"'O & M 2016-2020'!A$29","v":"Other costs"},null,null,{"$f":"'O & M 2016-2020'!$B$29*D$4","v":2.7748617736624479},{"$f":"'O & M 2016-2020'!$Q$29*E$4","v":2.8130068748633845},{"$f":"'O & M 2016-2020'!$AF$29*F$4","v":2.8519213549886575},{"$f":"'O & M 2016-2020'!$AU$29*G$4","v":2.8916180483386218},{"$f":"'O & M 2016-2020'!$BJ$29*H$4","v":2.932110105261057}]
[null,null,null,{"$f":"SUM(D81:D82)","v":25.266529302784889},{"$f":"SUM(E81:E82)","v":26.331829689939028},{"$f":"SUM(F81:F82)","v":27.147187426949465},{"$f":"SUM(G81:G82)","v":27.235712696441922},{"$f":"SUM(H81:H82)","v":27.723583640119234}]
["Capital Charge"]
["Depreciation and Return",null,null,{"$f":"'Depn & WACC Post 2004'!$H$69","v":2.4857820355187541},{"$f":"'Depn & WACC Post 2004'!$H$117","v":2.9857539678333249},{"$f":"'Depn & WACC Post 2004'!$H$165","v":3.488043822539995},{"$f":"'Depn & WACC Post 2004'!$H$213","v":3.9689106229662778},{"$f":"'Depn & WACC Post 2004'!$H$261","v":4.4204464674236119}]
[]
["Poles & Brackets Charge",null,null,{"$f":"D$13","v":5.9920461548080688},{"$f":"E$13","v":6.5121740997970274},{"$f":"F$13","v":7.0407197414092941},{"$f":"G$13","v":7.5448247974030913},{"$f":"H$13","v":8.0283881816966609}]
[]
["Total Charge",null,null,{"$f":"SUM(D83,D85,D87)","v":33.744357493111707},{"$f":"SUM(E83,E85,E87)","v":35.829757757569382},{"$f":"SUM(F83,F85,F87)","v":37.675950990898755},{"$f":"SUM(G83,G85,G87)","v":38.749448116811294},{"$f":"SUM(H83,H85,H87)","v":40.172418289239509}]
[]
[]
[]
[]
[{"$f":"'DNSP Inputs General'!$A$11","v":"Energy Efficient Lights"}]
[]
[{"$f":"'O & M 2016-2020'!A32","v":"Category P LED 18 Watt"},null,null,{"$f":"D$1","v":2016},{"$f":"E$1","v":2017},2018,2019,2020]
[]
["O & M Charge"]
[{"$f":"'O & M 2016-2020'!A$33","v":"Bulk change & repairs"},null,null,{"$f":"'O & M 2016-2020'!$B$33*D$4","v":7.7706008743631658},{"$f":"'O & M 2016-2020'!$Q$33*E$4","v":8.763818332669242},{"$f":"'O & M 2016-2020'!$AF$33*F$4","v":9.5701425514154739},{"$f":"'O & M 2016-2020'!$AU$33*G$4","v":9.6158600262010516},{"$f":"'O & M 2016-2020'!$BJ$33*H$4","v":9.7974300931090585}]
[{"$f":"'O & M 2016-2020'!A$35","v":"Other costs"},null,null,{"$f":"'O & M 2016-2020'!$B$35*D$4","v":2.7748617736624479},{"$f":"'O & M 2016-2020'!$Q$35*E$4","v":2.8130068748633845},{"$f":"'O & M 2016-2020'!$AF$35*F$4","v":2.8519213549886575},{"$f":"'O & M 2016-2020'!$AU$35*G$4","v":2.8916180483386218},{"$f":"'O & M 2016-2020'!$BJ$35*H$4","v":2.932110105261057}]
[null,null,null,{"$f":"SUM(D99:D100)","v":10.545462648025614},{"$f":"SUM(E99:E100)","v":11.576825207532627},{"$f":"SUM(F99:F100)","v":12.422063906404132},{"$f":"SUM(G99:G100)","v":12.507478074539673},{"$f":"SUM(H99:H100)","v":12.729540198370115}]
["Capital Charge"]
["Depreciation and Return",null,null,{"$f":"'Depn & WACC Post 2004'!$H$71","v":3.2526625891106935},{"$f":"'Depn & WACC Post 2004'!$H$119","v":3.9068792406947952},{"$f":"'Depn & WACC Post 2004'!$H$167","v":4.5641289093904183},{"$f":"'Depn & WACC Post 2004'!$H$215","v":5.1933463668114248},{"$f":"'Depn & WACC Post 2004'!$H$263","v":5.7841840701671732}]
[]
["Poles & Brackets Charge",null,null,{"$f":"D$13","v":5.9920461548080688},{"$f":"E$13","v":6.5121740997970274},{"$f":"F$13","v":7.0407197414092941},{"$f":"G$13","v":7.5448247974030913},{"$f":"H$13","v":8.0283881816966609}]
[]
["Total Charge",null,null,{"$f":"SUM(D101,D103,D105)","v":19.790171391944376},{"$f":"SUM(E101,E103,E105)","v":21.99587854802445},{"$f":"SUM(F101,F103,F105)","v":24.026912557203843},{"$f":"SUM(G101,G103,G105)","v":25.24564923875419},{"$f":"SUM(H101,H103,H105)","v":26.542112450233951}]

{"sheet":"O & M 2016-2020","index":12,"n_rows":233,"n_cols":74,"rows_kept":233,"cut":false,"hidden":false,"merged":[[172,61,172,66],[172,68,172,73],[65,61,65,66],[65,68,65,73],[106,61,106,66],[106,68,106,73],[138,61,138,66],[138,68,138,73],[172,46,172,51],[172,53,172,58],[65,46,65,51],[65,53,65,58],[106,46,106,51],[106,53,106,58],[138,46,138,51],[138,53,138,58],[172,31,172,36],[172,38,172,43],[65,31,65,36],[65,38,65,43],[106,31,106,36],[106,38,106,43],[138,31,138,36],[138,38,138,43],[172,1,172,6],[172,8,172,13],[172,16,172,21],[172,23,172,28],[65,1,65,6],[65,8,65,13],[65,16,65,21],[65,23,65,28],[106,1,106,6],[106,8,106,13],[106,16,106,21],[106,23,106,28],[138,1,138,6],[138,8,138,13],[138,16,138,21],[138,23,138,28],[210,1,210,6],[210,16,210,21],[210,31,210,36],[210,46,210,51],[210,61,210,66]]}
[{"$f":"'DNSP Inputs O & M'!$A$3","v":"Jemena"}]
[]
["Public Lighting O & M Costs","Year",2016,null,null,null,null,null,null,null,null,null,null,null,null,null,"Year",{"$f":"C3+1","v":2017},null,null,null,null,null,null,null,null,null,null,null,null,null,"Year",{"$f":"R3+1","v":2018},null,null,null,null,null,null,null,null,null,null,null,null,null,"Year",{"$f":"AG3+1","v":2019},null,null,null,null,null,null,null,null,null,null,null,null,null,"Year",{"$f":"AV3+1","v":2020}]
[{"$f":"'DNSP Inputs O & M'!C5","v":"Real 2015 $ "}]
[]
["Summary"]
[]
[{"$f":"$A$70","v":"MV80"},null,null,"Avoided Costs - MV 80 O & M",null,null,null,null,null,null,null,null,null,null,null,null,null,null,"Avoided Costs - MV 80 O & M",null,null,null,null,null,null,null,null,null,null,null,null,null,null,"Avoided Costs - MV 80 O & M",null,null,null,null,null,null,null,null,null,null,null,null,null,null,"Avoided Costs - MV 80 O & M",null,null,null,null,null,null,null,null,null,null,null,null,null,null,"Avoided Costs - MV 80 O & M"]
[{"$f":"$A$71","v":"Bulk change & repairs"},{"$f":"G91*C40+N91*C41","v":30.24530195628974},null,"Materials & labour - bulk lamp change",null,null,{"$f":"-((G73+G82)*C40+(N73+N82)*C41)*2","v":-21.106958007013027},null,null,null,null,null,null,null,null,null,{"$f":"V91*R40+AC91*R41","v":29.941001392531177},null,"Materials & labour - bulk lamp change",null,null,{"$f":"-((V73+V82)*R40+(AC73+AC82)*R41)*2","v":-21.560508069877418},null,null,null,null,null,null,null,null,null,{"$f":"AK91*AG40+AR91*AG41","v":30.219625813244441},null,"Materials & labour - bulk lamp change",null,null,{"$f":"-((AK73+AK82)*AG40+(AR73+AR82)*AG41)*2","v":-21.801698294359802},null,null,null,null,null,null,null,null,null,{"$f":"AZ91*AV40+BG91*AV41","v":29.627785865648192},null,"Materials & labour - bulk lamp change",null,null,{"$f":"-((AZ73+AZ82)*AV40+(BG73+BG82)*AV41)*2","v":-21.200719145298677},null,null,null,null,null,null,null,null,null,{"$f":"BO91*BK40+BV91*BK41","v":29.506044035302516},null,"Materials & labour - bulk lamp change",null,null,{"$f":"-((BO73+BO82)*BK40+(BV73+BV82)*BK41)*2","v":-21.048539831757882}]
[{"$f":"A93","v":"Dedicated poles - inspection"},{"$f":"(G94*C40+N94*C41)*C43","v":0.91714251295882332},null,"Materials & Labour - repair of faults",null,null,{"$f":"-((G77+G85+G87)*C40+(N77+N85+N87)*C41)/2","v":-6.8213812807626359},null,null,null,null,null,null,null,null,null,{"$f":"(V94*R40+AC94*R41)*R43","v":0.92417627980609651},null,"Materials & Labour - repair of faults",null,null,{"$f":"-((V77+V85+V87)*R40+(AC77+AC85+AC87)*R41)/2","v":-6.5862735395431189},null,null,null,null,null,null,null,null,null,{"$f":"(AK94*AG40+AR94*AG41)*AG43","v":0.93212638645708901},null,"Materials & Labour - repair of faults",null,null,{"$f":"-((AK77+AK85+AK87)*AG40+(AR77+AR85+AR87)*AG41)/2","v":-6.6374257517078261},null,null,null,null,null,null,null,null,null,{"$f":"(AZ94*AV40+BG94*AV41)*AV43","v":0.93322445757267725},null,"Materials & Labour - repair of faults",null,null,{"$f":"-((AZ77+AZ85+AZ87)*AV40+(BG77+BG85+BG87)*AV41)/2","v":-6.550934559934606},null,null,null,null,null,null,null,null,null,{"$f":"(BO94*BK40+BV94*BK41)*BK43","v":0.93917732076001759},null,"Materials & Labour - repair of faults",null,null,{"$f":"-((BO77+BO85+BO87)*BK40+(BV77+BV85+BV87)*BK41)/2","v":-6.5402826561815353}]
["Other costs",{"$f":"IF(C52=0,0,C50/C52)","v":2.711863030820469},null,null,null,null,{"$f":"SUM(G9:G10)","v":-27.928339287775664},null,null,null,null,null,null,null,null,null,{"$f":"IF(R52=0,0,R50/R52)","v":2.6867272897589154},null,null,null,null,{"$f":"SUM(V9:V10)","v":-28.146781609420536},null,null,null,null,null,null,null,null,null,{"$f":"IF(AG52=0,0,AG50/AG52)","v":2.6620532262729633},null,null,null,null,{"$f":"SUM(AK9:AK10)","v":-28.439124046067629},null,null,null,null,null,null,null,null,null,{"$f":"IF(AV52=0,0,AV50/AV52)","v":2.6378282364058467},null,null,null,null,{"$f":"SUM(AZ9:AZ10)","v":-27.751653705233284},null,null,null,null,null,null,null,null,null,{"$f":"IF(BK52=0,0,BK50/BK52)","v":2.6140401708532233},null,null,null,null,{"$f":"SUM(BO9:BO10)","v":-27.588822487939417}]
[]
[]
[{"$f":"$A$111","v":"S-HP 150"}]
[{"$f":"$A$112","v":"Patrols and repairs"},{"$f":"G128*E40+N128*E41","v":70.09397772416213},null,null,null,null,null,null,null,null,null,null,null,null,null,null,{"$f":"V128*T40+AC128*T41","v":71.172689475083601},null,null,null,null,null,null,null,null,null,null,null,null,null,null,{"$f":"AK128*AI40+AR128*AI41","v":71.838089174677819},null,null,null,null,null,null,null,null,null,null,null,null,null,null,{"$f":"AZ128*AX40+BG128*AX41","v":70.635823854662846},null,null,null,null,null,null,null,null,null,null,null,null,null,null,{"$f":"BO128*BM40+BV128*BM41","v":70.45508261435765}]
[{"$f":"$A$10","v":"Dedicated poles - inspection"},{"$f":"B10","v":0.91714251295882332},null,null,null,null,null,null,null,null,null,null,null,null,null,null,{"$f":"Q10","v":0.92417627980609651},null,null,null,null,null,null,null,null,null,null,null,null,null,null,{"$f":"AF10","v":0.93212638645708901},null,null,null,null,null,null,null,null,null,null,null,null,null,null,{"$f":"AU10","v":0.93322445757267725},null,null,null,null,null,null,null,null,null,null,null,null,null,null,{"$f":"BJ10","v":0.93917732076001759}]
[{"$f":"$A$11","v":"Other costs"},{"$f":"B11","v":2.711863030820469},null,null,null,null,null,null,null,null,null,null,null,null,null,null,{"$f":"Q11","v":2.6867272897589154},null,null,null,null,null,null,null,null,null,null,null,null,null,null,{"$f":"AF11","v":2.6620532262729633},null,null,null,null,null,null,null,null,null,null,null,null,null,null,{"$f":"AU11","v":2.6378282364058467},null,null,null,null,null,null,null,null,null,null,null,null,null,null,{"$f":"BJ11","v":2.6140401708532233}]
[]
[]
[{"$f":"$A$143","v":"S-HP 250"}]
[{"$f":"$A$144","v":"Patrols and repairs"},{"$f":"G160*G40+N160*G41","v":70.358537057550265},null,null,null,null,null,null,null,null,null,null,null,null,null,null,{"$f":"V160*V40+AC160*V41","v":71.444136365112968},null,null,null,null,null,null,null,null,null,null,null,null,null,null,{"$f":"AK160*AK40+AR160*AK41","v":72.114137534062294},null,null,null,null,null,null,null,null,null,null,null,null,null,null,{"$f":"AZ160*AZ40+BG160*AZ41","v":70.905069144775652},null,null,null,null,null,null,null,null,null,null,null,null,null,null,{"$f":"BO160*BO40+BV160*BO41","v":70.723870758230689}]
[{"$f":"$A$10","v":"Dedicated poles - inspection"},{"$f":"B10","v":0.91714251295882332},null,null,null,null,null,null,null,null,null,null,null,null,null,null,{"$f":"Q10","v":0.92417627980609651},null,null,null,null,null,null,null,null,null,null,null,null,null,null,{"$f":"AF10","v":0.93212638645708901},null,null,null,null,null,null,null,null,null,null,null,null,null,null,{"$f":"AU10","v":0.93322445757267725},null,null,null,null,null,null,null,null,null,null,null,null,null,null,{"$f":"BJ10","v":0.93917732076001759}]
[{"$f":"$A$11","v":"Other costs"},{"$f":"B11","v":2.711863030820469},null,null,null,null,null,null,null,null,null,null,null,null,null,null,{"$f":"Q11","v":2.6867272897589154},null,null,null,null,null,null,null,null,null,null,null,null,null,null,{"$f":"AF11","v":2.6620532262729633},null,null,null,null,null,null,null,null,null,null,null,null,null,null,{"$f":"AU11","v":2.6378282364058467},null,null,null,null,null,null,null,null,null,null,null,null,null,null,{"$f":"BJ11","v":2.6140401708532233}]
[]
[]
[{"$f":"$A$177","v":"T5 (2 X 14W)"}]
[{"$f":"$A$178","v":"Bulk change & repairs"},{"$f":"$G$198*$I$40+$N$198*$I$41","v":21.981030641835517},null,null,null,null,null,null,null,null,null,null,null,null,null,null,{"$f":"$V$198*$X$40+$AC$198*$X$41","v":22.463031869887317},null,null,null,null,null,null,null,null,null,null,null,null,null,null,{"$f":"$AK$198*$AM$40+$AR$198*$AM$41","v":22.677796257211501},null,null,null,null,null,null,null,null,null,null,null,null,null,null,{"$f":"$AZ$198*$BB$40+$BG$198*$BB$41","v":22.207476637309814},null,null,null,null,null,null,null,null,null,null,null,null,null,null,{"$f":"$BO$198*$BQ$40+$BV$198*$BQ$41","v":22.102139888431619}]
[{"$f":"$A$10","v":"Dedicated poles - inspection"},{"$f":"B10","v":0.91714251295882332},null,null,null,null,null,null,null,null,null,null,null,null,null,null,{"$f":"Q10","v":0.92417627980609651},null,null,null,null,null,null,null,null,null,null,null,null,null,null,{"$f":"AF10","v":0.93212638645708901},null,null,null,null,null,null,null,null,null,null,null,null,null,null,{"$f":"AU10","v":0.93322445757267725},null,null,null,null,null,null,null,null,null,null,null,null,null,null,{"$f":"BJ10","v":0.93917732076001759}]
[{"$f":"$A$11","v":"Other costs"},{"$f":"B11","v":2.711863030820469},null,null,null,null,null,null,null,null,null,null,null,null,null,null,{"$f":"Q11","v":2.6867272897589154},null,null,null,null,null,null,null,null,null,null,null,null,null,null,{"$f":"AF11","v":2.6620532262729633},null,null,null,null,null,null,null,null,null,null,null,null,null,null,{"$f":"AU11","v":2.6378282364058467},null,null,null,null,null,null,null,null,null,null,null,null,null,null,{"$f":"BJ11","v":2.6140401708532233}]
[]
[]
[{"$f":"$A$215","v":"Category P LED 18 Watt"}]
[{"$f":"$A$178","v":"Bulk change & repairs"},{"$f":"G233*K40+N233*K41","v":7.5941819655518863},null,null,null,null,null,null,null,null,null,null,null,null,null,null,{"$f":"V233*Z40+AC233*Z41","v":8.3703989802781606},null,null,null,null,null,null,null,null,null,null,null,null,null,null,{"$f":"AK233*AO40+AR233*AO41","v":8.9330053966334049},null,null,null,null,null,null,null,null,null,null,null,null,null,null,{"$f":"AZ233*BD40+BG233*BD41","v":8.7719009462583912},null,null,null,null,null,null,null,null,null,null,null,null,null,null,{"$f":"BO233*BS40+BV233*BS41","v":8.7346228194364084}]
[{"$f":"$A$10","v":"Dedicated poles - inspection"},{"$f":"B10","v":0.91714251295882332},null,null,null,null,null,null,null,null,null,null,null,null,null,null,{"$f":"Q10","v":0.92417627980609651},null,null,null,null,null,null,null,null,null,null,null,null,null,null,{"$f":"AF10","v":0.93212638645708901},null,null,null,null,null,null,null,null,null,null,null,null,null,null,{"$f":"AU10","v":0.93322445757267725},null,null,null,null,null,null,null,null,null,null,null,null,null,null,{"$f":"BJ10","v":0.93917732076001759}]
[{"$f":"$A$11","v":"Other costs"},{"$f":"B11","v":2.711863030820469},null,null,null,null,null,null,null,null,null,null,null,null,null,null,{"$f":"Q11","v":2.6867272897589154},null,null,null,null,null,null,null,null,null,null,null,null,null,null,{"$f":"AF11","v":2.6620532262729633},null,null,null,null,null,null,null,null,null,null,null,null,null,null,{"$f":"AU11","v":2.6378282364058467},null,null,null,null,null,null,null,null,null,null,null,null,null,null,{"$f":"BJ11","v":2.6140401708532233}]
[]
[]
[]
[{"$f":"'DNSP Inputs O & M'!A51","v":"Location of selected public lighting assets within distributors' areas (%)"},null,{"$f":"$A$70","v":"MV80"},null,{"$f":"$A$111","v":"S-HP 150"},null,{"$f":"$A$143","v":"S-HP 250"},null,{"$f":"$A$177","v":"T5 (2 X 14W)"},null,{"$f":"$A$215","v":"Category P LED 18 Watt"},null,null,null,null,null,null,{"$f":"$A$70","v":"MV80"},null,{"$f":"$A$111","v":"S-HP 150"},null,{"$f":"$A$143","v":"S-HP 250"},null,{"$f":"$A$177","v":"T5 (2 X 14W)"},null,{"$f":"$A$215","v":"Category P LED 18 Watt"},null,null,null,null,null,null,{"$f":"$A$70","v":"MV80"},null,{"$f":"$A$111","v":"S-HP 150"},null,{"$f":"$A$143","v":"S-HP 250"},null,{"$f":"$A$177","v":"T5 (2 X 14W)"},null,{"$f":"$A$215","v":"Category P LED 18 Watt"},null,null,null,null,null,null,{"$f":"$A$70","v":"MV80"},null,{"$f":"$A$111","v":"S-HP 150"},null,{"$f":"$A$143","v":"S-HP 250"},null,{"$f":"$A$177","v":"T5 (2 X 14W)"},null,{"$f":"$A$215","v":"Category P LED 18 Watt"},null,null,null,null,null,null,{"$f":"$A$70","v":"MV80"},null,{"$f":"$A$111","v":"S-HP 150"},null,{"$f":"$A$143","v":"S-HP 250"},null,{"$f":"$A$177","v":"T5 (2 X 14W)"},null,{"$f":"$A$215","v":"Category P LED 18 Watt"}]
[{"$f":"'DNSP Inputs O & M'!A52","v":"Urban"},null,{"$f":"'DNSP Inputs O & M'!$D$52","v":0.97},null,{"$f":"'DNSP Inputs O & M'!$D$83","v":0.95},null,{"$f":"'DNSP Inputs O & M'!$D$114","v":0.92},null,{"$f":"'DNSP Inputs O & M'!$D$172","v":0.97},null,{"$f":"'DNSP Inputs O & M'!$D$203","v":1},null,null,null,null,null,null,{"$f":"'DNSP Inputs O & M'!$E$52","v":0.97},null,{"$f":"'DNSP Inputs O & M'!$E$83","v":0.95},null,{"$f":"'DNSP Inputs O & M'!$E$114","v":0.92},null,{"$f":"'DNSP Inputs O & M'!$E$172","v":0.97},null,{"$f":"'DNSP Inputs O & M'!$E$203","v":1},null,null,null,null,null,null,{"$f":"'DNSP Inputs O & M'!$F$52","v":0.97},null,{"$f":"'DNSP Inputs O & M'!$F$83","v":0.95},null,{"$f":"'DNSP Inputs O & M'!$F$114","v":0.92},null,{"$f":"'DNSP Inputs O & M'!$F$172","v":0.97},null,{"$f":"'DNSP Inputs O & M'!$F$203","v":1},null,null,null,null,null,null,{"$f":"'DNSP Inputs O & M'!$G$52","v":0.97},null,{"$f":"'DNSP Inputs O & M'!$G$83","v":0.95},null,{"$f":"'DNSP Inputs O & M'!$G$114","v":0.92},null,{"$f":"'DNSP Inputs O & M'!$G$172","v":0.97},null,{"$f":"'DNSP Inputs O & M'!$G$203","v":1},null,null,null,null,null,null,{"$f":"'DNSP Inputs O & M'!$H$52","v":0.97},null,{"$f":"'DNSP Inputs O & M'!$H$83","v":0.95},null,{"$f":"'DNSP Inputs O & M'!$H$114","v":0.92},null,{"$f":"'DNSP Inputs O & M'!$H$172","v":0.97},null,{"$f":"'DNSP Inputs O & M'!$H$203","v":1}]
[{"$f":"'DNSP Inputs O & M'!A53","v":"Rural"},null,{"$f":"'DNSP Inputs O & M'!$D$53","v":0.03},null,{"$f":"'DNSP Inputs O & M'!$D$84","v":0.05},null,{"$f":"'DNSP Inputs O & M'!$D$115","v":0.08},null,{"$f":"'DNSP Inputs O & M'!$D$173","v":0.03},null,{"$f":"'DNSP Inputs O & M'!$D$204","v":0},null,null,null,null,null,null,{"$f":"'DNSP Inputs O & M'!$E$53","v":0.03},null,{"$f":"'DNSP Inputs O & M'!$E$84","v":0.05},null,{"$f":"'DNSP Inputs O & M'!$E$115","v":0.08},null,{"$f":"'DNSP Inputs O & M'!$E$173","v":0.03},null,{"$f":"'DNSP Inputs O & M'!$E$204","v":0},null,null,null,null,null,null,{"$f":"'DNSP Inputs O & M'!$F$53","v":0.03},null,{"$f":"'DNSP Inputs O & M'!$F$84","v":0.05},null,{"$f":"'DNSP Inputs O & M'!$F$115","v":0.08},null,{"$f":"'DNSP Inputs O & M'!$F$173","v":0.03},null,{"$f":"'DNSP Inputs O & M'!$F$204","v":0},null,null,null,null,null,null,{"$f":"'DNSP Inputs O & M'!$G$53","v":0.03},null,{"$f":"'DNSP Inputs O & M'!$G$84","v":0.05},null,{"$f":"'DNSP Inputs O & M'!$G$115","v":0.08},null,{"$f":"'DNSP Inputs O & M'!$G$173","v":0.03},null,{"$f":"'DNSP Inputs O & M'!$G$204","v":0},null,null,null,null,null,null,{"$f":"'DNSP Inputs O & M'!$H$53","v":0.03},null,{"$f":"'DNSP Inputs O & M'!$H$84","v":0.05},null,{"$f":"'DNSP Inputs O & M'!$H$115","v":0.08},null,{"$f":"'DNSP Inputs O & M'!$H$173","v":0.03},null,{"$f":"'DNSP Inputs O & M'!$H$204","v":0}]
[]
[{"$f":"'DNSP Inputs O & M'!A124","v":"Proportion of lights on dedicated poles"},null,{"$f":"'DNSP Inputs O & M'!$D$124","v":0.3383266143291605},null,null,null,null,null,null,null,null,null,null,null,null,null,null,{"$f":"'DNSP Inputs O & M'!$E$124","v":0.3383266143291605},null,null,null,null,null,null,null,null,null,null,null,null,null,null,{"$f":"'DNSP Inputs O & M'!$F$124","v":0.3383266143291605},null,null,null,null,null,null,null,null,null,null,null,null,null,null,{"$f":"'DNSP Inputs O & M'!$G$124","v":0.3383266143291605},null,null,null,null,null,null,null,null,null,null,null,null,null,null,{"$f":"'DNSP Inputs O & M'!$H$124","v":0.3383266143291605}]
[]
[{"$f":"'DNSP Inputs O & M'!A128","v":"Other direct costs"}]
[{"$f":"'DNSP Inputs O & M'!$A$129","v":"Call centre"},null,{"$f":"'DNSP Inputs O & M'!$D$132","v":47895.441844543187},null,null,null,null,null,null,null,null,null,null,null,null,null,null,{"$f":"'DNSP Inputs O & M'!$E$132","v":47895.441844543187},null,null,null,null,null,null,null,null,null,null,null,null,null,null,{"$f":"'DNSP Inputs O & M'!$F$132","v":47895.441844543187},null,null,null,null,null,null,null,null,null,null,null,null,null,null,{"$f":"'DNSP Inputs O & M'!$G$132","v":47895.441844543187},null,null,null,null,null,null,null,null,null,null,null,null,null,null,{"$f":"'DNSP Inputs O & M'!$H$132","v":47895.441844543187}]
[{"$f":"'DNSP Inputs O & M'!$A$134","v":"GIS and other"},null,{"$f":"'DNSP Inputs O & M'!$D$134","v":113442.54344988911},null,null,null,null,null,null,null,null,null,null,null,null,null,null,{"$f":"'DNSP Inputs O & M'!$E$134","v":113442.54344988911},null,null,null,null,null,null,null,null,null,null,null,null,null,null,{"$f":"'DNSP Inputs O & M'!$F$134","v":113442.54344988911},null,null,null,null,null,null,null,null,null,null,null,null,null,null,{"$f":"'DNSP Inputs O & M'!$G$134","v":113442.54344988911},null,null,null,null,null,null,null,null,null,null,null,null,null,null,{"$f":"'DNSP Inputs O & M'!$H$134","v":113442.54344988911}]
[{"$f":"'DNSP Inputs O & M'!A135","v":"Complaints handling"},null,{"$f":"'DNSP Inputs O & M'!$D$135","v":34032.763034966731},null,null,null,null,null,null,null,null,null,null,null,null,null,null,{"$f":"'DNSP Inputs O & M'!$E$135","v":34032.763034966731},null,null,null,null,null,null,null,null,null,null,null,null,null,null,{"$f":"'DNSP Inputs O & M'!$F$135","v":34032.763034966731},null,null,null,null,null,null,null,null,null,null,null,null,null,null,{"$f":"'DNSP Inputs O & M'!$G$135","v":34032.763034966731},null,null,null,null,null,null,null,null,null,null,null,null,null,null,{"$f":"'DNSP Inputs O & M'!$H$135","v":34032.763034966731}]
["Account management",null,{"$f":"'DNSP Inputs O & M'!$D$136","v":0},null,null,null,null,null,null,null,null,null,null,null,null,null,null,{"$f":"'DNSP Inputs O & M'!$E$136","v":0},null,null,null,null,null,null,null,null,null,null,null,null,null,null,{"$f":"'DNSP Inputs O & M'!$F$136","v":0},null,null,null,null,null,null,null,null,null,null,null,null,null,null,{"$f":"'DNSP Inputs O & M'!$G$136","v":0},null,null,null,null,null,null,null,null,null,null,null,null,null,null,{"$f":"'DNSP Inputs O & M'!$H$136","v":0}]
[null,null,{"$f":"SUM(C46:C49)","v":195370.74832939904},null,null,null,null,null,null,null,null,null,null,null,null,null,null,{"$f":"SUM(R46:R49)","v":195370.74832939904},null,null,null,null,null,null,null,null,null,null,null,null,null,null,{"$f":"SUM(AG46:AG49)","v":195370.74832939904},null,null,null,null,null,null,null,null,null,null,null,null,null,null,{"$f":"SUM(AV46:AV49)","v":195370.74832939904},null,null,null,null,null,null,null,null,null,null,null,null,null,null,{"$f":"SUM(BK46:BK49)","v":195370.74832939904}]
[]
[{"$f":"'DNSP Inputs General'!A75","v":"Total Number of Lights"},null,{"$f":"'DNSP Inputs General'!$K$75","v":72043},null,null,null,null,null,null,null,null,null,null,null,null,null,null,{"$f":"'DNSP Inputs General'!$L$75","v":72717},null,null,null,null,null,null,null,null,null,null,null,null,null,null,{"$f":"'DNSP Inputs General'!$M$75","v":73391},null,null,null,null,null,null,null,null,null,null,null,null,null,null,{"$f":"'DNSP Inputs General'!$N$75","v":74065},null,null,null,null,null,null,null,null,null,null,null,null,null,null,{"$f":"'DNSP Inputs General'!$O$75","v":74739}]
[]
[]
[]
[]
[]
["Mercury Vapour 80 Watt Standard Light Type - Cost build-up"]
[]
["Additional assumptions"]
["Proportion of lamps that will fail before bulk change",null,null,{"$f":"'DNSP Inputs O & M'!$D$27","v":0.25600000000000001},null,null,null,null,null,null,null,null,null,null,null,null,null,null,{"$f":"'DNSP Inputs O & M'!$E$27","v":0.25600000000000001},null,null,null,null,null,null,null,null,null,null,null,null,null,null,{"$f":"'DNSP Inputs O & M'!$F$27","v":0.25600000000000001},null,null,null,null,null,null,null,null,null,null,null,null,null,null,{"$f":"'DNSP Inputs O & M'!$G$27","v":0.25600000000000001},null,null,null,null,null,null,null,null,null,null,null,null,null,null,{"$f":"'DNSP Inputs O & M'!$H$27","v":0.25600000000000001}]
["Proportion of lamps that will fail before bulk change (per year)",null,null,{"$f":"D61/'DNSP Inputs O & M'!$D$25","v":6.4000000000000001E-2},null,null,null,null,null,null,null,null,null,null,null,null,null,null,{"$f":"S61/'DNSP Inputs O & M'!$E$25","v":6.4000000000000001E-2},null,null,null,null,null,null,null,null,null,null,null,null,null,null,{"$f":"AH61/'DNSP Inputs O & M'!$F$25","v":6.4000000000000001E-2},null,null,null,null,null,null,null,null,null,null,null,null,null,null,{"$f":"AW61/'DNSP Inputs O & M'!$G$25","v":6.4000000000000001E-2},null,null,null,null,null,null,null,null,null,null,null,null,null,null,{"$f":"BL61/'DNSP Inputs O & M'!$H$25","v":6.4000000000000001E-2}]
["Overheads are applied to material and labour components"]
["All costs and charges are exclusive of GST"]
[]
[null,"Urban",null,null,null,null,null,null,"Rural",null,null,null,null,null,null,null,"Urban",null,null,null,null,null,null,"Rural",null,null,null,null,null,null,null,"Urban",null,null,null,null,null,null,"Rural",null,null,null,null,null,null,null,"Urban",null,null,null,null,null,null,"Rural",null,null,null,null,null,null,null,"Urban",null,null,null,null,null,null,"Rural"]
[]
[null,"Unit rate","Number","Hours","Cost","Annualised","Annualised",null,"Unit rate","Number","Hours","Cost","Annualised","Annualised",null,null,"Unit rate","Number","Hours","Cost","Annualised","Annualised",null,"Unit rate","Number","Hours","Cost","Annualised","Annualised",null,null,"Unit rate","Number","Hours","Cost","Annualised","Annualised",null,"Unit rate","Number","Hours","Cost","Annualised","Annualised",null,null,"Unit rate","Number","Hours","Cost","Annualised","Annualised",null,"Unit rate","Number","Hours","Cost","Annualised","Annualised",null,null,"Unit rate","Number","Hours","Cost","Annualised","Annualised",null,"Unit rate","Number","Hours","Cost","Annualised","Annualised"]
[null,null,null,null,null," cost","unit cost",null,null,null,null,null," cost","unit cost",null,null,null,null,null,null," cost","unit cost",null,null,null,null,null," cost","unit cost",null,null,null,null,null,null," cost","unit cost",null,null,null,null,null," cost","unit cost",null,null,null,null,null,null," cost","unit cost",null,null,null,null,null," cost","unit cost",null,null,null,null,null,null," cost","unit cost",null,null,null,null,null," cost","unit cost"]
["MV80"]
["Bulk change & repairs"]
["Materials - bulk lamp change"]
["Lamp",{"$f":"'DNSP Inputs O & M'!$D$29","v":5.6933588289891413},{"$f":"'DNSP Inputs O & M'!$D$35","v":85},null,{"$f":"B73*C73","v":483.93550046407699},{"$f":"E73/'DNSP Inputs O & M'!$D$25*0.8","v":96.787100092815407},{"$f":"(F73+F74+F75)/C73","v":4.2609869879321893},null,{"$f":"'DNSP Inputs O & M'!$D$29*(1+'DNSP Inputs O & M'!$D$11)","v":5.978026770438599},{"$f":"'DNSP Inputs O & M'!$D$36","v":70},null,{"$f":"I73*J73","v":418.46187393070193},{"$f":"L73/'DNSP Inputs O & M'!$D$25*0.8","v":83.692374786140391},{"$f":"(M73+M74+M75)/J73","v":4.4740363373287995},null,null,{"$f":"'DNSP Inputs O & M'!$E$29","v":5.9108720787552551},{"$f":"'DNSP Inputs O & M'!$E$35","v":85},null,{"$f":"Q73*R73","v":502.42412669419667},{"$f":"T73/'DNSP Inputs O & M'!$E$25*0.8","v":100.48482533883934},{"$f":"(U73+U74+U75)/R73","v":4.4237768550027701},null,{"$f":"'DNSP Inputs O & M'!$E$29*(1+'DNSP Inputs O & M'!$E$11)","v":6.2064156826930184},{"$f":"'DNSP Inputs O & M'!$E$36","v":70},null,{"$f":"X73*Y73","v":434.44909778851127},{"$f":"AA73/'DNSP Inputs O & M'!$E$25*0.8","v":86.889819557702253},{"$f":"(AB73+AB74+AB75)/Y73","v":4.6449656977529088},null,null,{"$f":"'DNSP Inputs O & M'!$F$29","v":5.9949299947135106},{"$f":"'DNSP Inputs O & M'!$F$35","v":85},null,{"$f":"AF73*AG73","v":509.5690495506484},{"$f":"AI73/'DNSP Inputs O & M'!$F$25*0.8","v":101.91380991012969},{"$f":"(AJ73+AJ74+AJ75)/AG73","v":4.4866869396977851},null,{"$f":"'DNSP Inputs O & M'!$F$29*(1+'DNSP Inputs O & M'!$F$11)","v":6.2946764944491864},{"$f":"'DNSP Inputs O & M'!$F$36","v":70},null,{"$f":"AM73*AN73","v":440.62735461144302},{"$f":"AP73/'DNSP Inputs O & M'!$F$25*0.8","v":88.125470922288613},{"$f":"(AQ73+AQ74+AQ75)/AN73","v":4.7110212866826755},null,null,{"$f":"'DNSP Inputs O & M'!$G$29","v":5.6284786999588414},{"$f":"'DNSP Inputs O & M'!$G$35","v":85},null,{"$f":"AU73*AV73","v":478.4206894965015},{"$f":"AX73/'DNSP Inputs O & M'!$G$25*0.8","v":95.68413789930031},{"$f":"(AY73+AY74+AY75)/AV73","v":4.2124298191540976},null,{"$f":"'DNSP Inputs O & M'!$G$29*(1+'DNSP Inputs O & M'!$G$11)","v":5.9099026349567838},{"$f":"'DNSP Inputs O & M'!$G$36","v":70},null,{"$f":"BB73*BC73","v":413.69318444697484},{"$f":"BE73/'DNSP Inputs O & M'!$G$25*0.8","v":82.738636889394968},{"$f":"(BF73+BF74+BF75)/BC73","v":4.4230513101118021},null,null,{"$f":"'DNSP Inputs O & M'!$H$29","v":5.4930720622964682},{"$f":"'DNSP Inputs O & M'!$H$35","v":85},null,{"$f":"BJ73*BK73","v":466.91112529519978},{"$f":"BM73/'DNSP Inputs O & M'!$H$25*0.8","v":93.382225059039968},{"$f":"(BN73+BN74+BN75)/BK73","v":4.111089654500983},null,{"$f":"'DNSP Inputs O & M'!$H$29*(1+'DNSP Inputs O & M'!$H$11)","v":5.7677256654112918},{"$f":"'DNSP Inputs O & M'!$H$36","v":70},null,{"$f":"BQ73*BR73","v":403.74079657879042},{"$f":"BT73/'DNSP Inputs O & M'!$H$25*0.8","v":80.748159315758087},{"$f":"(BU73+BU74+BU75)/BR73","v":4.3166441372260316}]
["PE cell",{"$f":"'DNSP Inputs O & M'!$D$30","v":22.985223281148716},{"$f":"C73*'DNSP Inputs O & M'!$D$25/'DNSP Inputs O & M'!$D$26","v":42.5},null,{"$f":"B74*C74","v":976.87198944882039},{"$f":"E74/'DNSP Inputs O & M'!$D$25","v":244.2179973622051},null,null,{"$f":"'DNSP Inputs O & M'!$D$30*(1+'DNSP Inputs O & M'!$D$11)","v":24.134484445206152},{"$f":"J73*'DNSP Inputs O & M'!$D$25/'DNSP Inputs O & M'!$D$26","v":35},null,{"$f":"I74*J74","v":844.7069555822153},{"$f":"L74/'DNSP Inputs O & M'!$D$25","v":211.17673889555383},null,null,null,{"$f":"'DNSP Inputs O & M'!$E$30","v":23.863367582720883},{"$f":"R73*'DNSP Inputs O & M'!$E$25/'DNSP Inputs O & M'!$E$26","v":42.5},null,{"$f":"Q74*R74","v":1014.1931222656375},{"$f":"T74/'DNSP Inputs O & M'!$E$25","v":253.54828056640937},null,null,{"$f":"'DNSP Inputs O & M'!$E$30*(1+'DNSP Inputs O & M'!$E$11)","v":25.056535961856927},{"$f":"Y73*'DNSP Inputs O & M'!$E$25/'DNSP Inputs O & M'!$E$26","v":35},null,{"$f":"X74*Y74","v":876.97875866499248},{"$f":"AA74/'DNSP Inputs O & M'!$E$25","v":219.24468966624812},null,null,null,{"$f":"'DNSP Inputs O & M'!$F$30","v":24.202726127453882},{"$f":"AG73*'DNSP Inputs O & M'!$F$25/'DNSP Inputs O & M'!$F$26","v":42.5},null,{"$f":"AF74*AG74","v":1028.6158604167899},{"$f":"AI74/'DNSP Inputs O & M'!$F$25","v":257.15396510419748},null,null,{"$f":"'DNSP Inputs O & M'!$F$30*(1+'DNSP Inputs O & M'!$F$11)","v":25.412862433826579},{"$f":"AN73*'DNSP Inputs O & M'!$F$25/'DNSP Inputs O & M'!$F$26","v":35},null,{"$f":"AM74*AN74","v":889.45018518393022},{"$f":"AP74/'DNSP Inputs O & M'!$F$25","v":222.36254629598255},null,null,null,{"$f":"'DNSP Inputs O & M'!$G$30","v":22.723289281015447},{"$f":"AV73*'DNSP Inputs O & M'!$G$25/'DNSP Inputs O & M'!$G$26","v":42.5},null,{"$f":"AU74*AV74","v":965.73979444315648},{"$f":"AX74/'DNSP Inputs O & M'!$G$25","v":241.43494861078912},null,null,{"$f":"'DNSP Inputs O & M'!$G$30*(1+'DNSP Inputs O & M'!$G$11)","v":23.859453745066219},{"$f":"BC73*'DNSP Inputs O & M'!$G$25/'DNSP Inputs O & M'!$G$26","v":35},null,{"$f":"BB74*BC74","v":835.0808810773176},{"$f":"BE74/'DNSP Inputs O & M'!$G$25","v":208.7702202693294},null,null,null,{"$f":"'DNSP Inputs O & M'!$H$30","v":22.176625721962761},{"$f":"BK73*'DNSP Inputs O & M'!$H$25/'DNSP Inputs O & M'!$H$26","v":42.5},null,{"$f":"BJ74*BK74","v":942.50659318341729},{"$f":"BM74/'DNSP Inputs O & M'!$H$25","v":235.62664829585432},null,null,{"$f":"'DNSP Inputs O & M'!$H$30*(1+'DNSP Inputs O & M'!$H$11)","v":23.285457008060899},{"$f":"BR73*'DNSP Inputs O & M'!$H$25/'DNSP Inputs O & M'!$H$26","v":35},null,{"$f":"BQ74*BR74","v":814.99099528213151},{"$f":"BT74/'DNSP Inputs O & M'!$H$25","v":203.74774882053288}]
["Miscellaneous",{"$f":"'DNSP Inputs O & M'!$D$32","v":1.2458115599538602},{"$f":"'DNSP Inputs O & M'!$D$35","v":85},null,{"$f":"B75*C75","v":105.89398259607812},{"$f":"E75/'DNSP Inputs O & M'!$D$25*0.8","v":21.178796519215624},null,null,{"$f":"'DNSP Inputs O & M'!$D$32*(1+'DNSP Inputs O & M'!$D$11)","v":1.3081021379515532},{"$f":"'DNSP Inputs O & M'!$D$36","v":70},null,{"$f":"I75*J75","v":91.56714965660872},{"$f":"L75/'DNSP Inputs O & M'!$D$25*0.8","v":18.313429931321746},null,null,null,{"$f":"'DNSP Inputs O & M'!$E$32","v":1.2934074570580427},{"$f":"'DNSP Inputs O & M'!$E$35","v":85},null,{"$f":"Q75*R75","v":109.93963384993363},{"$f":"T75/'DNSP Inputs O & M'!$E$25*0.8","v":21.987926769986728},null,null,{"$f":"'DNSP Inputs O & M'!$E$32*(1+'DNSP Inputs O & M'!$E$11)","v":1.3580778299109448},{"$f":"'DNSP Inputs O & M'!$E$36","v":70},null,{"$f":"X75*Y75","v":95.065448093766136},{"$f":"AA75/'DNSP Inputs O & M'!$E$25*0.8","v":19.013089618753227},null,null,null,{"$f":"'DNSP Inputs O & M'!$F$32","v":1.311800874116742},{"$f":"'DNSP Inputs O & M'!$F$35","v":85},null,{"$f":"AF75*AG75","v":111.50307429992307},{"$f":"AI75/'DNSP Inputs O & M'!$F$25*0.8","v":22.300614859984616},null,null,{"$f":"'DNSP Inputs O & M'!$F$32*(1+'DNSP Inputs O & M'!$F$11)","v":1.3773909178225792},{"$f":"'DNSP Inputs O & M'!$F$36","v":70},null,{"$f":"AM75*AN75","v":96.417364247580537},{"$f":"AP75/'DNSP Inputs O & M'!$F$25*0.8","v":19.283472849516109},null,null,null,{"$f":"'DNSP Inputs O & M'!$G$32","v":1.2316145951769895},{"$f":"'DNSP Inputs O & M'!$G$35","v":85},null,{"$f":"AU75*AV75","v":104.6872405900441},{"$f":"AX75/'DNSP Inputs O & M'!$G$25*0.8","v":20.93744811800882},null,null,{"$f":"'DNSP Inputs O & M'!$G$32*(1+'DNSP Inputs O & M'!$G$11)","v":1.293195324935839},{"$f":"'DNSP Inputs O & M'!$G$36","v":70},null,{"$f":"BB75*BC75","v":90.523672745508733},{"$f":"BE75/'DNSP Inputs O & M'!$G$25*0.8","v":18.104734549101746},null,null,null,{"$f":"'DNSP Inputs O & M'!$H$32","v":1.2019851339817218},{"$f":"'DNSP Inputs O & M'!$H$35","v":85},null,{"$f":"BJ75*BK75","v":102.16873638844635},{"$f":"BM75/'DNSP Inputs O & M'!$H$25*0.8","v":20.433747277689271},null,null,{"$f":"'DNSP Inputs O & M'!$H$32*(1+'DNSP Inputs O & M'!$H$11)","v":1.2620843906808079},{"$f":"'DNSP Inputs O & M'!$H$36","v":70},null,{"$f":"BQ75*BR75","v":88.345907347656549},{"$f":"BT75/'DNSP Inputs O & M'!$H$25*0.8","v":17.66918146953131}]
["Materials - repair of faults"]
["Lamp",{"$f":"'DNSP Inputs O & M'!$D$29","v":5.6933588289891413},{"$f":"'DNSP Inputs O & M'!$D$37*'DNSP Inputs O & M'!$D$39","v":9},null,{"$f":"B77*C77","v":51.24022946090227},{"$f":"(E77+E78+E79+E80)/'DNSP Inputs O & M'!$D$37","v":45.782951922524376},{"$f":"F77*D62","v":2.9301089230415602},null,{"$f":"'DNSP Inputs O & M'!$D$29*(1+'DNSP Inputs O & M'!$D$11)","v":5.978026770438599},{"$f":"'DNSP Inputs O & M'!$D$38*'DNSP Inputs O & M'!$D$39","v":7.1999999999999993},null,{"$f":"I77*J77","v":43.041792747157906},{"$f":"(L77+L78+L79+L80)/'DNSP Inputs O & M'!$D$38","v":48.072099518650589},{"$f":"M77*D62","v":3.0766143691936376},null,null,{"$f":"'DNSP Inputs O & M'!$E$29","v":5.9108720787552551},{"$f":"'DNSP Inputs O & M'!$E$37*'DNSP Inputs O & M'!$E$39","v":9},null,{"$f":"Q77*R77","v":53.197848708797295},{"$f":"(T77+T78+T79+T80)/'DNSP Inputs O & M'!$E$37","v":47.53207734315454},{"$f":"U77*S62","v":3.0420529499618905},null,{"$f":"'DNSP Inputs O & M'!$E$29*(1+'DNSP Inputs O & M'!$E$11)","v":6.2064156826930184},{"$f":"'DNSP Inputs O & M'!$E$38*'DNSP Inputs O & M'!$E$39","v":7.1999999999999993},null,{"$f":"X77*Y77","v":44.686192915389725},{"$f":"(AA77+AA78+AA79+AA80)/'DNSP Inputs O & M'!$E$38","v":49.908681210312267},{"$f":"AB77*S62","v":3.1941555974599853},null,null,{"$f":"'DNSP Inputs O & M'!$F$29","v":5.9949299947135106},{"$f":"'DNSP Inputs O & M'!$F$37*'DNSP Inputs O & M'!$F$39","v":9},null,{"$f":"AF77*AG77","v":53.954369952421594},{"$f":"(AI77+AI78+AI79+AI80)/'DNSP Inputs O & M'!$F$37","v":48.208026223353187},{"$f":"AJ77*AH62","v":3.0853136782946042},null,{"$f":"'DNSP Inputs O & M'!$F$29*(1+'DNSP Inputs O & M'!$F$11)","v":6.2946764944491864},{"$f":"'DNSP Inputs O & M'!$F$38*'DNSP Inputs O & M'!$F$39","v":7.1999999999999993},null,{"$f":"AM77*AN77","v":45.321670760034138},{"$f":"(AP77+AP78+AP79+AP80)/'DNSP Inputs O & M'!$F$38","v":50.618427534520855},{"$f":"AQ77*AH62","v":3.239579362209335},null,null,{"$f":"'DNSP Inputs O & M'!$G$29","v":5.6284786999588414},{"$f":"'DNSP Inputs O & M'!$G$37*'DNSP Inputs O & M'!$G$39","v":9},null,{"$f":"AU77*AV77","v":50.656308299629572},{"$f":"(AX77+AX78+AX79+AX80)/'DNSP Inputs O & M'!$G$37","v":45.26122056545676},{"$f":"AY77*AW62","v":2.8967181161892328},null,{"$f":"'DNSP Inputs O & M'!$G$29*(1+'DNSP Inputs O & M'!$G$11)","v":5.9099026349567838},{"$f":"'DNSP Inputs O & M'!$G$38*'DNSP Inputs O & M'!$G$39","v":7.1999999999999993},null,{"$f":"BB77*BC77","v":42.551298971688837},{"$f":"(BE77+BE78+BE79+BE80)/'DNSP Inputs O & M'!$G$38","v":47.524281593729597},{"$f":"BF77*AW62","v":3.0415540219986941},null,null,{"$f":"'DNSP Inputs O & M'!$H$29","v":5.4930720622964682},{"$f":"'DNSP Inputs O & M'!$H$37*'DNSP Inputs O & M'!$H$39","v":9},null,{"$f":"BJ77*BK77","v":49.437648560668215},{"$f":"(BM77+BM78+BM79+BM80)/'DNSP Inputs O & M'!$H$37","v":44.17235268126128},{"$f":"BN77*BL62","v":2.827030571600722},null,{"$f":"'DNSP Inputs O & M'!$H$29*(1+'DNSP Inputs O & M'!$H$11)","v":5.7677256654112918},{"$f":"'DNSP Inputs O & M'!$H$38*'DNSP Inputs O & M'!$H$39","v":7.1999999999999993},null,{"$f":"BQ77*BR77","v":41.527624790961298},{"$f":"(BT77+BT78+BT79+BT80)/'DNSP Inputs O & M'!$H$38","v":46.380970315324333},{"$f":"BU77*BL62","v":2.9683821001807575}]
["PE cell",{"$f":"'DNSP Inputs O & M'!$D$30","v":22.985223281148716},{"$f":"'DNSP Inputs O & M'!$D$37*'DNSP Inputs O & M'!$D$40","v":7.5},null,{"$f":"B78*C78","v":172.38917460861538},null,null,null,{"$f":"'DNSP Inputs O & M'!$D$30*(1+'DNSP Inputs O & M'!$D$11)","v":24.134484445206152},{"$f":"'DNSP Inputs O & M'!$D$38*'DNSP Inputs O & M'!$D$40","v":6},null,{"$f":"I78*J78","v":144.8069066712369},null,null,null,null,{"$f":"'DNSP Inputs O & M'!$E$30","v":23.863367582720883},{"$f":"'DNSP Inputs O & M'!$E$37*'DNSP Inputs O & M'!$E$40","v":7.5},null,{"$f":"Q78*R78","v":178.97525687040661},null,null,null,{"$f":"'DNSP Inputs O & M'!$E$30*(1+'DNSP Inputs O & M'!$E$11)","v":25.056535961856927},{"$f":"'DNSP Inputs O & M'!$E$38*'DNSP Inputs O & M'!$E$40","v":6},null,{"$f":"X78*Y78","v":150.33921577114157},null,null,null,null,{"$f":"'DNSP Inputs O & M'!$F$30","v":24.202726127453882},{"$f":"'DNSP Inputs O & M'!$F$37*'DNSP Inputs O & M'!$F$40","v":7.5},null,{"$f":"AF78*AG78","v":181.52044595590411},null,null,null,{"$f":"'DNSP Inputs O & M'!$F$30*(1+'DNSP Inputs O & M'!$F$11)","v":25.412862433826579},{"$f":"'DNSP Inputs O & M'!$F$38*'DNSP Inputs O & M'!$F$40","v":6},null,{"$f":"AM78*AN78","v":152.47717460295948},null,null,null,null,{"$f":"'DNSP Inputs O & M'!$G$30","v":22.723289281015447},{"$f":"'DNSP Inputs O & M'!$G$37*'DNSP Inputs O & M'!$G$40","v":7.5},null,{"$f":"AU78*AV78","v":170.42466960761584},null,null,null,{"$f":"'DNSP Inputs O & M'!$G$30*(1+'DNSP Inputs O & M'!$G$11)","v":23.859453745066219},{"$f":"'DNSP Inputs O & M'!$G$38*'DNSP Inputs O & M'!$G$40","v":6},null,{"$f":"BB78*BC78","v":143.15672247039731},null,null,null,null,{"$f":"'DNSP Inputs O & M'!$H$30","v":22.176625721962761},{"$f":"'DNSP Inputs O & M'!$H$37*'DNSP Inputs O & M'!$H$40","v":7.5},null,{"$f":"BJ78*BK78","v":166.32469291472071},null,null,null,{"$f":"'DNSP Inputs O & M'!$H$30*(1+'DNSP Inputs O & M'!$H$11)","v":23.285457008060899},{"$f":"'DNSP Inputs O & M'!$H$38*'DNSP Inputs O & M'!$H$40","v":6},null,{"$f":"BQ78*BR78","v":139.71274204836539}]
["Luminaire",{"$f":"'DNSP Inputs O & M'!$D$31","v":197.5234228306845},{"$f":"'DNSP Inputs O & M'!$D$37*'DNSP Inputs O & M'!$D$41","v":2.25},null,{"$f":"B79*C79","v":444.42770136904011},null,null,null,{"$f":"'DNSP Inputs O & M'!$D$31*(1+'DNSP Inputs O & M'!$D$11)","v":207.39959397221872},{"$f":"'DNSP Inputs O & M'!$D$38*'DNSP Inputs O & M'!$D$41","v":1.7999999999999998},null,{"$f":"I79*J79","v":373.31926914999366},null,null,null,null,{"$f":"'DNSP Inputs O & M'!$E$31","v":205.06975231655264},{"$f":"'DNSP Inputs O & M'!$E$37*'DNSP Inputs O & M'!$E$41","v":2.25},null,{"$f":"Q79*R79","v":461.40694271224345},null,null,null,{"$f":"'DNSP Inputs O & M'!$E$31*(1+'DNSP Inputs O & M'!$E$11)","v":215.32323993238029},{"$f":"'DNSP Inputs O & M'!$E$38*'DNSP Inputs O & M'!$E$41","v":1.7999999999999998},null,{"$f":"X79*Y79","v":387.5818318782845},null,null,null,null,{"$f":"'DNSP Inputs O & M'!$F$31","v":207.98602859120939},{"$f":"'DNSP Inputs O & M'!$F$37*'DNSP Inputs O & M'!$F$41","v":2.25},null,{"$f":"AF79*AG79","v":467.96856433022111},null,null,null,{"$f":"'DNSP Inputs O & M'!$F$31*(1+'DNSP Inputs O & M'!$F$11)","v":218.38533002076986},{"$f":"'DNSP Inputs O & M'!$F$38*'DNSP Inputs O & M'!$F$41","v":1.7999999999999998},null,{"$f":"AM79*AN79","v":393.09359403738569},null,null,null,null,{"$f":"'DNSP Inputs O & M'!$G$31","v":195.27249406531163},{"$f":"'DNSP Inputs O & M'!$G$37*'DNSP Inputs O & M'!$G$41","v":2.25},null,{"$f":"AU79*AV79","v":439.36311164695115},null,null,null,{"$f":"'DNSP Inputs O & M'!$G$31*(1+'DNSP Inputs O & M'!$G$11)","v":205.03611876857721},{"$f":"'DNSP Inputs O & M'!$G$38*'DNSP Inputs O & M'!$G$41","v":1.7999999999999998},null,{"$f":"BB79*BC79","v":369.06501378343893},null,null,null,null,{"$f":"'DNSP Inputs O & M'!$H$31","v":190.57474299280196},{"$f":"'DNSP Inputs O & M'!$H$37*'DNSP Inputs O & M'!$H$41","v":2.25},null,{"$f":"BJ79*BK79","v":428.7931717338044},null,null,null,{"$f":"'DNSP Inputs O & M'!$H$31*(1+'DNSP Inputs O & M'!$H$11)","v":200.10348014244207},{"$f":"'DNSP Inputs O & M'!$H$38*'DNSP Inputs O & M'!$H$41","v":1.7999999999999998},null,{"$f":"BQ79*BR79","v":360.1862642563957}]
["Miscellaneous",{"$f":"'DNSP Inputs O & M'!$D$33","v":12.458115599538601},{"$f":"'DNSP Inputs O & M'!$D$37*'DNSP Inputs O & M'!$D$42","v":1.5},null,{"$f":"B80*C80","v":18.687173399307902},null,null,null,{"$f":"'DNSP Inputs O & M'!$D$33*(1+'DNSP Inputs O & M'!$D$11)","v":13.081021379515532},{"$f":"'DNSP Inputs O & M'!$D$38*'DNSP Inputs O & M'!$D$42","v":1.2000000000000002},null,{"$f":"I80*J80","v":15.69722565541864},null,null,null,null,{"$f":"'DNSP Inputs O & M'!$E$33","v":12.934074570580426},{"$f":"'DNSP Inputs O & M'!$E$37*'DNSP Inputs O & M'!$E$42","v":1.5},null,{"$f":"Q80*R80","v":19.401111855870639},null,null,null,{"$f":"'DNSP Inputs O & M'!$E$33*(1+'DNSP Inputs O & M'!$E$11)","v":13.580778299109449},{"$f":"'DNSP Inputs O & M'!$E$38*'DNSP Inputs O & M'!$E$42","v":1.2000000000000002},null,{"$f":"X80*Y80","v":16.296933958931341},null,null,null,null,{"$f":"'DNSP Inputs O & M'!$F$33","v":13.118008741167419},{"$f":"'DNSP Inputs O & M'!$F$37*'DNSP Inputs O & M'!$F$42","v":1.5},null,{"$f":"AF80*AG80","v":19.67701311175113},null,null,null,{"$f":"'DNSP Inputs O & M'!$F$33*(1+'DNSP Inputs O & M'!$F$11)","v":13.773909178225789},{"$f":"'DNSP Inputs O & M'!$F$38*'DNSP Inputs O & M'!$F$42","v":1.2000000000000002},null,{"$f":"AM80*AN80","v":16.528691013870951},null,null,null,null,{"$f":"'DNSP Inputs O & M'!$G$33","v":12.316145951769894},{"$f":"'DNSP Inputs O & M'!$G$37*'DNSP Inputs O & M'!$G$42","v":1.5},null,{"$f":"AU80*AV80","v":18.474218927654839},null,null,null,{"$f":"'DNSP Inputs O & M'!$G$33*(1+'DNSP Inputs O & M'!$G$11)","v":12.931953249358388},{"$f":"'DNSP Inputs O & M'!$G$38*'DNSP Inputs O & M'!$G$42","v":1.2000000000000002},null,{"$f":"BB80*BC80","v":15.518343899230068},null,null,null,null,{"$f":"'DNSP Inputs O & M'!$H$33","v":12.019851339817217},{"$f":"'DNSP Inputs O & M'!$H$37*'DNSP Inputs O & M'!$H$42","v":1.5},null,{"$f":"BJ80*BK80","v":18.029777009725827},null,null,null,{"$f":"'DNSP Inputs O & M'!$H$33*(1+'DNSP Inputs O & M'!$H$11)","v":12.620843906808078},{"$f":"'DNSP Inputs O & M'!$H$38*'DNSP Inputs O & M'!$H$42","v":1.2000000000000002},null,{"$f":"BQ80*BR80","v":15.145012688169697}]
["Labour - bulk lamp change"]
["Crew costs",{"$f":"'DNSP Inputs O & M'!$D$12","v":90.004127629331563},{"$f":"'DNSP Inputs O & M'!$D$34","v":2},{"$f":"'DNSP Inputs O & M'!$D$17","v":8},{"$f":"B82*C82*D82","v":1440.066042069305},{"$f":"E82/'DNSP Inputs O & M'!$D$25*(C73+C74)/C73*0.8","v":432.01981262079153},{"$f":"(F82+F83)/C73","v":6.2340400420522553},null,{"$f":"'DNSP Inputs O & M'!$D$12","v":90.004127629331563},{"$f":"'DNSP Inputs O & M'!$D$34","v":2},{"$f":"'DNSP Inputs O & M'!$D$17","v":8},{"$f":"I82*J82*K82","v":1440.066042069305},{"$f":"L82/'DNSP Inputs O & M'!$D$25*(J73+J74)/J73*0.8","v":432.01981262079153},{"$f":"(M82+M83)/J73","v":7.9693898100579421},null,null,{"$f":"'DNSP Inputs O & M'!$E$12","v":90.338600866671271},{"$f":"'DNSP Inputs O & M'!$E$34","v":2},{"$f":"'DNSP Inputs O & M'!$E$17","v":8},{"$f":"Q82*R82*S82","v":1445.4176138667403},{"$f":"T82/'DNSP Inputs O & M'!$E$25*(R73+R74)/R73*0.8","v":433.62528416002215},{"$f":"(U82+U83)/R73","v":6.2969189347311278},null,{"$f":"'DNSP Inputs O & M'!$E$12","v":90.338600866671271},{"$f":"'DNSP Inputs O & M'!$E$34","v":2},{"$f":"'DNSP Inputs O & M'!$E$17","v":8},{"$f":"X82*Y82*Z82","v":1445.4176138667403},{"$f":"AA82/'DNSP Inputs O & M'!$E$25*(Y73+Y74)/Y73*0.8","v":433.62528416002215},{"$f":"(AB82+AB83)/Y73","v":8.0610049321413637},null,null,{"$f":"'DNSP Inputs O & M'!$F$12","v":91.047760948270181},{"$f":"'DNSP Inputs O & M'!$F$34","v":2},{"$f":"'DNSP Inputs O & M'!$F$17","v":8},{"$f":"AF82*AG82*AH82","v":1456.7641751723229},{"$f":"AI82/'DNSP Inputs O & M'!$F$25*(AG73+AG74)/AG73*0.8","v":437.02925255169686},{"$f":"(AJ82+AJ83)/AG73","v":6.3539659245733295},null,{"$f":"'DNSP Inputs O & M'!$F$12","v":91.047760948270181},{"$f":"'DNSP Inputs O & M'!$F$34","v":2},{"$f":"'DNSP Inputs O & M'!$F$17","v":8},{"$f":"AM82*AN82*AO82","v":1456.7641751723229},{"$f":"AP82/'DNSP Inputs O & M'!$F$25*(AN73+AN74)/AN73*0.8","v":437.02925255169686},{"$f":"(AQ82+AQ83)/AN73","v":8.1361743412147032},null,null,{"$f":"'DNSP Inputs O & M'!$G$12","v":91.919423571864726},{"$f":"'DNSP Inputs O & M'!$G$34","v":2},{"$f":"'DNSP Inputs O & M'!$G$17","v":8},{"$f":"AU82*AV82*AW82","v":1470.7107771498356},{"$f":"AX82/'DNSP Inputs O & M'!$G$25*(AV73+AV74)/AV73*0.8","v":441.21323314495066},{"$f":"(AY82+AY83)/AV73","v":6.3290762414135235},null,{"$f":"'DNSP Inputs O & M'!$G$12","v":91.919423571864726},{"$f":"'DNSP Inputs O & M'!$G$34","v":2},{"$f":"'DNSP Inputs O & M'!$G$17","v":8},{"$f":"BB82*BC82*BD82","v":1470.7107771498356},{"$f":"BE82/'DNSP Inputs O & M'!$G$25*(BC73+BC74)/BC73*0.8","v":441.21323314495066},{"$f":"(BF82+BF83)/BC73","v":8.0802384865131529},null,null,{"$f":"'DNSP Inputs O & M'!$H$12","v":92.856350250687825},{"$f":"'DNSP Inputs O & M'!$H$34","v":2},{"$f":"'DNSP Inputs O & M'!$H$17","v":8},{"$f":"BJ82*BK82*BL82","v":1485.7016040110052},{"$f":"BM82/'DNSP Inputs O & M'!$H$25*(BK73+BK74)/BK73*0.8","v":445.71048120330164},{"$f":"(BN82+BN83)/BK73","v":6.3545997110914989},null,{"$f":"'DNSP Inputs O & M'!$H$12","v":92.856350250687825},{"$f":"'DNSP Inputs O & M'!$H$34","v":2},{"$f":"'DNSP Inputs O & M'!$H$17","v":8},{"$f":"BQ82*BR82*BS82","v":1485.7016040110052},{"$f":"BT82/'DNSP Inputs O & M'!$H$25*(BR73+BR74)/BR73*0.8","v":445.71048120330153},{"$f":"(BU82+BU83)/BR73","v":8.1017302379150866}]
["Elevated platform costs",{"$f":"'DNSP Inputs O & M'!$D$14","v":40.780662897354212},1,{"$f":"'DNSP Inputs O & M'!$D$17","v":8},{"$f":"B83*C83*D83","v":326.24530317883369},{"$f":"E83/'DNSP Inputs O & M'!$D$25*(C73+C74)/C73*0.8","v":97.873590953650123},null,null,{"$f":"'DNSP Inputs O & M'!$D$15","v":52.432280868026844},1,{"$f":"'DNSP Inputs O & M'!$D$17","v":8},{"$f":"I83*J83*K83","v":419.45824694421475},{"$f":"L83/'DNSP Inputs O & M'!$D$25*(J73+J74)/J73*0.8","v":125.83747408326442},null,null,null,{"$f":"'DNSP Inputs O & M'!$E$14","v":42.338677205051525},1,{"$f":"'DNSP Inputs O & M'!$E$17","v":8},{"$f":"Q83*R83*S83","v":338.7094176404122},{"$f":"T83/'DNSP Inputs O & M'!$E$25*(R73+R74)/R73*0.8","v":101.61282529212367},null,null,{"$f":"'DNSP Inputs O & M'!$E$15","v":54.435442120780536},1,{"$f":"'DNSP Inputs O & M'!$E$17","v":8},{"$f":"X83*Y83*Z83","v":435.48353696624429},{"$f":"AA83/'DNSP Inputs O & M'!$E$25*(Y73+Y74)/Y73*0.8","v":130.64506108987328},null,null,null,{"$f":"'DNSP Inputs O & M'!$F$14","v":42.940771265431763},1,{"$f":"'DNSP Inputs O & M'!$F$17","v":8},{"$f":"AF83*AG83*AH83","v":343.52617012345411},{"$f":"AI83/'DNSP Inputs O & M'!$F$25*(AG73+AG74)/AG73*0.8","v":103.05785103703623},null,null,{"$f":"'DNSP Inputs O & M'!$F$15","v":55.209563055555122},1,{"$f":"'DNSP Inputs O & M'!$F$17","v":8},{"$f":"AM83*AN83*AO83","v":441.67650444444098},{"$f":"AP83/'DNSP Inputs O & M'!$F$25*(AN73+AN74)/AN73*0.8","v":132.50295133333231},null,null,null,{"$f":"'DNSP Inputs O & M'!$G$14","v":40.315936406332867},1,{"$f":"'DNSP Inputs O & M'!$G$17","v":8},{"$f":"AU83*AV83*AW83","v":322.52749125066293},{"$f":"AX83/'DNSP Inputs O & M'!$G$25*(AV73+AV74)/AV73*0.8","v":96.758247375198891},null,null,{"$f":"'DNSP Inputs O & M'!$G$15","v":51.834775379570829},1,{"$f":"'DNSP Inputs O & M'!$G$17","v":8},{"$f":"BB83*BC83*BD83","v":414.67820303656663},{"$f":"BE83/'DNSP Inputs O & M'!$G$25*(BC73+BC74)/BC73*0.8","v":124.40346091097},null,null,null,{"$f":"'DNSP Inputs O & M'!$H$14","v":39.346039266448244},1,{"$f":"'DNSP Inputs O & M'!$H$17","v":8},{"$f":"BJ83*BK83*BL83","v":314.76831413158595},{"$f":"BM83/'DNSP Inputs O & M'!$H$25*(BK73+BK74)/BK73*0.8","v":94.430494239475806},null,null,{"$f":"'DNSP Inputs O & M'!$H$15","v":50.587764771147747},1,{"$f":"'DNSP Inputs O & M'!$H$17","v":8},{"$f":"BQ83*BR83*BS83","v":404.70211816918197},{"$f":"BT83/'DNSP Inputs O & M'!$H$25*(BR73+BR74)/BR73*0.8","v":121.41063545075461}]
["Labour - repair of faults"]
["Crew costs",{"$f":"'DNSP Inputs O & M'!$D$12","v":90.004127629331563},{"$f":"'DNSP Inputs O & M'!$D$34","v":2},{"$f":"'DNSP Inputs O & M'!$D$17","v":8},{"$f":"B85*C85*D85","v":1440.066042069305},{"$f":"(E85+E86)/'DNSP Inputs O & M'!$D$37","v":117.75408968320924},{"$f":"F85*D62","v":7.5362617397253917},null,{"$f":"'DNSP Inputs O & M'!$D$12","v":90.004127629331563},{"$f":"'DNSP Inputs O & M'!$D$34","v":2},{"$f":"'DNSP Inputs O & M'!$D$17","v":8},{"$f":"I85*J85*K85","v":1440.066042069305},{"$f":"(L85+L86)/'DNSP Inputs O & M'!$D$38","v":154.96035741779332},{"$f":"M85*D62","v":9.9174628747387725},null,null,{"$f":"'DNSP Inputs O & M'!$E$12","v":90.338600866671271},{"$f":"'DNSP Inputs O & M'!$E$34","v":2},{"$f":"'DNSP Inputs O & M'!$E$17","v":8},{"$f":"Q85*R85*S85","v":1445.4176138667403},{"$f":"(T85+T86)/'DNSP Inputs O & M'!$E$37","v":118.94180210047683},{"$f":"U85*S62","v":7.6122753344305174},null,{"$f":"'DNSP Inputs O & M'!$E$12","v":90.338600866671271},{"$f":"'DNSP Inputs O & M'!$E$34","v":2},{"$f":"'DNSP Inputs O & M'!$E$17","v":8},{"$f":"X85*Y85*Z85","v":1445.4176138667403},{"$f":"(AA85+AA86)/'DNSP Inputs O & M'!$E$38","v":156.74176256941539},{"$f":"AB85*S62","v":10.031472804442584},null,null,{"$f":"'DNSP Inputs O & M'!$F$12","v":91.047760948270181},{"$f":"'DNSP Inputs O & M'!$F$34","v":2},{"$f":"'DNSP Inputs O & M'!$F$17","v":8},{"$f":"AF85*AG85*AH85","v":1456.7641751723229},{"$f":"(AI85+AI86)/'DNSP Inputs O & M'!$F$37","v":120.0193563530518},{"$f":"AJ85*AH62","v":7.6812388065953154},null,{"$f":"'DNSP Inputs O & M'!$F$12","v":91.047760948270181},{"$f":"'DNSP Inputs O & M'!$F$34","v":2},{"$f":"'DNSP Inputs O & M'!$F$17","v":8},{"$f":"AM85*AN85*AO85","v":1456.7641751723229},{"$f":"(AP85+AP86)/'DNSP Inputs O & M'!$F$38","v":158.20338996806365},{"$f":"AQ85*AH62","v":10.125016957956074},null,null,{"$f":"'DNSP Inputs O & M'!$G$12","v":91.919423571864726},{"$f":"'DNSP Inputs O & M'!$G$34","v":2},{"$f":"'DNSP Inputs O & M'!$G$17","v":8},{"$f":"AU85*AV85*AW85","v":1470.7107771498356},{"$f":"(AX85+AX86)/'DNSP Inputs O & M'!$G$37","v":119.54921789336657},{"$f":"AY85*AW62","v":7.6511499451754608},null,{"$f":"'DNSP Inputs O & M'!$G$12","v":91.919423571864726},{"$f":"'DNSP Inputs O & M'!$G$34","v":2},{"$f":"'DNSP Inputs O & M'!$G$17","v":8},{"$f":"BB85*BC85*BD85","v":1470.7107771498356},{"$f":"(BE85+BE86)/'DNSP Inputs O & M'!$G$38","v":157.11574834886684},{"$f":"BF85*AW62","v":10.055407894327479},null,null,{"$f":"'DNSP Inputs O & M'!$H$12","v":92.856350250687825},{"$f":"'DNSP Inputs O & M'!$H$34","v":2},{"$f":"'DNSP Inputs O & M'!$H$17","v":8},{"$f":"BJ85*BK85*BL85","v":1485.7016040110052},{"$f":"(BM85+BM86)/'DNSP Inputs O & M'!$H$37","v":120.03132787617275},{"$f":"BN85*BL62","v":7.6820049840750562},null,{"$f":"'DNSP Inputs O & M'!$H$12","v":92.856350250687825},{"$f":"'DNSP Inputs O & M'!$H$34","v":2},{"$f":"'DNSP Inputs O & M'!$H$17","v":8},{"$f":"BQ85*BR85*BS85","v":1485.7016040110052},{"$f":"(BT85+BT86)/'DNSP Inputs O & M'!$H$38","v":157.5336435150156},{"$f":"BU85*BL62","v":10.082153184960999}]
["Elevated platform costs",{"$f":"'DNSP Inputs O & M'!$D$14","v":40.780662897354212},1,{"$f":"'DNSP Inputs O & M'!$D$17","v":8},{"$f":"B86*C86*D86","v":326.24530317883369},null,null,null,{"$f":"'DNSP Inputs O & M'!$D$15","v":52.432280868026844},1,{"$f":"'DNSP Inputs O & M'!$D$17","v":8},{"$f":"I86*J86*K86","v":419.45824694421475},null,null,null,null,{"$f":"'DNSP Inputs O & M'!$E$14","v":42.338677205051525},1,{"$f":"'DNSP Inputs O & M'!$E$17","v":8},{"$f":"Q86*R86*S86","v":338.7094176404122},null,null,null,{"$f":"'DNSP Inputs O & M'!$E$15","v":54.435442120780536},1,{"$f":"'DNSP Inputs O & M'!$E$17","v":8},{"$f":"X86*Y86*Z86","v":435.48353696624429},null,null,null,null,{"$f":"'DNSP Inputs O & M'!$F$14","v":42.940771265431763},1,{"$f":"'DNSP Inputs O & M'!$F$17","v":8},{"$f":"AF86*AG86*AH86","v":343.52617012345411},null,null,null,{"$f":"'DNSP Inputs O & M'!$F$15","v":55.209563055555122},1,{"$f":"'DNSP Inputs O & M'!$F$17","v":8},{"$f":"AM86*AN86*AO86","v":441.67650444444098},null,null,null,null,{"$f":"'DNSP Inputs O & M'!$G$14","v":40.315936406332867},1,{"$f":"'DNSP Inputs O & M'!$G$17","v":8},{"$f":"AU86*AV86*AW86","v":322.52749125066293},null,null,null,{"$f":"'DNSP Inputs O & M'!$G$15","v":51.834775379570829},1,{"$f":"'DNSP Inputs O & M'!$G$17","v":8},{"$f":"BB86*BC86*BD86","v":414.67820303656663},null,null,null,null,{"$f":"'DNSP Inputs O & M'!$H$14","v":39.346039266448244},1,{"$f":"'DNSP Inputs O & M'!$H$17","v":8},{"$f":"BJ86*BK86*BL86","v":314.76831413158595},null,null,null,{"$f":"'DNSP Inputs O & M'!$H$15","v":50.587764771147747},1,{"$f":"'DNSP Inputs O & M'!$H$17","v":8},{"$f":"BQ86*BR86*BS86","v":404.70211816918197}]
["Other Maintenance and Repair costs",null,null,null,null,null,{"$f":"'DNSP Inputs O & M'!$D$49","v":3.1005607013233587},null,null,null,null,null,null,{"$f":"'DNSP Inputs O & M'!$D$49","v":3.1005607013233587},null,null,null,null,null,null,null,{"$f":"'DNSP Inputs O & M'!$E$49","v":2.4410797911685247},null,null,null,null,null,null,{"$f":"'DNSP Inputs O & M'!$E$49","v":2.4410797911685247},null,null,null,null,null,null,null,{"$f":"'DNSP Inputs O & M'!$F$49","v":2.4303577034674682},null,null,null,null,null,null,{"$f":"'DNSP Inputs O & M'!$F$49","v":2.4303577034674682},null,null,null,null,null,null,null,{"$f":"'DNSP Inputs O & M'!$G$49","v":2.4775282428556737},null,null,null,null,null,null,{"$f":"'DNSP Inputs O & M'!$G$49","v":2.4775282428556737},null,null,null,null,null,null,null,{"$f":"'DNSP Inputs O & M'!$H$49","v":2.4952847648033134},null,null,null,null,null,null,{"$f":"'DNSP Inputs O & M'!$H$49","v":2.4952847648033134}]
[]
["Overheads",{"$f":"'DNSP Inputs O & M'!$D$18","v":0.25},null,null,null,null,{"$f":"B89*SUM(G73:G87)","v":6.0154895985186894},null,{"$f":"'DNSP Inputs O & M'!$D$18","v":0.25},null,null,null,null,{"$f":"I89*SUM(N73:N87)","v":7.1345160231606286},null,null,{"$f":"'DNSP Inputs O & M'!$E$18","v":0.25},null,null,null,null,{"$f":"Q89*SUM(V73:V87)","v":5.954025966323707},null,{"$f":"'DNSP Inputs O & M'!$E$18","v":0.25},null,null,null,null,{"$f":"X89*SUM(AC73:AC87)","v":7.0931697057413423},null,null,{"$f":"'DNSP Inputs O & M'!$F$18","v":0.25},null,null,null,null,{"$f":"AF89*SUM(AK73:AK87)","v":6.0093907631571257},null,{"$f":"'DNSP Inputs O & M'!$F$18","v":0.25},null,null,null,null,{"$f":"AM89*SUM(AR73:AR87)","v":7.1605374128825634},null,null,{"$f":"'DNSP Inputs O & M'!$G$18","v":0.25},null,null,null,null,{"$f":"AU89*SUM(AZ73:AZ87)","v":5.8917255911969972},null,{"$f":"'DNSP Inputs O & M'!$G$18","v":0.25},null,null,null,null,{"$f":"BB89*SUM(BG73:BG87)","v":7.0194449889517001},null,null,{"$f":"'DNSP Inputs O & M'!$H$18","v":0.25},null,null,null,null,{"$f":"BJ89*SUM(BO73:BO87)","v":5.8675024215178935},null,{"$f":"'DNSP Inputs O & M'!$H$18","v":0.25},null,null,null,null,{"$f":"BQ89*SUM(BV73:BV87)","v":6.9910486062715469}]
[]
[null,null,null,null,null,null,{"$f":"SUM(G73,G77,G82,G85,G87,G89)","v":30.077447992593449},null,null,null,null,null,null,{"$f":"SUM(N73,N77,N82,N85,N87,N89)","v":35.672580115803143},null,null,null,null,null,null,null,{"$f":"SUM(V73,V77,V82,V85,V87,V89)","v":29.770129831618533},null,null,null,null,null,null,{"$f":"SUM(AC73,AC77,AC82,AC85,AC87,AC89)","v":35.465848528706715},null,null,null,null,null,null,null,{"$f":"SUM(AK73,AK77,AK82,AK85,AK87,AK89)","v":30.046953815785628},null,null,null,null,null,null,{"$f":"SUM(AR73,AR77,AR82,AR85,AR87,AR89)","v":35.802687064412815},null,null,null,null,null,null,null,{"$f":"SUM(AZ73,AZ77,AZ82,AZ85,AZ87,AZ89)","v":29.458627955984987},null,null,null,null,null,null,{"$f":"SUM(BG73,BG77,BG82,BG85,BG87,BG89)","v":35.097224944758501},null,null,null,null,null,null,null,{"$f":"SUM(BO73,BO77,BO82,BO85,BO87,BO89)","v":29.337512107589468},null,null,null,null,null,null,{"$f":"SUM(BV73,BV77,BV82,BV85,BV87,BV89)","v":34.955243031357732}]
[]
["Dedicated poles - inspection"]
["Crew costs",{"$f":"'DNSP Inputs O & M'!$D$12","v":90.004127629331563},1,{"$f":"'DNSP Inputs O & M'!$D$17","v":8},{"$f":"B94*C94*D94","v":720.03302103465251},{"$f":"(E94+E95+E96)/'DNSP Inputs O & M'!$D$121","v":203.31149120000839},{"$f":"F94/'DNSP Inputs O & M'!$D$122","v":2.7108198826667786},null,{"$f":"'DNSP Inputs O & M'!$D$12","v":90.004127629331563},1,{"$f":"'DNSP Inputs O & M'!$D$17","v":8},{"$f":"I94*J94*K94","v":720.03302103465251},{"$f":"(L94+L95+L96)/'DNSP Inputs O & M'!$D$121","v":203.31149120000839},{"$f":"M94/'DNSP Inputs O & M'!$D$122","v":2.7108198826667786},null,null,{"$f":"'DNSP Inputs O & M'!$E$12","v":90.338600866671271},1,{"$f":"'DNSP Inputs O & M'!$E$17","v":8},{"$f":"Q94*R94*S94","v":722.70880693337017},{"$f":"(T94+T95+T96)/'DNSP Inputs O & M'!$E$121","v":204.87073156480056},{"$f":"U94/'DNSP Inputs O & M'!$E$122","v":2.7316097541973408},null,{"$f":"'DNSP Inputs O & M'!$E$12","v":90.338600866671271},1,{"$f":"'DNSP Inputs O & M'!$E$17","v":8},{"$f":"X94*Y94*Z94","v":722.70880693337017},{"$f":"(AA94+AA95+AA96)/'DNSP Inputs O & M'!$E$121","v":204.87073156480056},{"$f":"AB94/'DNSP Inputs O & M'!$E$122","v":2.7316097541973408},null,null,{"$f":"'DNSP Inputs O & M'!$F$12","v":91.047760948270181},1,{"$f":"'DNSP Inputs O & M'!$F$17","v":8},{"$f":"AF94*AG94*AH94","v":728.38208758616145},{"$f":"(AI94+AI95+AI96)/'DNSP Inputs O & M'!$F$121","v":206.63310547678708},{"$f":"AJ94/'DNSP Inputs O & M'!$F$122","v":2.7551080730238278},null,{"$f":"'DNSP Inputs O & M'!$F$12","v":91.047760948270181},1,{"$f":"'DNSP Inputs O & M'!$F$17","v":8},{"$f":"AM94*AN94*AO94","v":728.38208758616145},{"$f":"(AP94+AP95+AP96)/'DNSP Inputs O & M'!$F$121","v":206.63310547678708},{"$f":"AQ94/'DNSP Inputs O & M'!$F$122","v":2.7551080730238278},null,null,{"$f":"'DNSP Inputs O & M'!$G$12","v":91.919423571864726},1,{"$f":"'DNSP Inputs O & M'!$G$17","v":8},{"$f":"AU94*AV94*AW94","v":735.35538857491781},{"$f":"(AX94+AX95+AX96)/'DNSP Inputs O & M'!$G$121","v":206.87652509020535},{"$f":"AY94/'DNSP Inputs O & M'!$G$122","v":2.7583536678694047},null,{"$f":"'DNSP Inputs O & M'!$G$12","v":91.919423571864726},1,{"$f":"'DNSP Inputs O & M'!$G$17","v":8},{"$f":"BB94*BC94*BD94","v":735.35538857491781},{"$f":"(BE94+BE95+BE96)/'DNSP Inputs O & M'!$G$121","v":206.87652509020535},{"$f":"BF94/'DNSP Inputs O & M'!$G$122","v":2.7583536678694047},null,null,{"$f":"'DNSP Inputs O & M'!$H$12","v":92.856350250687825},1,{"$f":"'DNSP Inputs O & M'!$H$17","v":8},{"$f":"BJ94*BK94*BL94","v":742.8508020055026},{"$f":"(BM94+BM95+BM96)/'DNSP Inputs O & M'!$H$121","v":208.19615151077465},{"$f":"BN94/'DNSP Inputs O & M'!$H$122","v":2.7759486868103287},null,{"$f":"'DNSP Inputs O & M'!$H$12","v":92.856350250687825},1,{"$f":"'DNSP Inputs O & M'!$H$17","v":8},{"$f":"BQ94*BR94*BS94","v":742.8508020055026},{"$f":"(BT94+BT95+BT96)/'DNSP Inputs O & M'!$H$121","v":208.19615151077465},{"$f":"BU94/'DNSP Inputs O & M'!$H$122","v":2.7759486868103287}]
["Vehicle costs",{"$f":"'DNSP Inputs O & M'!$D$16","v":11.651617970672632},1,{"$f":"'DNSP Inputs O & M'!$D$17","v":8},{"$f":"B95*C95*D95","v":93.212943765381056},null,null,null,{"$f":"'DNSP Inputs O & M'!$D$16","v":11.651617970672632},1,{"$f":"'DNSP Inputs O & M'!$D$17","v":8},{"$f":"I95*J95*K95","v":93.212943765381056},null,null,null,null,{"$f":"'DNSP Inputs O & M'!$E$16","v":12.096764915729008},1,{"$f":"'DNSP Inputs O & M'!$E$17","v":8},{"$f":"Q95*R95*S95","v":96.774119325832061},null,null,null,{"$f":"'DNSP Inputs O & M'!$E$16","v":12.096764915729008},1,{"$f":"'DNSP Inputs O & M'!$E$17","v":8},{"$f":"X95*Y95*Z95","v":96.774119325832061},null,null,null,null,{"$f":"'DNSP Inputs O & M'!$F$16","v":12.268791790123361},1,{"$f":"'DNSP Inputs O & M'!$F$17","v":8},{"$f":"AF95*AG95*AH95","v":98.150334320986886},null,null,null,{"$f":"'DNSP Inputs O & M'!$F$16","v":12.268791790123361},1,{"$f":"'DNSP Inputs O & M'!$F$17","v":8},{"$f":"AM95*AN95*AO95","v":98.150334320986886},null,null,null,null,{"$f":"'DNSP Inputs O & M'!$G$16","v":11.518838973237962},1,{"$f":"'DNSP Inputs O & M'!$G$17","v":8},{"$f":"AU95*AV95*AW95","v":92.150711785903695},null,null,null,{"$f":"'DNSP Inputs O & M'!$G$16","v":11.518838973237962},1,{"$f":"'DNSP Inputs O & M'!$G$17","v":8},{"$f":"BB95*BC95*BD95","v":92.150711785903695},null,null,null,null,{"$f":"'DNSP Inputs O & M'!$H$16","v":11.241725504699499},1,{"$f":"'DNSP Inputs O & M'!$H$17","v":8},{"$f":"BJ95*BK95*BL95","v":89.933804037595991},null,null,null,{"$f":"'DNSP Inputs O & M'!$H$16","v":11.241725504699499},1,{"$f":"'DNSP Inputs O & M'!$H$17","v":8},{"$f":"BQ95*BR95*BS95","v":89.933804037595991}]
["Overheads",{"$f":"'DNSP Inputs O & M'!$D$18","v":0.25},null,null,{"$f":"B96*(E94+E95)","v":203.31149120000839},null,null,null,{"$f":"'DNSP Inputs O & M'!$D$18","v":0.25},null,null,{"$f":"I96*(L94+L95)","v":203.31149120000839},null,null,null,null,{"$f":"'DNSP Inputs O & M'!$E$18","v":0.25},null,null,{"$f":"Q96*(T94+T95)","v":204.87073156480056},null,null,null,{"$f":"'DNSP Inputs O & M'!$E$18","v":0.25},null,null,{"$f":"X96*(AA94+AA95)","v":204.87073156480056},null,null,null,null,{"$f":"'DNSP Inputs O & M'!$F$18","v":0.25},null,null,{"$f":"AF96*(AI94+AI95)","v":206.63310547678708},null,null,null,{"$f":"'DNSP Inputs O & M'!$F$18","v":0.25},null,null,{"$f":"AM96*(AP94+AP95)","v":206.63310547678708},null,null,null,null,{"$f":"'DNSP Inputs O & M'!$G$18","v":0.25},null,null,{"$f":"AU96*(AX94+AX95)","v":206.87652509020538},null,null,null,{"$f":"'DNSP Inputs O & M'!$G$18","v":0.25},null,null,{"$f":"BB96*(BE94+BE95)","v":206.87652509020538},null,null,null,null,{"$f":"'DNSP Inputs O & M'!$H$18","v":0.25},null,null,{"$f":"BJ96*(BM94+BM95)","v":208.19615151077465},null,null,null,{"$f":"'DNSP Inputs O & M'!$H$18","v":0.25},null,null,{"$f":"BQ96*(BT94+BT95)","v":208.19615151077465}]
[]
[]
[]
[]
["Sodium High Pressure 150 Watt Standard Light Type - Cost build-up"]
[]
["Additional assumptions"]
["Overheads are applied to material and labour components"]
["All costs and charges are exclusive of GST"]
[]
[null,"Urban",null,null,null,null,null,null,"Rural",null,null,null,null,null,null,null,"Urban",null,null,null,null,null,null,"Rural",null,null,null,null,null,null,null,"Urban",null,null,null,null,null,null,"Rural",null,null,null,null,null,null,null,"Urban",null,null,null,null,null,null,"Rural",null,null,null,null,null,null,null,"Urban",null,null,null,null,null,null,"Rural"]
[]
[null,"Unit rate","Number","Hours","Cost","Annualised","Annualised",null,"Unit rate","Number","Hours","Cost","Annualised","Annualised",null,null,"Unit rate","Number","Hours","Cost","Annualised","Annualised",null,"Unit rate","Number","Hours","Cost","Annualised","Annualised",null,null,"Unit rate","Number","Hours","Cost","Annualised","Annualised",null,"Unit rate","Number","Hours","Cost","Annualised","Annualised",null,null,"Unit rate","Number","Hours","Cost","Annualised","Annualised",null,"Unit rate","Number","Hours","Cost","Annualised","Annualised",null,null,"Unit rate","Number","Hours","Cost","Annualised","Annualised",null,"Unit rate","Number","Hours","Cost","Annualised","Annualised"]
[null,null,null,null,null," cost","unit cost",null,null,null,null,null," cost","unit cost",null,null,null,null,null,null," cost","unit cost",null,null,null,null,null," cost","unit cost",null,null,null,null,null,null," cost","unit cost",null,null,null,null,null," cost","unit cost",null,null,null,null,null,null," cost","unit cost",null,null,null,null,null," cost","unit cost",null,null,null,null,null,null," cost","unit cost",null,null,null,null,null," cost","unit cost"]
["S-HP 150"]
["Patrols and repairs"]
["Materials"]
["Lamp",{"$f":"'DNSP Inputs O & M'!$D$65","v":41.174072056475069},{"$f":"'DNSP Inputs O & M'!$D$72","v":15},null,{"$f":"B114*C114","v":617.611080847126},{"$f":"(E114+E115+E116)/'DNSP Inputs O & M'!$D$72","v":54.846853926968684},{"$f":"F114/'DNSP Inputs O & M'!$D$61","v":10.969370785393737},null,{"$f":"'DNSP Inputs O & M'!$D$65*(1+'DNSP Inputs O & M'!$D$11)","v":43.232775659298824},{"$f":"'DNSP Inputs O & M'!$D$73","v":12},null,{"$f":"I114*J114","v":518.79330791158588},{"$f":"(L114+L115+L116)/'DNSP Inputs O & M'!$D$73","v":57.589196623317122},{"$f":"M114/'DNSP Inputs O & M'!$D$61","v":11.517839324663424},null,null,{"$f":"'DNSP Inputs O & M'!$E$65","v":42.7471164557683},{"$f":"'DNSP Inputs O & M'!$E$72","v":15},null,{"$f":"Q114*R114","v":641.20674683652453},{"$f":"(T114+T115+T116)/'DNSP Inputs O & M'!$E$72","v":56.942263296980315},{"$f":"U114/'DNSP Inputs O & M'!$E$61","v":11.388452659396062},null,{"$f":"'DNSP Inputs O & M'!$E$65*(1+'DNSP Inputs O & M'!$E$11)","v":44.884472278556714},{"$f":"'DNSP Inputs O & M'!$E$73","v":12},null,{"$f":"X114*Y114","v":538.61366734268063},{"$f":"(AA114+AA115+AA116)/'DNSP Inputs O & M'!$E$73","v":59.789376461829335},{"$f":"AB114/'DNSP Inputs O & M'!$E$61","v":11.957875292365866},null,null,{"$f":"'DNSP Inputs O & M'!$F$65","v":43.355018889558309},{"$f":"'DNSP Inputs O & M'!$F$72","v":15},null,{"$f":"AF114*AG114","v":650.32528334337462},{"$f":"(AI114+AI115+AI116)/'DNSP Inputs O & M'!$F$72","v":57.752033482989553},{"$f":"AJ114/'DNSP Inputs O & M'!$F$61","v":11.550406696597911},null,{"$f":"'DNSP Inputs O & M'!$F$65*(1+'DNSP Inputs O & M'!$F$11)","v":45.522769834036225},{"$f":"'DNSP Inputs O & M'!$F$73","v":12},null,{"$f":"AM114*AN114","v":546.27323800843465},{"$f":"(AP114+AP115+AP116)/'DNSP Inputs O & M'!$F$73","v":60.639635157139033},{"$f":"AQ114/'DNSP Inputs O & M'!$F$61","v":12.127927031427806},null,null,{"$f":"'DNSP Inputs O & M'!$G$65","v":40.704862370599486},{"$f":"'DNSP Inputs O & M'!$G$72","v":15},null,{"$f":"AU114*AV114","v":610.5729355589923},{"$f":"(AX114+AX115+AX116)/'DNSP Inputs O & M'!$G$72","v":54.221832552666939},{"$f":"AY114/'DNSP Inputs O & M'!$G$61","v":10.844366510533387},null,{"$f":"'DNSP Inputs O & M'!$G$65*(1+'DNSP Inputs O & M'!$G$11)","v":42.740105489129462},{"$f":"'DNSP Inputs O & M'!$G$73","v":12},null,{"$f":"BB114*BC114","v":512.88126586955354},{"$f":"(BE114+BE115+BE116)/'DNSP Inputs O & M'!$G$73","v":56.93292418030029},{"$f":"BF114/'DNSP Inputs O & M'!$G$61","v":11.386584836060058},null,null,{"$f":"'DNSP Inputs O & M'!$H$65","v":39.725608678095895},{"$f":"'DNSP Inputs O & M'!$H$72","v":15},null,{"$f":"BJ114*BK114","v":595.88413017143841},{"$f":"(BM114+BM115+BM116)/'DNSP Inputs O & M'!$H$72","v":52.917395523545295},{"$f":"BN114/'DNSP Inputs O & M'!$H$61","v":10.58347910470906},null,{"$f":"'DNSP Inputs O & M'!$H$65*(1+'DNSP Inputs O & M'!$H$11)","v":41.711889112000691},{"$f":"'DNSP Inputs O & M'!$H$73","v":12},null,{"$f":"BQ114*BR114","v":500.54266934400829},{"$f":"(BT114+BT115+BT116)/'DNSP Inputs O & M'!$H$73","v":55.563265299722559},{"$f":"BU114/'DNSP Inputs O & M'!$H$61","v":11.112653059944511}]
["PE cell",{"$f":"'DNSP Inputs O & M'!$D$66","v":22.362317501171791},{"$f":"C114*'DNSP Inputs O & M'!$D$61/'DNSP Inputs O & M'!$D$62","v":7.5},null,{"$f":"B115*C115","v":167.71738125878844},null,null,null,{"$f":"'DNSP Inputs O & M'!$D$66*(1+'DNSP Inputs O & M'!$D$11)","v":23.480433376230383},{"$f":"J114*'DNSP Inputs O & M'!$D$61/'DNSP Inputs O & M'!$D$62","v":6},null,{"$f":"I115*J115","v":140.88260025738231},null,null,null,null,{"$f":"'DNSP Inputs O & M'!$E$66","v":23.216663854191868},{"$f":"R114*'DNSP Inputs O & M'!$E$61/'DNSP Inputs O & M'!$E$62","v":7.5},null,{"$f":"Q115*R115","v":174.124978906439},null,null,null,{"$f":"'DNSP Inputs O & M'!$E$66*(1+'DNSP Inputs O & M'!$E$11)","v":24.377497046901464},{"$f":"Y114*'DNSP Inputs O & M'!$E$61/'DNSP Inputs O & M'!$E$62","v":6},null,{"$f":"X115*Y115","v":146.26498228140878},null,null,null,null,{"$f":"'DNSP Inputs O & M'!$F$66","v":23.546825690395519},{"$f":"AG114*'DNSP Inputs O & M'!$F$61/'DNSP Inputs O & M'!$F$62","v":7.5},null,{"$f":"AF115*AG115","v":176.6011926779664},null,null,null,{"$f":"'DNSP Inputs O & M'!$F$66*(1+'DNSP Inputs O & M'!$F$11)","v":24.724166974915295},{"$f":"AN114*'DNSP Inputs O & M'!$F$61/'DNSP Inputs O & M'!$F$62","v":6},null,{"$f":"AM115*AN115","v":148.34500184949178},null,null,null,null,{"$f":"'DNSP Inputs O & M'!$G$66","v":22.107481983426961},{"$f":"AV114*'DNSP Inputs O & M'!$G$61/'DNSP Inputs O & M'!$G$62","v":7.5},null,{"$f":"AU115*AV115","v":165.80611487570221},null,null,null,{"$f":"'DNSP Inputs O & M'!$G$66*(1+'DNSP Inputs O & M'!$G$11)","v":23.212856082598311},{"$f":"BC114*'DNSP Inputs O & M'!$G$61/'DNSP Inputs O & M'!$G$62","v":6},null,{"$f":"BB115*BC115","v":139.27713649558987},null,null,null,null,{"$f":"'DNSP Inputs O & M'!$H$66","v":21.575633154971907},{"$f":"BK114*'DNSP Inputs O & M'!$H$61/'DNSP Inputs O & M'!$H$62","v":7.5},null,{"$f":"BJ115*BK115","v":161.8172486622893},null,null,null,{"$f":"'DNSP Inputs O & M'!$H$66*(1+'DNSP Inputs O & M'!$H$11)","v":22.654414812720503},{"$f":"BR114*'DNSP Inputs O & M'!$H$61/'DNSP Inputs O & M'!$H$62","v":6},null,{"$f":"BQ115*BR115","v":135.92648887632302}]
["Miscellaneous",{"$f":"'DNSP Inputs O & M'!$D$67","v":2.4916231199077203},{"$f":"'DNSP Inputs O & M'!$D$72","v":15},null,{"$f":"B116*C116","v":37.374346798615804},null,null,null,{"$f":"'DNSP Inputs O & M'!$D$67*(1+'DNSP Inputs O & M'!$D$11)","v":2.6162042759031063},{"$f":"'DNSP Inputs O & M'!$D$73","v":12},null,{"$f":"I116*J116","v":31.394451310837276},null,null,null,null,{"$f":"'DNSP Inputs O & M'!$E$67","v":2.5868149141160854},{"$f":"'DNSP Inputs O & M'!$E$72","v":15},null,{"$f":"Q116*R116","v":38.802223711741284},null,null,null,{"$f":"'DNSP Inputs O & M'!$E$67*(1+'DNSP Inputs O & M'!$E$11)","v":2.7161556598218897},{"$f":"'DNSP Inputs O & M'!$E$73","v":12},null,{"$f":"X116*Y116","v":32.593867917862674},null,null,null,null,{"$f":"'DNSP Inputs O & M'!$F$67","v":2.6236017482334839},{"$f":"'DNSP Inputs O & M'!$F$72","v":15},null,{"$f":"AF116*AG116","v":39.35402622350226},null,null,null,{"$f":"'DNSP Inputs O & M'!$F$67*(1+'DNSP Inputs O & M'!$F$11)","v":2.7547818356451583},{"$f":"'DNSP Inputs O & M'!$F$73","v":12},null,{"$f":"AM116*AN116","v":33.057382027741902},null,null,null,null,{"$f":"'DNSP Inputs O & M'!$G$67","v":2.4632291903539789},{"$f":"'DNSP Inputs O & M'!$G$72","v":15},null,{"$f":"AU116*AV116","v":36.948437855309685},null,null,null,{"$f":"'DNSP Inputs O & M'!$G$67*(1+'DNSP Inputs O & M'!$G$11)","v":2.586390649871678},{"$f":"'DNSP Inputs O & M'!$G$73","v":12},null,{"$f":"BB116*BC116","v":31.036687798460136},null,null,null,null,{"$f":"'DNSP Inputs O & M'!$H$67","v":2.4039702679634436},{"$f":"'DNSP Inputs O & M'!$H$72","v":15},null,{"$f":"BJ116*BK116","v":36.059554019451653},null,null,null,{"$f":"'DNSP Inputs O & M'!$H$67*(1+'DNSP Inputs O & M'!$H$11)","v":2.5241687813616158},{"$f":"'DNSP Inputs O & M'!$H$73","v":12},null,{"$f":"BQ116*BR116","v":30.29002537633939}]
["Labour - Patrol"]
["Crew costs",{"$f":"'DNSP Inputs O & M'!$D$13","v":103.5047467737313},{"$f":"'DNSP Inputs O & M'!$D$68","v":2},{"$f":"'DNSP Inputs O & M'!$D$17","v":8},{"$f":"B118*C118*D118","v":1656.0759483797008},{"$f":"(E118+E119)/'DNSP Inputs O & M'!$D$70","v":0.58309629738169388},{"$f":"F118*'DNSP Inputs O & M'!$D$60","v":1.7492888921450818},null,{"$f":"'DNSP Inputs O & M'!$D$13","v":103.5047467737313},{"$f":"'DNSP Inputs O & M'!$D$68","v":2},{"$f":"'DNSP Inputs O & M'!$D$17","v":8},{"$f":"I118*J118*K118","v":1656.0759483797008},{"$f":"(L118+L119)/'DNSP Inputs O & M'!$D$71","v":0.87464444607254088},{"$f":"M118*'DNSP Inputs O & M'!$D$60","v":2.6239333382176229},null,null,{"$f":"'DNSP Inputs O & M'!$E$13","v":103.88939099667196},{"$f":"'DNSP Inputs O & M'!$E$68","v":2},{"$f":"'DNSP Inputs O & M'!$E$17","v":8},{"$f":"Q118*R118*S118","v":1662.2302559467514},{"$f":"(T118+T119)/'DNSP Inputs O & M'!$E$70","v":0.58633479175752778},{"$f":"U118*'DNSP Inputs O & M'!$E$60","v":1.7590043752725832},null,{"$f":"'DNSP Inputs O & M'!$E$13","v":103.88939099667196},{"$f":"'DNSP Inputs O & M'!$E$68","v":2},{"$f":"'DNSP Inputs O & M'!$E$17","v":8},{"$f":"X118*Y118*Z118","v":1662.2302559467514},{"$f":"(AA118+AA119)/'DNSP Inputs O & M'!$E$71","v":0.87950218763629173},{"$f":"AB118*'DNSP Inputs O & M'!$E$60","v":2.6385065629088751},null,null,{"$f":"'DNSP Inputs O & M'!$F$13","v":104.70492509051071},{"$f":"'DNSP Inputs O & M'!$F$68","v":2},{"$f":"'DNSP Inputs O & M'!$F$17","v":8},{"$f":"AF118*AG118*AH118","v":1675.2788014481714},{"$f":"(AI118+AI119)/'DNSP Inputs O & M'!$F$70","v":0.59114304525638617},{"$f":"AJ118*'DNSP Inputs O & M'!$F$60","v":1.7734291357691585},null,{"$f":"'DNSP Inputs O & M'!$F$13","v":104.70492509051071},{"$f":"'DNSP Inputs O & M'!$F$68","v":2},{"$f":"'DNSP Inputs O & M'!$F$17","v":8},{"$f":"AM118*AN118*AO118","v":1675.2788014481714},{"$f":"(AP118+AP119)/'DNSP Inputs O & M'!$F$71","v":0.88671456788457914},{"$f":"AQ118*'DNSP Inputs O & M'!$F$60","v":2.6601437036537376},null,null,{"$f":"'DNSP Inputs O & M'!$G$13","v":105.70733710764445},{"$f":"'DNSP Inputs O & M'!$G$68","v":2},{"$f":"'DNSP Inputs O & M'!$G$17","v":8},{"$f":"AU118*AV118*AW118","v":1691.3173937223112},{"$f":"(AX118+AX119)/'DNSP Inputs O & M'!$G$70","v":0.59448936850273826},{"$f":"AY118*'DNSP Inputs O & M'!$G$60","v":1.7834681055082147},null,{"$f":"'DNSP Inputs O & M'!$G$13","v":105.70733710764445},{"$f":"'DNSP Inputs O & M'!$G$68","v":2},{"$f":"'DNSP Inputs O & M'!$G$17","v":8},{"$f":"BB118*BC118*BD118","v":1691.3173937223112},{"$f":"(BE118+BE119)/'DNSP Inputs O & M'!$G$71","v":0.89173405275410744},{"$f":"BF118*'DNSP Inputs O & M'!$G$60","v":2.6752021582623224},null,null,{"$f":"'DNSP Inputs O & M'!$H$13","v":106.784802788291},{"$f":"'DNSP Inputs O & M'!$H$68","v":2},{"$f":"'DNSP Inputs O & M'!$H$17","v":8},{"$f":"BJ118*BK118*BL118","v":1708.5568446126561},{"$f":"(BM118+BM119)/'DNSP Inputs O & M'!$H$70","v":0.5994968828834174},{"$f":"BN118*'DNSP Inputs O & M'!$H$60","v":1.7984906486502523},null,{"$f":"'DNSP Inputs O & M'!$H$13","v":106.784802788291},{"$f":"'DNSP Inputs O & M'!$H$68","v":2},{"$f":"'DNSP Inputs O & M'!$H$17","v":8},{"$f":"BQ118*BR118*BS118","v":1708.5568446126561},{"$f":"(BT118+BT119)/'DNSP Inputs O & M'!$H$71","v":0.89924532432512605},{"$f":"BU118*'DNSP Inputs O & M'!$H$60","v":2.6977359729753783}]
["Vehicle costs",{"$f":"'DNSP Inputs O & M'!$D$16","v":11.651617970672632},1,{"$f":"'DNSP Inputs O & M'!$D$17","v":8},{"$f":"B119*C119*D119","v":93.212943765381056},null,null,null,{"$f":"'DNSP Inputs O & M'!$D$16","v":11.651617970672632},1,{"$f":"'DNSP Inputs O & M'!$D$17","v":8},{"$f":"I119*J119*K119","v":93.212943765381056},null,null,null,null,{"$f":"'DNSP Inputs O & M'!$E$16","v":12.096764915729008},1,{"$f":"'DNSP Inputs O & M'!$E$17","v":8},{"$f":"Q119*R119*S119","v":96.774119325832061},null,null,null,{"$f":"'DNSP Inputs O & M'!$E$16","v":12.096764915729008},1,{"$f":"'DNSP Inputs O & M'!$E$17","v":8},{"$f":"X119*Y119*Z119","v":96.774119325832061},null,null,null,null,{"$f":"'DNSP Inputs O & M'!$F$16","v":12.268791790123361},1,{"$f":"'DNSP Inputs O & M'!$F$17","v":8},{"$f":"AF119*AG119*AH119","v":98.150334320986886},null,null,null,{"$f":"'DNSP Inputs O & M'!$F$16","v":12.268791790123361},1,{"$f":"'DNSP Inputs O & M'!$F$17","v":8},{"$f":"AM119*AN119*AO119","v":98.150334320986886},null,null,null,null,{"$f":"'DNSP Inputs O & M'!$G$16","v":11.518838973237962},1,{"$f":"'DNSP Inputs O & M'!$G$17","v":8},{"$f":"AU119*AV119*AW119","v":92.150711785903695},null,null,null,{"$f":"'DNSP Inputs O & M'!$G$16","v":11.518838973237962},1,{"$f":"'DNSP Inputs O & M'!$G$17","v":8},{"$f":"BB119*BC119*BD119","v":92.150711785903695},null,null,null,null,{"$f":"'DNSP Inputs O & M'!$H$16","v":11.241725504699499},1,{"$f":"'DNSP Inputs O & M'!$H$17","v":8},{"$f":"BJ119*BK119*BL119","v":89.933804037595991},null,null,null,{"$f":"'DNSP Inputs O & M'!$H$16","v":11.241725504699499},1,{"$f":"'DNSP Inputs O & M'!$H$17","v":8},{"$f":"BQ119*BR119*BS119","v":89.933804037595991}]
["Labour - Repair of faults"]
["Crew costs",{"$f":"'DNSP Inputs O & M'!$D$12","v":90.004127629331563},{"$f":"'DNSP Inputs O & M'!$D$69","v":2},{"$f":"'DNSP Inputs O & M'!$D$17","v":8},{"$f":"B121*C121*D121","v":1440.066042069305},{"$f":"(E121+E122)/'DNSP Inputs O & M'!$D$72*(C114+C115)/C114","v":185.95242890135199},{"$f":"F121/'DNSP Inputs O & M'!$D$61","v":37.1904857802704},null,{"$f":"'DNSP Inputs O & M'!$D$12","v":90.004127629331563},{"$f":"'DNSP Inputs O & M'!$D$69","v":2},{"$f":"'DNSP Inputs O & M'!$D$17","v":8},{"$f":"I121*J121*K121","v":1440.066042069305},{"$f":"(L121+L122)/'DNSP Inputs O & M'!$D$73*(J114+J115)/J114","v":232.44053612668998},{"$f":"M121/'DNSP Inputs O & M'!$D$61","v":46.488107225337998},null,null,{"$f":"'DNSP Inputs O & M'!$E$12","v":90.338600866671271},{"$f":"'DNSP Inputs O & M'!$E$69","v":2},{"$f":"'DNSP Inputs O & M'!$E$17","v":8},{"$f":"Q121*R121*S121","v":1445.4176138667403},{"$f":"(T121+T122)/'DNSP Inputs O & M'!$E$72*(R114+R115)/R114","v":188.09011508329843},{"$f":"U121/'DNSP Inputs O & M'!$E$61","v":37.618023016659684},null,{"$f":"'DNSP Inputs O & M'!$E$12","v":90.338600866671271},{"$f":"'DNSP Inputs O & M'!$E$69","v":2},{"$f":"'DNSP Inputs O & M'!$E$17","v":8},{"$f":"X121*Y121*Z121","v":1445.4176138667403},{"$f":"(AA121+AA122)/'DNSP Inputs O & M'!$E$73*(Y114+Y115)/Y114","v":235.11264385412309},{"$f":"AB121/'DNSP Inputs O & M'!$E$61","v":47.022528770824621},null,null,{"$f":"'DNSP Inputs O & M'!$F$12","v":91.047760948270181},{"$f":"'DNSP Inputs O & M'!$F$69","v":2},{"$f":"'DNSP Inputs O & M'!$F$17","v":8},{"$f":"AF121*AG121*AH121","v":1456.7641751723229},{"$f":"(AI121+AI122)/'DNSP Inputs O & M'!$F$72*(AG114+AG115)/AG114","v":189.84406796167639},{"$f":"AJ121/'DNSP Inputs O & M'!$F$61","v":37.96881359233528},null,{"$f":"'DNSP Inputs O & M'!$F$12","v":91.047760948270181},{"$f":"'DNSP Inputs O & M'!$F$69","v":2},{"$f":"'DNSP Inputs O & M'!$F$17","v":8},{"$f":"AM121*AN121*AO121","v":1456.7641751723229},{"$f":"(AP121+AP122)/'DNSP Inputs O & M'!$F$73*(AN114+AN115)/AN114","v":237.30508495209548},{"$f":"AQ121/'DNSP Inputs O & M'!$F$61","v":47.461016990419097},null,null,{"$f":"'DNSP Inputs O & M'!$G$12","v":91.919423571864726},{"$f":"'DNSP Inputs O & M'!$G$69","v":2},{"$f":"'DNSP Inputs O & M'!$G$17","v":8},{"$f":"AU121*AV121*AW121","v":1470.7107771498356},{"$f":"(AX121+AX122)/'DNSP Inputs O & M'!$G$72*(AV114+AV115)/AV114","v":188.53889801864023},{"$f":"AY121/'DNSP Inputs O & M'!$G$61","v":37.707779603728042},null,{"$f":"'DNSP Inputs O & M'!$G$12","v":91.919423571864726},{"$f":"'DNSP Inputs O & M'!$G$69","v":2},{"$f":"'DNSP Inputs O & M'!$G$17","v":8},{"$f":"BB121*BC121*BD121","v":1470.7107771498356},{"$f":"(BE121+BE122)/'DNSP Inputs O & M'!$G$73*(BC114+BC115)/BC114","v":235.67362252330028},{"$f":"BF121/'DNSP Inputs O & M'!$G$61","v":47.134724504660056},null,null,{"$f":"'DNSP Inputs O & M'!$H$12","v":92.856350250687825},{"$f":"'DNSP Inputs O & M'!$H$69","v":2},{"$f":"'DNSP Inputs O & M'!$H$17","v":8},{"$f":"BJ121*BK121*BL121","v":1485.7016040110052},{"$f":"(BM121+BM122)/'DNSP Inputs O & M'!$H$72*(BK114+BK115)/BK114","v":189.04037221801872},{"$f":"BN121/'DNSP Inputs O & M'!$H$61","v":37.808074443603743},null,{"$f":"'DNSP Inputs O & M'!$H$12","v":92.856350250687825},{"$f":"'DNSP Inputs O & M'!$H$69","v":2},{"$f":"'DNSP Inputs O & M'!$H$17","v":8},{"$f":"BQ121*BR121*BS121","v":1485.7016040110052},{"$f":"(BT121+BT122)/'DNSP Inputs O & M'!$H$73*(BR114+BR115)/BR114","v":236.30046527252341},{"$f":"BU121/'DNSP Inputs O & M'!$H$61","v":47.260093054504679}]
["Elevated platform vehicle costs",{"$f":"'DNSP Inputs O & M'!$D$15","v":52.432280868026844},1,{"$f":"'DNSP Inputs O & M'!$D$17","v":8},{"$f":"B122*C122*D122","v":419.45824694421475},null,null,null,{"$f":"'DNSP Inputs O & M'!$D$15","v":52.432280868026844},1,{"$f":"'DNSP Inputs O & M'!$D$17","v":8},{"$f":"I122*J122*K122","v":419.45824694421475},null,null,null,null,{"$f":"'DNSP Inputs O & M'!$E$15","v":54.435442120780536},1,{"$f":"'DNSP Inputs O & M'!$E$17","v":8},{"$f":"Q122*R122*S122","v":435.48353696624429},null,null,null,{"$f":"'DNSP Inputs O & M'!$E$15","v":54.435442120780536},1,{"$f":"'DNSP Inputs O & M'!$E$17","v":8},{"$f":"X122*Y122*Z122","v":435.48353696624429},null,null,null,null,{"$f":"'DNSP Inputs O & M'!$F$15","v":55.209563055555122},1,{"$f":"'DNSP Inputs O & M'!$F$17","v":8},{"$f":"AF122*AG122*AH122","v":441.67650444444098},null,null,null,{"$f":"'DNSP Inputs O & M'!$F$15","v":55.209563055555122},1,{"$f":"'DNSP Inputs O & M'!$F$17","v":8},{"$f":"AM122*AN122*AO122","v":441.67650444444098},null,null,null,null,{"$f":"'DNSP Inputs O & M'!$G$15","v":51.834775379570829},1,{"$f":"'DNSP Inputs O & M'!$G$17","v":8},{"$f":"AU122*AV122*AW122","v":414.67820303656663},null,null,null,{"$f":"'DNSP Inputs O & M'!$G$15","v":51.834775379570829},1,{"$f":"'DNSP Inputs O & M'!$G$17","v":8},{"$f":"BB122*BC122*BD122","v":414.67820303656663},null,null,null,null,{"$f":"'DNSP Inputs O & M'!$H$15","v":50.587764771147747},1,{"$f":"'DNSP Inputs O & M'!$H$17","v":8},{"$f":"BJ122*BK122*BL122","v":404.70211816918197},null,null,null,{"$f":"'DNSP Inputs O & M'!$H$15","v":50.587764771147747},1,{"$f":"'DNSP Inputs O & M'!$H$17","v":8},{"$f":"BQ122*BR122*BS122","v":404.70211816918197}]
[]
["Other Maintenance and Repair costs",null,null,null,null,null,{"$f":"'DNSP Inputs O & M'!$D$80","v":5.63},null,null,null,null,null,null,{"$f":"'DNSP Inputs O & M'!$D$80","v":5.63},null,null,null,null,null,null,null,{"$f":"'DNSP Inputs O & M'!$E$80","v":5.63},null,null,null,null,null,null,{"$f":"'DNSP Inputs O & M'!$E$80","v":5.63},null,null,null,null,null,null,null,{"$f":"'DNSP Inputs O & M'!$F$80","v":5.63},null,null,null,null,null,null,{"$f":"'DNSP Inputs O & M'!$F$80","v":5.63},null,null,null,null,null,null,null,{"$f":"'DNSP Inputs O & M'!$G$80","v":5.63},null,null,null,null,null,null,{"$f":"'DNSP Inputs O & M'!$G$80","v":5.63},null,null,null,null,null,null,null,{"$f":"'DNSP Inputs O & M'!$H$80","v":5.63},null,null,null,null,null,null,{"$f":"'DNSP Inputs O & M'!$H$80","v":5.63}]
[]
["Overheads",{"$f":"'DNSP Inputs O & M'!$D$18","v":0.25},null,null,null,null,{"$f":"B126*(G114+G118+G121+G124)","v":13.884786364452305},null,{"$f":"'DNSP Inputs O & M'!$D$18","v":0.25},null,null,null,null,{"$f":"I126*(N114+N118+N121+N124)","v":16.564969972054762},null,null,{"$f":"'DNSP Inputs O & M'!$E$18","v":0.25},null,null,null,null,{"$f":"Q126*(V114+V118+V121+V124)","v":14.098870012832084},null,{"$f":"'DNSP Inputs O & M'!$E$18","v":0.25},null,null,null,null,{"$f":"X126*(AC114+AC118+AC121+AC124)","v":16.81222765652484},null,null,{"$f":"'DNSP Inputs O & M'!$F$18","v":0.25},null,null,null,null,{"$f":"AF126*(AK114+AK118+AK121+AK124)","v":14.230662356175587},null,{"$f":"'DNSP Inputs O & M'!$F$18","v":0.25},null,null,null,null,{"$f":"AM126*(AR114+AR118+AR121+AR124)","v":16.96977193137516},null,null,{"$f":"'DNSP Inputs O & M'!$G$18","v":0.25},null,null,null,null,{"$f":"AU126*(AZ114+AZ118+AZ121+AZ124)","v":13.991403554942412},null,{"$f":"'DNSP Inputs O & M'!$G$18","v":0.25},null,null,null,null,{"$f":"BB126*(BG114+BG118+BG121+BG124)","v":16.70662787474561},null,null,{"$f":"'DNSP Inputs O & M'!$H$18","v":0.25},null,null,null,null,{"$f":"BJ126*(BO114+BO118+BO121+BO124)","v":13.955011049240765},null,{"$f":"'DNSP Inputs O & M'!$H$18","v":0.25},null,null,null,null,{"$f":"BQ126*(BV114+BV118+BV121+BV124)","v":16.67512052185614}]
[]
[null,null,null,null,null,null,{"$f":"SUM(G114,G118,G121,G124,G126)","v":69.423931822261522},null,null,null,null,null,null,{"$f":"SUM(N114,N118,N121,N124,N126)","v":82.824849860273815},null,null,null,null,null,null,null,{"$f":"SUM(V114,V118,V121,V124,V126)","v":70.494350064160415},null,null,null,null,null,null,{"$f":"SUM(AC114,AC118,AC121,AC124,AC126)","v":84.061138282624199},null,null,null,null,null,null,null,{"$f":"SUM(AK114,AK118,AK121,AK124,AK126)","v":71.153311780877942},null,null,null,null,null,null,{"$f":"SUM(AR114,AR118,AR121,AR124,AR126)","v":84.848859656875803},null,null,null,null,null,null,null,{"$f":"SUM(AZ114,AZ118,AZ121,AZ124,AZ126)","v":69.957017774712057},null,null,null,null,null,null,{"$f":"SUM(BG114,BG118,BG121,BG124,BG126)","v":83.533139373728048},null,null,null,null,null,null,null,{"$f":"SUM(BO114,BO118,BO121,BO124,BO126)","v":69.77505524620382},null,null,null,null,null,null,{"$f":"SUM(BV114,BV118,BV121,BV124,BV126)","v":83.375602609280705}]
[]
[]
[]
[]
["Sodium High Pressure 250 Watt Standard Light Type - Cost build-up"]
[]
["Additional assumptions"]
["Overheads are applied to material and labour components"]
["All costs and charges are exclusive of GST"]
[]
[null,"Urban",null,null,null,null,null,null,"Rural",null,null,null,null,null,null,null,"Urban",null,null,null,null,null,null,"Rural",null,null,null,null,null,null,null,"Urban",null,null,null,null,null,null,"Rural",null,null,null,null,null,null,null,"Urban",null,null,null,null,null,null,"Rural",null,null,null,null,null,null,null,"Urban",null,null,null,null,null,null,"Rural"]
[]
[null,"Unit rate","Number","Hours","Cost","Annualised","Annualised",null,"Unit rate","Number","Hours","Cost","Annualised","Annualised",null,null,"Unit rate","Number","Hours","Cost","Annualised","Annualised",null,"Unit rate","Number","Hours","Cost","Annualised","Annualised",null,null,"Unit rate","Number","Hours","Cost","Annualised","Annualised",null,"Unit rate","Number","Hours","Cost","Annualised","Annualised",null,null,"Unit rate","Number","Hours","Cost","Annualised","Annualised",null,"Unit rate","Number","Hours","Cost","Annualised","Annualised",null,null,"Unit rate","Number","Hours","Cost","Annualised","Annualised",null,"Unit rate","Number","Hours","Cost","Annualised","Annualised"]
[null,null,null,null,null," cost","unit cost",null,null,null,null,null," cost","unit cost",null,null,null,null,null,null," cost","unit cost",null,null,null,null,null," cost","unit cost",null,null,null,null,null,null," cost","unit cost",null,null,null,null,null," cost","unit cost",null,null,null,null,null,null," cost","unit cost",null,null,null,null,null," cost","unit cost",null,null,null,null,null,null," cost","unit cost",null,null,null,null,null," cost","unit cost"]
["S-HP 250"]
["Patrols and repairs"]
["Materials"]
["Lamp",{"$f":"'DNSP Inputs O & M'!$D$96","v":41.373401906067691},{"$f":"'DNSP Inputs O & M'!$D$72","v":15},null,{"$f":"B146*C146","v":620.60102859101539},{"$f":"(E146+E147+E148)/'DNSP Inputs O & M'!$D$72","v":55.046183776561307},{"$f":"F146/'DNSP Inputs O & M'!$D$61","v":11.009236755312262},null,{"$f":"'DNSP Inputs O & M'!$D$96*(1+'DNSP Inputs O & M'!$D$11)","v":43.442072001371081},{"$f":"'DNSP Inputs O & M'!$D$73","v":12},null,{"$f":"I146*J146","v":521.30486401645294},{"$f":"(L146+L147+L148)/'DNSP Inputs O & M'!$D$73","v":57.798492965389386},{"$f":"M146/'DNSP Inputs O & M'!$D$61","v":11.559698593077878},null,null,{"$f":"'DNSP Inputs O & M'!$E$96","v":42.954061648897593},{"$f":"'DNSP Inputs O & M'!$E$72","v":15},null,{"$f":"Q146*R146","v":644.31092473346393},{"$f":"(T146+T147+T148)/'DNSP Inputs O & M'!$E$72","v":57.149208490109608},{"$f":"U146/'DNSP Inputs O & M'!$E$61","v":11.429841698021921},null,{"$f":"'DNSP Inputs O & M'!$E$96*(1+'DNSP Inputs O & M'!$E$11)","v":45.101764731342477},{"$f":"'DNSP Inputs O & M'!$E$73","v":12},null,{"$f":"X146*Y146","v":541.2211767761097},{"$f":"(AA146+AA147+AA148)/'DNSP Inputs O & M'!$E$73","v":60.006668914615098},{"$f":"AB146/'DNSP Inputs O & M'!$E$61","v":12.00133378292302},null,null,{"$f":"'DNSP Inputs O & M'!$F$96","v":43.564907029416993},{"$f":"'DNSP Inputs O & M'!$F$72","v":15},null,{"$f":"AF146*AG146","v":653.4736054412549},{"$f":"(AI146+AI147+AI148)/'DNSP Inputs O & M'!$F$72","v":57.961921622848237},{"$f":"AJ146/'DNSP Inputs O & M'!$F$61","v":11.592384324569647},null,{"$f":"'DNSP Inputs O & M'!$F$96*(1+'DNSP Inputs O & M'!$F$11)","v":45.743152380887842},{"$f":"'DNSP Inputs O & M'!$F$73","v":12},null,{"$f":"AM146*AN146","v":548.91782857065414},{"$f":"(AP146+AP147+AP148)/'DNSP Inputs O & M'!$F$73","v":60.860017703990657},{"$f":"AQ146/'DNSP Inputs O & M'!$F$61","v":12.172003540798132},null,null,{"$f":"'DNSP Inputs O & M'!$G$96","v":40.901920705827813},{"$f":"'DNSP Inputs O & M'!$G$72","v":15},null,{"$f":"AU146*AV146","v":613.52881058741718},{"$f":"(AX146+AX147+AX148)/'DNSP Inputs O & M'!$G$72","v":54.418890887895266},{"$f":"AY146/'DNSP Inputs O & M'!$G$61","v":10.883778177579053},null,{"$f":"'DNSP Inputs O & M'!$G$96*(1+'DNSP Inputs O & M'!$G$11)","v":42.947016741119207},{"$f":"'DNSP Inputs O & M'!$G$73","v":12},null,{"$f":"BB146*BC146","v":515.36420089343051},{"$f":"(BE146+BE147+BE148)/'DNSP Inputs O & M'!$G$73","v":57.139835432290035},{"$f":"BF146/'DNSP Inputs O & M'!$G$61","v":11.427967086458008},null,null,{"$f":"'DNSP Inputs O & M'!$H$96","v":39.917926299532979},{"$f":"'DNSP Inputs O & M'!$H$72","v":15},null,{"$f":"BJ146*BK146","v":598.76889449299472},{"$f":"(BM146+BM147+BM148)/'DNSP Inputs O & M'!$H$72","v":53.109713144982379},{"$f":"BN146/'DNSP Inputs O & M'!$H$61","v":10.621942628996475},null,{"$f":"'DNSP Inputs O & M'!$H$96*(1+'DNSP Inputs O & M'!$H$11)","v":41.913822614509627},{"$f":"'DNSP Inputs O & M'!$H$73","v":12},null,{"$f":"BQ146*BR146","v":502.96587137411552},{"$f":"(BT146+BT147+BT148)/'DNSP Inputs O & M'!$H$73","v":55.765198802231488},{"$f":"BU146/'DNSP Inputs O & M'!$H$61","v":11.153039760446298}]
["PE cell",{"$f":"'DNSP Inputs O & M'!$D$97","v":22.362317501171791},{"$f":"C146*'DNSP Inputs O & M'!$D$61/'DNSP Inputs O & M'!$D$62","v":7.5},null,{"$f":"B147*C147","v":167.71738125878844},null,null,null,{"$f":"'DNSP Inputs O & M'!$D$97*(1+'DNSP Inputs O & M'!$D$11)","v":23.480433376230383},{"$f":"J146*'DNSP Inputs O & M'!$D$61/'DNSP Inputs O & M'!$D$62","v":6},null,{"$f":"I147*J147","v":140.88260025738231},null,null,null,null,{"$f":"'DNSP Inputs O & M'!$E$97","v":23.216663854191868},{"$f":"R146*'DNSP Inputs O & M'!$E$61/'DNSP Inputs O & M'!$E$62","v":7.5},null,{"$f":"Q147*R147","v":174.124978906439},null,null,null,{"$f":"'DNSP Inputs O & M'!$E$97*(1+'DNSP Inputs O & M'!$E$11)","v":24.377497046901464},{"$f":"Y146*'DNSP Inputs O & M'!$E$61/'DNSP Inputs O & M'!$E$62","v":6},null,{"$f":"X147*Y147","v":146.26498228140878},null,null,null,null,{"$f":"'DNSP Inputs O & M'!$F$97","v":23.546825690395519},{"$f":"AG146*'DNSP Inputs O & M'!$F$61/'DNSP Inputs O & M'!$F$62","v":7.5},null,{"$f":"AF147*AG147","v":176.6011926779664},null,null,null,{"$f":"'DNSP Inputs O & M'!$F$97*(1+'DNSP Inputs O & M'!$F$11)","v":24.724166974915295},{"$f":"AN146*'DNSP Inputs O & M'!$F$61/'DNSP Inputs O & M'!$F$62","v":6},null,{"$f":"AM147*AN147","v":148.34500184949178},null,null,null,null,{"$f":"'DNSP Inputs O & M'!$G$97","v":22.107481983426961},{"$f":"AV146*'DNSP Inputs O & M'!$G$61/'DNSP Inputs O & M'!$G$62","v":7.5},null,{"$f":"AU147*AV147","v":165.80611487570221},null,null,null,{"$f":"'DNSP Inputs O & M'!$G$97*(1+'DNSP Inputs O & M'!$G$11)","v":23.212856082598311},{"$f":"BC146*'DNSP Inputs O & M'!$G$61/'DNSP Inputs O & M'!$G$62","v":6},null,{"$f":"BB147*BC147","v":139.27713649558987},null,null,null,null,{"$f":"'DNSP Inputs O & M'!$H$97","v":21.575633154971907},{"$f":"BK146*'DNSP Inputs O & M'!$H$61/'DNSP Inputs O & M'!$H$62","v":7.5},null,{"$f":"BJ147*BK147","v":161.8172486622893},null,null,null,{"$f":"'DNSP Inputs O & M'!$H$97*(1+'DNSP Inputs O & M'!$H$11)","v":22.654414812720503},{"$f":"BR146*'DNSP Inputs O & M'!$H$61/'DNSP Inputs O & M'!$H$62","v":6},null,{"$f":"BQ147*BR147","v":135.92648887632302}]
["Miscellaneous",{"$f":"'DNSP Inputs O & M'!$D$98","v":2.4916231199077203},{"$f":"'DNSP Inputs O & M'!$D$72","v":15},null,{"$f":"B148*C148","v":37.374346798615804},null,null,null,{"$f":"'DNSP Inputs O & M'!$D$98*(1+'DNSP Inputs O & M'!$D$11)","v":2.6162042759031063},{"$f":"'DNSP Inputs O & M'!$D$73","v":12},null,{"$f":"I148*J148","v":31.394451310837276},null,null,null,null,{"$f":"'DNSP Inputs O & M'!$E$98","v":2.5868149141160854},{"$f":"'DNSP Inputs O & M'!$E$72","v":15},null,{"$f":"Q148*R148","v":38.802223711741284},null,null,null,{"$f":"'DNSP Inputs O & M'!$E$98*(1+'DNSP Inputs O & M'!$E$11)","v":2.7161556598218897},{"$f":"'DNSP Inputs O & M'!$E$73","v":12},null,{"$f":"X148*Y148","v":32.593867917862674},null,null,null,null,{"$f":"'DNSP Inputs O & M'!$F$98","v":2.6236017482334839},{"$f":"'DNSP Inputs O & M'!$F$72","v":15},null,{"$f":"AF148*AG148","v":39.35402622350226},null,null,null,{"$f":"'DNSP Inputs O & M'!$F$98*(1+'DNSP Inputs O & M'!$F$11)","v":2.7547818356451583},{"$f":"'DNSP Inputs O & M'!$F$73","v":12},null,{"$f":"AM148*AN148","v":33.057382027741902},null,null,null,null,{"$f":"'DNSP Inputs O & M'!$G$98","v":2.4632291903539789},{"$f":"'DNSP Inputs O & M'!$G$72","v":15},null,{"$f":"AU148*AV148","v":36.948437855309685},null,null,null,{"$f":"'DNSP Inputs O & M'!$G$98*(1+'DNSP Inputs O & M'!$G$11)","v":2.586390649871678},{"$f":"'DNSP Inputs O & M'!$G$73","v":12},null,{"$f":"BB148*BC148","v":31.036687798460136},null,null,null,null,{"$f":"'DNSP Inputs O & M'!$H$98","v":2.4039702679634436},{"$f":"'DNSP Inputs O & M'!$H$72","v":15},null,{"$f":"BJ148*BK148","v":36.059554019451653},null,null,null,{"$f":"'DNSP Inputs O & M'!$H$98*(1+'DNSP Inputs O & M'!$H$11)","v":2.5241687813616158},{"$f":"'DNSP Inputs O & M'!$H$73","v":12},null,{"$f":"BQ148*BR148","v":30.29002537633939}]
["Labour - Patrol"]
["Crew costs",{"$f":"'DNSP Inputs O & M'!$D$13","v":103.5047467737313},{"$f":"'DNSP Inputs O & M'!$D$68","v":2},{"$f":"'DNSP Inputs O & M'!$D$17","v":8},{"$f":"B150*C150*D150","v":1656.0759483797008},{"$f":"(E150+E151)/'DNSP Inputs O & M'!$D$70","v":0.58309629738169388},{"$f":"F150*'DNSP Inputs O & M'!$D$60","v":1.7492888921450818},null,{"$f":"'DNSP Inputs O & M'!$D$13","v":103.5047467737313},{"$f":"'DNSP Inputs O & M'!$D$68","v":2},{"$f":"'DNSP Inputs O & M'!$D$17","v":8},{"$f":"I150*J150*K150","v":1656.0759483797008},{"$f":"(L150+L151)/'DNSP Inputs O & M'!$D$71","v":0.87464444607254088},{"$f":"M150*'DNSP Inputs O & M'!$D$60","v":2.6239333382176229},null,null,{"$f":"'DNSP Inputs O & M'!$E$13","v":103.88939099667196},{"$f":"'DNSP Inputs O & M'!$E$68","v":2},{"$f":"'DNSP Inputs O & M'!$E$17","v":8},{"$f":"Q150*R150*S150","v":1662.2302559467514},{"$f":"(T150+T151)/'DNSP Inputs O & M'!$E$70","v":0.58633479175752778},{"$f":"U150*'DNSP Inputs O & M'!$E$60","v":1.7590043752725832},null,{"$f":"'DNSP Inputs O & M'!$E$13","v":103.88939099667196},{"$f":"'DNSP Inputs O & M'!$E$68","v":2},{"$f":"'DNSP Inputs O & M'!$E$17","v":8},{"$f":"X150*Y150*Z150","v":1662.2302559467514},{"$f":"(AA150+AA151)/'DNSP Inputs O & M'!$E$71","v":0.87950218763629173},{"$f":"AB150*'DNSP Inputs O & M'!$E$60","v":2.6385065629088751},null,null,{"$f":"'DNSP Inputs O & M'!$F$13","v":104.70492509051071},{"$f":"'DNSP Inputs O & M'!$F$68","v":2},{"$f":"'DNSP Inputs O & M'!$F$17","v":8},{"$f":"AF150*AG150*AH150","v":1675.2788014481714},{"$f":"(AI150+AI151)/'DNSP Inputs O & M'!$F$70","v":0.59114304525638617},{"$f":"AJ150*'DNSP Inputs O & M'!$F$60","v":1.7734291357691585},null,{"$f":"'DNSP Inputs O & M'!$F$13","v":104.70492509051071},{"$f":"'DNSP Inputs O & M'!$F$68","v":2},{"$f":"'DNSP Inputs O & M'!$F$17","v":8},{"$f":"AM150*AN150*AO150","v":1675.2788014481714},{"$f":"(AP150+AP151)/'DNSP Inputs O & M'!$F$71","v":0.88671456788457914},{"$f":"AQ150*'DNSP Inputs O & M'!$F$60","v":2.6601437036537376},null,null,{"$f":"'DNSP Inputs O & M'!$G$13","v":105.70733710764445},{"$f":"'DNSP Inputs O & M'!$G$68","v":2},{"$f":"'DNSP Inputs O & M'!$G$17","v":8},{"$f":"AU150*AV150*AW150","v":1691.3173937223112},{"$f":"(AX150+AX151)/'DNSP Inputs O & M'!$G$70","v":0.59448936850273826},{"$f":"AY150*'DNSP Inputs O & M'!$G$60","v":1.7834681055082147},null,{"$f":"'DNSP Inputs O & M'!$G$13","v":105.70733710764445},{"$f":"'DNSP Inputs O & M'!$G$68","v":2},{"$f":"'DNSP Inputs O & M'!$G$17","v":8},{"$f":"BB150*BC150*BD150","v":1691.3173937223112},{"$f":"(BE150+BE151)/'DNSP Inputs O & M'!$G$71","v":0.89173405275410744},{"$f":"BF150*'DNSP Inputs O & M'!$G$60","v":2.6752021582623224},null,null,{"$f":"'DNSP Inputs O & M'!$H$13","v":106.784802788291},{"$f":"'DNSP Inputs O & M'!$H$68","v":2},{"$f":"'DNSP Inputs O & M'!$H$17","v":8},{"$f":"BJ150*BK150*BL150","v":1708.5568446126561},{"$f":"(BM150+BM151)/'DNSP Inputs O & M'!$H$70","v":0.5994968828834174},{"$f":"BN150*'DNSP Inputs O & M'!$H$60","v":1.7984906486502523},null,{"$f":"'DNSP Inputs O & M'!$H$13","v":106.784802788291},{"$f":"'DNSP Inputs O & M'!$H$68","v":2},{"$f":"'DNSP Inputs O & M'!$H$17","v":8},{"$f":"BQ150*BR150*BS150","v":1708.5568446126561},{"$f":"(BT150+BT151)/'DNSP Inputs O & M'!$H$71","v":0.89924532432512605},{"$f":"BU150*'DNSP Inputs O & M'!$H$60","v":2.6977359729753783}]
["Vehicle costs",{"$f":"'DNSP Inputs O & M'!$D$16","v":11.651617970672632},1,{"$f":"'DNSP Inputs O & M'!$D$17","v":8},{"$f":"B151*C151*D151","v":93.212943765381056},null,null,null,{"$f":"'DNSP Inputs O & M'!$D$16","v":11.651617970672632},1,{"$f":"'DNSP Inputs O & M'!$D$17","v":8},{"$f":"I151*J151*K151","v":93.212943765381056},null,null,null,null,{"$f":"'DNSP Inputs O & M'!$E$16","v":12.096764915729008},1,{"$f":"'DNSP Inputs O & M'!$E$17","v":8},{"$f":"Q151*R151*S151","v":96.774119325832061},null,null,null,{"$f":"'DNSP Inputs O & M'!$E$16","v":12.096764915729008},1,{"$f":"'DNSP Inputs O & M'!$E$17","v":8},{"$f":"X151*Y151*Z151","v":96.774119325832061},null,null,null,null,{"$f":"'DNSP Inputs O & M'!$F$16","v":12.268791790123361},1,{"$f":"'DNSP Inputs O & M'!$F$17","v":8},{"$f":"AF151*AG151*AH151","v":98.150334320986886},null,null,null,{"$f":"'DNSP Inputs O & M'!$F$16","v":12.268791790123361},1,{"$f":"'DNSP Inputs O & M'!$F$17","v":8},{"$f":"AM151*AN151*AO151","v":98.150334320986886},null,null,null,null,{"$f":"'DNSP Inputs O & M'!$G$16","v":11.518838973237962},1,{"$f":"'DNSP Inputs O & M'!$G$17","v":8},{"$f":"AU151*AV151*AW151","v":92.150711785903695},null,null,null,{"$f":"'DNSP Inputs O & M'!$G$16","v":11.518838973237962},1,{"$f":"'DNSP Inputs O & M'!$G$17","v":8},{"$f":"BB151*BC151*BD151","v":92.150711785903695},null,null,null,null,{"$f":"'DNSP Inputs O & M'!$H$16","v":11.241725504699499},1,{"$f":"'DNSP Inputs O & M'!$H$17","v":8},{"$f":"BJ151*BK151*BL151","v":89.933804037595991},null,null,null,{"$f":"'DNSP Inputs O & M'!$H$16","v":11.241725504699499},1,{"$f":"'DNSP Inputs O & M'!$H$17","v":8},{"$f":"BQ151*BR151*BS151","v":89.933804037595991}]
["Labour - Repair of faults"]
["Crew costs",{"$f":"'DNSP Inputs O & M'!$D$12","v":90.004127629331563},{"$f":"'DNSP Inputs O & M'!$D$69","v":2},{"$f":"'DNSP Inputs O & M'!$D$17","v":8},{"$f":"B153*C153*D153","v":1440.066042069305},{"$f":"(E153+E154)/'DNSP Inputs O & M'!$D$72*(C146+C147)/C146","v":185.95242890135199},{"$f":"F153/'DNSP Inputs O & M'!$D$61","v":37.1904857802704},null,{"$f":"'DNSP Inputs O & M'!$D$12","v":90.004127629331563},{"$f":"'DNSP Inputs O & M'!$D$69","v":2},{"$f":"'DNSP Inputs O & M'!$D$17","v":8},{"$f":"I153*J153*K153","v":1440.066042069305},{"$f":"(L153+L154)/'DNSP Inputs O & M'!$D$73*(J146+J147)/J146","v":232.44053612668998},{"$f":"M153/'DNSP Inputs O & M'!$D$61","v":46.488107225337998},null,null,{"$f":"'DNSP Inputs O & M'!$E$12","v":90.338600866671271},{"$f":"'DNSP Inputs O & M'!$E$69","v":2},{"$f":"'DNSP Inputs O & M'!$E$17","v":8},{"$f":"Q153*R153*S153","v":1445.4176138667403},{"$f":"(T153+T154)/'DNSP Inputs O & M'!$E$72*(R146+R147)/R146","v":188.09011508329843},{"$f":"U153/'DNSP Inputs O & M'!$E$61","v":37.618023016659684},null,{"$f":"'DNSP Inputs O & M'!$E$12","v":90.338600866671271},{"$f":"'DNSP Inputs O & M'!$E$69","v":2},{"$f":"'DNSP Inputs O & M'!$E$17","v":8},{"$f":"X153*Y153*Z153","v":1445.4176138667403},{"$f":"(AA153+AA154)/'DNSP Inputs O & M'!$E$73*(Y146+Y147)/Y146","v":235.11264385412309},{"$f":"AB153/'DNSP Inputs O & M'!$E$61","v":47.022528770824621},null,null,{"$f":"'DNSP Inputs O & M'!$F$12","v":91.047760948270181},{"$f":"'DNSP Inputs O & M'!$F$69","v":2},{"$f":"'DNSP Inputs O & M'!$F$17","v":8},{"$f":"AF153*AG153*AH153","v":1456.7641751723229},{"$f":"(AI153+AI154)/'DNSP Inputs O & M'!$F$72*(AG146+AG147)/AG146","v":189.84406796167639},{"$f":"AJ153/'DNSP Inputs O & M'!$F$61","v":37.96881359233528},null,{"$f":"'DNSP Inputs O & M'!$F$12","v":91.047760948270181},{"$f":"'DNSP Inputs O & M'!$F$69","v":2},{"$f":"'DNSP Inputs O & M'!$F$17","v":8},{"$f":"AM153*AN153*AO153","v":1456.7641751723229},{"$f":"(AP153+AP154)/'DNSP Inputs O & M'!$F$73*(AN146+AN147)/AN146","v":237.30508495209548},{"$f":"AQ153/'DNSP Inputs O & M'!$F$61","v":47.461016990419097},null,null,{"$f":"'DNSP Inputs O & M'!$G$12","v":91.919423571864726},{"$f":"'DNSP Inputs O & M'!$G$69","v":2},{"$f":"'DNSP Inputs O & M'!$G$17","v":8},{"$f":"AU153*AV153*AW153","v":1470.7107771498356},{"$f":"(AX153+AX154)/'DNSP Inputs O & M'!$G$72*(AV146+AV147)/AV146","v":188.53889801864023},{"$f":"AY153/'DNSP Inputs O & M'!$G$61","v":37.707779603728042},null,{"$f":"'DNSP Inputs O & M'!$G$12","v":91.919423571864726},{"$f":"'DNSP Inputs O & M'!$G$69","v":2},{"$f":"'DNSP Inputs O & M'!$G$17","v":8},{"$f":"BB153*BC153*BD153","v":1470.7107771498356},{"$f":"(BE153+BE154)/'DNSP Inputs O & M'!$G$73*(BC146+BC147)/BC146","v":235.67362252330028},{"$f":"BF153/'DNSP Inputs O & M'!$G$61","v":47.134724504660056},null,null,{"$f":"'DNSP Inputs O & M'!$H$12","v":92.856350250687825},{"$f":"'DNSP Inputs O & M'!$H$69","v":2},{"$f":"'DNSP Inputs O & M'!$H$17","v":8},{"$f":"BJ153*BK153*BL153","v":1485.7016040110052},{"$f":"(BM153+BM154)/'DNSP Inputs O & M'!$H$72*(BK146+BK147)/BK146","v":189.04037221801872},{"$f":"BN153/'DNSP Inputs O & M'!$H$61","v":37.808074443603743},null,{"$f":"'DNSP Inputs O & M'!$H$12","v":92.856350250687825},{"$f":"'DNSP Inputs O & M'!$H$69","v":2},{"$f":"'DNSP Inputs O & M'!$H$17","v":8},{"$f":"BQ153*BR153*BS153","v":1485.7016040110052},{"$f":"(BT153+BT154)/'DNSP Inputs O & M'!$H$73*(BR146+BR147)/BR146","v":236.30046527252341},{"$f":"BU153/'DNSP Inputs O & M'!$H$61","v":47.260093054504679}]
["Elevated platform vehicle costs",{"$f":"'DNSP Inputs O & M'!$D$15","v":52.432280868026844},1,{"$f":"'DNSP Inputs O & M'!$D$17","v":8},{"$f":"B154*C154*D154","v":419.45824694421475},null,null,null,{"$f":"'DNSP Inputs O & M'!$D$15","v":52.432280868026844},1,{"$f":"'DNSP Inputs O & M'!$D$17","v":8},{"$f":"I154*J154*K154","v":419.45824694421475},null,null,null,null,{"$f":"'DNSP Inputs O & M'!$E$15","v":54.435442120780536},1,{"$f":"'DNSP Inputs O & M'!$E$17","v":8},{"$f":"Q154*R154*S154","v":435.48353696624429},null,null,null,{"$f":"'DNSP Inputs O & M'!$E$15","v":54.435442120780536},1,{"$f":"'DNSP Inputs O & M'!$E$17","v":8},{"$f":"X154*Y154*Z154","v":435.48353696624429},null,null,null,null,{"$f":"'DNSP Inputs O & M'!$F$15","v":55.209563055555122},1,{"$f":"'DNSP Inputs O & M'!$F$17","v":8},{"$f":"AF154*AG154*AH154","v":441.67650444444098},null,null,null,{"$f":"'DNSP Inputs O & M'!$F$15","v":55.209563055555122},1,{"$f":"'DNSP Inputs O & M'!$F$17","v":8},{"$f":"AM154*AN154*AO154","v":441.67650444444098},null,null,null,null,{"$f":"'DNSP Inputs O & M'!$G$15","v":51.834775379570829},1,{"$f":"'DNSP Inputs O & M'!$G$17","v":8},{"$f":"AU154*AV154*AW154","v":414.67820303656663},null,null,null,{"$f":"'DNSP Inputs O & M'!$G$15","v":51.834775379570829},1,{"$f":"'DNSP Inputs O & M'!$G$17","v":8},{"$f":"BB154*BC154*BD154","v":414.67820303656663},null,null,null,null,{"$f":"'DNSP Inputs O & M'!$H$15","v":50.587764771147747},1,{"$f":"'DNSP Inputs O & M'!$H$17","v":8},{"$f":"BJ154*BK154*BL154","v":404.70211816918197},null,null,null,{"$f":"'DNSP Inputs O & M'!$H$15","v":50.587764771147747},1,{"$f":"'DNSP Inputs O & M'!$H$17","v":8},{"$f":"BQ154*BR154*BS154","v":404.70211816918197}]
[]
["Other Maintenance and Repair costs",null,null,null,null,null,{"$f":"'DNSP Inputs O & M'!$D$111","v":5.48},null,null,null,null,null,null,{"$f":"'DNSP Inputs O & M'!$D$111","v":5.48},null,null,null,null,null,null,null,{"$f":"'DNSP Inputs O & M'!$E$111","v":5.48},null,null,null,null,null,null,{"$f":"'DNSP Inputs O & M'!$E$111","v":5.48},null,null,null,null,null,null,null,{"$f":"'DNSP Inputs O & M'!$F$111","v":5.48},null,null,null,null,null,null,{"$f":"'DNSP Inputs O & M'!$F$111","v":5.48},null,null,null,null,null,null,null,{"$f":"'DNSP Inputs O & M'!$G$111","v":5.48},null,null,null,null,null,null,{"$f":"'DNSP Inputs O & M'!$G$111","v":5.48},null,null,null,null,null,null,null,{"$f":"'DNSP Inputs O & M'!$H$111","v":5.48},null,null,null,null,null,null,{"$f":"'DNSP Inputs O & M'!$H$111","v":5.48}]
[]
["Overheads",{"$f":"'DNSP Inputs O & M'!$D$18","v":0.25},null,null,null,null,{"$f":"B158*(G146+G150+G153+G156)","v":13.857252856931936},null,{"$f":"'DNSP Inputs O & M'!$D$18","v":0.25},null,null,null,null,{"$f":"I158*(N146+N150+N153+N156)","v":16.537934789158374},null,null,{"$f":"'DNSP Inputs O & M'!$E$18","v":0.25},null,null,null,null,{"$f":"Q158*(V146+V150+V153+V156)","v":14.071717272488549},null,{"$f":"'DNSP Inputs O & M'!$E$18","v":0.25},null,null,null,null,{"$f":"X158*(AC146+AC150+AC153+AC156)","v":16.785592279164128},null,null,{"$f":"'DNSP Inputs O & M'!$F$18","v":0.25},null,null,null,null,{"$f":"AF158*(AK146+AK150+AK153+AK156)","v":14.203656763168521},null,{"$f":"'DNSP Inputs O & M'!$F$18","v":0.25},null,null,null,null,{"$f":"AM158*(AR146+AR150+AR153+AR156)","v":16.94329105871774},null,null,{"$f":"'DNSP Inputs O & M'!$G$18","v":0.25},null,null,null,null,{"$f":"AU158*(AZ146+AZ150+AZ153+AZ156)","v":13.963756471703828},null,{"$f":"'DNSP Inputs O & M'!$G$18","v":0.25},null,null,null,null,{"$f":"BB158*(BG146+BG150+BG153+BG156)","v":16.679473437345099},null,null,{"$f":"'DNSP Inputs O & M'!$H$18","v":0.25},null,null,null,null,{"$f":"BJ158*(BO146+BO150+BO153+BO156)","v":13.927126930312618},null,{"$f":"'DNSP Inputs O & M'!$H$18","v":0.25},null,null,null,null,{"$f":"BQ158*(BV146+BV150+BV153+BV156)","v":16.647717196981588}]
[]
[null,null,null,null,null,null,{"$f":"SUM(G146,G150,G153,G156,G158)","v":69.28626428465968},null,null,null,null,null,null,{"$f":"SUM(N146,N150,N153,N156,N158)","v":82.689673945791867},null,null,null,null,null,null,null,{"$f":"SUM(V146,V150,V153,V156,V158)","v":70.358586362442736},null,null,null,null,null,null,{"$f":"SUM(AC146,AC150,AC153,AC156,AC158)","v":83.927961395820631},null,null,null,null,null,null,null,{"$f":"SUM(AK146,AK150,AK153,AK156,AK158)","v":71.018283815842608},null,null,null,null,null,null,{"$f":"SUM(AR146,AR150,AR153,AR156,AR158)","v":84.716455293588695},null,null,null,null,null,null,null,{"$f":"SUM(AZ146,AZ150,AZ153,AZ156,AZ158)","v":69.818782358519144},null,null,null,null,null,null,{"$f":"SUM(BG146,BG150,BG153,BG156,BG158)","v":83.397367186725489},null,null,null,null,null,null,null,{"$f":"SUM(BO146,BO150,BO153,BO156,BO158)","v":69.635634651563095},null,null,null,null,null,null,{"$f":"SUM(BV146,BV150,BV153,BV156,BV158)","v":83.238585984907942}]
[]
[]
[]
[]
["T5 (2 X 14W) - Cost build-up"]
[]
["Additional assumptions"]
["Proportion of luminaire that will fail before bulk change",null,null,{"$f":"'DNSP Inputs O & M'!$D$147","v":0.114},null,null,null,null,null,null,null,null,null,null,null,null,null,null,{"$f":"'DNSP Inputs O & M'!$E$147","v":0.114},null,null,null,null,null,null,null,null,null,null,null,null,null,null,{"$f":"'DNSP Inputs O & M'!$F$147","v":0.114},null,null,null,null,null,null,null,null,null,null,null,null,null,null,{"$f":"'DNSP Inputs O & M'!$G$147","v":0.114},null,null,null,null,null,null,null,null,null,null,null,null,null,null,{"$f":"'DNSP Inputs O & M'!$H$147","v":0.114}]
["Proportion of lamps that will fail before bulk change (per year)",null,null,{"$f":"D168/'DNSP Inputs O & M'!$D$144","v":2.8500000000000001E-2},null,null,null,null,null,null,null,null,null,null,null,null,null,null,{"$f":"S168/'DNSP Inputs O & M'!$E$144","v":2.8500000000000001E-2},null,null,null,null,null,null,null,null,null,null,null,null,null,null,{"$f":"AH168/'DNSP Inputs O & M'!$F$144","v":2.8500000000000001E-2},null,null,null,null,null,null,null,null,null,null,null,null,null,null,{"$f":"AW168/'DNSP Inputs O & M'!$G$144","v":2.8500000000000001E-2},null,null,null,null,null,null,null,null,null,null,null,null,null,null,{"$f":"BL168/'DNSP Inputs O & M'!$H$144","v":2.8500000000000001E-2}]
["Overheads are applied to material and labour components"]
["All costs and charges are exclusive of GST"]
[]
[null,"Urban",null,null,null,null,null,null,"Rural",null,null,null,null,null,null,null,"Urban",null,null,null,null,null,null,"Rural",null,null,null,null,null,null,null,"Urban",null,null,null,null,null,null,"Rural",null,null,null,null,null,null,null,"Urban",null,null,null,null,null,null,"Rural",null,null,null,null,null,null,null,"Urban",null,null,null,null,null,null,"Rural"]
[]
[null,"Unit rate","Number","Hours","Cost","Annualised","Annualised",null,"Unit rate","Number","Hours","Cost","Annualised","Annualised",null,null,"Unit rate","Number","Hours","Cost","Annualised","Annualised",null,"Unit rate","Number","Hours","Cost","Annualised","Annualised",null,null,"Unit rate","Number","Hours","Cost","Annualised","Annualised",null,"Unit rate","Number","Hours","Cost","Annualised","Annualised",null,null,"Unit rate","Number","Hours","Cost","Annualised","Annualised",null,"Unit rate","Number","Hours","Cost","Annualised","Annualised",null,null,"Unit rate","Number","Hours","Cost","Annualised","Annualised",null,"Unit rate","Number","Hours","Cost","Annualised","Annualised"]
[null,null,null,null,null," cost","unit cost",null,null,null,null,null," cost","unit cost",null,null,null,null,null,null," cost","unit cost",null,null,null,null,null," cost","unit cost",null,null,null,null,null,null," cost","unit cost",null,null,null,null,null," cost","unit cost",null,null,null,null,null,null," cost","unit cost",null,null,null,null,null," cost","unit cost",null,null,null,null,null,null," cost","unit cost",null,null,null,null,null," cost","unit cost"]
["T5 (2 X 14W)"]
["Bulk change & repairs"]
["Materials - bulk lamp change"]
["Lamp",{"$f":"'DNSP Inputs O & M'!$D$149","v":9.9664924796308814},{"$f":"'DNSP Inputs O & M'!$D$155","v":74},null,{"$f":"B180*C180","v":737.52044349268522},{"$f":"E180/'DNSP Inputs O & M'!$D$144*0.8","v":147.50408869853706},{"$f":"(F180+F181+F182)/C180","v":4.344767815339087},null,{"$f":"'DNSP Inputs O & M'!$D$149*(1+'DNSP Inputs O & M'!$D$11)","v":10.464817103612425},{"$f":"'DNSP Inputs O & M'!$D$156","v":61},null,{"$f":"I180*J180","v":638.3538433203579},{"$f":"L180/'DNSP Inputs O & M'!$D$144*0.8","v":127.67076866407159},{"$f":"(M180+M181+M182)/J180","v":4.5620062061060418},null,null,{"$f":"'DNSP Inputs O & M'!$E$149","v":10.347259656464342},{"$f":"'DNSP Inputs O & M'!$E$155","v":74},null,{"$f":"Q180*R180","v":765.69721457836124},{"$f":"T180/'DNSP Inputs O & M'!$E$144*0.8","v":153.13944291567225},{"$f":"(U180+U181+U182)/R180","v":4.5107585064899238},null,{"$f":"'DNSP Inputs O & M'!$E$149*(1+'DNSP Inputs O & M'!$E$11)","v":10.864622639287559},{"$f":"'DNSP Inputs O & M'!$E$156","v":61},null,{"$f":"X180*Y180","v":662.74198099654109},{"$f":"AA180/'DNSP Inputs O & M'!$E$144*0.8","v":132.54839619930823},{"$f":"(AB180+AB181+AB182)/Y180","v":4.7362964318144201},null,null,{"$f":"'DNSP Inputs O & M'!$F$149","v":10.494406992933936},{"$f":"'DNSP Inputs O & M'!$F$155","v":74},null,{"$f":"AF180*AG180","v":776.5861174771112},{"$f":"AI180/'DNSP Inputs O & M'!$F$144*0.8","v":155.31722349542224},{"$f":"(AJ180+AJ181+AJ182)/AG180","v":4.5749055484821373},null,{"$f":"'DNSP Inputs O & M'!$F$149*(1+'DNSP Inputs O & M'!$F$11)","v":11.019127342580633},{"$f":"'DNSP Inputs O & M'!$F$156","v":61},null,{"$f":"AM180*AN180","v":672.16676789741859},{"$f":"AP180/'DNSP Inputs O & M'!$F$144*0.8","v":134.43335357948374},{"$f":"(AQ180+AQ181+AQ182)/AN180","v":4.8036508259062449},null,null,{"$f":"'DNSP Inputs O & M'!$G$149","v":9.8529167614159157},{"$f":"'DNSP Inputs O & M'!$G$155","v":74},null,{"$f":"AU180*AV180","v":729.11584034477778},{"$f":"AX180/'DNSP Inputs O & M'!$G$144*0.8","v":145.82316806895557},{"$f":"(AY180+AY181+AY182)/AV180","v":4.2952559006797513},null,{"$f":"'DNSP Inputs O & M'!$G$149*(1+'DNSP Inputs O & M'!$G$11)","v":10.345562599486712},{"$f":"'DNSP Inputs O & M'!$G$156","v":61},null,{"$f":"BB180*BC180","v":631.07931856868947},{"$f":"BE180/'DNSP Inputs O & M'!$G$144*0.8","v":126.2158637137379},{"$f":"(BF180+BF181+BF182)/BC180","v":4.5100186957137378},null,null,{"$f":"'DNSP Inputs O & M'!$H$149","v":9.6158810718537744},{"$f":"'DNSP Inputs O & M'!$H$155","v":74},null,{"$f":"BJ180*BK180","v":711.57519931717934},{"$f":"BM180/'DNSP Inputs O & M'!$H$144*0.8","v":142.31503986343589},{"$f":"(BN180+BN181+BN182)/BK180","v":4.1919231547612545},null,{"$f":"'DNSP Inputs O & M'!$H$149*(1+'DNSP Inputs O & M'!$H$11)","v":10.096675125446463},{"$f":"'DNSP Inputs O & M'!$H$156","v":61},null,{"$f":"BQ180*BR180","v":615.89718265223428},{"$f":"BT180/'DNSP Inputs O & M'!$H$144*0.8","v":123.17943653044686},{"$f":"(BU180+BU181+BU182)/BR180","v":4.4015193124993175}]
["PE cell",{"$f":"'DNSP Inputs O & M'!$D$150","v":16.818456059377112},{"$f":"C180*'DNSP Inputs O & M'!$D$144/'DNSP Inputs O & M'!$D$145","v":37},null,{"$f":"B181*C181","v":622.28287419695312},{"$f":"E181/'DNSP Inputs O & M'!$D$144","v":155.57071854923828},null,null,{"$f":"'DNSP Inputs O & M'!$D$150*(1+'DNSP Inputs O & M'!$D$11)","v":17.659378862345967},{"$f":"J180*'DNSP Inputs O & M'!$D$144/'DNSP Inputs O & M'!$D$145","v":30.5},null,{"$f":"I181*J181","v":538.61105530155203},{"$f":"L181/'DNSP Inputs O & M'!$D$144","v":134.65276382538801},null,null,null,{"$f":"'DNSP Inputs O & M'!$E$150","v":17.461000670283578},{"$f":"R180*'DNSP Inputs O & M'!$E$144/'DNSP Inputs O & M'!$E$145","v":37},null,{"$f":"Q181*R181","v":646.0570248004924},{"$f":"T181/'DNSP Inputs O & M'!$E$144","v":161.5142562001231},null,null,{"$f":"'DNSP Inputs O & M'!$E$150*(1+'DNSP Inputs O & M'!$E$11)","v":18.334050703797757},{"$f":"Y180*'DNSP Inputs O & M'!$E$144/'DNSP Inputs O & M'!$E$145","v":30.5},null,{"$f":"X181*Y181","v":559.18854646583156},{"$f":"AA181/'DNSP Inputs O & M'!$E$144","v":139.79713661645789},null,null,null,{"$f":"'DNSP Inputs O & M'!$F$150","v":17.709311800576018},{"$f":"AG180*'DNSP Inputs O & M'!$F$144/'DNSP Inputs O & M'!$F$145","v":37},null,{"$f":"AF181*AG181","v":655.24453662131259},{"$f":"AI181/'DNSP Inputs O & M'!$F$144","v":163.81113415532815},null,null,{"$f":"'DNSP Inputs O & M'!$F$150*(1+'DNSP Inputs O & M'!$F$11)","v":18.594777390604818},{"$f":"AN180*'DNSP Inputs O & M'!$F$144/'DNSP Inputs O & M'!$F$145","v":30.5},null,{"$f":"AM181*AN181","v":567.14071041344698},{"$f":"AP181/'DNSP Inputs O & M'!$F$144","v":141.78517760336175},null,null,null,{"$f":"'DNSP Inputs O & M'!$G$150","v":16.626797034889357},{"$f":"AV180*'DNSP Inputs O & M'!$G$144/'DNSP Inputs O & M'!$G$145","v":37},null,{"$f":"AU181*AV181","v":615.19149029090624},{"$f":"AX181/'DNSP Inputs O & M'!$G$144","v":153.79787257272656},null,null,{"$f":"'DNSP Inputs O & M'!$G$150*(1+'DNSP Inputs O & M'!$G$11)","v":17.458136886633827},{"$f":"BC180*'DNSP Inputs O & M'!$G$144/'DNSP Inputs O & M'!$G$145","v":30.5},null,{"$f":"BB181*BC181","v":532.47317504233172},{"$f":"BE181/'DNSP Inputs O & M'!$G$144","v":133.11829376058293},null,null,null,{"$f":"'DNSP Inputs O & M'!$H$150","v":16.226799308753243},{"$f":"BK180*'DNSP Inputs O & M'!$H$144/'DNSP Inputs O & M'!$H$145","v":37},null,{"$f":"BJ181*BK181","v":600.39157442387},{"$f":"BM181/'DNSP Inputs O & M'!$H$144","v":150.0978936059675},null,null,{"$f":"'DNSP Inputs O & M'!$H$150*(1+'DNSP Inputs O & M'!$H$11)","v":17.038139274190907},{"$f":"BR180*'DNSP Inputs O & M'!$H$144/'DNSP Inputs O & M'!$H$145","v":30.5},null,{"$f":"BQ181*BR181","v":519.66324786282269},{"$f":"BT181/'DNSP Inputs O & M'!$H$144","v":129.91581196570567}]
["Miscellaneous",{"$f":"'DNSP Inputs O & M'!$D$152","v":1.2458115599538602},{"$f":"'DNSP Inputs O & M'!$D$155","v":74},null,{"$f":"B182*C182","v":92.190055436585652},{"$f":"E182/'DNSP Inputs O & M'!$D$144*0.8","v":18.438011087317133},null,null,{"$f":"'DNSP Inputs O & M'!$D$152*(1+'DNSP Inputs O & M'!$D$11)","v":1.3081021379515532},{"$f":"'DNSP Inputs O & M'!$D$156","v":61},null,{"$f":"I182*J182","v":79.794230415044737},{"$f":"L182/'DNSP Inputs O & M'!$D$144*0.8","v":15.958846083008948},null,null,null,{"$f":"'DNSP Inputs O & M'!$E$152","v":1.2934074570580427},{"$f":"'DNSP Inputs O & M'!$E$155","v":74},null,{"$f":"Q182*R182","v":95.712151822295155},{"$f":"T182/'DNSP Inputs O & M'!$E$144*0.8","v":19.142430364459031},null,null,{"$f":"'DNSP Inputs O & M'!$E$152*(1+'DNSP Inputs O & M'!$E$11)","v":1.3580778299109448},{"$f":"'DNSP Inputs O & M'!$E$156","v":61},null,{"$f":"X182*Y182","v":82.842747624567636},{"$f":"AA182/'DNSP Inputs O & M'!$E$144*0.8","v":16.568549524913529},null,null,null,{"$f":"'DNSP Inputs O & M'!$F$152","v":1.311800874116742},{"$f":"'DNSP Inputs O & M'!$F$155","v":74},null,{"$f":"AF182*AG182","v":97.0732646846389},{"$f":"AI182/'DNSP Inputs O & M'!$F$144*0.8","v":19.41465293692778},null,null,{"$f":"'DNSP Inputs O & M'!$F$152*(1+'DNSP Inputs O & M'!$F$11)","v":1.3773909178225792},{"$f":"'DNSP Inputs O & M'!$F$156","v":61},null,{"$f":"AM182*AN182","v":84.020845987177324},{"$f":"AP182/'DNSP Inputs O & M'!$F$144*0.8","v":16.804169197435467},null,null,null,{"$f":"'DNSP Inputs O & M'!$G$152","v":1.2316145951769895},{"$f":"'DNSP Inputs O & M'!$G$155","v":74},null,{"$f":"AU182*AV182","v":91.139480043097223},{"$f":"AX182/'DNSP Inputs O & M'!$G$144*0.8","v":18.227896008619446},null,null,{"$f":"'DNSP Inputs O & M'!$G$152*(1+'DNSP Inputs O & M'!$G$11)","v":1.293195324935839},{"$f":"'DNSP Inputs O & M'!$G$156","v":61},null,{"$f":"BB182*BC182","v":78.884914821086184},{"$f":"BE182/'DNSP Inputs O & M'!$G$144*0.8","v":15.776982964217238},null,null,null,{"$f":"'DNSP Inputs O & M'!$H$152","v":1.2019851339817218},{"$f":"'DNSP Inputs O & M'!$H$155","v":74},null,{"$f":"BJ182*BK182","v":88.946899914647418},{"$f":"BM182/'DNSP Inputs O & M'!$H$144*0.8","v":17.789379982929486},null,null,{"$f":"'DNSP Inputs O & M'!$H$152*(1+'DNSP Inputs O & M'!$H$11)","v":1.2620843906808079},{"$f":"'DNSP Inputs O & M'!$H$156","v":61},null,{"$f":"BQ182*BR182","v":76.987147831529285},{"$f":"BT182/'DNSP Inputs O & M'!$H$144*0.8","v":15.397429566305858}]
["Materials - repair of faults"]
["Lamp",{"$f":"'DNSP Inputs O & M'!$D$149","v":9.9664924796308814},{"$f":"'DNSP Inputs O & M'!$D$157*'DNSP Inputs O & M'!$D$159","v":12},null,{"$f":"B184*C184","v":119.59790975557058},{"$f":"(E184+E185+E186+E187)/'DNSP Inputs O & M'!$D$157","v":51.701179738085195},{"$f":"F184*D169","v":1.4734836225354282},null,{"$f":"'DNSP Inputs O & M'!$D$149*(1+'DNSP Inputs O & M'!$D$11)","v":10.464817103612425},{"$f":"'DNSP Inputs O & M'!$D$158*'DNSP Inputs O & M'!$D$159","v":9},null,{"$f":"I184*J184","v":94.183353932511835},{"$f":"(L184+L185+L186+L187)/'DNSP Inputs O & M'!$D$158","v":54.286238724989452},{"$f":"M184*D169","v":1.5471578036621993},null,null,{"$f":"'DNSP Inputs O & M'!$E$149","v":10.347259656464342},{"$f":"'DNSP Inputs O & M'!$E$157*'DNSP Inputs O & M'!$E$159","v":12},null,{"$f":"Q184*R184","v":124.1671158775721},{"$f":"(T184+T185+T186+T187)/'DNSP Inputs O & M'!$E$157","v":53.676409467908776},{"$f":"U184*S169","v":1.5297776698354002},null,{"$f":"'DNSP Inputs O & M'!$E$149*(1+'DNSP Inputs O & M'!$E$11)","v":10.864622639287559},{"$f":"'DNSP Inputs O & M'!$E$158*'DNSP Inputs O & M'!$E$159","v":9},null,{"$f":"X184*Y184","v":97.78160375358803},{"$f":"(AA184+AA185+AA186+AA187)/'DNSP Inputs O & M'!$E$158","v":56.360229941304219},{"$f":"AB184*S169","v":1.6062665533271703},null,null,{"$f":"'DNSP Inputs O & M'!$F$149","v":10.494406992933936},{"$f":"'DNSP Inputs O & M'!$F$157*'DNSP Inputs O & M'!$F$159","v":12},null,{"$f":"AF184*AG184","v":125.93288391520723},{"$f":"(AI184+AI185+AI186+AI187)/'DNSP Inputs O & M'!$F$157","v":54.439736275844794},{"$f":"AJ184*AH169","v":1.5515324838615767},null,{"$f":"'DNSP Inputs O & M'!$F$149*(1+'DNSP Inputs O & M'!$F$11)","v":11.019127342580633},{"$f":"'DNSP Inputs O & M'!$F$158*'DNSP Inputs O & M'!$F$159","v":9},null,{"$f":"AM184*AN184","v":99.172146083225698},{"$f":"(AP184+AP185+AP186+AP187)/'DNSP Inputs O & M'!$F$158","v":57.161723089637029},{"$f":"AQ184*AH169","v":1.6291091080546554},null,null,{"$f":"'DNSP Inputs O & M'!$G$149","v":9.8529167614159157},{"$f":"'DNSP Inputs O & M'!$G$157*'DNSP Inputs O & M'!$G$159","v":12},null,{"$f":"AU184*AV184","v":118.23500113699099},{"$f":"(AX184+AX185+AX186+AX187)/'DNSP Inputs O & M'!$G$157","v":51.112005699845056},{"$f":"AY184*AW169","v":1.4566921624455842},null,{"$f":"'DNSP Inputs O & M'!$G$149*(1+'DNSP Inputs O & M'!$G$11)","v":10.345562599486712},{"$f":"'DNSP Inputs O & M'!$G$158*'DNSP Inputs O & M'!$G$159","v":9},null,{"$f":"BB184*BC184","v":93.110063395380408},{"$f":"(BE184+BE185+BE186+BE187)/'DNSP Inputs O & M'!$G$158","v":53.667605984837309},{"$f":"BF184*AW169","v":1.5295267705678635},null,null,{"$f":"'DNSP Inputs O & M'!$H$149","v":9.6158810718537744},{"$f":"'DNSP Inputs O & M'!$H$157*'DNSP Inputs O & M'!$H$159","v":12},null,{"$f":"BJ184*BK184","v":115.39057286224529},{"$f":"(BM184+BM185+BM186+BM187)/'DNSP Inputs O & M'!$H$157","v":49.882383060241452},{"$f":"BN184*BL169","v":1.4216479172168814},null,{"$f":"'DNSP Inputs O & M'!$H$149*(1+'DNSP Inputs O & M'!$H$11)","v":10.096675125446463},{"$f":"'DNSP Inputs O & M'!$H$158*'DNSP Inputs O & M'!$H$159","v":9},null,{"$f":"BQ184*BR184","v":90.870076129018173},{"$f":"(BT184+BT185+BT186+BT187)/'DNSP Inputs O & M'!$H$158","v":52.376502213253524},{"$f":"BU184*BL169","v":1.4927303130777254}]
["PE cell",{"$f":"'DNSP Inputs O & M'!$D$150","v":16.818456059377112},{"$f":"'DNSP Inputs O & M'!$D$157*'DNSP Inputs O & M'!$D$160","v":10},null,{"$f":"B185*C185","v":168.18456059377112},null,null,null,{"$f":"'DNSP Inputs O & M'!$D$150*(1+'DNSP Inputs O & M'!$D$11)","v":17.659378862345967},{"$f":"'DNSP Inputs O & M'!$D$158*'DNSP Inputs O & M'!$D$160","v":7.5},null,{"$f":"I185*J185","v":132.44534146759474},null,null,null,null,{"$f":"'DNSP Inputs O & M'!$E$150","v":17.461000670283578},{"$f":"'DNSP Inputs O & M'!$E$157*'DNSP Inputs O & M'!$E$160","v":10},null,{"$f":"Q185*R185","v":174.61000670283579},null,null,null,{"$f":"'DNSP Inputs O & M'!$E$150*(1+'DNSP Inputs O & M'!$E$11)","v":18.334050703797757},{"$f":"'DNSP Inputs O & M'!$E$158*'DNSP Inputs O & M'!$E$160","v":7.5},null,{"$f":"X185*Y185","v":137.50538027848319},null,null,null,null,{"$f":"'DNSP Inputs O & M'!$F$150","v":17.709311800576018},{"$f":"'DNSP Inputs O & M'!$F$157*'DNSP Inputs O & M'!$F$160","v":10},null,{"$f":"AF185*AG185","v":177.09311800576018},null,null,null,{"$f":"'DNSP Inputs O & M'!$F$150*(1+'DNSP Inputs O & M'!$F$11)","v":18.594777390604818},{"$f":"'DNSP Inputs O & M'!$F$158*'DNSP Inputs O & M'!$F$160","v":7.5},null,{"$f":"AM185*AN185","v":139.46083042953614},null,null,null,null,{"$f":"'DNSP Inputs O & M'!$G$150","v":16.626797034889357},{"$f":"'DNSP Inputs O & M'!$G$157*'DNSP Inputs O & M'!$G$160","v":10},null,{"$f":"AU185*AV185","v":166.26797034889358},null,null,null,{"$f":"'DNSP Inputs O & M'!$G$150*(1+'DNSP Inputs O & M'!$G$11)","v":17.458136886633827},{"$f":"'DNSP Inputs O & M'!$G$158*'DNSP Inputs O & M'!$G$160","v":7.5},null,{"$f":"BB185*BC185","v":130.9360266497537},null,null,null,null,{"$f":"'DNSP Inputs O & M'!$H$150","v":16.226799308753243},{"$f":"'DNSP Inputs O & M'!$H$157*'DNSP Inputs O & M'!$H$160","v":10},null,{"$f":"BJ185*BK185","v":162.26799308753243},null,null,null,{"$f":"'DNSP Inputs O & M'!$H$150*(1+'DNSP Inputs O & M'!$H$11)","v":17.038139274190907},{"$f":"'DNSP Inputs O & M'!$H$158*'DNSP Inputs O & M'!$H$160","v":7.5},null,{"$f":"BQ185*BR185","v":127.7860445564318}]
["Luminaire",{"$f":"'DNSP Inputs O & M'!$D$151","v":240.441631071095},{"$f":"'DNSP Inputs O & M'!$D$157*'DNSP Inputs O & M'!$D$161","v":3},null,{"$f":"B186*C186","v":721.32489321328501},null,null,null,{"$f":"'DNSP Inputs O & M'!$D$151*(1+'DNSP Inputs O & M'!$D$11)","v":252.46371262464976},{"$f":"'DNSP Inputs O & M'!$D$158*'DNSP Inputs O & M'!$D$161","v":2.25},null,{"$f":"I186*J186","v":568.04335340546197},null,null,null,null,{"$f":"'DNSP Inputs O & M'!$E$151","v":249.62763921220224},{"$f":"'DNSP Inputs O & M'!$E$157*'DNSP Inputs O & M'!$E$161","v":3},null,{"$f":"Q186*R186","v":748.88291763660675},null,null,null,{"$f":"'DNSP Inputs O & M'!$E$151*(1+'DNSP Inputs O & M'!$E$11)","v":262.10902117281239},{"$f":"'DNSP Inputs O & M'!$E$158*'DNSP Inputs O & M'!$E$161","v":2.25},null,{"$f":"X186*Y186","v":589.74529763882788},null,null,null,null,{"$f":"'DNSP Inputs O & M'!$F$151","v":253.17756870453118},{"$f":"'DNSP Inputs O & M'!$F$157*'DNSP Inputs O & M'!$F$161","v":3},null,{"$f":"AF186*AG186","v":759.53270611359358},null,null,null,{"$f":"'DNSP Inputs O & M'!$F$151*(1+'DNSP Inputs O & M'!$F$11)","v":265.83644713975775},{"$f":"'DNSP Inputs O & M'!$F$158*'DNSP Inputs O & M'!$F$161","v":2.25},null,{"$f":"AM186*AN186","v":598.13200606445491},null,null,null,null,{"$f":"'DNSP Inputs O & M'!$G$151","v":237.70161686915893},{"$f":"'DNSP Inputs O & M'!$G$157*'DNSP Inputs O & M'!$G$161","v":3},null,{"$f":"AU186*AV186","v":713.10485060747681},null,null,null,{"$f":"'DNSP Inputs O & M'!$G$151*(1+'DNSP Inputs O & M'!$G$11)","v":249.58669771261688},{"$f":"'DNSP Inputs O & M'!$G$158*'DNSP Inputs O & M'!$G$161","v":2.25},null,{"$f":"BB186*BC186","v":561.57006985338796},null,null,null,null,{"$f":"'DNSP Inputs O & M'!$H$151","v":231.98313085847229},{"$f":"'DNSP Inputs O & M'!$H$157*'DNSP Inputs O & M'!$H$161","v":3},null,{"$f":"BJ186*BK186","v":695.94939257541682},null,null,null,{"$f":"'DNSP Inputs O & M'!$H$151*(1+'DNSP Inputs O & M'!$H$11)","v":243.58228740139592},{"$f":"'DNSP Inputs O & M'!$H$158*'DNSP Inputs O & M'!$H$161","v":2.25},null,{"$f":"BQ186*BR186","v":548.06014665314081}]
["Miscellaneous",{"$f":"'DNSP Inputs O & M'!$D$153","v":12.458115599538601},{"$f":"'DNSP Inputs O & M'!$D$157*'DNSP Inputs O & M'!$D$162","v":2},null,{"$f":"B187*C187","v":24.916231199077203},null,null,null,{"$f":"'DNSP Inputs O & M'!$D$153*(1+'DNSP Inputs O & M'!$D$11)","v":13.081021379515532},{"$f":"'DNSP Inputs O & M'!$D$158*'DNSP Inputs O & M'!$D$162","v":1.5},null,{"$f":"I187*J187","v":19.621532069273297},null,null,null,null,{"$f":"'DNSP Inputs O & M'!$E$153","v":12.934074570580426},{"$f":"'DNSP Inputs O & M'!$E$157*'DNSP Inputs O & M'!$E$162","v":2},null,{"$f":"Q187*R187","v":25.868149141160853},null,null,null,{"$f":"'DNSP Inputs O & M'!$E$153*(1+'DNSP Inputs O & M'!$E$11)","v":13.580778299109449},{"$f":"'DNSP Inputs O & M'!$E$158*'DNSP Inputs O & M'!$E$162","v":1.5},null,{"$f":"X187*Y187","v":20.371167448664174},null,null,null,null,{"$f":"'DNSP Inputs O & M'!$F$153","v":13.118008741167419},{"$f":"'DNSP Inputs O & M'!$F$157*'DNSP Inputs O & M'!$F$162","v":2},null,{"$f":"AF187*AG187","v":26.236017482334837},null,null,null,{"$f":"'DNSP Inputs O & M'!$F$153*(1+'DNSP Inputs O & M'!$F$11)","v":13.773909178225789},{"$f":"'DNSP Inputs O & M'!$F$158*'DNSP Inputs O & M'!$F$162","v":1.5},null,{"$f":"AM187*AN187","v":20.660863767338682},null,null,null,null,{"$f":"'DNSP Inputs O & M'!$G$153","v":12.316145951769894},{"$f":"'DNSP Inputs O & M'!$G$157*'DNSP Inputs O & M'!$G$162","v":2},null,{"$f":"AU187*AV187","v":24.632291903539787},null,null,null,{"$f":"'DNSP Inputs O & M'!$G$153*(1+'DNSP Inputs O & M'!$G$11)","v":12.931953249358388},{"$f":"'DNSP Inputs O & M'!$G$158*'DNSP Inputs O & M'!$G$162","v":1.5},null,{"$f":"BB187*BC187","v":19.397929874037583},null,null,null,null,{"$f":"'DNSP Inputs O & M'!$H$153","v":12.019851339817217},{"$f":"'DNSP Inputs O & M'!$H$157*'DNSP Inputs O & M'!$H$162","v":2},null,{"$f":"BJ187*BK187","v":24.039702679634434},null,null,null,{"$f":"'DNSP Inputs O & M'!$H$153*(1+'DNSP Inputs O & M'!$H$11)","v":12.620843906808078},{"$f":"'DNSP Inputs O & M'!$H$158*'DNSP Inputs O & M'!$H$162","v":1.5},null,{"$f":"BQ187*BR187","v":18.931265860212118}]
["Labour - bulk lamp change"]
["Crew costs",{"$f":"'DNSP Inputs O & M'!$D$12","v":90.004127629331563},{"$f":"'DNSP Inputs O & M'!$D$154","v":2},{"$f":"'DNSP Inputs O & M'!$D$17","v":8},{"$f":"B189*C189*D189","v":1440.066042069305},{"$f":"E189/'DNSP Inputs O & M'!$D$144*(C180+C181)/C180*0.8","v":432.01981262079153},{"$f":"(F189+F190)/C180","v":7.1607216699248877},null,{"$f":"'DNSP Inputs O & M'!$D$12","v":90.004127629331563},{"$f":"'DNSP Inputs O & M'!$D$154","v":2},{"$f":"'DNSP Inputs O & M'!$D$17","v":8},{"$f":"I189*J189*K189","v":1440.066042069305},{"$f":"L189/'DNSP Inputs O & M'!$D$144*(J180+J181)/J180*0.8","v":432.01981262079153},{"$f":"(M189+M190)/J180","v":9.1452014213779655},null,null,{"$f":"'DNSP Inputs O & M'!$E$12","v":90.338600866671271},{"$f":"'DNSP Inputs O & M'!$E$154","v":2},{"$f":"'DNSP Inputs O & M'!$E$17","v":8},{"$f":"Q189*R189*S189","v":1445.4176138667403},{"$f":"T189/'DNSP Inputs O & M'!$E$144*(R180+R181)/R180*0.8","v":433.62528416002209},{"$f":"(U189+U190)/R180","v":7.2329474250289962},null,{"$f":"'DNSP Inputs O & M'!$E$12","v":90.338600866671271},{"$f":"'DNSP Inputs O & M'!$E$154","v":2},{"$f":"'DNSP Inputs O & M'!$E$17","v":8},{"$f":"X189*Y189*Z189","v":1445.4176138667403},{"$f":"AA189/'DNSP Inputs O & M'!$E$144*(Y180+Y181)/Y180*0.8","v":433.62528416002209},{"$f":"(AB189+AB190)/Y180","v":9.2503335286868094},null,null,{"$f":"'DNSP Inputs O & M'!$F$12","v":91.047760948270181},{"$f":"'DNSP Inputs O & M'!$F$154","v":2},{"$f":"'DNSP Inputs O & M'!$F$17","v":8},{"$f":"AF189*AG189*AH189","v":1456.7641751723229},{"$f":"AI189/'DNSP Inputs O & M'!$F$144*(AG180+AG181)/AG180*0.8","v":437.02925255169686},{"$f":"(AJ189+AJ190)/AG180","v":7.2984743728207171},null,{"$f":"'DNSP Inputs O & M'!$F$12","v":91.047760948270181},{"$f":"'DNSP Inputs O & M'!$F$154","v":2},{"$f":"'DNSP Inputs O & M'!$F$17","v":8},{"$f":"AM189*AN189*AO189","v":1456.7641751723229},{"$f":"AP189/'DNSP Inputs O & M'!$F$144*(AN180+AN181)/AN180*0.8","v":437.02925255169697},{"$f":"(AQ189+AQ190)/AN180","v":9.3365935063119547},null,null,{"$f":"'DNSP Inputs O & M'!$G$12","v":91.919423571864726},{"$f":"'DNSP Inputs O & M'!$G$154","v":2},{"$f":"'DNSP Inputs O & M'!$G$17","v":8},{"$f":"AU189*AV189*AW189","v":1470.7107771498356},{"$f":"AX189/'DNSP Inputs O & M'!$G$144*(AV180+AV181)/AV180*0.8","v":441.21323314495066},{"$f":"(AY189+AY190)/AV180","v":7.269884871893912},null,{"$f":"'DNSP Inputs O & M'!$G$12","v":91.919423571864726},{"$f":"'DNSP Inputs O & M'!$G$154","v":2},{"$f":"'DNSP Inputs O & M'!$G$17","v":8},{"$f":"BB189*BC189*BD189","v":1470.7107771498356},{"$f":"BE189/'DNSP Inputs O & M'!$G$144*(BC180+BC181)/BC180*0.8","v":441.21323314495066},{"$f":"(BF189+BF190)/BC180","v":9.2724048205888643},null,null,{"$f":"'DNSP Inputs O & M'!$H$12","v":92.856350250687825},{"$f":"'DNSP Inputs O & M'!$H$154","v":2},{"$f":"'DNSP Inputs O & M'!$H$17","v":8},{"$f":"BJ189*BK189*BL189","v":1485.7016040110052},{"$f":"BM189/'DNSP Inputs O & M'!$H$144*(BK180+BK181)/BK180*0.8","v":445.71048120330164},{"$f":"(BN189+BN190)/BK180","v":7.2992023708483433},null,{"$f":"'DNSP Inputs O & M'!$H$12","v":92.856350250687825},{"$f":"'DNSP Inputs O & M'!$H$154","v":2},{"$f":"'DNSP Inputs O & M'!$H$17","v":8},{"$f":"BQ189*BR189*BS189","v":1485.7016040110052},{"$f":"BT189/'DNSP Inputs O & M'!$H$144*(BR180+BR181)/BR180*0.8","v":445.71048120330153},{"$f":"(BU189+BU190)/BR180","v":9.2970674861320663}]
["Elevated platform vehicle costs",{"$f":"'DNSP Inputs O & M'!$D$14","v":40.780662897354212},1,{"$f":"'DNSP Inputs O & M'!$D$17","v":8},{"$f":"B190*C190*D190","v":326.24530317883369},{"$f":"E190/'DNSP Inputs O & M'!$D$144*(C180+C181)/C180*0.8","v":97.873590953650123},null,null,{"$f":"'DNSP Inputs O & M'!$D$15","v":52.432280868026844},1,{"$f":"'DNSP Inputs O & M'!$D$17","v":8},{"$f":"I190*J190*K190","v":419.45824694421475},{"$f":"L190/'DNSP Inputs O & M'!$D$144*(J180+J181)/J180*0.8","v":125.83747408326442},null,null,null,{"$f":"'DNSP Inputs O & M'!$E$14","v":42.338677205051525},1,{"$f":"'DNSP Inputs O & M'!$E$17","v":8},{"$f":"Q190*R190*S190","v":338.7094176404122},{"$f":"T190/'DNSP Inputs O & M'!$E$144*(R180+R181)/R180*0.8","v":101.61282529212366},null,null,{"$f":"'DNSP Inputs O & M'!$E$15","v":54.435442120780536},1,{"$f":"'DNSP Inputs O & M'!$E$17","v":8},{"$f":"X190*Y190*Z190","v":435.48353696624429},{"$f":"AA190/'DNSP Inputs O & M'!$E$144*(Y180+Y181)/Y180*0.8","v":130.64506108987328},null,null,null,{"$f":"'DNSP Inputs O & M'!$F$14","v":42.940771265431763},1,{"$f":"'DNSP Inputs O & M'!$F$17","v":8},{"$f":"AF190*AG190*AH190","v":343.52617012345411},{"$f":"AI190/'DNSP Inputs O & M'!$F$144*(AG180+AG181)/AG180*0.8","v":103.05785103703624},null,null,{"$f":"'DNSP Inputs O & M'!$F$15","v":55.209563055555122},1,{"$f":"'DNSP Inputs O & M'!$F$17","v":8},{"$f":"AM190*AN190*AO190","v":441.67650444444098},{"$f":"AP190/'DNSP Inputs O & M'!$F$144*(AN180+AN181)/AN180*0.8","v":132.50295133333231},null,null,null,{"$f":"'DNSP Inputs O & M'!$G$14","v":40.315936406332867},1,{"$f":"'DNSP Inputs O & M'!$G$17","v":8},{"$f":"AU190*AV190*AW190","v":322.52749125066293},{"$f":"AX190/'DNSP Inputs O & M'!$G$144*(AV180+AV181)/AV180*0.8","v":96.758247375198891},null,null,{"$f":"'DNSP Inputs O & M'!$G$15","v":51.834775379570829},1,{"$f":"'DNSP Inputs O & M'!$G$17","v":8},{"$f":"BB190*BC190*BD190","v":414.67820303656663},{"$f":"BE190/'DNSP Inputs O & M'!$G$144*(BC180+BC181)/BC180*0.8","v":124.40346091097},null,null,null,{"$f":"'DNSP Inputs O & M'!$H$14","v":39.346039266448244},1,{"$f":"'DNSP Inputs O & M'!$H$17","v":8},{"$f":"BJ190*BK190*BL190","v":314.76831413158595},{"$f":"BM190/'DNSP Inputs O & M'!$H$144*(BK180+BK181)/BK180*0.8","v":94.430494239475777},null,null,{"$f":"'DNSP Inputs O & M'!$H$15","v":50.587764771147747},1,{"$f":"'DNSP Inputs O & M'!$H$17","v":8},{"$f":"BQ190*BR190*BS190","v":404.70211816918197},{"$f":"BT190/'DNSP Inputs O & M'!$H$144*(BR180+BR181)/BR180*0.8","v":121.41063545075458}]
["Labour - repair of faults"]
["Crew costs",{"$f":"'DNSP Inputs O & M'!$D$12","v":90.004127629331563},{"$f":"'DNSP Inputs O & M'!$D$154","v":2},{"$f":"'DNSP Inputs O & M'!$D$17","v":8},{"$f":"B192*C192*D192","v":1440.066042069305},{"$f":"(E192+E193)/'DNSP Inputs O & M'!$D$157","v":88.31556726240693},{"$f":"F192*D169","v":2.5169936669785975},null,{"$f":"'DNSP Inputs O & M'!$D$12","v":90.004127629331563},{"$f":"'DNSP Inputs O & M'!$D$154","v":2},{"$f":"'DNSP Inputs O & M'!$D$17","v":8},{"$f":"I192*J192*K192","v":1440.066042069305},{"$f":"(L192+L193)/'DNSP Inputs O & M'!$D$158","v":123.96828593423466},{"$f":"M192*D169","v":3.5330961491256878},null,null,{"$f":"'DNSP Inputs O & M'!$E$12","v":90.338600866671271},{"$f":"'DNSP Inputs O & M'!$E$154","v":2},{"$f":"'DNSP Inputs O & M'!$E$17","v":8},{"$f":"Q192*R192*S192","v":1445.4176138667403},{"$f":"(T192+T193)/'DNSP Inputs O & M'!$E$157","v":89.206351575357616},{"$f":"U192*S169","v":2.5423810198976922},null,{"$f":"'DNSP Inputs O & M'!$E$12","v":90.338600866671271},{"$f":"'DNSP Inputs O & M'!$E$154","v":2},{"$f":"'DNSP Inputs O & M'!$E$17","v":8},{"$f":"X192*Y192*Z192","v":1445.4176138667403},{"$f":"(AA192+AA193)/'DNSP Inputs O & M'!$E$158","v":125.3934100555323},{"$f":"AB192*S169","v":3.5737121865826706},null,null,{"$f":"'DNSP Inputs O & M'!$F$12","v":91.047760948270181},{"$f":"'DNSP Inputs O & M'!$F$154","v":2},{"$f":"'DNSP Inputs O & M'!$F$17","v":8},{"$f":"AF192*AG192*AH192","v":1456.7641751723229},{"$f":"(AI192+AI193)/'DNSP Inputs O & M'!$F$157","v":90.01451726478885},{"$f":"AJ192*AH169","v":2.5654137420464824},null,{"$f":"'DNSP Inputs O & M'!$F$12","v":91.047760948270181},{"$f":"'DNSP Inputs O & M'!$F$154","v":2},{"$f":"'DNSP Inputs O & M'!$F$17","v":8},{"$f":"AM192*AN192*AO192","v":1456.7641751723229},{"$f":"(AP192+AP193)/'DNSP Inputs O & M'!$F$158","v":126.56271197445092},{"$f":"AQ192*AH169","v":3.6070372912718516},null,null,{"$f":"'DNSP Inputs O & M'!$G$12","v":91.919423571864726},{"$f":"'DNSP Inputs O & M'!$G$154","v":2},{"$f":"'DNSP Inputs O & M'!$G$17","v":8},{"$f":"AU192*AV192*AW192","v":1470.7107771498356},{"$f":"(AX192+AX193)/'DNSP Inputs O & M'!$G$157","v":89.661913420024931},{"$f":"AY192*AW169","v":2.5553645324707106},null,{"$f":"'DNSP Inputs O & M'!$G$12","v":91.919423571864726},{"$f":"'DNSP Inputs O & M'!$G$154","v":2},{"$f":"'DNSP Inputs O & M'!$G$17","v":8},{"$f":"BB192*BC192*BD192","v":1470.7107771498356},{"$f":"(BE192+BE193)/'DNSP Inputs O & M'!$G$158","v":125.69259867909348},{"$f":"BF192*AW169","v":3.5822390623541644},null,null,{"$f":"'DNSP Inputs O & M'!$H$12","v":92.856350250687825},{"$f":"'DNSP Inputs O & M'!$H$154","v":2},{"$f":"'DNSP Inputs O & M'!$H$17","v":8},{"$f":"BJ192*BK192*BL192","v":1485.7016040110052},{"$f":"(BM192+BM193)/'DNSP Inputs O & M'!$H$157","v":90.023495907129558},{"$f":"BN192*BL169","v":2.5656696333531923},null,{"$f":"'DNSP Inputs O & M'!$H$12","v":92.856350250687825},{"$f":"'DNSP Inputs O & M'!$H$154","v":2},{"$f":"'DNSP Inputs O & M'!$H$17","v":8},{"$f":"BQ192*BR192*BS192","v":1485.7016040110052},{"$f":"(BT192+BT193)/'DNSP Inputs O & M'!$H$158","v":126.02691481201249},{"$f":"BU192*BL169","v":3.591767072142356}]
["Elevated platform vehicle costs",{"$f":"'DNSP Inputs O & M'!$D$14","v":40.780662897354212},1,{"$f":"'DNSP Inputs O & M'!$D$17","v":8},{"$f":"B193*C193*D193","v":326.24530317883369},null,null,null,{"$f":"'DNSP Inputs O & M'!$D$15","v":52.432280868026844},1,{"$f":"'DNSP Inputs O & M'!$D$17","v":8},{"$f":"I193*J193*K193","v":419.45824694421475},null,null,null,null,{"$f":"'DNSP Inputs O & M'!$E$14","v":42.338677205051525},1,{"$f":"'DNSP Inputs O & M'!$E$17","v":8},{"$f":"Q193*R193*S193","v":338.7094176404122},null,null,null,{"$f":"'DNSP Inputs O & M'!$E$15","v":54.435442120780536},1,{"$f":"'DNSP Inputs O & M'!$E$17","v":8},{"$f":"X193*Y193*Z193","v":435.48353696624429},null,null,null,null,{"$f":"'DNSP Inputs O & M'!$F$14","v":42.940771265431763},1,{"$f":"'DNSP Inputs O & M'!$F$17","v":8},{"$f":"AF193*AG193*AH193","v":343.52617012345411},null,null,null,{"$f":"'DNSP Inputs O & M'!$F$15","v":55.209563055555122},1,{"$f":"'DNSP Inputs O & M'!$F$17","v":8},{"$f":"AM193*AN193*AO193","v":441.67650444444098},null,null,null,null,{"$f":"'DNSP Inputs O & M'!$G$14","v":40.315936406332867},1,{"$f":"'DNSP Inputs O & M'!$G$17","v":8},{"$f":"AU193*AV193*AW193","v":322.52749125066293},null,null,null,{"$f":"'DNSP Inputs O & M'!$G$15","v":51.834775379570829},1,{"$f":"'DNSP Inputs O & M'!$G$17","v":8},{"$f":"BB193*BC193*BD193","v":414.67820303656663},null,null,null,null,{"$f":"'DNSP Inputs O & M'!$H$14","v":39.346039266448244},1,{"$f":"'DNSP Inputs O & M'!$H$17","v":8},{"$f":"BJ193*BK193*BL193","v":314.76831413158595},null,null,null,{"$f":"'DNSP Inputs O & M'!$H$15","v":50.587764771147747},1,{"$f":"'DNSP Inputs O & M'!$H$17","v":8},{"$f":"BQ193*BR193*BS193","v":404.70211816918197}]
["Other Maintenance and Repair costs",null,null,null,null,null,{"$f":"'DNSP Inputs O & M'!$D$169","v":1.9901128945255984},null,null,null,null,null,null,{"$f":"'DNSP Inputs O & M'!$D$169","v":1.9901128945255984},null,null,null,null,null,null,null,{"$f":"'DNSP Inputs O & M'!$E$169","v":2.054038552283076},null,null,null,null,null,null,{"$f":"'DNSP Inputs O & M'!$E$169","v":2.054038552283076},null,null,null,null,null,null,null,{"$f":"'DNSP Inputs O & M'!$F$169","v":2.0503289210282718},null,null,null,null,null,null,{"$f":"'DNSP Inputs O & M'!$F$169","v":2.0503289210282718},null,null,null,null,null,null,null,{"$f":"'DNSP Inputs O & M'!$G$169","v":2.0892740859058523},null,null,null,null,null,null,{"$f":"'DNSP Inputs O & M'!$G$169","v":2.0892740859058523},null,null,null,null,null,null,null,{"$f":"'DNSP Inputs O & M'!$H$169","v":2.1041296013354711},null,null,null,null,null,null,{"$f":"'DNSP Inputs O & M'!$H$169","v":2.1041296013354711}]
[]
["Overheads",{"$f":"'DNSP Inputs O & M'!$D$18","v":0.25},null,null,null,null,{"$f":"B196*SUM(G180:G194)","v":4.3715199173258998},null,{"$f":"'DNSP Inputs O & M'!$D$18","v":0.25},null,null,null,null,{"$f":"I196*SUM(N180:N194)","v":5.1943936186993733},null,null,{"$f":"'DNSP Inputs O & M'!$E$18","v":0.25},null,null,null,null,{"$f":"Q196*SUM(V180:V194)","v":4.4674757933837714},null,{"$f":"'DNSP Inputs O & M'!$E$18","v":0.25},null,null,null,null,{"$f":"X196*SUM(AC180:AC194)","v":5.3051618131735365},null,null,{"$f":"'DNSP Inputs O & M'!$F$18","v":0.25},null,null,null,null,{"$f":"AF196*SUM(AK180:AK194)","v":4.5101637670597965},null,{"$f":"'DNSP Inputs O & M'!$F$18","v":0.25},null,null,null,null,{"$f":"AM196*SUM(AR180:AR194)","v":5.3566799131432443},null,null,{"$f":"'DNSP Inputs O & M'!$G$18","v":0.25},null,null,null,null,{"$f":"AU196*SUM(AZ180:AZ194)","v":4.4166178883489522},null,{"$f":"'DNSP Inputs O & M'!$G$18","v":0.25},null,null,null,null,{"$f":"BB196*SUM(BG180:BG194)","v":5.2458658587826212},null,null,{"$f":"'DNSP Inputs O & M'!$H$18","v":0.25},null,null,null,null,{"$f":"BJ196*SUM(BO180:BO194)","v":4.3956431693787854},null,{"$f":"'DNSP Inputs O & M'!$H$18","v":0.25},null,null,null,null,{"$f":"BQ196*SUM(BV180:BV194)","v":5.2218034462967342}]
[]
[null,null,null,null,null,null,{"$f":"SUM(G180,G184,G189,G192,G194,G196)","v":21.857599586629497},null,null,null,null,null,null,{"$f":"SUM(N180,N184,N189,N192,N194,N196)","v":25.971968093496866},null,null,null,null,null,null,null,{"$f":"SUM(V180,V184,V189,V192,V194,V196)","v":22.337378966918855},null,null,null,null,null,null,{"$f":"SUM(AC180,AC184,AC189,AC192,AC194,AC196)","v":26.525809065867684},null,null,null,null,null,null,null,{"$f":"SUM(AK180,AK184,AK189,AK192,AK194,AK196)","v":22.550818835298983},null,null,null,null,null,null,{"$f":"SUM(AR180,AR184,AR189,AR192,AR194,AR196)","v":26.783399565716223},null,null,null,null,null,null,null,{"$f":"SUM(AZ180,AZ184,AZ189,AZ192,AZ194,AZ196)","v":22.083089441744761},null,null,null,null,null,null,{"$f":"SUM(BG180,BG184,BG189,BG192,BG194,BG196)","v":26.229329293913107},null,null,null,null,null,null,null,{"$f":"SUM(BO180,BO184,BO189,BO192,BO194,BO196)","v":21.978215846893928},null,null,null,null,null,null,{"$f":"SUM(BV180,BV184,BV189,BV192,BV194,BV196)","v":26.109017231483669}]
[]
[]
[]
[]
["Category P LED 18 Watt - Cost build-up"]
[]
["Additional assumptions"]
["Proportion of luminaire that will fail before bulk change",null,null,{"$f":"'DNSP Inputs O & M'!$D$182","v":0.1},null,null,null,null,null,null,null,null,null,null,null,null,null,null,{"$f":"'DNSP Inputs O & M'!$E$182","v":0.1},null,null,null,null,null,null,null,null,null,null,null,null,null,null,{"$f":"'DNSP Inputs O & M'!$F$182","v":0.1},null,null,null,null,null,null,null,null,null,null,null,null,null,null,{"$f":"'DNSP Inputs O & M'!$G$182","v":0.1},null,null,null,null,null,null,null,null,null,null,null,null,null,null,{"$f":"'DNSP Inputs O & M'!$H$182","v":0.1}]
["Proportion of lamps that will fail before bulk change (per year)",null,null,{"$f":"D206/'DNSP Inputs O & M'!$D$179","v":5.0000000000000001E-3},null,null,null,null,null,null,null,null,null,null,null,null,null,null,{"$f":"S206/'DNSP Inputs O & M'!$E$179","v":5.0000000000000001E-3},null,null,null,null,null,null,null,null,null,null,null,null,null,null,{"$f":"AH206/'DNSP Inputs O & M'!$F$179","v":5.0000000000000001E-3},null,null,null,null,null,null,null,null,null,null,null,null,null,null,{"$f":"AW206/'DNSP Inputs O & M'!$G$179","v":5.0000000000000001E-3},null,null,null,null,null,null,null,null,null,null,null,null,null,null,{"$f":"BL206/'DNSP Inputs O & M'!$H$179","v":5.0000000000000001E-3}]
["Overheads are applied to material and labour components"]
["All costs and charges are exclusive of GST"]
[]
[null,"Urban",null,null,null,null,null,null,"Rural",null,null,null,null,null,null,null,"Urban",null,null,null,null,null,null,"Rural",null,null,null,null,null,null,null,"Urban",null,null,null,null,null,null,"Rural",null,null,null,null,null,null,null,"Urban",null,null,null,null,null,null,"Rural",null,null,null,null,null,null,null,"Urban",null,null,null,null,null,null,"Rural"]
[]
[null,"Unit rate","Number","Hours","Cost","Annualised","Annualised",null,"Unit rate","Number","Hours","Cost","Annualised","Annualised",null,null,"Unit rate","Number","Hours","Cost","Annualised","Annualised",null,"Unit rate","Number","Hours","Cost","Annualised","Annualised",null,null,"Unit rate","Number","Hours","Cost","Annualised","Annualised",null,"Unit rate","Number","Hours","Cost","Annualised","Annualised",null,null,"Unit rate","Number","Hours","Cost","Annualised","Annualised",null,"Unit rate","Number","Hours","Cost","Annualised","Annualised",null,null,"Unit rate","Number","Hours","Cost","Annualised","Annualised",null,"Unit rate","Number","Hours","Cost","Annualised","Annualised"]
[null,null,null,null,null," cost","unit cost",null,null,null,null,null," cost","unit cost",null,null,null,null,null,null," cost","unit cost",null,null,null,null,null," cost","unit cost",null,null,null,null,null,null," cost","unit cost",null,null,null,null,null," cost","unit cost",null,null,null,null,null,null," cost","unit cost",null,null,null,null,null," cost","unit cost",null,null,null,null,null,null," cost","unit cost",null,null,null,null,null," cost","unit cost"]
["Category P LED 18 Watt"]
["Bulk change & repairs"]
["Materials - bulk PE cell change"]
["PE cell",{"$f":"'DNSP Inputs O & M'!$D$183","v":15.905192387398326},{"$f":"'DNSP Inputs O & M'!$D$187","v":77},null,{"$f":"B218*C218","v":1224.699813829671},{"$f":"E218/'DNSP Inputs O & M'!$D$180","v":153.08747672870888},{"$f":"F218/C218","v":1.9881490484247906},null,{"$f":"'DNSP Inputs O & M'!$D$183*(1+'DNSP Inputs O & M'!$D$11)","v":16.700452006768245},{"$f":"'DNSP Inputs O & M'!$D$188","v":64},null,{"$f":"I218*J218","v":1068.8289284331677},{"$f":"L218/'DNSP Inputs O & M'!$D$180","v":133.60361605414596},{"$f":"M218/J218","v":2.0875565008460306},null,null,{"$f":"'DNSP Inputs O & M'!$E$183","v":16.512846004226923},{"$f":"'DNSP Inputs O & M'!$E$187","v":77},null,{"$f":"Q218*R218","v":1271.489142325473},{"$f":"T218/'DNSP Inputs O & M'!$E$180","v":158.93614279068413},{"$f":"U218/R218","v":2.0641057505283653},null,{"$f":"'DNSP Inputs O & M'!$E$183*(1+'DNSP Inputs O & M'!$E$11)","v":17.338488304438268},{"$f":"'DNSP Inputs O & M'!$E$188","v":64},null,{"$f":"X218*Y218","v":1109.6632514840492},{"$f":"AA218/'DNSP Inputs O & M'!$E$180","v":138.70790643550615},{"$f":"AB218/Y218","v":2.1673110380547835},null,null,{"$f":"'DNSP Inputs O & M'!$F$183","v":16.747673522596635},{"$f":"'DNSP Inputs O & M'!$F$187","v":77},null,{"$f":"AF218*AG218","v":1289.570861239941},{"$f":"AI218/'DNSP Inputs O & M'!$F$180","v":161.19635765499262},{"$f":"AJ218/AG218","v":2.0934591903245794},null,{"$f":"'DNSP Inputs O & M'!$F$183*(1+'DNSP Inputs O & M'!$F$11)","v":17.585057198726467},{"$f":"'DNSP Inputs O & M'!$F$188","v":64},null,{"$f":"AM218*AN218","v":1125.4436607184939},{"$f":"AP218/'DNSP Inputs O & M'!$F$180","v":140.68045758981174},{"$f":"AQ218/AN218","v":2.1981321498408084},null,null,{"$f":"'DNSP Inputs O & M'!$G$183","v":15.723940693039662},{"$f":"'DNSP Inputs O & M'!$G$187","v":77},null,{"$f":"AU218*AV218","v":1210.743433364054},{"$f":"AX218/'DNSP Inputs O & M'!$G$180","v":151.34292917050675},{"$f":"AY218/AV218","v":1.9654925866299577},null,{"$f":"'DNSP Inputs O & M'!$G$183*(1+'DNSP Inputs O & M'!$G$11)","v":16.510137727691646},{"$f":"'DNSP Inputs O & M'!$G$188","v":64},null,{"$f":"BB218*BC218","v":1056.6488145722653},{"$f":"BE218/'DNSP Inputs O & M'!$G$180","v":132.08110182153317},{"$f":"BF218/BC218","v":2.0637672159614557},null,null,{"$f":"'DNSP Inputs O & M'!$H$183","v":15.345663354962033},{"$f":"'DNSP Inputs O & M'!$H$187","v":77},null,{"$f":"BJ218*BK218","v":1181.6160783320765},{"$f":"BM218/'DNSP Inputs O & M'!$H$180","v":147.70200979150957},{"$f":"BN218/BK218","v":1.9182079193702541},null,{"$f":"'DNSP Inputs O & M'!$H$183*(1+'DNSP Inputs O & M'!$H$11)","v":16.112946522710136},{"$f":"'DNSP Inputs O & M'!$H$188","v":64},null,{"$f":"BQ218*BR218","v":1031.2285774534487},{"$f":"BT218/'DNSP Inputs O & M'!$H$180","v":128.90357218168108},{"$f":"BU218/BR218","v":2.014118315338767}]
["Materials - repair of faults"]
["PE cell",{"$f":"'DNSP Inputs O & M'!$D$183","v":15.905192387398326},{"$f":"'DNSP Inputs O & M'!$D$189*'DNSP Inputs O & M'!$D$191","v":13},null,{"$f":"B220*C220","v":206.76750103617823},{"$f":"(E220+E221+E222)/'DNSP Inputs O & M'!$D$189","v":56.391332580215469},{"$f":"F220*D207","v":0.28195666290107735},null,{"$f":"'DNSP Inputs O & M'!$D$183*(1+'DNSP Inputs O & M'!$D$11)","v":16.700452006768245},{"$f":"'DNSP Inputs O & M'!$D$190*'DNSP Inputs O & M'!$D$191","v":10.5},null,{"$f":"I220*J220","v":175.35474607106659},{"$f":"(L220+L221+L222)/'DNSP Inputs O & M'!$D$190","v":59.210899209226248},{"$f":"M220*D207","v":0.29605449604613127},null,null,{"$f":"'DNSP Inputs O & M'!$E$183","v":16.512846004226923},{"$f":"'DNSP Inputs O & M'!$E$189*'DNSP Inputs O & M'!$E$191","v":13},null,{"$f":"Q220*R220","v":214.66699805495},{"$f":"(T220+T221+T222)/'DNSP Inputs O & M'!$E$189","v":58.545748343667746},{"$f":"U220*S207","v":0.29272874171833874},null,{"$f":"'DNSP Inputs O & M'!$E$183*(1+'DNSP Inputs O & M'!$E$11)","v":17.338488304438268},{"$f":"'DNSP Inputs O & M'!$E$190*'DNSP Inputs O & M'!$E$191","v":10.5},null,{"$f":"X220*Y220","v":182.05412719660183},{"$f":"(AA220+AA221+AA222)/'DNSP Inputs O & M'!$E$190","v":61.473035760851133},{"$f":"AB220*S207","v":0.30736517880425568},null,null,{"$f":"'DNSP Inputs O & M'!$F$183","v":16.747673522596635},{"$f":"'DNSP Inputs O & M'!$F$189*'DNSP Inputs O & M'!$F$191","v":13},null,{"$f":"AF220*AG220","v":217.71975579375626},{"$f":"(AI220+AI221+AI222)/'DNSP Inputs O & M'!$F$189","v":59.378321528878942},{"$f":"AJ220*AH207","v":0.29689160764439471},null,{"$f":"'DNSP Inputs O & M'!$F$183*(1+'DNSP Inputs O & M'!$F$11)","v":17.585057198726467},{"$f":"'DNSP Inputs O & M'!$F$190*'DNSP Inputs O & M'!$F$191","v":10.5},null,{"$f":"AM220*AN220","v":184.6431005866279},{"$f":"(AP220+AP221+AP222)/'DNSP Inputs O & M'!$F$190","v":62.347237605322896},{"$f":"AQ220*AH207","v":0.31173618802661446},null,null,{"$f":"'DNSP Inputs O & M'!$G$183","v":15.723940693039662},{"$f":"'DNSP Inputs O & M'!$G$189*'DNSP Inputs O & M'!$G$191","v":13},null,{"$f":"AU220*AV220","v":204.41122900951561},{"$f":"(AX220+AX221+AX222)/'DNSP Inputs O & M'!$G$189","v":55.748710703764274},{"$f":"AY220*AW207","v":0.27874355351882135},null,{"$f":"'DNSP Inputs O & M'!$G$183*(1+'DNSP Inputs O & M'!$G$11)","v":16.510137727691646},{"$f":"'DNSP Inputs O & M'!$G$190*'DNSP Inputs O & M'!$G$191","v":10.5},null,{"$f":"BB220*BC220","v":173.35644614076227},{"$f":"(BE220+BE221+BE222)/'DNSP Inputs O & M'!$G$190","v":58.53614623895249},{"$f":"BF220*AW207","v":0.29268073119476246},null,null,{"$f":"'DNSP Inputs O & M'!$H$183","v":15.345663354962033},{"$f":"'DNSP Inputs O & M'!$H$189*'DNSP Inputs O & M'!$H$191","v":13},null,{"$f":"BJ220*BK220","v":199.49362361450642},{"$f":"(BM220+BM221+BM222)/'DNSP Inputs O & M'!$H$189","v":54.407540936085447},{"$f":"BN220*BL207","v":0.27203770468042726},null,{"$f":"'DNSP Inputs O & M'!$H$183*(1+'DNSP Inputs O & M'!$H$11)","v":16.112946522710136},{"$f":"'DNSP Inputs O & M'!$H$190*'DNSP Inputs O & M'!$H$191","v":10.5},null,{"$f":"BQ220*BR220","v":169.18593848845643},{"$f":"(BT220+BT221+BT222)/'DNSP Inputs O & M'!$H$190","v":57.127917982889713},{"$f":"BU220*BL207","v":0.28563958991444854}]
["Luminaire",{"$f":"'DNSP Inputs O & M'!$D$184","v":314.61949884374962},{"$f":"'DNSP Inputs O & M'!$D$189*'DNSP Inputs O & M'!$D$192","v":3.9},null,{"$f":"B221*C221","v":1227.0160454906236},null,null,null,{"$f":"'DNSP Inputs O & M'!$D$184*(1+'DNSP Inputs O & M'!$D$11)","v":330.35047378593714},{"$f":"'DNSP Inputs O & M'!$D$190*'DNSP Inputs O & M'!$D$192","v":3.15},null,{"$f":"I221*J221","v":1040.603992425702},null,null,null,null,{"$f":"'DNSP Inputs O & M'!$E$184","v":326.63945256330828},{"$f":"'DNSP Inputs O & M'!$E$189*'DNSP Inputs O & M'!$E$192","v":3.9},null,{"$f":"Q221*R221","v":1273.8938649969023},null,null,null,{"$f":"'DNSP Inputs O & M'!$E$184*(1+'DNSP Inputs O & M'!$E$11)","v":342.97142519147371},{"$f":"'DNSP Inputs O & M'!$E$190*'DNSP Inputs O & M'!$E$192","v":3.15},null,{"$f":"X221*Y221","v":1080.3599893531421},null,null,null,null,{"$f":"'DNSP Inputs O & M'!$F$184","v":331.28455928975922},{"$f":"'DNSP Inputs O & M'!$F$189*'DNSP Inputs O & M'!$F$192","v":3.9},null,{"$f":"AF221*AG221","v":1292.009781230061},null,null,null,{"$f":"'DNSP Inputs O & M'!$F$184*(1+'DNSP Inputs O & M'!$F$11)","v":347.84878725424721},{"$f":"'DNSP Inputs O & M'!$F$190*'DNSP Inputs O & M'!$F$192","v":3.15},null,{"$f":"AM221*AN221","v":1095.7236798508786},null,null,null,null,{"$f":"'DNSP Inputs O & M'!$G$184","v":311.03417174711637},{"$f":"'DNSP Inputs O & M'!$G$189*'DNSP Inputs O & M'!$G$192","v":3.9},null,{"$f":"AU221*AV221","v":1213.0332698137538},null,null,null,{"$f":"'DNSP Inputs O & M'!$G$184*(1+'DNSP Inputs O & M'!$G$11)","v":326.58588033447222},{"$f":"'DNSP Inputs O & M'!$G$190*'DNSP Inputs O & M'!$G$192","v":3.15},null,{"$f":"BB221*BC221","v":1028.7455230535875},null,null,null,null,{"$f":"'DNSP Inputs O & M'!$H$184","v":303.55149416415139},{"$f":"'DNSP Inputs O & M'!$H$189*'DNSP Inputs O & M'!$H$192","v":3.9},null,{"$f":"BJ221*BK221","v":1183.8508272401905},null,null,null,{"$f":"'DNSP Inputs O & M'!$H$184*(1+'DNSP Inputs O & M'!$H$11)","v":318.72906887235899},{"$f":"'DNSP Inputs O & M'!$H$190*'DNSP Inputs O & M'!$H$192","v":3.15},null,{"$f":"BQ221*BR221","v":1003.9965669479308}]
["Miscellaneous",{"$f":"'DNSP Inputs O & M'!$D$185","v":12.458115599538601},{"$f":"'DNSP Inputs O & M'!$D$189*'DNSP Inputs O & M'!$D$193","v":2.6},null,{"$f":"B222*C222","v":32.391100558800368},null,null,null,{"$f":"'DNSP Inputs O & M'!$D$185*(1+'DNSP Inputs O & M'!$D$11)","v":13.081021379515532},{"$f":"'DNSP Inputs O & M'!$D$190*'DNSP Inputs O & M'!$D$193","v":2.1},null,{"$f":"I222*J222","v":27.470144896982617},null,null,null,null,{"$f":"'DNSP Inputs O & M'!$E$185","v":12.934074570580426},{"$f":"'DNSP Inputs O & M'!$E$189*'DNSP Inputs O & M'!$E$193","v":2.6},null,{"$f":"Q222*R222","v":33.628593883509112},null,null,null,{"$f":"'DNSP Inputs O & M'!$E$185*(1+'DNSP Inputs O & M'!$E$11)","v":13.580778299109449},{"$f":"'DNSP Inputs O & M'!$E$190*'DNSP Inputs O & M'!$E$193","v":2.1},null,{"$f":"X222*Y222","v":28.519634428129844},null,null,null,null,{"$f":"'DNSP Inputs O & M'!$F$185","v":13.118008741167419},{"$f":"'DNSP Inputs O & M'!$F$189*'DNSP Inputs O & M'!$F$193","v":2.6},null,{"$f":"AF222*AG222","v":34.106822727035286},null,null,null,{"$f":"'DNSP Inputs O & M'!$F$185*(1+'DNSP Inputs O & M'!$F$11)","v":13.773909178225789},{"$f":"'DNSP Inputs O & M'!$F$190*'DNSP Inputs O & M'!$F$193","v":2.1},null,{"$f":"AM222*AN222","v":28.92520927427416},null,null,null,null,{"$f":"'DNSP Inputs O & M'!$G$185","v":12.316145951769894},{"$f":"'DNSP Inputs O & M'!$G$189*'DNSP Inputs O & M'!$G$193","v":2.6},null,{"$f":"AU222*AV222","v":32.021979474601721},null,null,null,{"$f":"'DNSP Inputs O & M'!$G$185*(1+'DNSP Inputs O & M'!$G$11)","v":12.931953249358388},{"$f":"'DNSP Inputs O & M'!$G$190*'DNSP Inputs O & M'!$G$193","v":2.1},null,{"$f":"BB222*BC222","v":27.157101823652617},null,null,null,null,{"$f":"'DNSP Inputs O & M'!$H$185","v":12.019851339817217},{"$f":"'DNSP Inputs O & M'!$H$189*'DNSP Inputs O & M'!$H$193","v":2.6},null,{"$f":"BJ222*BK222","v":31.251613483524764},null,null,null,{"$f":"'DNSP Inputs O & M'!$H$185*(1+'DNSP Inputs O & M'!$H$11)","v":12.620843906808078},{"$f":"'DNSP Inputs O & M'!$H$190*'DNSP Inputs O & M'!$H$193","v":2.1},null,{"$f":"BQ222*BR222","v":26.503772204296965}]
["Labour - bulk PE cell change"]
["Crew costs",{"$f":"'DNSP Inputs O & M'!$D$12","v":90.004127629331563},{"$f":"'DNSP Inputs O & M'!$D$186","v":2},{"$f":"'DNSP Inputs O & M'!$D$17","v":8},{"$f":"B224*C224*D224","v":1440.066042069305},{"$f":"E224/'DNSP Inputs O & M'!$D$180","v":180.00825525866313},{"$f":"(F224+F225)/C218","v":2.8673885474807443},null,{"$f":"'DNSP Inputs O & M'!$D$12","v":90.004127629331563},{"$f":"'DNSP Inputs O & M'!$D$186","v":2},{"$f":"'DNSP Inputs O & M'!$D$17","v":8},{"$f":"I224*J224*K224","v":1440.066042069305},{"$f":"L224/'DNSP Inputs O & M'!$D$180","v":180.00825525866313},{"$f":"(M224+M225)/J218","v":3.6318833769795309},null,null,{"$f":"'DNSP Inputs O & M'!$E$12","v":90.338600866671271},{"$f":"'DNSP Inputs O & M'!$E$186","v":2},{"$f":"'DNSP Inputs O & M'!$E$17","v":8},{"$f":"Q224*R224*S224","v":1445.4176138667403},{"$f":"T224/'DNSP Inputs O & M'!$E$180","v":180.67720173334254},{"$f":"(U224+U225)/R218","v":2.8963101160830398},null,{"$f":"'DNSP Inputs O & M'!$E$12","v":90.338600866671271},{"$f":"'DNSP Inputs O & M'!$E$186","v":2},{"$f":"'DNSP Inputs O & M'!$E$17","v":8},{"$f":"X224*Y224*Z224","v":1445.4176138667403},{"$f":"AA224/'DNSP Inputs O & M'!$E$180","v":180.67720173334254},{"$f":"(AB224+AB225)/Y218","v":3.6736350602206729},null,null,{"$f":"'DNSP Inputs O & M'!$F$12","v":91.047760948270181},{"$f":"'DNSP Inputs O & M'!$F$186","v":2},{"$f":"'DNSP Inputs O & M'!$F$17","v":8},{"$f":"AF224*AG224*AH224","v":1456.7641751723229},{"$f":"AI224/'DNSP Inputs O & M'!$F$180","v":182.09552189654036},{"$f":"(AJ224+AJ225)/AG218","v":2.9225492618437938},null,{"$f":"'DNSP Inputs O & M'!$F$12","v":91.047760948270181},{"$f":"'DNSP Inputs O & M'!$F$186","v":2},{"$f":"'DNSP Inputs O & M'!$F$17","v":8},{"$f":"AM224*AN224*AO224","v":1456.7641751723229},{"$f":"AP224/'DNSP Inputs O & M'!$F$180","v":182.09552189654036},{"$f":"(AQ224+AQ225)/AN218","v":3.7078919523764919},null,null,{"$f":"'DNSP Inputs O & M'!$G$12","v":91.919423571864726},{"$f":"'DNSP Inputs O & M'!$G$186","v":2},{"$f":"'DNSP Inputs O & M'!$G$17","v":8},{"$f":"AU224*AV224*AW224","v":1470.7107771498356},{"$f":"AX224/'DNSP Inputs O & M'!$G$180","v":183.83884714372945},{"$f":"(AY224+AY225)/AV218","v":2.9111010850657446},null,{"$f":"'DNSP Inputs O & M'!$G$12","v":91.919423571864726},{"$f":"'DNSP Inputs O & M'!$G$186","v":2},{"$f":"'DNSP Inputs O & M'!$G$17","v":8},{"$f":"BB224*BC224*BD224","v":1470.7107771498356},{"$f":"BE224/'DNSP Inputs O & M'!$G$180","v":183.83884714372945},{"$f":"(BF224+BF225)/BC218","v":3.6824003519265669},null,null,{"$f":"'DNSP Inputs O & M'!$H$12","v":92.856350250687825},{"$f":"'DNSP Inputs O & M'!$H$186","v":2},{"$f":"'DNSP Inputs O & M'!$H$17","v":8},{"$f":"BJ224*BK224*BL224","v":1485.7016040110052},{"$f":"BM224/'DNSP Inputs O & M'!$H$180","v":185.71270050137565},{"$f":"(BN224+BN225)/BK218","v":2.9228407762055051},null,{"$f":"'DNSP Inputs O & M'!$H$12","v":92.856350250687825},{"$f":"'DNSP Inputs O & M'!$H$186","v":2},{"$f":"'DNSP Inputs O & M'!$H$17","v":8},{"$f":"BQ224*BR224*BS224","v":1485.7016040110052},{"$f":"BT224/'DNSP Inputs O & M'!$H$180","v":185.71270050137565},{"$f":"(BU224+BU225)/BR218","v":3.6921947698831783}]
["Elevated platform vehicle costs",{"$f":"'DNSP Inputs O & M'!$D$14","v":40.780662897354212},1,{"$f":"'DNSP Inputs O & M'!$D$17","v":8},{"$f":"B225*C225*D225","v":326.24530317883369},{"$f":"E225/'DNSP Inputs O & M'!$D$180","v":40.780662897354212},null,null,{"$f":"'DNSP Inputs O & M'!$D$15","v":52.432280868026844},1,{"$f":"'DNSP Inputs O & M'!$D$17","v":8},{"$f":"I225*J225*K225","v":419.45824694421475},{"$f":"L225/'DNSP Inputs O & M'!$D$180","v":52.432280868026844},null,null,null,{"$f":"'DNSP Inputs O & M'!$E$14","v":42.338677205051525},1,{"$f":"'DNSP Inputs O & M'!$E$17","v":8},{"$f":"Q225*R225*S225","v":338.7094176404122},{"$f":"T225/'DNSP Inputs O & M'!$E$180","v":42.338677205051525},null,null,{"$f":"'DNSP Inputs O & M'!$E$15","v":54.435442120780536},1,{"$f":"'DNSP Inputs O & M'!$E$17","v":8},{"$f":"X225*Y225*Z225","v":435.48353696624429},{"$f":"AA225/'DNSP Inputs O & M'!$E$180","v":54.435442120780536},null,null,null,{"$f":"'DNSP Inputs O & M'!$F$14","v":42.940771265431763},1,{"$f":"'DNSP Inputs O & M'!$F$17","v":8},{"$f":"AF225*AG225*AH225","v":343.52617012345411},{"$f":"AI225/'DNSP Inputs O & M'!$F$180","v":42.940771265431763},null,null,{"$f":"'DNSP Inputs O & M'!$F$15","v":55.209563055555122},1,{"$f":"'DNSP Inputs O & M'!$F$17","v":8},{"$f":"AM225*AN225*AO225","v":441.67650444444098},{"$f":"AP225/'DNSP Inputs O & M'!$F$180","v":55.209563055555122},null,null,null,{"$f":"'DNSP Inputs O & M'!$G$14","v":40.315936406332867},1,{"$f":"'DNSP Inputs O & M'!$G$17","v":8},{"$f":"AU225*AV225*AW225","v":322.52749125066293},{"$f":"AX225/'DNSP Inputs O & M'!$G$180","v":40.315936406332867},null,null,{"$f":"'DNSP Inputs O & M'!$G$15","v":51.834775379570829},1,{"$f":"'DNSP Inputs O & M'!$G$17","v":8},{"$f":"BB225*BC225*BD225","v":414.67820303656663},{"$f":"BE225/'DNSP Inputs O & M'!$G$180","v":51.834775379570829},null,null,null,{"$f":"'DNSP Inputs O & M'!$H$14","v":39.346039266448244},1,{"$f":"'DNSP Inputs O & M'!$H$17","v":8},{"$f":"BJ225*BK225*BL225","v":314.76831413158595},{"$f":"BM225/'DNSP Inputs O & M'!$H$180","v":39.346039266448244},null,null,{"$f":"'DNSP Inputs O & M'!$H$15","v":50.587764771147747},1,{"$f":"'DNSP Inputs O & M'!$H$17","v":8},{"$f":"BQ225*BR225*BS225","v":404.70211816918197},{"$f":"BT225/'DNSP Inputs O & M'!$H$180","v":50.587764771147747}]
["Labour - repair of faults"]
["Crew costs",{"$f":"'DNSP Inputs O & M'!$D$12","v":90.004127629331563},{"$f":"'DNSP Inputs O & M'!$D$186","v":2},{"$f":"'DNSP Inputs O & M'!$D$17","v":8},{"$f":"B227*C227*D227","v":1440.066042069305},{"$f":"(E227+E228)/'DNSP Inputs O & M'!$D$189","v":67.935051740313028},{"$f":"F227*D207","v":0.33967525870156517},null,{"$f":"'DNSP Inputs O & M'!$D$12","v":90.004127629331563},{"$f":"'DNSP Inputs O & M'!$D$186","v":2},{"$f":"'DNSP Inputs O & M'!$D$17","v":8},{"$f":"I227*J227*K227","v":1440.066042069305},{"$f":"(L227+L228)/'DNSP Inputs O & M'!$D$190","v":88.548775667310466},{"$f":"M227*D207","v":0.44274387833655232},null,null,{"$f":"'DNSP Inputs O & M'!$E$12","v":90.338600866671271},{"$f":"'DNSP Inputs O & M'!$E$186","v":2},{"$f":"'DNSP Inputs O & M'!$E$17","v":8},{"$f":"Q227*R227*S227","v":1445.4176138667403},{"$f":"(T227+T228)/'DNSP Inputs O & M'!$E$189","v":68.620270442582779},{"$f":"U227*S207","v":0.34310135221291388},null,{"$f":"'DNSP Inputs O & M'!$E$12","v":90.338600866671271},{"$f":"'DNSP Inputs O & M'!$E$186","v":2},{"$f":"'DNSP Inputs O & M'!$E$17","v":8},{"$f":"X227*Y227*Z227","v":1445.4176138667403},{"$f":"(AA227+AA228)/'DNSP Inputs O & M'!$E$190","v":89.566721468237361},{"$f":"AB227*S207","v":0.44783360734118682},null,null,{"$f":"'DNSP Inputs O & M'!$F$12","v":91.047760948270181},{"$f":"'DNSP Inputs O & M'!$F$186","v":2},{"$f":"'DNSP Inputs O & M'!$F$17","v":8},{"$f":"AF227*AG227*AH227","v":1456.7641751723229},{"$f":"(AI227+AI228)/'DNSP Inputs O & M'!$F$189","v":69.241936357529895},{"$f":"AJ227*AH207","v":0.34620968178764949},null,{"$f":"'DNSP Inputs O & M'!$F$12","v":91.047760948270181},{"$f":"'DNSP Inputs O & M'!$F$186","v":2},{"$f":"'DNSP Inputs O & M'!$F$17","v":8},{"$f":"AM227*AN227*AO227","v":1456.7641751723229},{"$f":"(AP227+AP228)/'DNSP Inputs O & M'!$F$190","v":90.401937124607798},{"$f":"AQ227*AH207","v":0.452009685623039},null,null,{"$f":"'DNSP Inputs O & M'!$G$12","v":91.919423571864726},{"$f":"'DNSP Inputs O & M'!$G$186","v":2},{"$f":"'DNSP Inputs O & M'!$G$17","v":8},{"$f":"AU227*AV227*AW227","v":1470.7107771498356},{"$f":"(AX227+AX228)/'DNSP Inputs O & M'!$G$189","v":68.970702630788409},{"$f":"AY227*AW207","v":0.34485351315394203},null,{"$f":"'DNSP Inputs O & M'!$G$12","v":91.919423571864726},{"$f":"'DNSP Inputs O & M'!$G$186","v":2},{"$f":"'DNSP Inputs O & M'!$G$17","v":8},{"$f":"BB227*BC227*BD227","v":1470.7107771498356},{"$f":"(BE227+BE228)/'DNSP Inputs O & M'!$G$190","v":89.780427627923913},{"$f":"BF227*AW207","v":0.4489021381396196},null,null,{"$f":"'DNSP Inputs O & M'!$H$12","v":92.856350250687825},{"$f":"'DNSP Inputs O & M'!$H$186","v":2},{"$f":"'DNSP Inputs O & M'!$H$17","v":8},{"$f":"BJ227*BK227*BL227","v":1485.7016040110052},{"$f":"(BM227+BM228)/'DNSP Inputs O & M'!$H$189","v":69.248843005484275},{"$f":"BN227*BL207","v":0.34624421502742136},null,{"$f":"'DNSP Inputs O & M'!$H$12","v":92.856350250687825},{"$f":"'DNSP Inputs O & M'!$H$186","v":2},{"$f":"'DNSP Inputs O & M'!$H$17","v":8},{"$f":"BQ227*BR227*BS227","v":1485.7016040110052},{"$f":"(BT227+BT228)/'DNSP Inputs O & M'!$H$190","v":90.019224865723203},{"$f":"BU227*BL207","v":0.45009612432861601}]
["Elevated platform vehicle costs",{"$f":"'DNSP Inputs O & M'!$D$14","v":40.780662897354212},1,{"$f":"'DNSP Inputs O & M'!$D$17","v":8},{"$f":"B228*C228*D228","v":326.24530317883369},null,null,null,{"$f":"'DNSP Inputs O & M'!$D$15","v":52.432280868026844},1,{"$f":"'DNSP Inputs O & M'!$D$17","v":8},{"$f":"I228*J228*K228","v":419.45824694421475},null,null,null,null,{"$f":"'DNSP Inputs O & M'!$E$14","v":42.338677205051525},1,{"$f":"'DNSP Inputs O & M'!$E$17","v":8},{"$f":"Q228*R228*S228","v":338.7094176404122},null,null,null,{"$f":"'DNSP Inputs O & M'!$E$15","v":54.435442120780536},1,{"$f":"'DNSP Inputs O & M'!$E$17","v":8},{"$f":"X228*Y228*Z228","v":435.48353696624429},null,null,null,null,{"$f":"'DNSP Inputs O & M'!$F$14","v":42.940771265431763},1,{"$f":"'DNSP Inputs O & M'!$F$17","v":8},{"$f":"AF228*AG228*AH228","v":343.52617012345411},null,null,null,{"$f":"'DNSP Inputs O & M'!$F$15","v":55.209563055555122},1,{"$f":"'DNSP Inputs O & M'!$F$17","v":8},{"$f":"AM228*AN228*AO228","v":441.67650444444098},null,null,null,null,{"$f":"'DNSP Inputs O & M'!$G$14","v":40.315936406332867},1,{"$f":"'DNSP Inputs O & M'!$G$17","v":8},{"$f":"AU228*AV228*AW228","v":322.52749125066293},null,null,null,{"$f":"'DNSP Inputs O & M'!$G$15","v":51.834775379570829},1,{"$f":"'DNSP Inputs O & M'!$G$17","v":8},{"$f":"BB228*BC228*BD228","v":414.67820303656663},null,null,null,null,{"$f":"'DNSP Inputs O & M'!$H$14","v":39.346039266448244},1,{"$f":"'DNSP Inputs O & M'!$H$17","v":8},{"$f":"BJ228*BK228*BL228","v":314.76831413158595},null,null,null,{"$f":"'DNSP Inputs O & M'!$H$15","v":50.587764771147747},1,{"$f":"'DNSP Inputs O & M'!$H$17","v":8},{"$f":"BQ228*BR228*BS228","v":404.70211816918197}]
["Other Maintenance and Repair costs",null,null,null,null,null,{"$f":"'DNSP Inputs O & M'!$D$200","v":0.59817605493333215},null,null,null,null,null,null,{"$f":"'DNSP Inputs O & M'!$D$200","v":0.59817605493333215},null,null,null,null,null,null,null,{"$f":"'DNSP Inputs O & M'!$E$200","v":1.1000732236798714},null,null,null,null,null,null,{"$f":"'DNSP Inputs O & M'!$E$200","v":1.1000732236798714},null,null,null,null,null,null,null,{"$f":"'DNSP Inputs O & M'!$F$200","v":1.4872945757063059},null,null,null,null,null,null,{"$f":"'DNSP Inputs O & M'!$F$200","v":1.4872945757063059},null,null,null,null,null,null,null,{"$f":"'DNSP Inputs O & M'!$G$200","v":1.517330018638247},null,null,null,null,null,null,{"$f":"'DNSP Inputs O & M'!$G$200","v":1.517330018638247},null,null,null,null,null,null,null,{"$f":"'DNSP Inputs O & M'!$H$200","v":1.5283676402655193},null,null,null,null,null,null,{"$f":"'DNSP Inputs O & M'!$H$200","v":1.5283676402655193}]
[]
["Overheads",{"$f":"'DNSP Inputs O & M'!$D$18","v":0.25},null,null,null,null,{"$f":"B231*SUM(G218:G229)","v":1.5188363931103772},null,{"$f":"'DNSP Inputs O & M'!$D$18","v":0.25},null,null,null,null,{"$f":"I231*SUM(N218:N229)","v":1.7641035767853943},null,null,{"$f":"'DNSP Inputs O & M'!$E$18","v":0.25},null,null,null,null,{"$f":"Q231*SUM(V218:V229)","v":1.6740797960556322},null,{"$f":"'DNSP Inputs O & M'!$E$18","v":0.25},null,null,null,null,{"$f":"X231*SUM(AC218:AC229)","v":1.9240545270251923},null,null,{"$f":"'DNSP Inputs O & M'!$F$18","v":0.25},null,null,null,null,{"$f":"AF231*SUM(AK218:AK229)","v":1.7866010793266809},null,{"$f":"'DNSP Inputs O & M'!$F$18","v":0.25},null,null,null,null,{"$f":"AM231*SUM(AR218:AR229)","v":2.0392661378933146},null,null,{"$f":"'DNSP Inputs O & M'!$G$18","v":0.25},null,null,null,null,{"$f":"AU231*SUM(AZ218:AZ229)","v":1.7543801892516782},null,{"$f":"'DNSP Inputs O & M'!$G$18","v":0.25},null,null,null,null,{"$f":"BB231*SUM(BG218:BG229)","v":2.001270113965163},null,null,{"$f":"'DNSP Inputs O & M'!$H$18","v":0.25},null,null,null,null,{"$f":"BJ231*SUM(BO218:BO229)","v":1.7469245638872817},null,{"$f":"'DNSP Inputs O & M'!$H$18","v":0.25},null,null,null,null,{"$f":"BQ231*SUM(BV218:BV229)","v":1.9926041099326324}]
[]
[null,null,null,null,null,null,{"$f":"SUM(G218,G220,G224,G227,G229,G231)","v":7.5941819655518863},null,null,null,null,null,null,{"$f":"SUM(N218,N220,N224,N227,N229,N231)","v":8.8205178839269713},null,null,null,null,null,null,null,{"$f":"SUM(V218,V220,V224,V227,V229,V231)","v":8.3703989802781606},null,null,null,null,null,null,{"$f":"SUM(AC218,AC220,AC224,AC227,AC229,AC231)","v":9.6202726351259606},null,null,null,null,null,null,null,{"$f":"SUM(AK218,AK220,AK224,AK227,AK229,AK231)","v":8.9330053966334049},null,null,null,null,null,null,{"$f":"SUM(AR218,AR220,AR224,AR227,AR229,AR231)","v":10.196330689466572},null,null,null,null,null,null,null,{"$f":"SUM(AZ218,AZ220,AZ224,AZ227,AZ229,AZ231)","v":8.7719009462583912},null,null,null,null,null,null,{"$f":"SUM(BG218,BG220,BG224,BG227,BG229,BG231)","v":10.006350569825814},null,null,null,null,null,null,null,{"$f":"SUM(BO218,BO220,BO224,BO227,BO229,BO231)","v":8.7346228194364084},null,null,null,null,null,null,{"$f":"SUM(BV218,BV220,BV224,BV227,BV229,BV231)","v":9.9630205496631614}]

{"sheet":"Capex 2016-2020","index":13,"n_rows":152,"n_cols":64,"rows_kept":152,"cut":false,"hidden":false,"merged":[[41,53,41,57],[41,59,41,63],[41,1,41,5],[41,7,41,11],[41,14,41,18],[41,20,41,24],[41,27,41,31],[41,33,41,37],[41,40,41,44],[41,46,41,50]]}
[{"$f":"'DNSP Inputs O & M'!$A$3","v":"Jemena"}]
[]
["Public Lighting Capex Costs"]
[{"$f":"'DNSP Inputs Capex'!$C$5","v":"Real 2015 $ "}]
[]
["Summary",{"$f":"'DNSP Inputs General'!K$2","v":2016},{"$f":"'DNSP Inputs General'!L$2","v":2017},{"$f":"'DNSP Inputs General'!M$2","v":2018},{"$f":"'DNSP Inputs General'!N$2","v":2019},{"$f":"'DNSP Inputs General'!O$2","v":2020}]
[]
["Luminaires - Real 2015 $ "]
["MV 80",{"$f":"SUM(F57,L57)","v":60542.426221780006},{"$f":"SUM(S57,Y57)","v":61292.220589197357},{"$f":"SUM(AF57,AL57)","v":61087.103332699036},{"$f":"SUM(AS57,AY57)","v":57652.82549227144},{"$f":"SUM(BF57,BL57)","v":56247.172858724181}]
["S-HP 150 ",{"$f":"SUM(F71,L71)","v":154176.9705830426},{"$f":"SUM(S71,Y71)","v":160878.241801647},{"$f":"SUM(AF71,AL71)","v":165113.87646944201},{"$f":"SUM(AS71,AY71)","v":160078.33143752991},{"$f":"SUM(BF71,BL71)","v":159746.70550189615}]
["S-HP 250 ",{"$f":"SUM(F85,L85)","v":47019.388657479962},{"$f":"SUM(S85,Y85)","v":48807.983225041935},{"$f":"SUM(AF85,AL85)","v":49424.644898856153},{"$f":"SUM(AS85,AY85)","v":47269.512327576747},{"$f":"SUM(BF85,BL85)","v":46555.893572059336}]
["Other Light types (excluding T5s)",{"$f":"'DNSP Inputs Capex'!D92","v":0},{"$f":"'DNSP Inputs Capex'!E92","v":0},{"$f":"'DNSP Inputs Capex'!F92","v":0},{"$f":"'DNSP Inputs Capex'!G92","v":0},{"$f":"'DNSP Inputs Capex'!H92","v":0}]
[null,{"$f":"SUM(B9:B12)","v":261738.78546230256},{"$f":"SUM(C9:C12)","v":270978.4456158863},{"$f":"SUM(D9:D12)","v":275625.6247009972},{"$f":"SUM(E9:E12)","v":265000.66925737809},{"$f":"SUM(F9:F12)","v":262549.77193267969}]
[]
["Energy Efficient Lights - Real 2015 $ "]
["T5 (2 X 14W)",{"$f":"SUM(F125,L125)","v":179880.6416145752},{"$f":"SUM(S125,Y125)","v":187699.1990990614},{"$f":"SUM(AF125,AL125)","v":192684.77447676865},{"$f":"SUM(AS125,AY125)","v":186754.01737848035},{"$f":"SUM(BF125,BL125)","v":186361.40782525088}]
["Category P LED",{"$f":"SUM(F139,L139)","v":2975.0977054523078},{"$f":"SUM(S139,Y139)","v":4381.4739203250538},{"$f":"SUM(AF139,AL139)","v":5769.4351763196883},{"$f":"SUM(AS139,AY139)","v":6769.7850163543608},{"$f":"SUM(BF139,BL139)","v":7905.5364169132035}]
[null,{"$f":"SUM(B16:B17)","v":182855.7393200275},{"$f":"SUM(C16:C17)","v":192080.67301938645},{"$f":"SUM(D16:D17)","v":198454.20965308833},{"$f":"SUM(E16:E17)","v":193523.8023948347},{"$f":"SUM(F16:F17)","v":194266.94424216409}]
[]
["Poles & Brackets - Real 2015 $ "]
["Dedicated poles",{"$f":"SUM(F98,L98)","v":359414.16993653518},{"$f":"SUM(S98,Y98)","v":368948.73486315017},{"$f":"SUM(AF98,AL98)","v":373417.39288256865},{"$f":"SUM(AS98,AY98)","v":359294.55301048834},{"$f":"SUM(BF98,BL98)","v":354907.31684753811}]
["VICRoads frangible poles",{"$f":"SUM(F152,L152)","v":100232.89157992594},{"$f":"SUM(S152,Y152)","v":104062.26236716565},{"$f":"SUM(AF152,AL152)","v":105542.12130979515},{"$f":"SUM(AS152,AY152)","v":99090.661986794817},{"$f":"SUM(BF152,BL152)","v":96706.796989052411}]
["Brackets",{"$f":"SUM(F110,L110)","v":4825.5825660704977},{"$f":"SUM(S110,Y110)","v":4923.0275659148101},{"$f":"SUM(AF110,AL110)","v":4976.9224351196317},{"$f":"SUM(AS110,AY110)","v":4852.9383127466299},{"$f":"SUM(BF110,BL110)","v":4824.3407370856148}]
[null,{"$f":"SUM(B21:B23)","v":464472.64408253162},{"$f":"SUM(C21:C23)","v":477934.0247962306},{"$f":"SUM(D21:D23)","v":483936.43662748346},{"$f":"SUM(E21:E23)","v":463238.15331002983},{"$f":"SUM(F21:F23)","v":456438.45457367616}]
[]
[]
["Customer Contributions - Real 2015 $ "]
["MV80 Lights replaced with T5 Energy Efficient Lights"]
["WDV RAB - MV 80 Luminaire",{"$f":"'Charges Summary'!D34/'Charges Summary'!D$4","v":70.24061714104289},{"$f":"'Charges Summary'!E34/'Charges Summary'!E$4","v":67.136566425419673},{"$f":"'Charges Summary'!F34/'Charges Summary'!F$4","v":64.128492607041309},{"$f":"'Charges Summary'!G34/'Charges Summary'!G$4","v":61.17902539110176},{"$f":"'Charges Summary'!H34/'Charges Summary'!H$4","v":57.931381888306277}]
["Number of Lights MV80 replaced with T5",{"$f":"'DNSP Inputs Capex'!D34","v":196.1138995199999},{"$f":"'DNSP Inputs Capex'!E34","v":193.28985936691242},{"$f":"'DNSP Inputs Capex'!F34","v":190.50648539202848},{"$f":"'DNSP Inputs Capex'!G34","v":187.76319200238322},{"$f":"'DNSP Inputs Capex'!H34","v":185.05940203754835}]
[null,{"$f":"B29*B30","v":13775.161332221269},{"$f":"C29*C30","v":12976.817482746743},{"$f":"D29*D30","v":12216.893740056121},{"$f":"E29*E30","v":11487.169091028118},{"$f":"F29*F30","v":10720.746891458819}]
[]
[]
[]
[]
[]
["Detailed calculations"]
[]
["Public Lighting Capex Costs","Year",2016,null,null,null,null,null,null,null,null,null,null,null,"Year",{"$f":"C39+1","v":2017},null,null,null,null,null,null,null,null,null,null,null,"Year",{"$f":"P39+1","v":2018},null,null,null,null,null,null,null,null,null,null,null,"Year",{"$f":"AC39+1","v":2019},null,null,null,null,null,null,null,null,null,null,null,"Year",{"$f":"AP39+1","v":2020}]
[{"$f":"'DNSP Inputs Capex'!$C$5","v":"Real 2015 $ "}]
[]
[null,"Urban",null,null,null,null,null,"Rural",null,null,null,null,null,null,"Urban",null,null,null,null,null,"Rural",null,null,null,null,null,null,"Urban",null,null,null,null,null,"Rural",null,null,null,null,null,null,"Urban",null,null,null,null,null,"Rural",null,null,null,null,null,null,"Urban",null,null,null,null,null,"Rural"]
[]
[null,"Unit rate","Number","Hours","Cost","Annualised",null,"Unit rate","Number","Hours","Cost","Annualised",null,null,"Unit rate","Number","Hours","Cost","Annualised",null,"Unit rate","Number","Hours","Cost","Annualised",null,null,"Unit rate","Number","Hours","Cost","Annualised",null,"Unit rate","Number","Hours","Cost","Annualised",null,null,"Unit rate","Number","Hours","Cost","Annualised",null,"Unit rate","Number","Hours","Cost","Annualised",null,null,"Unit rate","Number","Hours","Cost","Annualised",null,"Unit rate","Number","Hours","Cost","Annualised"]
[null,null,null,null,null," cost",null,null,null,null,null," cost",null,null,null,null,null,null," cost",null,null,null,null,null," cost",null,null,null,null,null,null," cost",null,null,null,null,null," cost",null,null,null,null,null,null," cost",null,null,null,null,null," cost",null,null,null,null,null,null," cost",null,null,null,null,null," cost"]
["MV80"]
["Luminaires "]
["Material & misc",{"$f":"'DNSP Inputs Capex'!$D$21+'DNSP Inputs Capex'!$D$22","v":198.76923439063836},{"$f":"'DNSP Inputs Capex'!$D$24","v":16},null,{"$f":"B48*C48","v":3180.3077502502138},{"$f":"(E48+E49+E50)/C48","v":309.16369346864701},null,{"$f":"('DNSP Inputs Capex'!$D$21+'DNSP Inputs Capex'!$D$22)*(1+'DNSP Inputs Capex'!$D$11)","v":208.70769611017028},{"$f":"'DNSP Inputs Capex'!$D$25","v":13},null,{"$f":"H48*I48","v":2713.2000494322137},{"$f":"(K48+K49+K50)/I48","v":351.74802603428719},null,null,{"$f":"'DNSP Inputs Capex'!$E$21+'DNSP Inputs Capex'!$E$22","v":206.36315977361068},{"$f":"'DNSP Inputs Capex'!$E$24","v":16},null,{"$f":"O48*P48","v":3301.8105563777708},{"$f":"(R48+R49+R50)/P48","v":317.8710992428077},null,{"$f":"('DNSP Inputs Capex'!$E$21+'DNSP Inputs Capex'!$E$22)*(1+'DNSP Inputs Capex'!$E$11)","v":216.68131776229123},{"$f":"'DNSP Inputs Capex'!$E$25","v":13},null,{"$f":"U48*V48","v":2816.8571309097861},{"$f":"(X48+X49+X50)/V48","v":361.36602167252084},null,null,{"$f":"'DNSP Inputs Capex'!$F$21+'DNSP Inputs Capex'!$F$22","v":209.29782946532615},{"$f":"'DNSP Inputs Capex'!$F$24","v":16},null,{"$f":"AB48*AC48","v":3348.7652714452183},{"$f":"(AE48+AE49+AE50)/AC48","v":321.81597604631219},null,{"$f":"('DNSP Inputs Capex'!$F$21+'DNSP Inputs Capex'!$F$22)*(1+'DNSP Inputs Capex'!$F$11)","v":219.76272093859245},{"$f":"'DNSP Inputs Capex'!$F$25","v":13},null,{"$f":"AH48*AI48","v":2856.9153722017018},{"$f":"(AK48+AK49+AK50)/AI48","v":365.79661937065123},null,null,{"$f":"'DNSP Inputs Capex'!$G$21+'DNSP Inputs Capex'!$G$22","v":196.50410866048861},{"$f":"'DNSP Inputs Capex'!$G$24","v":16},null,{"$f":"AO48*AP48","v":3144.0657385678178},{"$f":"(AR48+AR49+AR50)/AP48","v":308.58150043551979},null,{"$f":"('DNSP Inputs Capex'!$G$21+'DNSP Inputs Capex'!$G$22)*(1+'DNSP Inputs Capex'!$G$11)","v":206.32931409351306},{"$f":"'DNSP Inputs Capex'!$G$25","v":13},null,{"$f":"AU48*AV48","v":2682.2810832156697},{"$f":"(AX48+AX49+AX50)/AV48","v":351.35923564631321},null,null,{"$f":"'DNSP Inputs Capex'!$H$21+'DNSP Inputs Capex'!$H$22","v":191.77672812678367},{"$f":"'DNSP Inputs Capex'!$H$24","v":16},null,{"$f":"BB48*BC48","v":3068.4276500285387},{"$f":"(BE48+BE49+BE50)/BC48","v":304.30609801069562},null,{"$f":"('DNSP Inputs Capex'!$H$21+'DNSP Inputs Capex'!$H$22)*(1+'DNSP Inputs Capex'!$H$11)","v":201.36556453312286},{"$f":"'DNSP Inputs Capex'!$H$25","v":13},null,{"$f":"BH48*BI48","v":2617.752338930597},{"$f":"(BK48+BK49+BK50)/BI48","v":346.78123547006027}]
["Crew costs",{"$f":"'DNSP Inputs Capex'!$D$12","v":90.004127629331563},{"$f":"'DNSP Inputs Capex'!$D$23","v":2},{"$f":"'DNSP Inputs Capex'!$D$15","v":8},{"$f":"B49*C49*D49","v":1440.066042069305},null,null,{"$f":"'DNSP Inputs Capex'!$D$12","v":90.004127629331563},{"$f":"'DNSP Inputs Capex'!$D$23","v":2},{"$f":"'DNSP Inputs Capex'!$D$15","v":8},{"$f":"H49*I49*J49","v":1440.066042069305},null,null,null,{"$f":"'DNSP Inputs Capex'!$E$12","v":90.338600866671271},{"$f":"'DNSP Inputs Capex'!$E$23","v":2},{"$f":"'DNSP Inputs Capex'!$E$15","v":8},{"$f":"O49*P49*Q49","v":1445.4176138667403},null,null,{"$f":"'DNSP Inputs Capex'!$E$12","v":90.338600866671271},{"$f":"'DNSP Inputs Capex'!$E$23","v":2},{"$f":"'DNSP Inputs Capex'!$E$15","v":8},{"$f":"U49*V49*W49","v":1445.4176138667403},null,null,null,{"$f":"'DNSP Inputs Capex'!$F$12","v":91.047760948270181},{"$f":"'DNSP Inputs Capex'!$F$23","v":2},{"$f":"'DNSP Inputs Capex'!$F$15","v":8},{"$f":"AB49*AC49*AD49","v":1456.7641751723229},null,null,{"$f":"'DNSP Inputs Capex'!$F$12","v":91.047760948270181},{"$f":"'DNSP Inputs Capex'!$F$23","v":2},{"$f":"'DNSP Inputs Capex'!$F$15","v":8},{"$f":"AH49*AI49*AJ49","v":1456.7641751723229},null,null,null,{"$f":"'DNSP Inputs Capex'!$G$12","v":91.919423571864726},{"$f":"'DNSP Inputs Capex'!$G$23","v":2},{"$f":"'DNSP Inputs Capex'!$G$15","v":8},{"$f":"AO49*AP49*AQ49","v":1470.7107771498356},null,null,{"$f":"'DNSP Inputs Capex'!$G$12","v":91.919423571864726},{"$f":"'DNSP Inputs Capex'!$G$23","v":2},{"$f":"'DNSP Inputs Capex'!$G$15","v":8},{"$f":"AU49*AV49*AW49","v":1470.7107771498356},null,null,null,{"$f":"'DNSP Inputs Capex'!$H$12","v":92.856350250687825},{"$f":"'DNSP Inputs Capex'!$H$23","v":2},{"$f":"'DNSP Inputs Capex'!$H$15","v":8},{"$f":"BB49*BC49*BD49","v":1485.7016040110052},null,null,{"$f":"'DNSP Inputs Capex'!$H$12","v":92.856350250687825},{"$f":"'DNSP Inputs Capex'!$H$23","v":2},{"$f":"'DNSP Inputs Capex'!$H$15","v":8},{"$f":"BH49*BI49*BJ49","v":1485.7016040110052}]
["Elevated platform vehicle costs",{"$f":"'DNSP Inputs Capex'!$D$13","v":40.780662897354212},1,{"$f":"'DNSP Inputs Capex'!$D$15","v":8},{"$f":"B50*C50*D50","v":326.24530317883369},null,null,{"$f":"'DNSP Inputs Capex'!$D$14","v":52.432280868026844},1,{"$f":"'DNSP Inputs Capex'!$D$15","v":8},{"$f":"H50*I50*J50","v":419.45824694421475},null,null,null,{"$f":"'DNSP Inputs Capex'!$E$13","v":42.338677205051525},1,{"$f":"'DNSP Inputs Capex'!$E$15","v":8},{"$f":"O50*P50*Q50","v":338.7094176404122},null,null,{"$f":"'DNSP Inputs Capex'!$E$14","v":54.435442120780536},1,{"$f":"'DNSP Inputs Capex'!$E$15","v":8},{"$f":"U50*V50*W50","v":435.48353696624429},null,null,null,{"$f":"'DNSP Inputs Capex'!$F$13","v":42.940771265431763},1,{"$f":"'DNSP Inputs Capex'!$F$15","v":8},{"$f":"AB50*AC50*AD50","v":343.52617012345411},null,null,{"$f":"'DNSP Inputs Capex'!$F$14","v":55.209563055555122},1,{"$f":"'DNSP Inputs Capex'!$F$15","v":8},{"$f":"AH50*AI50*AJ50","v":441.67650444444098},null,null,null,{"$f":"'DNSP Inputs Capex'!$G$13","v":40.315936406332867},1,{"$f":"'DNSP Inputs Capex'!$G$15","v":8},{"$f":"AO50*AP50*AQ50","v":322.52749125066293},null,null,{"$f":"'DNSP Inputs Capex'!$G$14","v":51.834775379570829},1,{"$f":"'DNSP Inputs Capex'!$G$15","v":8},{"$f":"AU50*AV50*AW50","v":414.67820303656663},null,null,null,{"$f":"'DNSP Inputs Capex'!$H$13","v":39.346039266448244},1,{"$f":"'DNSP Inputs Capex'!$H$15","v":8},{"$f":"BB50*BC50*BD50","v":314.76831413158595},null,null,{"$f":"'DNSP Inputs Capex'!$H$14","v":50.587764771147747},1,{"$f":"'DNSP Inputs Capex'!$H$15","v":8},{"$f":"BH50*BI50*BJ50","v":404.70211816918197}]
[{"$f":"'DNSP Inputs Capex'!$A$27","v":"Other Capex unit costs Describe :………………………"},null,null,null,null,{"$f":"'DNSP Inputs Capex'!$D$27","v":0},null,null,null,null,null,{"$f":"'DNSP Inputs Capex'!$D$27","v":0},null,null,null,null,null,null,{"$f":"'DNSP Inputs Capex'!$E$27","v":0},null,null,null,null,null,{"$f":"'DNSP Inputs Capex'!$E$27","v":0},null,null,null,null,null,null,{"$f":"'DNSP Inputs Capex'!$F$27","v":0},null,null,null,null,null,{"$f":"'DNSP Inputs Capex'!$F$27","v":0},null,null,null,null,null,null,{"$f":"'DNSP Inputs Capex'!$G$27","v":0},null,null,null,null,null,{"$f":"'DNSP Inputs Capex'!$G$27","v":0},null,null,null,null,null,null,{"$f":"'DNSP Inputs Capex'!$H$27","v":0},null,null,null,null,null,{"$f":"'DNSP Inputs Capex'!$H$27","v":0}]
[{"$f":"'DNSP Inputs Capex'!A$16","v":"Indirect overheads"},{"$f":"'DNSP Inputs Capex'!$D$16","v":0},null,null,null,{"$f":"SUM(F48,F51)*B52","v":0},null,{"$f":"'DNSP Inputs Capex'!$D$16","v":0},null,null,null,{"$f":"SUM(L48,L51)*H52","v":0},null,null,{"$f":"'DNSP Inputs Capex'!$E$16","v":0},null,null,null,{"$f":"SUM(S48,S51)*O52","v":0},null,{"$f":"'DNSP Inputs Capex'!$E$16","v":0},null,null,null,{"$f":"SUM(Y48,Y51)*U52","v":0},null,null,{"$f":"'DNSP Inputs Capex'!$F$16","v":0},null,null,null,{"$f":"SUM(AF48,AF51)*AB52","v":0},null,{"$f":"'DNSP Inputs Capex'!$F$16","v":0},null,null,null,{"$f":"SUM(AL48,AL51)*AH52","v":0},null,null,{"$f":"'DNSP Inputs Capex'!$G$16","v":0},null,null,null,{"$f":"SUM(AS48,AS51)*AO52","v":0},null,{"$f":"'DNSP Inputs Capex'!$G$16","v":0},null,null,null,{"$f":"SUM(AY48,AY51)*AU52","v":0},null,null,{"$f":"'DNSP Inputs Capex'!$H$16","v":0},null,null,null,{"$f":"SUM(BF48,BF51)*BB52","v":0},null,{"$f":"'DNSP Inputs Capex'!$H$16","v":0},null,null,null,{"$f":"SUM(BL48,BL51)*BH52","v":0}]
[null,null,null,null,null,{"$f":"SUM(F48,F51,F52)","v":309.16369346864701},null,null,null,null,null,{"$f":"SUM(L48,L51,L52)","v":351.74802603428719},null,null,null,null,null,null,{"$f":"SUM(S48,S51,S52)","v":317.8710992428077},null,null,null,null,null,{"$f":"SUM(Y48,Y51,Y52)","v":361.36602167252084},null,null,null,null,null,null,{"$f":"SUM(AF48,AF51,AF52)","v":321.81597604631219},null,null,null,null,null,{"$f":"SUM(AL48,AL51,AL52)","v":365.79661937065123},null,null,null,null,null,null,{"$f":"SUM(AS48,AS51,AS52)","v":308.58150043551979},null,null,null,null,null,{"$f":"SUM(AY48,AY51,AY52)","v":351.35923564631321},null,null,null,null,null,null,{"$f":"SUM(BF48,BF51,BF52)","v":304.30609801069562},null,null,null,null,null,{"$f":"SUM(BL48,BL51,BL52)","v":346.78123547006027}]
[]
["Number of luminaires replaced",null,null,null,null,{"$f":"'DNSP Inputs Capex'!$D$30","v":189},null,null,null,null,null,{"$f":"'DNSP Inputs Capex'!$D$31","v":6},null,null,null,null,null,null,{"$f":"'DNSP Inputs Capex'!$E$30","v":186},null,null,null,null,null,{"$f":"'DNSP Inputs Capex'!$E$31","v":6},null,null,null,null,null,null,{"$f":"'DNSP Inputs Capex'!$F$30","v":183},null,null,null,null,null,{"$f":"'DNSP Inputs Capex'!$F$31","v":6},null,null,null,null,null,null,{"$f":"'DNSP Inputs Capex'!$G$30","v":180},null,null,null,null,null,{"$f":"'DNSP Inputs Capex'!$G$31","v":6},null,null,null,null,null,null,{"$f":"'DNSP Inputs Capex'!$H$30","v":178},null,null,null,null,null,{"$f":"'DNSP Inputs Capex'!$H$31","v":6}]
[]
["Capex",null,null,null,null,{"$f":"F53*F55","v":58431.938065574286},null,null,null,null,null,{"$f":"L53*L55","v":2110.488156205723},null,null,null,null,null,null,{"$f":"S53*S55","v":59124.024459162232},null,null,null,null,null,{"$f":"Y53*Y55","v":2168.196130035125},null,null,null,null,null,null,{"$f":"AF53*AF55","v":58892.323616475129},null,null,null,null,null,{"$f":"AL53*AL55","v":2194.7797162239076},null,null,null,null,null,null,{"$f":"AS53*AS55","v":55544.670078393559},null,null,null,null,null,{"$f":"AY53*AY55","v":2108.1554138778793},null,null,null,null,null,null,{"$f":"BF53*BF55","v":54166.485445903818},null,null,null,null,null,{"$f":"BL53*BL55","v":2080.6874128203617}]
[]
[]
["S-HP 150"]
["Luminaires "]
["Material & misc",{"$f":"'DNSP Inputs Capex'!$D$40+'DNSP Inputs Capex'!$D$41","v":236.25570422965041},{"$f":"'DNSP Inputs Capex'!$D$43","v":16},null,{"$f":"B62*C62","v":3780.0912676744065},{"$f":"(E62+E63+E64)/C62","v":352.47597229299538},null,{"$f":"('DNSP Inputs Capex'!$D$40+'DNSP Inputs Capex'!$D$41)*(1+'DNSP Inputs Capex'!$D$11)","v":248.06848944113293},{"$f":"'DNSP Inputs Capex'!$D$44","v":13},null,{"$f":"H62*I62","v":3224.8903627347281},{"$f":"(K62+K63+K64)/I62","v":391.10881936524981},null,null,{"$f":"'DNSP Inputs Capex'!$E$40+'DNSP Inputs Capex'!$E$41","v":245.28179015648757},{"$f":"'DNSP Inputs Capex'!$E$43","v":16},null,{"$f":"O62*P62","v":3924.5086425038012},{"$f":"(R62+R63+R64)/P62","v":362.83811208354911},null,{"$f":"('DNSP Inputs Capex'!$E$40+'DNSP Inputs Capex'!$E$41)*(1+'DNSP Inputs Capex'!$E$11)","v":257.54587966431194},{"$f":"'DNSP Inputs Capex'!$E$44","v":13},null,{"$f":"U62*V62","v":3348.096435636055},{"$f":"(X62+X63+X64)/V62","v":402.23058357454153},null,null,{"$f":"'DNSP Inputs Capex'!$F$40+'DNSP Inputs Capex'!$F$41","v":248.76991776749929},{"$f":"'DNSP Inputs Capex'!$F$43","v":16},null,{"$f":"AB62*AC62","v":3980.3186842799887},{"$f":"(AE62+AE63+AE64)/AC62","v":367.42246024354705},null,{"$f":"('DNSP Inputs Capex'!$F$40+'DNSP Inputs Capex'!$F$41)*(1+'DNSP Inputs Capex'!$F$11)","v":261.20841365587427},{"$f":"'DNSP Inputs Capex'!$F$44","v":13},null,{"$f":"AH62*AI62","v":3395.7093775263656},{"$f":"(AK62+AK63+AK64)/AI62","v":407.24231208793304},null,null,{"$f":"'DNSP Inputs Capex'!$G$40+'DNSP Inputs Capex'!$G$41","v":233.5633918293646},{"$f":"'DNSP Inputs Capex'!$G$43","v":16},null,{"$f":"AO62*AP62","v":3737.0142692698337},{"$f":"(AR62+AR63+AR64)/AP62","v":351.40020309101476},null,{"$f":"('DNSP Inputs Capex'!$G$40+'DNSP Inputs Capex'!$G$41)*(1+'DNSP Inputs Capex'!$G$11)","v":245.24156142083285},{"$f":"'DNSP Inputs Capex'!$G$44","v":13},null,{"$f":"AU62*AV62","v":3188.140298470827},{"$f":"(AX62+AX63+AX64)/AV62","v":390.271482973633},null,null,{"$f":"'DNSP Inputs Capex'!$H$40+'DNSP Inputs Capex'!$H$41","v":227.94446080829405},{"$f":"'DNSP Inputs Capex'!$H$43","v":16},null,{"$f":"BB62*BC62","v":3647.1113729327049},{"$f":"(BE62+BE63+BE64)/BC62","v":346.09469344455573},null,{"$f":"('DNSP Inputs Capex'!$H$40+'DNSP Inputs Capex'!$H$41)*(1+'DNSP Inputs Capex'!$H$11)","v":239.34168384870875},{"$f":"'DNSP Inputs Capex'!$H$44","v":13},null,{"$f":"BH62*BI62","v":3111.4418900332139},{"$f":"(BK62+BK63+BK64)/BI62","v":384.75735478564627}]
["Crew costs",{"$f":"'DNSP Inputs Capex'!$D$12","v":90.004127629331563},{"$f":"'DNSP Inputs Capex'!$D$42","v":2},{"$f":"'DNSP Inputs Capex'!$D$15","v":8},{"$f":"D63*C63*B63","v":1440.066042069305},null,null,{"$f":"'DNSP Inputs Capex'!$D$12","v":90.004127629331563},{"$f":"'DNSP Inputs Capex'!$D$42","v":2},{"$f":"'DNSP Inputs Capex'!$D$15","v":8},{"$f":"J63*I63*H63","v":1440.066042069305},null,null,null,{"$f":"'DNSP Inputs Capex'!$E$12","v":90.338600866671271},{"$f":"'DNSP Inputs Capex'!$E$42","v":2},{"$f":"'DNSP Inputs Capex'!$E$15","v":8},{"$f":"Q63*P63*O63","v":1445.4176138667403},null,null,{"$f":"'DNSP Inputs Capex'!$E$12","v":90.338600866671271},{"$f":"'DNSP Inputs Capex'!$E$42","v":2},{"$f":"'DNSP Inputs Capex'!$E$15","v":8},{"$f":"W63*V63*U63","v":1445.4176138667403},null,null,null,{"$f":"'DNSP Inputs Capex'!$F$12","v":91.047760948270181},{"$f":"'DNSP Inputs Capex'!$F$42","v":2},{"$f":"'DNSP Inputs Capex'!$F$15","v":8},{"$f":"AD63*AC63*AB63","v":1456.7641751723229},null,null,{"$f":"'DNSP Inputs Capex'!$F$12","v":91.047760948270181},{"$f":"'DNSP Inputs Capex'!$F$42","v":2},{"$f":"'DNSP Inputs Capex'!$F$15","v":8},{"$f":"AJ63*AI63*AH63","v":1456.7641751723229},null,null,null,{"$f":"'DNSP Inputs Capex'!$G$12","v":91.919423571864726},{"$f":"'DNSP Inputs Capex'!$G$42","v":2},{"$f":"'DNSP Inputs Capex'!$G$15","v":8},{"$f":"AQ63*AP63*AO63","v":1470.7107771498356},null,null,{"$f":"'DNSP Inputs Capex'!$G$12","v":91.919423571864726},{"$f":"'DNSP Inputs Capex'!$G$42","v":2},{"$f":"'DNSP Inputs Capex'!$G$15","v":8},{"$f":"AW63*AV63*AU63","v":1470.7107771498356},null,null,null,{"$f":"'DNSP Inputs Capex'!$H$12","v":92.856350250687825},{"$f":"'DNSP Inputs Capex'!$H$42","v":2},{"$f":"'DNSP Inputs Capex'!$H$15","v":8},{"$f":"BD63*BC63*BB63","v":1485.7016040110052},null,null,{"$f":"'DNSP Inputs Capex'!$H$12","v":92.856350250687825},{"$f":"'DNSP Inputs Capex'!$H$42","v":2},{"$f":"'DNSP Inputs Capex'!$H$15","v":8},{"$f":"BJ63*BI63*BH63","v":1485.7016040110052}]
["Elevated platform vehicle costs",{"$f":"'DNSP Inputs Capex'!$D$14","v":52.432280868026844},1,{"$f":"'DNSP Inputs Capex'!$D$15","v":8},{"$f":"B64*C64*D64","v":419.45824694421475},null,null,{"$f":"'DNSP Inputs Capex'!$D$14","v":52.432280868026844},1,{"$f":"'DNSP Inputs Capex'!$D$15","v":8},{"$f":"H64*I64*J64","v":419.45824694421475},null,null,null,{"$f":"'DNSP Inputs Capex'!$E$14","v":54.435442120780536},1,{"$f":"'DNSP Inputs Capex'!$E$15","v":8},{"$f":"O64*P64*Q64","v":435.48353696624429},null,null,{"$f":"'DNSP Inputs Capex'!$E$14","v":54.435442120780536},1,{"$f":"'DNSP Inputs Capex'!$E$15","v":8},{"$f":"U64*V64*W64","v":435.48353696624429},null,null,null,{"$f":"'DNSP Inputs Capex'!$F$14","v":55.209563055555122},1,{"$f":"'DNSP Inputs Capex'!$F$15","v":8},{"$f":"AB64*AC64*AD64","v":441.67650444444098},null,null,{"$f":"'DNSP Inputs Capex'!$F$14","v":55.209563055555122},1,{"$f":"'DNSP Inputs Capex'!$F$15","v":8},{"$f":"AH64*AI64*AJ64","v":441.67650444444098},null,null,null,{"$f":"'DNSP Inputs Capex'!$G$14","v":51.834775379570829},1,{"$f":"'DNSP Inputs Capex'!$G$15","v":8},{"$f":"AO64*AP64*AQ64","v":414.67820303656663},null,null,{"$f":"'DNSP Inputs Capex'!$G$14","v":51.834775379570829},1,{"$f":"'DNSP Inputs Capex'!$G$15","v":8},{"$f":"AU64*AV64*AW64","v":414.67820303656663},null,null,null,{"$f":"'DNSP Inputs Capex'!$H$14","v":50.587764771147747},1,{"$f":"'DNSP Inputs Capex'!$H$15","v":8},{"$f":"BB64*BC64*BD64","v":404.70211816918197},null,null,{"$f":"'DNSP Inputs Capex'!$H$14","v":50.587764771147747},1,{"$f":"'DNSP Inputs Capex'!$H$15","v":8},{"$f":"BH64*BI64*BJ64","v":404.70211816918197}]
[{"$f":"'DNSP Inputs Capex'!$A$46","v":"Other Capex unit costs Describe :………………………"},null,null,null,null,{"$f":"'DNSP Inputs Capex'!$D$46","v":0},null,null,null,null,null,{"$f":"'DNSP Inputs Capex'!$D$46","v":0},null,null,null,null,null,null,{"$f":"'DNSP Inputs Capex'!$E$46","v":0},null,null,null,null,null,{"$f":"'DNSP Inputs Capex'!$E$46","v":0},null,null,null,null,null,null,{"$f":"'DNSP Inputs Capex'!$F$46","v":0},null,null,null,null,null,{"$f":"'DNSP Inputs Capex'!$F$46","v":0},null,null,null,null,null,null,{"$f":"'DNSP Inputs Capex'!$G$46","v":0},null,null,null,null,null,{"$f":"'DNSP Inputs Capex'!$G$46","v":0},null,null,null,null,null,null,{"$f":"'DNSP Inputs Capex'!$H$46","v":0},null,null,null,null,null,{"$f":"'DNSP Inputs Capex'!$H$46","v":0}]
[{"$f":"'DNSP Inputs Capex'!A$16","v":"Indirect overheads"},{"$f":"'DNSP Inputs Capex'!$D$16","v":0},null,null,null,{"$f":"SUM(F62,F65)*B66","v":0},null,{"$f":"'DNSP Inputs Capex'!$D$16","v":0},null,null,null,{"$f":"SUM(L62,L65)*H66","v":0},null,null,{"$f":"'DNSP Inputs Capex'!$E$16","v":0},null,null,null,{"$f":"SUM(S62,S65)*O66","v":0},null,{"$f":"'DNSP Inputs Capex'!$E$16","v":0},null,null,null,{"$f":"SUM(Y62,Y65)*U66","v":0},null,null,{"$f":"'DNSP Inputs Capex'!$F$16","v":0},null,null,null,{"$f":"SUM(AF62,AF65)*AB66","v":0},null,{"$f":"'DNSP Inputs Capex'!$F$16","v":0},null,null,null,{"$f":"SUM(AL62,AL65)*AH66","v":0},null,null,{"$f":"'DNSP Inputs Capex'!$G$16","v":0},null,null,null,{"$f":"SUM(AS62,AS65)*AO66","v":0},null,{"$f":"'DNSP Inputs Capex'!$G$16","v":0},null,null,null,{"$f":"SUM(AY62,AY65)*AU66","v":0},null,null,{"$f":"'DNSP Inputs Capex'!$H$16","v":0},null,null,null,{"$f":"SUM(BF62,BF65)*BB66","v":0},null,{"$f":"'DNSP Inputs Capex'!$H$16","v":0},null,null,null,{"$f":"SUM(BL62,BL65)*BH66","v":0}]
[null,null,null,null,null,{"$f":"SUM(F62,F65,F66)","v":352.47597229299538},null,null,null,null,null,{"$f":"SUM(L62,L65,L66)","v":391.10881936524981},null,null,null,null,null,null,{"$f":"SUM(S62,S65,S66)","v":362.83811208354911},null,null,null,null,null,{"$f":"SUM(Y62,Y65,Y66)","v":402.23058357454153},null,null,null,null,null,null,{"$f":"SUM(AF62,AF65,AF66)","v":367.42246024354705},null,null,null,null,null,{"$f":"SUM(AL62,AL65,AL66)","v":407.24231208793304},null,null,null,null,null,null,{"$f":"SUM(AS62,AS65,AS66)","v":351.40020309101476},null,null,null,null,null,{"$f":"SUM(AY62,AY65,AY66)","v":390.271482973633},null,null,null,null,null,null,{"$f":"SUM(BF62,BF65,BF66)","v":346.09469344455573},null,null,null,null,null,{"$f":"SUM(BL62,BL65,BL66)","v":384.75735478564627}]
[]
["Number of luminaires replaced",null,null,null,null,{"$f":"'DNSP Inputs Capex'!$D$49","v":413},null,null,null,null,null,{"$f":"'DNSP Inputs Capex'!$D$50","v":22},null,null,null,null,null,null,{"$f":"'DNSP Inputs Capex'!$E$49","v":419},null,null,null,null,null,{"$f":"'DNSP Inputs Capex'!$E$50","v":22},null,null,null,null,null,null,{"$f":"'DNSP Inputs Capex'!$F$49","v":425},null,null,null,null,null,{"$f":"'DNSP Inputs Capex'!$F$50","v":22},null,null,null,null,null,null,{"$f":"'DNSP Inputs Capex'!$G$49","v":430},null,null,null,null,null,{"$f":"'DNSP Inputs Capex'!$G$50","v":23},null,null,null,null,null,null,{"$f":"'DNSP Inputs Capex'!$H$49","v":436},null,null,null,null,null,{"$f":"'DNSP Inputs Capex'!$H$50","v":23}]
[]
["Capex",null,null,null,null,{"$f":"F67*F69","v":145572.57655700709},null,null,null,null,null,{"$f":"L67*L69","v":8604.3940260354957},null,null,null,null,null,null,{"$f":"S67*S69","v":152029.16896300708},null,null,null,null,null,{"$f":"Y67*Y69","v":8849.0728386399132},null,null,null,null,null,null,{"$f":"AF67*AF69","v":156154.54560350749},null,null,null,null,null,{"$f":"AL67*AL69","v":8959.3308659345275},null,null,null,null,null,null,{"$f":"AS67*AS69","v":151102.08732913635},null,null,null,null,null,{"$f":"AY67*AY69","v":8976.2441083935591},null,null,null,null,null,null,{"$f":"BF67*BF69","v":150897.28634182629},null,null,null,null,null,{"$f":"BL67*BL69","v":8849.419160069865}]
[]
[]
["S-HP 250"]
["Luminaires "]
["Material & misc",{"$f":"'DNSP Inputs Capex'!$D$56+'DNSP Inputs Capex'!$D$57","v":239.74397659752128},{"$f":"'DNSP Inputs Capex'!$D$59","v":16},null,{"$f":"B76*C76","v":3835.9036255603405},{"$f":"(E76+E77+E78)/C76","v":355.96424466086626},null,{"$f":"('DNSP Inputs Capex'!$D$56+'DNSP Inputs Capex'!$D$57)*(1+'DNSP Inputs Capex'!$D$11)","v":251.73117542739735},{"$f":"'DNSP Inputs Capex'!$D$60","v":13},null,{"$f":"H76*I76","v":3272.5052805561654},{"$f":"(K76+K77+K78)/I76","v":394.77150535151424},null,null,{"$f":"'DNSP Inputs Capex'!$E$56+'DNSP Inputs Capex'!$E$57","v":248.90333103625017},{"$f":"'DNSP Inputs Capex'!$E$59","v":16},null,{"$f":"O76*P76","v":3982.4532965800026},{"$f":"(R76+R77+R78)/P76","v":366.45965296331173},null,{"$f":"('DNSP Inputs Capex'!$E$56+'DNSP Inputs Capex'!$E$57)*(1+'DNSP Inputs Capex'!$E$11)","v":261.34849758806268},{"$f":"'DNSP Inputs Capex'!$E$60","v":13},null,{"$f":"U76*V76","v":3397.5304686448148},{"$f":"(X76+X77+X78)/V76","v":406.03320149829227},null,null,{"$f":"'DNSP Inputs Capex'!$F$56+'DNSP Inputs Capex'!$F$57","v":252.44296021502626},{"$f":"'DNSP Inputs Capex'!$F$59","v":16},null,{"$f":"AB76*AC76","v":4039.0873634404202},{"$f":"(AE76+AE77+AE78)/AC76","v":371.09550269107399},null,{"$f":"('DNSP Inputs Capex'!$F$56+'DNSP Inputs Capex'!$F$57)*(1+'DNSP Inputs Capex'!$F$11)","v":265.06510822577758},{"$f":"'DNSP Inputs Capex'!$F$60","v":13},null,{"$f":"AH76*AI76","v":3445.8464069351085},{"$f":"(AK76+AK77+AK78)/AI76","v":411.09900665783636},null,null,{"$f":"'DNSP Inputs Capex'!$G$56+'DNSP Inputs Capex'!$G$57","v":237.01191269586025},{"$f":"'DNSP Inputs Capex'!$G$59","v":16},null,{"$f":"AO76*AP76","v":3792.1906031337639},{"$f":"(AR76+AR77+AR78)/AP76","v":354.8487239575104},null,{"$f":"('DNSP Inputs Capex'!$G$56+'DNSP Inputs Capex'!$G$57)*(1+'DNSP Inputs Capex'!$G$11)","v":248.86250833065327},{"$f":"'DNSP Inputs Capex'!$G$60","v":13},null,{"$f":"AU76*AV76","v":3235.2126082984923},{"$f":"(AX76+AX77+AX78)/AV76","v":393.89242988345347},null,null,{"$f":"'DNSP Inputs Capex'!$H$56+'DNSP Inputs Capex'!$H$57","v":231.31001918344293},{"$f":"'DNSP Inputs Capex'!$H$59","v":16},null,{"$f":"BB76*BC76","v":3700.9603069350869},{"$f":"(BE76+BE77+BE78)/BC76","v":349.46025181970458},null,{"$f":"('DNSP Inputs Capex'!$H$56+'DNSP Inputs Capex'!$H$57)*(1+'DNSP Inputs Capex'!$H$11)","v":242.8755201426151},{"$f":"'DNSP Inputs Capex'!$H$60","v":13},null,{"$f":"BH76*BI76","v":3157.3817618539965},{"$f":"(BK76+BK77+BK78)/BI76","v":388.29119107955256}]
["Crew costs",{"$f":"'DNSP Inputs Capex'!$D$12","v":90.004127629331563},{"$f":"'DNSP Inputs Capex'!$D$58","v":2},{"$f":"'DNSP Inputs Capex'!$D$15","v":8},{"$f":"D77*C77*B77","v":1440.066042069305},null,null,{"$f":"'DNSP Inputs Capex'!$D$12","v":90.004127629331563},{"$f":"'DNSP Inputs Capex'!$D$58","v":2},{"$f":"'DNSP Inputs Capex'!$D$15","v":8},{"$f":"J77*I77*H77","v":1440.066042069305},null,null,null,{"$f":"'DNSP Inputs Capex'!$E$12","v":90.338600866671271},{"$f":"'DNSP Inputs Capex'!$E$58","v":2},{"$f":"'DNSP Inputs Capex'!$E$15","v":8},{"$f":"Q77*P77*O77","v":1445.4176138667403},null,null,{"$f":"'DNSP Inputs Capex'!$E$12","v":90.338600866671271},{"$f":"'DNSP Inputs Capex'!$E$58","v":2},{"$f":"'DNSP Inputs Capex'!$E$15","v":8},{"$f":"W77*V77*U77","v":1445.4176138667403},null,null,null,{"$f":"'DNSP Inputs Capex'!$F$12","v":91.047760948270181},{"$f":"'DNSP Inputs Capex'!$F$58","v":2},{"$f":"'DNSP Inputs Capex'!$F$15","v":8},{"$f":"AD77*AC77*AB77","v":1456.7641751723229},null,null,{"$f":"'DNSP Inputs Capex'!$F$12","v":91.047760948270181},{"$f":"'DNSP Inputs Capex'!$F$58","v":2},{"$f":"'DNSP Inputs Capex'!$F$15","v":8},{"$f":"AJ77*AI77*AH77","v":1456.7641751723229},null,null,null,{"$f":"'DNSP Inputs Capex'!$G$12","v":91.919423571864726},{"$f":"'DNSP Inputs Capex'!$G$58","v":2},{"$f":"'DNSP Inputs Capex'!$G$15","v":8},{"$f":"AQ77*AP77*AO77","v":1470.7107771498356},null,null,{"$f":"'DNSP Inputs Capex'!$G$12","v":91.919423571864726},{"$f":"'DNSP Inputs Capex'!$G$58","v":2},{"$f":"'DNSP Inputs Capex'!$G$15","v":8},{"$f":"AW77*AV77*AU77","v":1470.7107771498356},null,null,null,{"$f":"'DNSP Inputs Capex'!$H$12","v":92.856350250687825},{"$f":"'DNSP Inputs Capex'!$H$58","v":2},{"$f":"'DNSP Inputs Capex'!$H$15","v":8},{"$f":"BD77*BC77*BB77","v":1485.7016040110052},null,null,{"$f":"'DNSP Inputs Capex'!$H$12","v":92.856350250687825},{"$f":"'DNSP Inputs Capex'!$H$58","v":2},{"$f":"'DNSP Inputs Capex'!$H$15","v":8},{"$f":"BJ77*BI77*BH77","v":1485.7016040110052}]
["Elevated platform vehicle costs",{"$f":"'DNSP Inputs Capex'!$D$14","v":52.432280868026844},1,{"$f":"'DNSP Inputs Capex'!$D$15","v":8},{"$f":"B78*C78*D78","v":419.45824694421475},null,null,{"$f":"'DNSP Inputs Capex'!$D$14","v":52.432280868026844},1,{"$f":"'DNSP Inputs Capex'!$D$15","v":8},{"$f":"H78*I78*J78","v":419.45824694421475},null,null,null,{"$f":"'DNSP Inputs Capex'!$E$14","v":54.435442120780536},1,{"$f":"'DNSP Inputs Capex'!$E$15","v":8},{"$f":"O78*P78*Q78","v":435.48353696624429},null,null,{"$f":"'DNSP Inputs Capex'!$E$14","v":54.435442120780536},1,{"$f":"'DNSP Inputs Capex'!$E$15","v":8},{"$f":"U78*V78*W78","v":435.48353696624429},null,null,null,{"$f":"'DNSP Inputs Capex'!$F$14","v":55.209563055555122},1,{"$f":"'DNSP Inputs Capex'!$F$15","v":8},{"$f":"AB78*AC78*AD78","v":441.67650444444098},null,null,{"$f":"'DNSP Inputs Capex'!$F$14","v":55.209563055555122},1,{"$f":"'DNSP Inputs Capex'!$F$15","v":8},{"$f":"AH78*AI78*AJ78","v":441.67650444444098},null,null,null,{"$f":"'DNSP Inputs Capex'!$G$14","v":51.834775379570829},1,{"$f":"'DNSP Inputs Capex'!$G$15","v":8},{"$f":"AO78*AP78*AQ78","v":414.67820303656663},null,null,{"$f":"'DNSP Inputs Capex'!$G$14","v":51.834775379570829},1,{"$f":"'DNSP Inputs Capex'!$G$15","v":8},{"$f":"AU78*AV78*AW78","v":414.67820303656663},null,null,null,{"$f":"'DNSP Inputs Capex'!$H$14","v":50.587764771147747},1,{"$f":"'DNSP Inputs Capex'!$H$15","v":8},{"$f":"BB78*BC78*BD78","v":404.70211816918197},null,null,{"$f":"'DNSP Inputs Capex'!$H$14","v":50.587764771147747},1,{"$f":"'DNSP Inputs Capex'!$H$15","v":8},{"$f":"BH78*BI78*BJ78","v":404.70211816918197}]
[{"$f":"'DNSP Inputs Capex'!$A$62","v":"Other Capex unit costs Describe :………………………"},null,null,null,null,{"$f":"'DNSP Inputs Capex'!$D$62","v":0},null,null,null,null,null,{"$f":"'DNSP Inputs Capex'!$D$62","v":0},null,null,null,null,null,null,{"$f":"'DNSP Inputs Capex'!$E$62","v":0},null,null,null,null,null,{"$f":"'DNSP Inputs Capex'!$E$62","v":0},null,null,null,null,null,null,{"$f":"'DNSP Inputs Capex'!$F$62","v":0},null,null,null,null,null,{"$f":"'DNSP Inputs Capex'!$F$62","v":0},null,null,null,null,null,null,{"$f":"'DNSP Inputs Capex'!$G$62","v":0},null,null,null,null,null,{"$f":"'DNSP Inputs Capex'!$G$62","v":0},null,null,null,null,null,null,{"$f":"'DNSP Inputs Capex'!$H$62","v":0},null,null,null,null,null,{"$f":"'DNSP Inputs Capex'!$H$62","v":0}]
[{"$f":"'DNSP Inputs Capex'!A$16","v":"Indirect overheads"},{"$f":"'DNSP Inputs Capex'!$D$16","v":0},null,null,null,{"$f":"SUM(F76,F79)*B80","v":0},null,{"$f":"'DNSP Inputs Capex'!$D$16","v":0},null,null,null,{"$f":"SUM(L76,L79)*H80","v":0},null,null,{"$f":"'DNSP Inputs Capex'!$E$16","v":0},null,null,null,{"$f":"SUM(S76,S79)*O80","v":0},null,{"$f":"'DNSP Inputs Capex'!$E$16","v":0},null,null,null,{"$f":"SUM(Y76,Y79)*U80","v":0},null,null,{"$f":"'DNSP Inputs Capex'!$F$16","v":0},null,null,null,{"$f":"SUM(AF76,AF79)*AB80","v":0},null,{"$f":"'DNSP Inputs Capex'!$F$16","v":0},null,null,null,{"$f":"SUM(AL76,AL79)*AH80","v":0},null,null,{"$f":"'DNSP Inputs Capex'!$G$16","v":0},null,null,null,{"$f":"SUM(AS76,AS79)*AO80","v":0},null,{"$f":"'DNSP Inputs Capex'!$G$16","v":0},null,null,null,{"$f":"SUM(AY76,AY79)*AU80","v":0},null,null,{"$f":"'DNSP Inputs Capex'!$H$16","v":0},null,null,null,{"$f":"SUM(BF76,BF79)*BB80","v":0},null,{"$f":"'DNSP Inputs Capex'!$H$16","v":0},null,null,null,{"$f":"SUM(BL76,BL79)*BH80","v":0}]
[null,null,null,null,null,{"$f":"SUM(F76,F79,F80)","v":355.96424466086626},null,null,null,null,null,{"$f":"SUM(L76,L79,L80)","v":394.77150535151424},null,null,null,null,null,null,{"$f":"SUM(S76,S79,S80)","v":366.45965296331173},null,null,null,null,null,{"$f":"SUM(Y76,Y79,Y80)","v":406.03320149829227},null,null,null,null,null,null,{"$f":"SUM(AF76,AF79,AF80)","v":371.09550269107399},null,null,null,null,null,{"$f":"SUM(AL76,AL79,AL80)","v":411.09900665783636},null,null,null,null,null,null,{"$f":"SUM(AS76,AS79,AS80)","v":354.8487239575104},null,null,null,null,null,{"$f":"SUM(AY76,AY79,AY80)","v":393.89242988345347},null,null,null,null,null,null,{"$f":"SUM(BF76,BF79,BF80)","v":349.46025181970458},null,null,null,null,null,{"$f":"SUM(BL76,BL79,BL80)","v":388.29119107955256}]
[]
["Number of luminaires replaced",null,null,null,null,{"$f":"'DNSP Inputs Capex'!$D$65","v":121},null,null,null,null,null,{"$f":"'DNSP Inputs Capex'!$D$66","v":10},null,null,null,null,null,null,{"$f":"'DNSP Inputs Capex'!$E$65","v":121},null,null,null,null,null,{"$f":"'DNSP Inputs Capex'!$E$66","v":11},null,null,null,null,null,null,{"$f":"'DNSP Inputs Capex'!$F$65","v":121},null,null,null,null,null,{"$f":"'DNSP Inputs Capex'!$F$66","v":11},null,null,null,null,null,null,{"$f":"'DNSP Inputs Capex'!$G$65","v":121},null,null,null,null,null,{"$f":"'DNSP Inputs Capex'!$G$66","v":11},null,null,null,null,null,null,{"$f":"'DNSP Inputs Capex'!$H$65","v":121},null,null,null,null,null,{"$f":"'DNSP Inputs Capex'!$H$66","v":11}]
[]
["Capex",null,null,null,null,{"$f":"F81*F83","v":43071.673603964817},null,null,null,null,null,{"$f":"L81*L83","v":3947.7150535151422},null,null,null,null,null,null,{"$f":"S81*S83","v":44341.618008560719},null,null,null,null,null,{"$f":"Y81*Y83","v":4466.3652164812147},null,null,null,null,null,null,{"$f":"AF81*AF83","v":44902.555825619951},null,null,null,null,null,{"$f":"AL81*AL83","v":4522.0890732361995},null,null,null,null,null,null,{"$f":"AS81*AS83","v":42936.695598858758},null,null,null,null,null,{"$f":"AY81*AY83","v":4332.8167287179886},null,null,null,null,null,null,{"$f":"BF81*BF83","v":42284.690470184258},null,null,null,null,null,{"$f":"BL81*BL83","v":4271.2031018750786}]
[]
[]
["Dedicated poles"]
["Material",{"$f":"'DNSP Inputs Capex'!$D$72","v":619.04886012118823},{"$f":"'DNSP Inputs Capex'!$D$73","v":4},null,{"$f":"C89*B89","v":2476.1954404847529},{"$f":"(E89+E90+E91)/C89","v":1060.6266964332228},null,{"$f":"'DNSP Inputs Capex'!$D$72*(1+'DNSP Inputs Capex'!$D$11)","v":650.00130312724764},{"$f":"'DNSP Inputs Capex'!$D$73","v":4},null,{"$f":"I89*H89","v":2600.0052125089906},{"$f":"(K89+K90+K91)/I89","v":1114.8823753806275},null,null,{"$f":"'DNSP Inputs Capex'!$E$72","v":642.6994560828125},{"$f":"'DNSP Inputs Capex'!$E$73","v":4},null,{"$f":"P89*O89","v":2570.79782433125},{"$f":"(R89+R90+R91)/P89","v":1088.7312139596006},null,{"$f":"'DNSP Inputs Capex'!$E$72*(1+'DNSP Inputs Capex'!$E$11)","v":674.83442888695311},{"$f":"'DNSP Inputs Capex'!$E$73","v":4},null,{"$f":"V89*U89","v":2699.3377155478124},{"$f":"(X89+X90+X91)/V89","v":1145.0597165951992},null,null,{"$f":"'DNSP Inputs Capex'!$F$72","v":651.83922025737434},{"$f":"'DNSP Inputs Capex'!$F$73","v":4},null,{"$f":"AC89*AB89","v":2607.3568810294973},{"$f":"(AE89+AE90+AE91)/AC89","v":1101.9118065813186},null,{"$f":"'DNSP Inputs Capex'!$F$72*(1+'DNSP Inputs Capex'!$F$11)","v":684.43118127024309},{"$f":"'DNSP Inputs Capex'!$F$73","v":4},null,{"$f":"AI89*AH89","v":2737.7247250809723},{"$f":"(AK89+AK90+AK91)/AI89","v":1159.0413511744341},null,null,{"$f":"'DNSP Inputs Capex'!$G$72","v":611.99433025101428},{"$f":"'DNSP Inputs Capex'!$G$73","v":4},null,{"$f":"AP89*AO89","v":2447.9773210040571},{"$f":"(AR89+AR90+AR91)/AP89","v":1060.3038973511389},null,{"$f":"'DNSP Inputs Capex'!$G$72*(1+'DNSP Inputs Capex'!$G$11)","v":642.59404676356496},{"$f":"'DNSP Inputs Capex'!$G$73","v":4},null,{"$f":"AV89*AU89","v":2570.3761870542598},{"$f":"(AX89+AX90+AX91)/AV89","v":1113.9412918101655},null,null,{"$f":"'DNSP Inputs Capex'!$H$72","v":597.27132978406189},{"$f":"'DNSP Inputs Capex'!$H$73","v":4},null,{"$f":"BC89*BB89","v":2389.0853191362476},{"$f":"(BE89+BE90+BE91)/BC89","v":1047.3888093197097},null,{"$f":"'DNSP Inputs Capex'!$H$72*(1+'DNSP Inputs Capex'!$H$11)","v":627.13489627326499},{"$f":"'DNSP Inputs Capex'!$H$73","v":4},null,{"$f":"BI89*BH89","v":2508.5395850930599},{"$f":"(BK89+BK90+BK91)/BI89","v":1099.7358268183118}]
["Crew costs",{"$f":"'DNSP Inputs Capex'!$D$12","v":90.004127629331563},{"$f":"'DNSP Inputs Capex'!$D$23","v":2},{"$f":"'DNSP Inputs Capex'!$D$15","v":8},{"$f":"B90*C90*D90","v":1440.066042069305},null,null,{"$f":"'DNSP Inputs Capex'!$D$12","v":90.004127629331563},{"$f":"'DNSP Inputs Capex'!$D$23","v":2},{"$f":"'DNSP Inputs Capex'!$D$15","v":8},{"$f":"H90*I90*J90","v":1440.066042069305},null,null,null,{"$f":"'DNSP Inputs Capex'!$E$12","v":90.338600866671271},{"$f":"'DNSP Inputs Capex'!$E$23","v":2},{"$f":"'DNSP Inputs Capex'!$E$15","v":8},{"$f":"O90*P90*Q90","v":1445.4176138667403},null,null,{"$f":"'DNSP Inputs Capex'!$E$12","v":90.338600866671271},{"$f":"'DNSP Inputs Capex'!$E$23","v":2},{"$f":"'DNSP Inputs Capex'!$E$15","v":8},{"$f":"U90*V90*W90","v":1445.4176138667403},null,null,null,{"$f":"'DNSP Inputs Capex'!$F$12","v":91.047760948270181},{"$f":"'DNSP Inputs Capex'!$F$23","v":2},{"$f":"'DNSP Inputs Capex'!$F$15","v":8},{"$f":"AB90*AC90*AD90","v":1456.7641751723229},null,null,{"$f":"'DNSP Inputs Capex'!$F$12","v":91.047760948270181},{"$f":"'DNSP Inputs Capex'!$F$23","v":2},{"$f":"'DNSP Inputs Capex'!$F$15","v":8},{"$f":"AH90*AI90*AJ90","v":1456.7641751723229},null,null,null,{"$f":"'DNSP Inputs Capex'!$G$12","v":91.919423571864726},{"$f":"'DNSP Inputs Capex'!$G$23","v":2},{"$f":"'DNSP Inputs Capex'!$G$15","v":8},{"$f":"AO90*AP90*AQ90","v":1470.7107771498356},null,null,{"$f":"'DNSP Inputs Capex'!$G$12","v":91.919423571864726},{"$f":"'DNSP Inputs Capex'!$G$23","v":2},{"$f":"'DNSP Inputs Capex'!$G$15","v":8},{"$f":"AU90*AV90*AW90","v":1470.7107771498356},null,null,null,{"$f":"'DNSP Inputs Capex'!$H$12","v":92.856350250687825},{"$f":"'DNSP Inputs Capex'!$H$23","v":2},{"$f":"'DNSP Inputs Capex'!$H$15","v":8},{"$f":"BB90*BC90*BD90","v":1485.7016040110052},null,null,{"$f":"'DNSP Inputs Capex'!$H$12","v":92.856350250687825},{"$f":"'DNSP Inputs Capex'!$H$23","v":2},{"$f":"'DNSP Inputs Capex'!$H$15","v":8},{"$f":"BH90*BI90*BJ90","v":1485.7016040110052}]
["Elevated platform vehicle costs",{"$f":"'DNSP Inputs Capex'!$D$13","v":40.780662897354212},1,{"$f":"'DNSP Inputs Capex'!$D$15","v":8},{"$f":"B91*C91*D91","v":326.24530317883369},null,null,{"$f":"'DNSP Inputs Capex'!$D$14","v":52.432280868026844},1,{"$f":"'DNSP Inputs Capex'!$D$15","v":8},{"$f":"H91*I91*J91","v":419.45824694421475},null,null,null,{"$f":"'DNSP Inputs Capex'!$E$13","v":42.338677205051525},1,{"$f":"'DNSP Inputs Capex'!$E$15","v":8},{"$f":"O91*P91*Q91","v":338.7094176404122},null,null,{"$f":"'DNSP Inputs Capex'!$E$14","v":54.435442120780536},1,{"$f":"'DNSP Inputs Capex'!$E$15","v":8},{"$f":"U91*V91*W91","v":435.48353696624429},null,null,null,{"$f":"'DNSP Inputs Capex'!$F$13","v":42.940771265431763},1,{"$f":"'DNSP Inputs Capex'!$F$15","v":8},{"$f":"AB91*AC91*AD91","v":343.52617012345411},null,null,{"$f":"'DNSP Inputs Capex'!$F$14","v":55.209563055555122},1,{"$f":"'DNSP Inputs Capex'!$F$15","v":8},{"$f":"AH91*AI91*AJ91","v":441.67650444444098},null,null,null,{"$f":"'DNSP Inputs Capex'!$G$13","v":40.315936406332867},1,{"$f":"'DNSP Inputs Capex'!$G$15","v":8},{"$f":"AO91*AP91*AQ91","v":322.52749125066293},null,null,{"$f":"'DNSP Inputs Capex'!$G$14","v":51.834775379570829},1,{"$f":"'DNSP Inputs Capex'!$G$15","v":8},{"$f":"AU91*AV91*AW91","v":414.67820303656663},null,null,null,{"$f":"'DNSP Inputs Capex'!$H$13","v":39.346039266448244},1,{"$f":"'DNSP Inputs Capex'!$H$15","v":8},{"$f":"BB91*BC91*BD91","v":314.76831413158595},null,null,{"$f":"'DNSP Inputs Capex'!$H$14","v":50.587764771147747},1,{"$f":"'DNSP Inputs Capex'!$H$15","v":8},{"$f":"BH91*BI91*BJ91","v":404.70211816918197}]
[{"$f":"'DNSP Inputs Capex'!$A$62","v":"Other Capex unit costs Describe :………………………"},null,null,null,null,{"$f":"'DNSP Inputs Capex'!$D$77","v":0},null,null,null,null,null,{"$f":"'DNSP Inputs Capex'!$D$77","v":0},null,null,null,null,null,null,{"$f":"'DNSP Inputs Capex'!$E$77","v":0},null,null,null,null,null,{"$f":"'DNSP Inputs Capex'!$E$77","v":0},null,null,null,null,null,null,{"$f":"'DNSP Inputs Capex'!$F$77","v":0},null,null,null,null,null,{"$f":"'DNSP Inputs Capex'!$F$77","v":0},null,null,null,null,null,null,{"$f":"'DNSP Inputs Capex'!$G$77","v":0},null,null,null,null,null,{"$f":"'DNSP Inputs Capex'!$G$77","v":0},null,null,null,null,null,null,{"$f":"'DNSP Inputs Capex'!$H$77","v":0},null,null,null,null,null,{"$f":"'DNSP Inputs Capex'!$H$77","v":0}]
[{"$f":"'DNSP Inputs Capex'!A$16","v":"Indirect overheads"},{"$f":"'DNSP Inputs Capex'!$D$16","v":0},null,null,null,{"$f":"SUM(F89,F92)*B93","v":0},null,{"$f":"'DNSP Inputs Capex'!$D$16","v":0},null,null,null,{"$f":"SUM(L89,L92)*H93","v":0},null,null,{"$f":"'DNSP Inputs Capex'!$E$16","v":0},null,null,null,{"$f":"SUM(S89,S92)*O93","v":0},null,{"$f":"'DNSP Inputs Capex'!$E$16","v":0},null,null,null,{"$f":"SUM(Y89,Y92)*U93","v":0},null,null,{"$f":"'DNSP Inputs Capex'!$F$16","v":0},null,null,null,{"$f":"SUM(AF89,AF92)*AB93","v":0},null,{"$f":"'DNSP Inputs Capex'!$F$16","v":0},null,null,null,{"$f":"SUM(AL89,AL92)*AH93","v":0},null,null,{"$f":"'DNSP Inputs Capex'!$G$16","v":0},null,null,null,{"$f":"SUM(AS89,AS92)*AO93","v":0},null,{"$f":"'DNSP Inputs Capex'!$G$16","v":0},null,null,null,{"$f":"SUM(AY89,AY92)*AU93","v":0},null,null,{"$f":"'DNSP Inputs Capex'!$H$16","v":0},null,null,null,{"$f":"SUM(BF89,BF92)*BB93","v":0},null,{"$f":"'DNSP Inputs Capex'!$H$16","v":0},null,null,null,{"$f":"SUM(BL89,BL92)*BH93","v":0}]
[null,null,null,null,null,{"$f":"SUM(F89,F92,F93)","v":1060.6266964332228},null,null,null,null,null,{"$f":"SUM(L89,L92,L93)","v":1114.8823753806275},null,null,null,null,null,null,{"$f":"SUM(S89,S92,S93)","v":1088.7312139596006},null,null,null,null,null,{"$f":"SUM(Y89,Y92,Y93)","v":1145.0597165951992},null,null,null,null,null,null,{"$f":"SUM(AF89,AF92,AF93)","v":1101.9118065813186},null,null,null,null,null,{"$f":"SUM(AL89,AL92,AL93)","v":1159.0413511744341},null,null,null,null,null,null,{"$f":"SUM(AS89,AS92,AS93)","v":1060.3038973511389},null,null,null,null,null,{"$f":"SUM(AY89,AY92,AY93)","v":1113.9412918101655},null,null,null,null,null,null,{"$f":"SUM(BF89,BF92,BF93)","v":1047.3888093197097},null,null,null,null,null,{"$f":"SUM(BL89,BL92,BL93)","v":1099.7358268183118}]
[]
["Number of poles & brackets replaced",null,null,null,null,{"$f":"'DNSP Inputs Capex'!$D$81","v":321},null,null,null,null,null,{"$f":"'DNSP Inputs Capex'!$D$82","v":17},null,null,null,null,null,null,{"$f":"'DNSP Inputs Capex'!$E$81","v":321},null,null,null,null,null,{"$f":"'DNSP Inputs Capex'!$E$82","v":17},null,null,null,null,null,null,{"$f":"'DNSP Inputs Capex'!$F$81","v":321},null,null,null,null,null,{"$f":"'DNSP Inputs Capex'!$F$82","v":17},null,null,null,null,null,null,{"$f":"'DNSP Inputs Capex'!$G$81","v":321},null,null,null,null,null,{"$f":"'DNSP Inputs Capex'!$G$82","v":17},null,null,null,null,null,null,{"$f":"'DNSP Inputs Capex'!$H$81","v":321},null,null,null,null,null,{"$f":"'DNSP Inputs Capex'!$H$82","v":17}]
[]
["Capex",null,null,null,null,{"$f":"F94*F96","v":340461.16955506452},null,null,null,null,null,{"$f":"L94*L96","v":18953.000381470669},null,null,null,null,null,null,{"$f":"S94*S96","v":349482.71968103177},null,null,null,null,null,{"$f":"Y94*Y96","v":19466.015182118386},null,null,null,null,null,null,{"$f":"AF94*AF96","v":353713.68991260329},null,null,null,null,null,{"$f":"AL94*AL96","v":19703.702969965379},null,null,null,null,null,null,{"$f":"AS94*AS96","v":340357.55104971555},null,null,null,null,null,{"$f":"AY94*AY96","v":18937.001960772814},null,null,null,null,null,null,{"$f":"BF94*BF96","v":336211.80779162684},null,null,null,null,null,{"$f":"BL94*BL96","v":18695.509055911301}]
[]
[]
["Brackets"]
["Material",{"$f":"'DNSP Inputs Capex'!$D$74","v":49.151464886316724},{"$f":"'DNSP Inputs Capex'!$D$75","v":20},null,{"$f":"C102*B102","v":983.02929772633445},{"$f":"(E102+E103+E104)/C102","v":137.46703214872366},null,{"$f":"'DNSP Inputs Capex'!$D$74*(1+'DNSP Inputs Capex'!$D$11)","v":51.609038130632563},{"$f":"'DNSP Inputs Capex'!$D$75","v":20},null,{"$f":"I102*H102","v":1032.1807626126513},{"$f":"(K102+K103+K104)/I102","v":144.58525258130857},null,null,{"$f":"'DNSP Inputs Capex'!$E$74","v":51.029283442869222},{"$f":"'DNSP Inputs Capex'!$E$75","v":20},null,{"$f":"P102*O102","v":1020.5856688573845},{"$f":"(R102+R103+R104)/P102","v":140.23563501822684},null,{"$f":"'DNSP Inputs Capex'!$E$74*(1+'DNSP Inputs Capex'!$E$11)","v":53.580747615012683},{"$f":"'DNSP Inputs Capex'!$E$75","v":20},null,{"$f":"V102*U102","v":1071.6149523002537},{"$f":"(X102+X103+X104)/V102","v":147.6258051566619},null,null,{"$f":"'DNSP Inputs Capex'!$F$74","v":51.754965738459347},{"$f":"'DNSP Inputs Capex'!$F$75","v":20},null,{"$f":"AC102*AB102","v":1035.099314769187},{"$f":"(AE102+AE103+AE104)/AC102","v":141.76948300324821},null,{"$f":"'DNSP Inputs Capex'!$F$74*(1+'DNSP Inputs Capex'!$F$11)","v":54.342714025382314},{"$f":"'DNSP Inputs Capex'!$F$75","v":20},null,{"$f":"AI102*AH102","v":1086.8542805076463},{"$f":"(AK102+AK103+AK104)/AI102","v":149.26474800622049},null,null,{"$f":"'DNSP Inputs Capex'!$G$74","v":48.591346776842379},{"$f":"'DNSP Inputs Capex'!$G$75","v":20},null,{"$f":"AP102*AO102","v":971.8269355368476},{"$f":"(AR102+AR103+AR104)/AP102","v":138.2532601968673},null,{"$f":"'DNSP Inputs Capex'!$G$74*(1+'DNSP Inputs Capex'!$G$11)","v":51.020914115684498},{"$f":"'DNSP Inputs Capex'!$G$75","v":20},null,{"$f":"AV102*AU102","v":1020.4182823136899},{"$f":"(AX102+AX103+AX104)/AV102","v":145.2903631250046},null,null,{"$f":"'DNSP Inputs Capex'!$H$74","v":47.42236467043648},{"$f":"'DNSP Inputs Capex'!$H$75","v":20},null,{"$f":"BC102*BB102","v":948.44729340872959},{"$f":"(BE102+BE103+BE104)/BC102","v":137.44586057756604},null,{"$f":"'DNSP Inputs Capex'!$H$74*(1+'DNSP Inputs Capex'!$H$11)","v":49.793482903958306},{"$f":"'DNSP Inputs Capex'!$H$75","v":20},null,{"$f":"BI102*BH102","v":995.86965807916613},{"$f":"(BK102+BK103+BK104)/BI102","v":144.31366901296767}]
["Crew costs",{"$f":"'DNSP Inputs Capex'!$D$12","v":90.004127629331563},{"$f":"'DNSP Inputs Capex'!$D$23","v":2},{"$f":"'DNSP Inputs Capex'!$D$15","v":8},{"$f":"B103*C103*D103","v":1440.066042069305},null,null,{"$f":"'DNSP Inputs Capex'!$D$12","v":90.004127629331563},{"$f":"'DNSP Inputs Capex'!$D$23","v":2},{"$f":"'DNSP Inputs Capex'!$D$15","v":8},{"$f":"H103*I103*J103","v":1440.066042069305},null,null,null,{"$f":"'DNSP Inputs Capex'!$E$12","v":90.338600866671271},{"$f":"'DNSP Inputs Capex'!$E$23","v":2},{"$f":"'DNSP Inputs Capex'!$E$15","v":8},{"$f":"O103*P103*Q103","v":1445.4176138667403},null,null,{"$f":"'DNSP Inputs Capex'!$E$12","v":90.338600866671271},{"$f":"'DNSP Inputs Capex'!$E$23","v":2},{"$f":"'DNSP Inputs Capex'!$E$15","v":8},{"$f":"U103*V103*W103","v":1445.4176138667403},null,null,null,{"$f":"'DNSP Inputs Capex'!$F$12","v":91.047760948270181},{"$f":"'DNSP Inputs Capex'!$F$23","v":2},{"$f":"'DNSP Inputs Capex'!$F$15","v":8},{"$f":"AB103*AC103*AD103","v":1456.7641751723229},null,null,{"$f":"'DNSP Inputs Capex'!$F$12","v":91.047760948270181},{"$f":"'DNSP Inputs Capex'!$F$23","v":2},{"$f":"'DNSP Inputs Capex'!$F$15","v":8},{"$f":"AH103*AI103*AJ103","v":1456.7641751723229},null,null,null,{"$f":"'DNSP Inputs Capex'!$G$12","v":91.919423571864726},{"$f":"'DNSP Inputs Capex'!$G$23","v":2},{"$f":"'DNSP Inputs Capex'!$G$15","v":8},{"$f":"AO103*AP103*AQ103","v":1470.7107771498356},null,null,{"$f":"'DNSP Inputs Capex'!$G$12","v":91.919423571864726},{"$f":"'DNSP Inputs Capex'!$G$23","v":2},{"$f":"'DNSP Inputs Capex'!$G$15","v":8},{"$f":"AU103*AV103*AW103","v":1470.7107771498356},null,null,null,{"$f":"'DNSP Inputs Capex'!$H$12","v":92.856350250687825},{"$f":"'DNSP Inputs Capex'!$H$23","v":2},{"$f":"'DNSP Inputs Capex'!$H$15","v":8},{"$f":"BB103*BC103*BD103","v":1485.7016040110052},null,null,{"$f":"'DNSP Inputs Capex'!$H$12","v":92.856350250687825},{"$f":"'DNSP Inputs Capex'!$H$23","v":2},{"$f":"'DNSP Inputs Capex'!$H$15","v":8},{"$f":"BH103*BI103*BJ103","v":1485.7016040110052}]
["Elevated platform costs",{"$f":"'DNSP Inputs Capex'!$D$13","v":40.780662897354212},1,{"$f":"'DNSP Inputs Capex'!$D$15","v":8},{"$f":"B104*C104*D104","v":326.24530317883369},null,null,{"$f":"'DNSP Inputs Capex'!$D$14","v":52.432280868026844},1,{"$f":"'DNSP Inputs Capex'!$D$15","v":8},{"$f":"H104*I104*J104","v":419.45824694421475},null,null,null,{"$f":"'DNSP Inputs Capex'!$E$13","v":42.338677205051525},1,{"$f":"'DNSP Inputs Capex'!$E$15","v":8},{"$f":"O104*P104*Q104","v":338.7094176404122},null,null,{"$f":"'DNSP Inputs Capex'!$E$14","v":54.435442120780536},1,{"$f":"'DNSP Inputs Capex'!$E$15","v":8},{"$f":"U104*V104*W104","v":435.48353696624429},null,null,null,{"$f":"'DNSP Inputs Capex'!$F$13","v":42.940771265431763},1,{"$f":"'DNSP Inputs Capex'!$F$15","v":8},{"$f":"AB104*AC104*AD104","v":343.52617012345411},null,null,{"$f":"'DNSP Inputs Capex'!$F$14","v":55.209563055555122},1,{"$f":"'DNSP Inputs Capex'!$F$15","v":8},{"$f":"AH104*AI104*AJ104","v":441.67650444444098},null,null,null,{"$f":"'DNSP Inputs Capex'!$G$13","v":40.315936406332867},1,{"$f":"'DNSP Inputs Capex'!$G$15","v":8},{"$f":"AO104*AP104*AQ104","v":322.52749125066293},null,null,{"$f":"'DNSP Inputs Capex'!$G$14","v":51.834775379570829},1,{"$f":"'DNSP Inputs Capex'!$G$15","v":8},{"$f":"AU104*AV104*AW104","v":414.67820303656663},null,null,null,{"$f":"'DNSP Inputs Capex'!$H$13","v":39.346039266448244},1,{"$f":"'DNSP Inputs Capex'!$H$15","v":8},{"$f":"BB104*BC104*BD104","v":314.76831413158595},null,null,{"$f":"'DNSP Inputs Capex'!$H$14","v":50.587764771147747},1,{"$f":"'DNSP Inputs Capex'!$H$15","v":8},{"$f":"BH104*BI104*BJ104","v":404.70211816918197}]
[{"$f":"'DNSP Inputs Capex'!A$16","v":"Indirect overheads"},{"$f":"'DNSP Inputs Capex'!$D$16","v":0},null,null,null,{"$f":"F102*B105","v":0},null,{"$f":"'DNSP Inputs Capex'!$D$16","v":0},null,null,null,{"$f":"L102*H105","v":0},null,null,{"$f":"'DNSP Inputs Capex'!$E$16","v":0},null,null,null,{"$f":"S102*O105","v":0},null,{"$f":"'DNSP Inputs Capex'!$E$16","v":0},null,null,null,{"$f":"Y102*U105","v":0},null,null,{"$f":"'DNSP Inputs Capex'!$F$16","v":0},null,null,null,{"$f":"AF102*AB105","v":0},null,{"$f":"'DNSP Inputs Capex'!$F$16","v":0},null,null,null,{"$f":"AL102*AH105","v":0},null,null,{"$f":"'DNSP Inputs Capex'!$G$16","v":0},null,null,null,{"$f":"AS102*AO105","v":0},null,{"$f":"'DNSP Inputs Capex'!$G$16","v":0},null,null,null,{"$f":"AY102*AU105","v":0},null,null,{"$f":"'DNSP Inputs Capex'!$H$16","v":0},null,null,null,{"$f":"BF102*BB105","v":0},null,{"$f":"'DNSP Inputs Capex'!$H$16","v":0},null,null,null,{"$f":"BL102*BH105","v":0}]
[null,null,null,null,null,{"$f":"SUM(F102,F105)","v":137.46703214872366},null,null,null,null,null,{"$f":"SUM(L102,L105)","v":144.58525258130857},null,null,null,null,null,null,{"$f":"SUM(S102,S105)","v":140.23563501822684},null,null,null,null,null,{"$f":"SUM(Y102,Y105)","v":147.6258051566619},null,null,null,null,null,null,{"$f":"SUM(AF102,AF105)","v":141.76948300324821},null,null,null,null,null,{"$f":"SUM(AL102,AL105)","v":149.26474800622049},null,null,null,null,null,null,{"$f":"SUM(AS102,AS105)","v":138.2532601968673},null,null,null,null,null,{"$f":"SUM(AY102,AY105)","v":145.2903631250046},null,null,null,null,null,null,{"$f":"SUM(BF102,BF105)","v":137.44586057756604},null,null,null,null,null,{"$f":"SUM(BL102,BL105)","v":144.31366901296767}]
[]
["Number of brackets replaced",null,null,null,null,{"$f":"'DNSP Inputs Capex'!$D$85","v":33},null,null,null,null,null,{"$f":"'DNSP Inputs Capex'!$D$86","v":2},null,null,null,null,null,null,{"$f":"'DNSP Inputs Capex'!$E$85","v":33},null,null,null,null,null,{"$f":"'DNSP Inputs Capex'!$E$86","v":2},null,null,null,null,null,null,{"$f":"'DNSP Inputs Capex'!$F$85","v":33},null,null,null,null,null,{"$f":"'DNSP Inputs Capex'!$F$86","v":2},null,null,null,null,null,null,{"$f":"'DNSP Inputs Capex'!$G$85","v":33},null,null,null,null,null,{"$f":"'DNSP Inputs Capex'!$G$86","v":2},null,null,null,null,null,null,{"$f":"'DNSP Inputs Capex'!$H$85","v":33},null,null,null,null,null,{"$f":"'DNSP Inputs Capex'!$H$86","v":2}]
[]
["Capex",null,null,null,null,{"$f":"F106*F108","v":4536.4120609078809},null,null,null,null,null,{"$f":"L106*L108","v":289.17050516261713},null,null,null,null,null,null,{"$f":"S106*S108","v":4627.7759556014862},null,null,null,null,null,{"$f":"Y106*Y108","v":295.25161031332379},null,null,null,null,null,null,{"$f":"AF106*AF108","v":4678.3929391071906},null,null,null,null,null,{"$f":"AL106*AL108","v":298.52949601244097},null,null,null,null,null,null,{"$f":"AS106*AS108","v":4562.3575864966206},null,null,null,null,null,{"$f":"AY106*AY108","v":290.58072625000921},null,null,null,null,null,null,{"$f":"BF106*BF108","v":4535.7133990596794},null,null,null,null,null,{"$f":"BL106*BL108","v":288.62733802593533}]
[]
[" "]
[]
["T5 (2 X 14W)"]
["Luminaires "]
["Material & misc",{"$f":"'DNSP Inputs Capex'!$D$99+'DNSP Inputs Capex'!$D$100","v":241.68744263104887},{"$f":"'DNSP Inputs Capex'!$D$102","v":16},null,{"$f":"B116*C116","v":3866.9990820967819},{"$f":"(E116+E117+E118)/C116","v":352.08190170905755},null,{"$f":"('DNSP Inputs Capex'!$D$99+'DNSP Inputs Capex'!$D$100)*(1+'DNSP Inputs Capex'!$D$11)","v":253.77181476260131},{"$f":"'DNSP Inputs Capex'!$D$103","v":13},null,{"$f":"H116*I116","v":3299.033591913817},{"$f":"(K116+K117+K118)/I116","v":396.81214468671817},null,null,{"$f":"'DNSP Inputs Capex'!$E$99+'DNSP Inputs Capex'!$E$100","v":250.92104666926028},{"$f":"'DNSP Inputs Capex'!$E$102","v":16},null,{"$f":"O116*P116","v":4014.7367467081644},{"$f":"(R116+R117+R118)/P116","v":362.42898613845733},null,{"$f":"('DNSP Inputs Capex'!$E$99+'DNSP Inputs Capex'!$E$100)*(1+'DNSP Inputs Capex'!$E$11)","v":263.46709900272333},{"$f":"'DNSP Inputs Capex'!$E$103","v":13},null,{"$f":"U116*V116","v":3425.0722870354034},{"$f":"(X116+X117+X118)/V116","v":408.15180291295292},null,null,{"$f":"'DNSP Inputs Capex'!$F$99+'DNSP Inputs Capex'!$F$100","v":254.48936957864794},{"$f":"'DNSP Inputs Capex'!$F$102","v":16},null,{"$f":"AB116*AC116","v":4071.829913258367},{"$f":"(AE116+AE117+AE118)/AC116","v":367.00751615963401},null,{"$f":"('DNSP Inputs Capex'!$F$99+'DNSP Inputs Capex'!$F$100)*(1+'DNSP Inputs Capex'!$F$11)","v":267.21383805758035},{"$f":"'DNSP Inputs Capex'!$F$103","v":13},null,{"$f":"AH116*AI116","v":3473.7798947485444},{"$f":"(AK116+AK117+AK118)/AI116","v":413.24773648963912},null,null,{"$f":"'DNSP Inputs Capex'!$G$99+'DNSP Inputs Capex'!$G$100","v":238.9332314643359},{"$f":"'DNSP Inputs Capex'!$G$102","v":16},null,{"$f":"AO116*AP116","v":3822.9317034293745},{"$f":"(AR116+AR117+AR118)/AP116","v":351.01062323936708},null,{"$f":"('DNSP Inputs Capex'!$G$99+'DNSP Inputs Capex'!$G$100)*(1+'DNSP Inputs Capex'!$G$11)","v":250.8798930375527},{"$f":"'DNSP Inputs Capex'!$G$103","v":13},null,{"$f":"AU116*AV116","v":3261.4386094881852},{"$f":"(AX116+AX117+AX118)/AV116","v":395.90981459035288},null,null,{"$f":"'DNSP Inputs Capex'!$H$99+'DNSP Inputs Capex'!$H$100","v":233.185115992454},{"$f":"'DNSP Inputs Capex'!$H$102","v":16},null,{"$f":"BB116*BC116","v":3730.961855879264},{"$f":"(BE116+BE117+BE118)/BC116","v":345.71448587636593},null,{"$f":"('DNSP Inputs Capex'!$H$99+'DNSP Inputs Capex'!$H$100)*(1+'DNSP Inputs Capex'!$H$11)","v":244.84437179207671},{"$f":"'DNSP Inputs Capex'!$H$103","v":13},null,{"$f":"BH116*BI116","v":3182.9768332969975},{"$f":"(BK116+BK117+BK118)/BI116","v":390.26004272901417}]
["Crew costs",{"$f":"'DNSP Inputs Capex'!$D$12","v":90.004127629331563},{"$f":"'DNSP Inputs Capex'!$D$101","v":2},{"$f":"'DNSP Inputs Capex'!$D$15","v":8},{"$f":"D117*C117*B117","v":1440.066042069305},null,null,{"$f":"'DNSP Inputs Capex'!$D$12","v":90.004127629331563},{"$f":"'DNSP Inputs Capex'!$D$101","v":2},{"$f":"'DNSP Inputs Capex'!$D$15","v":8},{"$f":"J117*I117*H117","v":1440.066042069305},null,null,null,{"$f":"'DNSP Inputs Capex'!$E$12","v":90.338600866671271},{"$f":"'DNSP Inputs Capex'!$E$101","v":2},{"$f":"'DNSP Inputs Capex'!$E$15","v":8},{"$f":"Q117*P117*O117","v":1445.4176138667403},null,null,{"$f":"'DNSP Inputs Capex'!$E$12","v":90.338600866671271},{"$f":"'DNSP Inputs Capex'!$E$101","v":2},{"$f":"'DNSP Inputs Capex'!$E$15","v":8},{"$f":"W117*V117*U117","v":1445.4176138667403},null,null,null,{"$f":"'DNSP Inputs Capex'!$F$12","v":91.047760948270181},{"$f":"'DNSP Inputs Capex'!$F$101","v":2},{"$f":"'DNSP Inputs Capex'!$F$15","v":8},{"$f":"AD117*AC117*AB117","v":1456.7641751723229},null,null,{"$f":"'DNSP Inputs Capex'!$F$12","v":91.047760948270181},{"$f":"'DNSP Inputs Capex'!$F$101","v":2},{"$f":"'DNSP Inputs Capex'!$F$15","v":8},{"$f":"AJ117*AI117*AH117","v":1456.7641751723229},null,null,null,{"$f":"'DNSP Inputs Capex'!$G$12","v":91.919423571864726},{"$f":"'DNSP Inputs Capex'!$G$101","v":2},{"$f":"'DNSP Inputs Capex'!$G$15","v":8},{"$f":"AQ117*AP117*AO117","v":1470.7107771498356},null,null,{"$f":"'DNSP Inputs Capex'!$G$12","v":91.919423571864726},{"$f":"'DNSP Inputs Capex'!$G$101","v":2},{"$f":"'DNSP Inputs Capex'!$G$15","v":8},{"$f":"AW117*AV117*AU117","v":1470.7107771498356},null,null,null,{"$f":"'DNSP Inputs Capex'!$H$12","v":92.856350250687825},{"$f":"'DNSP Inputs Capex'!$H$101","v":2},{"$f":"'DNSP Inputs Capex'!$H$15","v":8},{"$f":"BD117*BC117*BB117","v":1485.7016040110052},null,null,{"$f":"'DNSP Inputs Capex'!$H$12","v":92.856350250687825},{"$f":"'DNSP Inputs Capex'!$H$101","v":2},{"$f":"'DNSP Inputs Capex'!$H$15","v":8},{"$f":"BJ117*BI117*BH117","v":1485.7016040110052}]
["Elevated platform vehicle costs",{"$f":"'DNSP Inputs Capex'!$D$13","v":40.780662897354212},1,{"$f":"'DNSP Inputs Capex'!$D$15","v":8},{"$f":"B118*C118*D118","v":326.24530317883369},null,null,{"$f":"'DNSP Inputs Capex'!$D$14","v":52.432280868026844},1,{"$f":"'DNSP Inputs Capex'!$D$15","v":8},{"$f":"H118*I118*J118","v":419.45824694421475},null,null,null,{"$f":"'DNSP Inputs Capex'!$E$13","v":42.338677205051525},1,{"$f":"'DNSP Inputs Capex'!$E$15","v":8},{"$f":"O118*P118*Q118","v":338.7094176404122},null,null,{"$f":"'DNSP Inputs Capex'!$E$14","v":54.435442120780536},1,{"$f":"'DNSP Inputs Capex'!$E$15","v":8},{"$f":"U118*V118*W118","v":435.48353696624429},null,null,null,{"$f":"'DNSP Inputs Capex'!$F$13","v":42.940771265431763},1,{"$f":"'DNSP Inputs Capex'!$F$15","v":8},{"$f":"AB118*AC118*AD118","v":343.52617012345411},null,null,{"$f":"'DNSP Inputs Capex'!$F$14","v":55.209563055555122},1,{"$f":"'DNSP Inputs Capex'!$F$15","v":8},{"$f":"AH118*AI118*AJ118","v":441.67650444444098},null,null,null,{"$f":"'DNSP Inputs Capex'!$G$13","v":40.315936406332867},1,{"$f":"'DNSP Inputs Capex'!$G$15","v":8},{"$f":"AO118*AP118*AQ118","v":322.52749125066293},null,null,{"$f":"'DNSP Inputs Capex'!$G$14","v":51.834775379570829},1,{"$f":"'DNSP Inputs Capex'!$G$15","v":8},{"$f":"AU118*AV118*AW118","v":414.67820303656663},null,null,null,{"$f":"'DNSP Inputs Capex'!$H$13","v":39.346039266448244},1,{"$f":"'DNSP Inputs Capex'!$H$15","v":8},{"$f":"BB118*BC118*BD118","v":314.76831413158595},null,null,{"$f":"'DNSP Inputs Capex'!$H$14","v":50.587764771147747},1,{"$f":"'DNSP Inputs Capex'!$H$15","v":8},{"$f":"BH118*BI118*BJ118","v":404.70211816918197}]
[{"$f":"'DNSP Inputs Capex'!$A$105","v":"Other Capex unit costs Describe :………………………"},null,null,null,null,{"$f":"'DNSP Inputs Capex'!$D$105","v":0},null,null,null,null,null,{"$f":"'DNSP Inputs Capex'!$D$105","v":0},null,null,null,null,null,null,{"$f":"'DNSP Inputs Capex'!$E$105","v":0},null,null,null,null,null,{"$f":"'DNSP Inputs Capex'!$E$105","v":0},null,null,null,null,null,null,{"$f":"'DNSP Inputs Capex'!$F$105","v":0},null,null,null,null,null,{"$f":"'DNSP Inputs Capex'!$F$105","v":0},null,null,null,null,null,null,{"$f":"'DNSP Inputs Capex'!$G$105","v":0},null,null,null,null,null,{"$f":"'DNSP Inputs Capex'!$G$105","v":0},null,null,null,null,null,null,{"$f":"'DNSP Inputs Capex'!$H$105","v":0},null,null,null,null,null,{"$f":"'DNSP Inputs Capex'!$H$105","v":0}]
[{"$f":"'DNSP Inputs Capex'!A$16","v":"Indirect overheads"},{"$f":"'DNSP Inputs Capex'!$D$16","v":0},null,null,null,{"$f":"SUM(F116,F119)*B120","v":0},null,{"$f":"'DNSP Inputs Capex'!$D$16","v":0},null,null,null,{"$f":"SUM(L116,L119)*H120","v":0},null,null,{"$f":"'DNSP Inputs Capex'!$E$16","v":0},null,null,null,{"$f":"SUM(S116,S119)*O120","v":0},null,{"$f":"'DNSP Inputs Capex'!$E$16","v":0},null,null,null,{"$f":"SUM(Y116,Y119)*U120","v":0},null,null,{"$f":"'DNSP Inputs Capex'!$F$16","v":0},null,null,null,{"$f":"SUM(AF116,AF119)*AB120","v":0},null,{"$f":"'DNSP Inputs Capex'!$F$16","v":0},null,null,null,{"$f":"SUM(AL116,AL119)*AH120","v":0},null,null,{"$f":"'DNSP Inputs Capex'!$G$16","v":0},null,null,null,{"$f":"SUM(AS116,AS119)*AO120","v":0},null,{"$f":"'DNSP Inputs Capex'!$G$16","v":0},null,null,null,{"$f":"SUM(AY116,AY119)*AU120","v":0},null,null,{"$f":"'DNSP Inputs Capex'!$H$16","v":0},null,null,null,{"$f":"SUM(BF116,BF119)*BB120","v":0},null,{"$f":"'DNSP Inputs Capex'!$H$16","v":0},null,null,null,{"$f":"SUM(BL116,BL119)*BH120","v":0}]
[null,null,null,null,null,{"$f":"SUM(F116,F119,F120)","v":352.08190170905755},null,null,null,null,null,{"$f":"SUM(L116,L119,L120)","v":396.81214468671817},null,null,null,null,null,null,{"$f":"SUM(S116,S119,S120)","v":362.42898613845733},null,null,null,null,null,{"$f":"SUM(Y116,Y119,Y120)","v":408.15180291295292},null,null,null,null,null,null,{"$f":"SUM(AF116,AF119,AF120)","v":367.00751615963401},null,null,null,null,null,{"$f":"SUM(AL116,AL119,AL120)","v":413.24773648963912},null,null,null,null,null,null,{"$f":"SUM(AS116,AS119,AS120)","v":351.01062323936708},null,null,null,null,null,{"$f":"SUM(AY116,AY119,AY120)","v":395.90981459035288},null,null,null,null,null,null,{"$f":"SUM(BF116,BF119,BF120)","v":345.71448587636593},null,null,null,null,null,{"$f":"SUM(BL116,BL119,BL120)","v":390.26004272901417}]
[]
["Number of luminaires replaced",null,null,null,null,{"$f":"'DNSP Inputs Capex'!$D$108","v":494},null,null,null,null,null,{"$f":"'DNSP Inputs Capex'!$D$109","v":15},null,null,null,null,null,null,{"$f":"'DNSP Inputs Capex'!$E$108","v":501},null,null,null,null,null,{"$f":"'DNSP Inputs Capex'!$E$109","v":15},null,null,null,null,null,null,{"$f":"'DNSP Inputs Capex'!$F$108","v":507},null,null,null,null,null,{"$f":"'DNSP Inputs Capex'!$F$109","v":16},null,null,null,null,null,null,{"$f":"'DNSP Inputs Capex'!$G$108","v":514},null,null,null,null,null,{"$f":"'DNSP Inputs Capex'!$G$109","v":16},null,null,null,null,null,null,{"$f":"'DNSP Inputs Capex'!$H$108","v":521},null,null,null,null,null,{"$f":"'DNSP Inputs Capex'!$H$109","v":16}]
[]
["Capex",null,null,null,null,{"$f":"F121*F123","v":173928.45944427443},null,null,null,null,null,{"$f":"L121*L123","v":5952.1821703007727},null,null,null,null,null,null,{"$f":"S121*S123","v":181576.92205536712},null,null,null,null,null,{"$f":"Y121*Y123","v":6122.2770436942938},null,null,null,null,null,null,{"$f":"AF121*AF123","v":186072.81069293444},null,null,null,null,null,{"$f":"AL121*AL123","v":6611.963783834226},null,null,null,null,null,null,{"$f":"AS121*AS123","v":180419.46034503469},null,null,null,null,null,{"$f":"AY121*AY123","v":6334.5570334456461},null,null,null,null,null,null,{"$f":"BF121*BF123","v":180117.24714158665},null,null,null,null,null,{"$f":"BL121*BL123","v":6244.1606836642268}]
[]
[]
["LED18W"]
["Luminaires "]
["Material",{"$f":"'DNSP Inputs Capex'!$D$115","v":314.61949884374962},{"$f":"'DNSP Inputs Capex'!$D$102","v":16},null,{"$f":"B130*C130","v":5033.911981499994},{"$f":"(E130+E131+E132)/C130","v":425.01395792175828},null,{"$f":"'DNSP Inputs Capex'!$D$115*(1+'DNSP Inputs Capex'!$D$11)","v":330.35047378593714},{"$f":"'DNSP Inputs Capex'!$D$103","v":13},null,{"$f":"H130*I130","v":4294.5561592171825},{"$f":"(K130+K131+K132)/I130","v":473.390803710054},null,null,{"$f":"'DNSP Inputs Capex'!$E$115","v":326.63945256330828},{"$f":"'DNSP Inputs Capex'!$E$102","v":16},null,{"$f":"O130*P130","v":5226.2312410129325},{"$f":"(R130+R131+R132)/P130","v":438.14739203250537},null,{"$f":"'DNSP Inputs Capex'!$E$115*(1+'DNSP Inputs Capex'!$E$11)","v":342.97142519147371},{"$f":"'DNSP Inputs Capex'!$E$103","v":13},null,{"$f":"U130*V130","v":4458.6285274891579},{"$f":"(X130+X131+X132)/V130","v":487.6561291017033},null,null,{"$f":"'DNSP Inputs Capex'!$F$115","v":331.28455928975922},{"$f":"'DNSP Inputs Capex'!$F$102","v":16},null,{"$f":"AB130*AC130","v":5300.5529486361474},{"$f":"(AE130+AE131+AE132)/AC130","v":443.80270587074529},null,{"$f":"'DNSP Inputs Capex'!$F$115*(1+'DNSP Inputs Capex'!$F$11)","v":347.84878725424721},{"$f":"'DNSP Inputs Capex'!$F$103","v":13},null,{"$f":"AH130*AI130","v":4522.0342343052134},{"$f":"(AK130+AK131+AK132)/AI130","v":493.88268568630599},null,null,{"$f":"'DNSP Inputs Capex'!$G$115","v":311.03417174711637},{"$f":"'DNSP Inputs Capex'!$G$102","v":16},null,{"$f":"AO130*AP130","v":4976.546747953862},{"$f":"(AR130+AR131+AR132)/AP130","v":423.11156352214755},null,{"$f":"'DNSP Inputs Capex'!$G$115*(1+'DNSP Inputs Capex'!$G$11)","v":326.58588033447222},{"$f":"'DNSP Inputs Capex'!$G$103","v":13},null,{"$f":"AU130*AV130","v":4245.6164443481393},{"$f":"(AX130+AX131+AX132)/AV130","v":471.61580188727243},null,null,{"$f":"'DNSP Inputs Capex'!$H$115","v":303.55149416415139},{"$f":"'DNSP Inputs Capex'!$H$102","v":16},null,{"$f":"BB130*BC130","v":4856.8239066264223},{"$f":"(BE130+BE131+BE132)/BC130","v":416.08086404806335},null,{"$f":"'DNSP Inputs Capex'!$H$115*(1+'DNSP Inputs Capex'!$H$11)","v":318.72906887235899},{"$f":"'DNSP Inputs Capex'!$H$103","v":13},null,{"$f":"BH130*BI130","v":4143.4778953406667},{"$f":"(BK130+BK131+BK132)/BI130","v":464.14473980929648}]
["Crew costs",{"$f":"'DNSP Inputs Capex'!$D$12","v":90.004127629331563},{"$f":"'DNSP Inputs Capex'!$D$116","v":2},{"$f":"'DNSP Inputs Capex'!$D$15","v":8},{"$f":"D131*C131*B131","v":1440.066042069305},null,null,{"$f":"'DNSP Inputs Capex'!$D$12","v":90.004127629331563},{"$f":"'DNSP Inputs Capex'!$D$116","v":2},{"$f":"'DNSP Inputs Capex'!$D$15","v":8},{"$f":"J131*I131*H131","v":1440.066042069305},null,null,null,{"$f":"'DNSP Inputs Capex'!$E$12","v":90.338600866671271},{"$f":"'DNSP Inputs Capex'!$E$116","v":2},{"$f":"'DNSP Inputs Capex'!$E$15","v":8},{"$f":"Q131*P131*O131","v":1445.4176138667403},null,null,{"$f":"'DNSP Inputs Capex'!$E$12","v":90.338600866671271},{"$f":"'DNSP Inputs Capex'!$E$116","v":2},{"$f":"'DNSP Inputs Capex'!$E$15","v":8},{"$f":"W131*V131*U131","v":1445.4176138667403},null,null,null,{"$f":"'DNSP Inputs Capex'!$F$12","v":91.047760948270181},{"$f":"'DNSP Inputs Capex'!$F$116","v":2},{"$f":"'DNSP Inputs Capex'!$F$15","v":8},{"$f":"AD131*AC131*AB131","v":1456.7641751723229},null,null,{"$f":"'DNSP Inputs Capex'!$F$12","v":91.047760948270181},{"$f":"'DNSP Inputs Capex'!$F$116","v":2},{"$f":"'DNSP Inputs Capex'!$F$15","v":8},{"$f":"AJ131*AI131*AH131","v":1456.7641751723229},null,null,null,{"$f":"'DNSP Inputs Capex'!$G$12","v":91.919423571864726},{"$f":"'DNSP Inputs Capex'!$G$116","v":2},{"$f":"'DNSP Inputs Capex'!$G$15","v":8},{"$f":"AQ131*AP131*AO131","v":1470.7107771498356},null,null,{"$f":"'DNSP Inputs Capex'!$G$12","v":91.919423571864726},{"$f":"'DNSP Inputs Capex'!$G$116","v":2},{"$f":"'DNSP Inputs Capex'!$G$15","v":8},{"$f":"AW131*AV131*AU131","v":1470.7107771498356},null,null,null,{"$f":"'DNSP Inputs Capex'!$H$12","v":92.856350250687825},{"$f":"'DNSP Inputs Capex'!$H$116","v":2},{"$f":"'DNSP Inputs Capex'!$H$15","v":8},{"$f":"BD131*BC131*BB131","v":1485.7016040110052},null,null,{"$f":"'DNSP Inputs Capex'!$H$12","v":92.856350250687825},{"$f":"'DNSP Inputs Capex'!$H$116","v":2},{"$f":"'DNSP Inputs Capex'!$H$15","v":8},{"$f":"BJ131*BI131*BH131","v":1485.7016040110052}]
["Elevated platform vehicle costs",{"$f":"'DNSP Inputs Capex'!$D$13","v":40.780662897354212},1,{"$f":"'DNSP Inputs Capex'!$D$15","v":8},{"$f":"B132*C132*D132","v":326.24530317883369},null,null,{"$f":"'DNSP Inputs Capex'!$D$14","v":52.432280868026844},1,{"$f":"'DNSP Inputs Capex'!$D$15","v":8},{"$f":"H132*I132*J132","v":419.45824694421475},null,null,null,{"$f":"'DNSP Inputs Capex'!$E$13","v":42.338677205051525},1,{"$f":"'DNSP Inputs Capex'!$E$15","v":8},{"$f":"O132*P132*Q132","v":338.7094176404122},null,null,{"$f":"'DNSP Inputs Capex'!$E$14","v":54.435442120780536},1,{"$f":"'DNSP Inputs Capex'!$E$15","v":8},{"$f":"U132*V132*W132","v":435.48353696624429},null,null,null,{"$f":"'DNSP Inputs Capex'!$F$13","v":42.940771265431763},1,{"$f":"'DNSP Inputs Capex'!$F$15","v":8},{"$f":"AB132*AC132*AD132","v":343.52617012345411},null,null,{"$f":"'DNSP Inputs Capex'!$F$14","v":55.209563055555122},1,{"$f":"'DNSP Inputs Capex'!$F$15","v":8},{"$f":"AH132*AI132*AJ132","v":441.67650444444098},null,null,null,{"$f":"'DNSP Inputs Capex'!$G$13","v":40.315936406332867},1,{"$f":"'DNSP Inputs Capex'!$G$15","v":8},{"$f":"AO132*AP132*AQ132","v":322.52749125066293},null,null,{"$f":"'DNSP Inputs Capex'!$G$14","v":51.834775379570829},1,{"$f":"'DNSP Inputs Capex'!$G$15","v":8},{"$f":"AU132*AV132*AW132","v":414.67820303656663},null,null,null,{"$f":"'DNSP Inputs Capex'!$H$13","v":39.346039266448244},1,{"$f":"'DNSP Inputs Capex'!$H$15","v":8},{"$f":"BB132*BC132*BD132","v":314.76831413158595},null,null,{"$f":"'DNSP Inputs Capex'!$H$14","v":50.587764771147747},1,{"$f":"'DNSP Inputs Capex'!$H$15","v":8},{"$f":"BH132*BI132*BJ132","v":404.70211816918197}]
[{"$f":"'DNSP Inputs Capex'!$A$120","v":"Other Capex unit costs Describe :………………………"},null,null,null,null,{"$f":"'DNSP Inputs Capex'!$D$120","v":0},null,null,null,null,null,{"$f":"'DNSP Inputs Capex'!$D$120","v":0},null,null,null,null,null,null,{"$f":"'DNSP Inputs Capex'!$E$120","v":0},null,null,null,null,null,{"$f":"'DNSP Inputs Capex'!$E$120","v":0},null,null,null,null,null,null,{"$f":"'DNSP Inputs Capex'!$F$120","v":0},null,null,null,null,null,{"$f":"'DNSP Inputs Capex'!$F$120","v":0},null,null,null,null,null,null,{"$f":"'DNSP Inputs Capex'!$G$120","v":0},null,null,null,null,null,{"$f":"'DNSP Inputs Capex'!$G$120","v":0},null,null,null,null,null,null,{"$f":"'DNSP Inputs Capex'!$H$120","v":0},null,null,null,null,null,{"$f":"'DNSP Inputs Capex'!$H$120","v":0}]
[{"$f":"'DNSP Inputs Capex'!A$16","v":"Indirect overheads"},{"$f":"'DNSP Inputs Capex'!$D$16","v":0},null,null,null,{"$f":"SUM(F130,F133)*B134","v":0},null,{"$f":"'DNSP Inputs Capex'!$D$16","v":0},null,null,null,{"$f":"SUM(L130,L133)*H134","v":0},null,null,{"$f":"'DNSP Inputs Capex'!$E$16","v":0},null,null,null,{"$f":"SUM(S130,S133)*O134","v":0},null,{"$f":"'DNSP Inputs Capex'!$E$16","v":0},null,null,null,{"$f":"SUM(Y130,Y133)*U134","v":0},null,null,{"$f":"'DNSP Inputs Capex'!$F$16","v":0},null,null,null,{"$f":"SUM(AF130,AF133)*AB134","v":0},null,{"$f":"'DNSP Inputs Capex'!$F$16","v":0},null,null,null,{"$f":"SUM(AL130,AL133)*AH134","v":0},null,null,{"$f":"'DNSP Inputs Capex'!$G$16","v":0},null,null,null,{"$f":"SUM(AS130,AS133)*AO134","v":0},null,{"$f":"'DNSP Inputs Capex'!$G$16","v":0},null,null,null,{"$f":"SUM(AY130,AY133)*AU134","v":0},null,null,{"$f":"'DNSP Inputs Capex'!$H$16","v":0},null,null,null,{"$f":"SUM(BF130,BF133)*BB134","v":0},null,{"$f":"'DNSP Inputs Capex'!$H$16","v":0},null,null,null,{"$f":"SUM(BL130,BL133)*BH134","v":0}]
[null,null,null,null,null,{"$f":"SUM(F130,F133,F134)","v":425.01395792175828},null,null,null,null,null,{"$f":"SUM(L130,L133,L134)","v":473.390803710054},null,null,null,null,null,null,{"$f":"SUM(S130,S133,S134)","v":438.14739203250537},null,null,null,null,null,{"$f":"SUM(Y130,Y133,Y134)","v":487.6561291017033},null,null,null,null,null,null,{"$f":"SUM(AF130,AF133,AF134)","v":443.80270587074529},null,null,null,null,null,{"$f":"SUM(AL130,AL133,AL134)","v":493.88268568630599},null,null,null,null,null,null,{"$f":"SUM(AS130,AS133,AS134)","v":423.11156352214755},null,null,null,null,null,{"$f":"SUM(AY130,AY133,AY134)","v":471.61580188727243},null,null,null,null,null,null,{"$f":"SUM(BF130,BF133,BF134)","v":416.08086404806335},null,null,null,null,null,{"$f":"SUM(BL130,BL133,BL134)","v":464.14473980929648}]
[]
["Number of luminaires replaced",null,null,null,null,{"$f":"'DNSP Inputs Capex'!$D$123","v":7},null,null,null,null,null,{"$f":"'DNSP Inputs Capex'!$D$124","v":0},null,null,null,null,null,null,{"$f":"'DNSP Inputs Capex'!$E$123","v":10},null,null,null,null,null,{"$f":"'DNSP Inputs Capex'!$E$124","v":0},null,null,null,null,null,null,{"$f":"'DNSP Inputs Capex'!$F$123","v":13},null,null,null,null,null,{"$f":"'DNSP Inputs Capex'!$F$124","v":0},null,null,null,null,null,null,{"$f":"'DNSP Inputs Capex'!$G$123","v":16},null,null,null,null,null,{"$f":"'DNSP Inputs Capex'!$G$124","v":0},null,null,null,null,null,null,{"$f":"'DNSP Inputs Capex'!$H$123","v":19},null,null,null,null,null,{"$f":"'DNSP Inputs Capex'!$H$124","v":0}]
[]
["Capex",null,null,null,null,{"$f":"F135*F137","v":2975.0977054523078},null,null,null,null,null,{"$f":"L135*L137","v":0},null,null,null,null,null,null,{"$f":"S135*S137","v":4381.4739203250538},null,null,null,null,null,{"$f":"Y135*Y137","v":0},null,null,null,null,null,null,{"$f":"AF135*AF137","v":5769.4351763196883},null,null,null,null,null,{"$f":"AL135*AL137","v":0},null,null,null,null,null,null,{"$f":"AS135*AS137","v":6769.7850163543608},null,null,null,null,null,{"$f":"AY135*AY137","v":0},null,null,null,null,null,null,{"$f":"BF135*BF137","v":7905.5364169132035},null,null,null,null,null,{"$f":"BL135*BL137","v":0}]
[]
[]
["Frangible poles"]
["Material",{"$f":"'DNSP Inputs Capex'!D129","v":1996.6711470104769},{"$f":"'DNSP Inputs Capex'!D130","v":4},null,{"$f":"C143*B143","v":7986.6845880419078},{"$f":"(E143+E144+E145)/C143","v":1996.6711470104769},null,{"$f":"'DNSP Inputs Capex'!D129*(1+'DNSP Inputs Capex'!$D$11)","v":2096.5047043610007},{"$f":"'DNSP Inputs Capex'!D130","v":4},null,{"$f":"I143*H143","v":8386.0188174440027},{"$f":"(K143+K144+K145)/I143","v":2096.5047043610007},null,null,{"$f":"'DNSP Inputs Capex'!E129","v":2072.9534336088773},{"$f":"'DNSP Inputs Capex'!E130","v":4},null,{"$f":"P143*O143","v":8291.8137344355091},{"$f":"(R143+R144+R145)/P143","v":2072.9534336088773},null,{"$f":"'DNSP Inputs Capex'!E129*(1+'DNSP Inputs Capex'!$E$11)","v":2176.6011052893214},{"$f":"'DNSP Inputs Capex'!E130","v":4},null,{"$f":"V143*U143","v":8706.4044211572855},{"$f":"(X143+X144+X145)/V143","v":2176.6011052893214},null,null,{"$f":"'DNSP Inputs Capex'!$F$129","v":2102.4326954142462},{"$f":"'DNSP Inputs Capex'!F130","v":4},null,{"$f":"AC143*AB143","v":8409.7307816569846},{"$f":"(AE143+AE144+AE145)/AC143","v":2102.4326954142462},null,{"$f":"'DNSP Inputs Capex'!$F$129*(1+'DNSP Inputs Capex'!$F$11)","v":2207.5543301849584},{"$f":"'DNSP Inputs Capex'!F130","v":4},null,{"$f":"AI143*AH143","v":8830.2173207398337},{"$f":"(AK143+AK144+AK145)/AI143","v":2207.5543301849584},null,null,{"$f":"'DNSP Inputs Capex'!$G$129","v":1973.9175694580642},{"$f":"'DNSP Inputs Capex'!G130","v":4},null,{"$f":"AP143*AO143","v":7895.6702778322569},{"$f":"(AR143+AR144+AR145)/AP143","v":1973.9175694580642},null,{"$f":"'DNSP Inputs Capex'!$G$129*(1+'DNSP Inputs Capex'!$G$11)","v":2072.6134479309676},{"$f":"'DNSP Inputs Capex'!G130","v":4},null,{"$f":"AV143*AU143","v":8290.4537917238704},{"$f":"(AX143+AX144+AX145)/AV143","v":2072.6134479309676},null,null,{"$f":"'DNSP Inputs Capex'!$H$129","v":1926.4302189054265},{"$f":"'DNSP Inputs Capex'!H130","v":4},null,{"$f":"BC143*BB143","v":7705.720875621706},{"$f":"(BE143+BE144+BE145)/BC143","v":1926.4302189054265},null,{"$f":"'DNSP Inputs Capex'!$H$129*(1+'DNSP Inputs Capex'!$H$11)","v":2022.751729850698},{"$f":"'DNSP Inputs Capex'!H130","v":4},null,{"$f":"BI143*BH143","v":8091.0069194027919},{"$f":"(BK143+BK144+BK145)/BI143","v":2022.751729850698}]
["Crew costs",0,0,{"$f":"'DNSP Inputs Capex'!$D$15","v":8},{"$f":"B144*C144*D144","v":0},null,null,0,0,{"$f":"'DNSP Inputs Capex'!$D$15","v":8},{"$f":"H144*I144*J144","v":0},null,null,null,0,0,{"$f":"'DNSP Inputs Capex'!$E$15","v":8},{"$f":"O144*P144*Q144","v":0},null,null,0,0,{"$f":"'DNSP Inputs Capex'!$E$15","v":8},{"$f":"U144*V144*W144","v":0},null,null,null,0,0,{"$f":"'DNSP Inputs Capex'!$F$15","v":8},{"$f":"AB144*AC144*AD144","v":0},null,null,0,0,{"$f":"'DNSP Inputs Capex'!$F$15","v":8},{"$f":"AH144*AI144*AJ144","v":0},null,null,null,0,0,{"$f":"'DNSP Inputs Capex'!$G$15","v":8},{"$f":"AO144*AP144*AQ144","v":0},null,null,0,0,{"$f":"'DNSP Inputs Capex'!$G$15","v":8},{"$f":"AU144*AV144*AW144","v":0},null,null,null,0,0,{"$f":"'DNSP Inputs Capex'!$H$15","v":8},{"$f":"BB144*BC144*BD144","v":0},null,null,0,0,{"$f":"'DNSP Inputs Capex'!$H$15","v":8},{"$f":"BH144*BI144*BJ144","v":0}]
["Elevated platform vehicle costs",0,0,{"$f":"'DNSP Inputs Capex'!$D$15","v":8},{"$f":"B145*C145*D145","v":0},null,null,0,0,{"$f":"'DNSP Inputs Capex'!$D$15","v":8},{"$f":"H145*I145*J145","v":0},null,null,null,0,0,{"$f":"'DNSP Inputs Capex'!$E$15","v":8},{"$f":"O145*P145*Q145","v":0},null,null,0,0,{"$f":"'DNSP Inputs Capex'!$E$15","v":8},{"$f":"U145*V145*W145","v":0},null,null,null,0,0,{"$f":"'DNSP Inputs Capex'!$F$15","v":8},{"$f":"AB145*AC145*AD145","v":0},null,null,0,0,{"$f":"'DNSP Inputs Capex'!$F$15","v":8},{"$f":"AH145*AI145*AJ145","v":0},null,null,null,0,0,{"$f":"'DNSP Inputs Capex'!$G$15","v":8},{"$f":"AO145*AP145*AQ145","v":0},null,null,0,0,{"$f":"'DNSP Inputs Capex'!$G$15","v":8},{"$f":"AU145*AV145*AW145","v":0},null,null,null,0,0,{"$f":"'DNSP Inputs Capex'!$H$15","v":8},{"$f":"BB145*BC145*BD145","v":0},null,null,0,0,{"$f":"'DNSP Inputs Capex'!$H$15","v":8},{"$f":"BH145*BI145*BJ145","v":0}]
[{"$f":"'DNSP Inputs Capex'!$A$62","v":"Other Capex unit costs Describe :………………………"},null,null,null,null,{"$f":"'DNSP Inputs Capex'!$D$77","v":0},null,null,null,null,null,{"$f":"'DNSP Inputs Capex'!$D$77","v":0},null,null,null,null,null,null,{"$f":"'DNSP Inputs Capex'!$E$77","v":0},null,null,null,null,null,{"$f":"'DNSP Inputs Capex'!$E$77","v":0},null,null,null,null,null,null,{"$f":"'DNSP Inputs Capex'!$F$77","v":0},null,null,null,null,null,{"$f":"'DNSP Inputs Capex'!$F$77","v":0},null,null,null,null,null,null,{"$f":"'DNSP Inputs Capex'!$G$77","v":0},null,null,null,null,null,{"$f":"'DNSP Inputs Capex'!$G$77","v":0},null,null,null,null,null,null,{"$f":"'DNSP Inputs Capex'!$H$77","v":0},null,null,null,null,null,{"$f":"'DNSP Inputs Capex'!$H$77","v":0}]
[{"$f":"'DNSP Inputs Capex'!A$16","v":"Indirect overheads"},{"$f":"'DNSP Inputs Capex'!$D$16","v":0},null,null,null,{"$f":"SUM(F143,F146)*B147","v":0},null,{"$f":"'DNSP Inputs Capex'!$D$16","v":0},null,null,null,{"$f":"SUM(L143,L146)*H147","v":0},null,null,{"$f":"'DNSP Inputs Capex'!$E$16","v":0},null,null,null,{"$f":"SUM(S143,S146)*O147","v":0},null,{"$f":"'DNSP Inputs Capex'!$E$16","v":0},null,null,null,{"$f":"SUM(Y143,Y146)*U147","v":0},null,null,{"$f":"'DNSP Inputs Capex'!$F$16","v":0},null,null,null,{"$f":"SUM(AF143,AF146)*AB147","v":0},null,{"$f":"'DNSP Inputs Capex'!$F$16","v":0},null,null,null,{"$f":"SUM(AL143,AL146)*AH147","v":0},null,null,{"$f":"'DNSP Inputs Capex'!$G$16","v":0},null,null,null,{"$f":"SUM(AS143,AS146)*AO147","v":0},null,{"$f":"'DNSP Inputs Capex'!$G$16","v":0},null,null,null,{"$f":"SUM(AY143,AY146)*AU147","v":0},null,null,{"$f":"'DNSP Inputs Capex'!$H$16","v":0},null,null,null,{"$f":"SUM(BF143,BF146)*BB147","v":0},null,{"$f":"'DNSP Inputs Capex'!$H$16","v":0},null,null,null,{"$f":"SUM(BL143,BL146)*BH147","v":0}]
[null,null,null,null,null,{"$f":"SUM(F143,F146,F147)","v":1996.6711470104769},null,null,null,null,null,{"$f":"SUM(L143,L146,L147)","v":2096.5047043610007},null,null,null,null,null,null,{"$f":"SUM(S143,S146,S147)","v":2072.9534336088773},null,null,null,null,null,{"$f":"SUM(Y143,Y146,Y147)","v":2176.6011052893214},null,null,null,null,null,null,{"$f":"SUM(AF143,AF146,AF147)","v":2102.4326954142462},null,null,null,null,null,{"$f":"SUM(AL143,AL146,AL147)","v":2207.5543301849584},null,null,null,null,null,null,{"$f":"SUM(AS143,AS146,AS147)","v":1973.9175694580642},null,null,null,null,null,{"$f":"SUM(AY143,AY146,AY147)","v":2072.6134479309676},null,null,null,null,null,null,{"$f":"SUM(BF143,BF146,BF147)","v":1926.4302189054265},null,null,null,null,null,{"$f":"SUM(BL143,BL146,BL147)","v":2022.751729850698}]
[]
["Number of poles & brackets replaced",null,null,null,null,{"$f":"'DNSP Inputs Capex'!$D$133","v":46},null,null,null,null,null,{"$f":"'DNSP Inputs Capex'!$D$134","v":4},null,null,null,null,null,null,{"$f":"'DNSP Inputs Capex'!$E$133","v":46},null,null,null,null,null,{"$f":"'DNSP Inputs Capex'!$E$134","v":4},null,null,null,null,null,null,{"$f":"'DNSP Inputs Capex'!$F$133","v":46},null,null,null,null,null,{"$f":"'DNSP Inputs Capex'!$F$134","v":4},null,null,null,null,null,null,{"$f":"'DNSP Inputs Capex'!$G$133","v":46},null,null,null,null,null,{"$f":"'DNSP Inputs Capex'!$G$134","v":4},null,null,null,null,null,null,{"$f":"'DNSP Inputs Capex'!$H$133","v":46},null,null,null,null,null,{"$f":"'DNSP Inputs Capex'!$H$134","v":4}]
[]
["Capex",null,null,null,null,{"$f":"F148*F150","v":91846.872762481944},null,null,null,null,null,{"$f":"L148*L150","v":8386.0188174440027},null,null,null,null,null,null,{"$f":"S148*S150","v":95355.857946008357},null,null,null,null,null,{"$f":"Y148*Y150","v":8706.4044211572855},null,null,null,null,null,null,{"$f":"AF148*AF150","v":96711.903989055325},null,null,null,null,null,{"$f":"AL148*AL150","v":8830.2173207398337},null,null,null,null,null,null,{"$f":"AS148*AS150","v":90800.208195070954},null,null,null,null,null,{"$f":"AY148*AY150","v":8290.4537917238704},null,null,null,null,null,null,{"$f":"BF148*BF150","v":88615.790069649622},null,null,null,null,null,{"$f":"BL148*BL150","v":8091.0069194027919}]

{"sheet":"WACC","index":14,"n_rows":18,"n_cols":9,"rows_kept":18,"cut":false,"hidden":false,"merged":[]}
[{"$f":"'DNSP Inputs O & M'!$A$3","v":"Jemena"}]
[]
["WACC"]
[null,null,null,null,2016,2017,2018,2019,2020]
[]
["CPI for Nominal pre tax WACC calculation",null,null,null,{"$f":"$C$14","v":2.3230798209937155E-2},{"$f":"$C$15","v":2.3230798209937155E-2},{"$f":"$C$16","v":2.3230798209937155E-2},{"$f":"$C$17","v":2.3230798209937155E-2},{"$f":"$C$18","v":2.3230798209937155E-2}]
["Real Pre Tax WACC",null,null,null,{"$f":"'DNSP Inputs General'!B$26","v":4.7233747078506916E-2},{"$f":"'DNSP Inputs General'!C$26","v":4.7233747078506916E-2},{"$f":"'DNSP Inputs General'!D$26","v":4.7233747078506916E-2},{"$f":"'DNSP Inputs General'!E$26","v":4.7233747078506916E-2},{"$f":"'DNSP Inputs General'!F$26","v":4.7233747078506916E-2}]
["Nominal Pre Tax WACC",null,null,null,{"$f":"(1+E6)*(1+E7)-1","v":7.1561822935523933E-2},{"$f":"(1+F6)*(1+F7)-1","v":7.1561822935523933E-2},{"$f":"(1+G6)*(1+G7)-1","v":7.1561822935523933E-2},{"$f":"(1+H6)*(1+H7)-1","v":7.1561822935523933E-2},{"$f":"(1+I6)*(1+I7)-1","v":7.1561822935523933E-2}]
[]
[]
[]
[null,"CPI Index","CPI"]
["2014-09-30",{"$f":"IF('DNSP Inputs General'!B30=\"\",\"\",'DNSP Inputs General'!B30)","v":106.4},null,{"$f":"IF(B13=\"\",\"Forecast\",\"Actual\")","v":"Actual"}]
["2015-09-30",{"$f":"IF('DNSP Inputs General'!B31=\"\",\"\",'DNSP Inputs General'!B31)","v":""},{"$f":"IF(B14=\"\",'DNSP Inputs General'!D31,B14/B13-1)","v":2.3230798209937155E-2},{"$f":"IF(B14=\"\",\"Forecast\",\"Actual\")","v":"Forecast"}]
["2016-09-30",{"$f":"IF('DNSP Inputs General'!B32=\"\",\"\",'DNSP Inputs General'!B32)","v":""},{"$f":"IF(B15=\"\",'DNSP Inputs General'!D32,B15/B14-1)","v":2.3230798209937155E-2},"Forecast"]
["2017-09-30",{"$f":"IF('DNSP Inputs General'!B33=\"\",\"\",'DNSP Inputs General'!B33)","v":""},{"$f":"IF(B16=\"\",'DNSP Inputs General'!D33,B16/B15-1)","v":2.3230798209937155E-2},"Forecast"]
["2018-09-30",{"$f":"IF('DNSP Inputs General'!B34=\"\",\"\",'DNSP Inputs General'!B34)","v":""},{"$f":"IF(B17=\"\",'DNSP Inputs General'!D34,B17/B16-1)","v":2.3230798209937155E-2},"Forecast"]
["2019-09-30",{"$f":"IF('DNSP Inputs General'!B35=\"\",\"\",'DNSP Inputs General'!B35)","v":""},{"$f":"IF(B18=\"\",'DNSP Inputs General'!D35,B18/B17-1)","v":2.3230798209937155E-2},"Forecast"]

{"sheet":"Depn & WACC Post 2004","index":15,"n_rows":271,"n_cols":9,"rows_kept":271,"cut":false,"hidden":false,"merged":[[269,6,269,7],[230,3,230,4],[230,6,230,7],[259,3,259,4],[259,6,259,7],[269,3,269,5],[211,3,211,4],[211,6,211,7],[221,6,221,7],[221,3,221,5],[173,6,173,7],[182,3,182,4],[182,6,182,7],[173,3,173,5],[163,3,163,4],[163,6,163,7],[115,3,115,4],[115,6,115,7],[125,6,125,7],[125,3,125,5],[77,6,77,7],[86,3,86,4],[86,6,86,7],[77,3,77,5],[134,3,134,4],[134,6,134,7],[6,3,6,4],[6,6,6,7],[38,3,38,4],[38,6,38,7],[67,3,67,4],[67,6,67,7]]}
[{"$f":"'DNSP Inputs O & M'!$A$3","v":"Jemena"},null,null,null,"Check",{"$f":"SUM(E33,E65,E75,E113,E123,E161,E171,E209,E219,E257,E267)","v":5.50062395632267E-9}]
[]
[]
["RAB WDV",null,null,"Year",2015]
[]
[]
[{"$f":"'DNSP Inputs General'!B$40","v":"Reference Light"},{"$f":"'DNSP Inputs General'!D$40","v":"Price Factor"},{"$f":"'DNSP Inputs General'!A$40","v":"Existing Lights"},"RAB for Return",null,"Volumes","Unitisation - Luminaires",null,"RAB WDV"]
[{"$f":"'DNSP Inputs General'!B$41","v":"Mercury Vapour 80 watt"},{"$f":"'DNSP Inputs General'!D$41","v":1},{"$f":"'DNSP Inputs General'!A$41","v":"Mercury Vapour 80 watt"},{"$f":"'RAB 2001 to 2004'!$P$141","v":16.388207950412323},{"$f":"F8*D8","v":223191.34495139078},{"$f":"'DNSP Inputs General'!J$41","v":13619.0208},null,null,{"$f":"IF(F8=0,0,E8/E$32*I$32/F8)","v":71.872362743987907}]
[{"$f":"'DNSP Inputs General'!B$42","v":"Sodium High Pressure 150 watt"},{"$f":"'DNSP Inputs General'!D$42","v":1},{"$f":"'DNSP Inputs General'!A$42","v":"Sodium High Pressure 150 watt"},{"$f":"'RAB 2001 to 2004'!$P$155","v":19.229536140847966},297891.5763805068,{"$f":"'DNSP Inputs General'!J$42","v":15491.355287958115},null,null,84.333332912027018]
[{"$f":"'DNSP Inputs General'!B$43","v":"Sodium High Pressure 250 watt"},{"$f":"'DNSP Inputs General'!D$43","v":1},{"$f":"'DNSP Inputs General'!A$43","v":"Sodium High Pressure 250 watt"},{"$f":"'RAB 2001 to 2004'!$P$169","v":20.413155464597491},96604.438064782706,{"$f":"'DNSP Inputs General'!J$43","v":4732.4598214285716},null,null,89.524231004406857]
[{"$f":"'DNSP Inputs General'!B$44","v":"Mercury Vapour 80 watt"},{"$f":"'DNSP Inputs General'!D$44","v":1.25},{"$f":"'DNSP Inputs General'!A$44","v":"55W Ind"},{"$f":"B11*IF(A11=C8,D8,IF(A11=C9,D9,D10))","v":20.485259938015403},0,{"$f":"'DNSP Inputs General'!J$44","v":0},null,null,0]
[{"$f":"'DNSP Inputs General'!B$45","v":"Mercury Vapour 80 watt"},{"$f":"'DNSP Inputs General'!D$45","v":1.25},{"$f":"'DNSP Inputs General'!A$45","v":"Fluorescent 20 watt"},{"$f":"B12*IF(A12=C8,D8,IF(A12=C9,D9,D10))","v":20.485259938015403},0,{"$f":"'DNSP Inputs General'!J$45","v":0},null,null,0]
[{"$f":"'DNSP Inputs General'!B$46","v":"Mercury Vapour 80 watt"},{"$f":"'DNSP Inputs General'!D$46","v":1.25},{"$f":"'DNSP Inputs General'!A$46","v":"Fluorescent 40 watt"},{"$f":"B13*IF(A13=C8,D8,IF(A13=C9,D9,D10))","v":20.485259938015403},438.53630533973717,{"$f":"'DNSP Inputs General'!J$46","v":21.407407407407408},null,null,89.84045342998489]
[{"$f":"'DNSP Inputs General'!B$47","v":"Mercury Vapour 80 watt"},{"$f":"'DNSP Inputs General'!D$47","v":1.25},{"$f":"'DNSP Inputs General'!A$47","v":"Fluorescent 80 watt"},{"$f":"B14*IF(A14=C8,D8,IF(A14=C9,D9,D10))","v":20.485259938015403},0,{"$f":"'DNSP Inputs General'!J$47","v":0},null,null,0]
[{"$f":"'DNSP Inputs General'!B$48","v":"Mercury Vapour 80 watt"},{"$f":"'DNSP Inputs General'!D$48","v":1.25},{"$f":"'DNSP Inputs General'!A$48","v":"Mercury Vapour 50 watt"},{"$f":"B15*IF(A15=C8,D8,IF(A15=C9,D9,D10))","v":20.485259938015403},348.24941894626187,{"$f":"'DNSP Inputs General'!J$48","v":17},null,null,89.840453429984905]
[{"$f":"'DNSP Inputs General'!B$49","v":"Mercury Vapour 80 watt"},{"$f":"'DNSP Inputs General'!D$49","v":1.47},{"$f":"'DNSP Inputs General'!A$49","v":"Mercury Vapour 125 watt"},{"$f":"B16*IF(A16=C8,D8,IF(A16=C9,D9,D10))","v":24.090665687106114},8666.472436942302,{"$f":"'DNSP Inputs General'!J$49","v":359.74400000000003},null,null,105.65237323366222]
[{"$f":"'DNSP Inputs General'!B$50","v":"Sodium High Pressure 250 watt"},{"$f":"'DNSP Inputs General'!D$50","v":0.96},{"$f":"'DNSP Inputs General'!A$50","v":"Mercury Vapour 250 watt"},{"$f":"B17*IF(A17=C8,D8,IF(A17=C9,D9,D10))","v":19.596629246013592},2725.9834682582991,{"$f":"'DNSP Inputs General'!J$50","v":139.10471204188482},null,null,85.943261764230613]
[{"$f":"'DNSP Inputs General'!B$51","v":"Sodium High Pressure 250 watt"},{"$f":"'DNSP Inputs General'!D$51","v":1.08},{"$f":"'DNSP Inputs General'!A$51","v":"Mercury Vapour 400 watt"},{"$f":"B18*IF(A18=C8,D8,IF(A18=C9,D9,D10))","v":22.046207901765293},4465.2428852463818,{"$f":"'DNSP Inputs General'!J$51","v":202.54017857142858},null,null,96.686169484759432]
[{"$f":"'DNSP Inputs General'!B$52","v":"Sodium High Pressure 150 watt"},{"$f":"'DNSP Inputs General'!D$52","v":1.25},{"$f":"'DNSP Inputs General'!A$52","v":"Sodium High Pressure 50 watt"},{"$f":"B19*IF(A19=C8,D8,IF(A19=C9,D9,D10))","v":24.036920176059958},0,{"$f":"'DNSP Inputs General'!J$52","v":0},null,null,0]
[{"$f":"'DNSP Inputs General'!B$53","v":"Sodium High Pressure 150 watt"},{"$f":"'DNSP Inputs General'!D$53","v":1.06},{"$f":"'DNSP Inputs General'!A$53","v":"Sodium Low Pressure 90 watt"},{"$f":"B20*IF(A20=C8,D8,IF(A20=C9,D9,D10))","v":20.383308309298844},0,{"$f":"'DNSP Inputs General'!J$53","v":0},null,null,0]
[{"$f":"'DNSP Inputs General'!B$54","v":"Sodium High Pressure 150 watt"},{"$f":"'DNSP Inputs General'!D$54","v":1.37},{"$f":"'DNSP Inputs General'!A$54","v":"Sodium High Pressure 100 watt"},{"$f":"B21*IF(A21=C8,D8,IF(A21=C9,D9,D10))","v":26.344464512961714},30690.753192738528,{"$f":"'DNSP Inputs General'!J$54","v":1164.9792},null,null,115.53666608947704]
[{"$f":"'DNSP Inputs General'!B$55","v":"Sodium High Pressure 250 watt"},{"$f":"'DNSP Inputs General'!D$55","v":1.33},{"$f":"'DNSP Inputs General'!A$55","v":"Sodium High Pressure 400 watt"},{"$f":"B22*IF(A22=C8,D8,IF(A22=C9,D9,D10))","v":27.149496767914663},7819.0550691594226,{"$f":"'DNSP Inputs General'!J$55","v":288},null,null,119.06722723586114]
[{"$f":"'DNSP Inputs General'!B$56","v":"Mercury Vapour 80 watt"},{"$f":"'DNSP Inputs General'!D$56","v":2.57},{"$f":"'DNSP Inputs General'!A$56","v":"Metal Halide 70 watt"},{"$f":"B23*IF(A23=C8,D8,IF(A23=C9,D9,D10))","v":42.117694432559666},505.41233319071603,{"$f":"'DNSP Inputs General'!J$56","v":12},null,null,184.71197225204898]
[{"$f":"'DNSP Inputs General'!B$57","v":"Sodium High Pressure 150 watt"},{"$f":"'DNSP Inputs General'!D$57","v":2.2200000000000002},{"$f":"'DNSP Inputs General'!A$57","v":"Metal Halide 150 watt"},{"$f":"B24*IF(A24=C8,D8,IF(A24=C9,D9,D10))","v":42.689570232682485},1408.7558176785219,{"$f":"'DNSP Inputs General'!J$57","v":33},null,null,187.2199990647]
[{"$f":"'DNSP Inputs General'!B$58","v":"Sodium High Pressure 250 watt"},{"$f":"'DNSP Inputs General'!D$58","v":2.15},{"$f":"'DNSP Inputs General'!A$58","v":"Metal Halide 250 watt"},{"$f":"B25*IF(A25=C8,D8,IF(A25=C9,D9,D10))","v":43.888284248884602},3159.9564659196913,{"$f":"'DNSP Inputs General'!J$58","v":72},null,null,192.4770966594748]
[{"$f":"'DNSP Inputs General'!B$59","v":"Mercury Vapour 80 watt"},{"$f":"'DNSP Inputs General'!D$59","v":1.56},{"$f":"'DNSP Inputs General'!A$59","v":"Incandescent 100 watt"},{"$f":"B26*IF(A26=C8,D8,IF(A26=C9,D9,D10))","v":25.565604402643224},0,{"$f":"'DNSP Inputs General'!J$59","v":0},null,null,0]
[{"$f":"'DNSP Inputs General'!B$60","v":"Mercury Vapour 80 watt"},{"$f":"'DNSP Inputs General'!D$60","v":1.95},{"$f":"'DNSP Inputs General'!A$60","v":"Incandescent 150 watt"},{"$f":"B27*IF(A27=C8,D8,IF(A27=C9,D9,D10))","v":31.957005503304028},0,{"$f":"'DNSP Inputs General'!J$60","v":0},null,null,0]
[{"$f":"'DNSP Inputs General'!B$61","v":"Sodium High Pressure 250 watt"},{"$f":"'DNSP Inputs General'!D$61","v":1.56},{"$f":"'DNSP Inputs General'!A$61","v":"Sodium High Pressure 250 watt (24 hrs)"},{"$f":"B28*IF(A28=C8,D8,IF(A28=C9,D9,D10))","v":31.844522524772088},0,{"$f":"'DNSP Inputs General'!J$61","v":0},null,null,0]
[{"$f":"'DNSP Inputs General'!B$62","v":"Sodium High Pressure 150 watt"},{"$f":"'DNSP Inputs General'!D$62","v":2.2200000000000002},{"$f":"'DNSP Inputs General'!A$62","v":"Metal Halide 100 watt"},{"$f":"B29*IF(A29=C8,D8,IF(A29=C9,D9,D10))","v":42.689570232682485},0,{"$f":"'DNSP Inputs General'!J$62","v":0},null,null,0]
[]
[]
[null,null,null,null,{"$f":"SUM(E8:E31)","v":677915.77679010003},{"$f":"SUM(F8:F31)","v":36152.611407407414},null,null,{"$f":"'Total RAB'!M$110","v":2973077.2740227859}]
[null,null,null,"Check",{"$f":"SUM(F33:I33)","v":4.6566128730773926E-10},{"$f":"ABS('DNSP Inputs General'!J$65-F32)","v":0},null,null,{"$f":"ABS(SUMPRODUCT(F8:F29,I8:I29)-I32)*IF(F32=0,0,1)","v":4.6566128730773926E-10}]
[]
[]
["DEPRECIATION AND RETURN",null,null,"Year",{"$f":"E4+1","v":2016}]
[]
[]
[{"$f":"'DNSP Inputs General'!B$40","v":"Reference Light"},{"$f":"'DNSP Inputs General'!D$40","v":"Price Factor"},{"$f":"'DNSP Inputs General'!A$40","v":"Existing Lights"},"WACC and Dep",null,"Volumes","Unitisation - Luminaires",null,"RAB WDV"]
[{"$f":"'DNSP Inputs General'!B$41","v":"Mercury Vapour 80 watt"},{"$f":"'DNSP Inputs General'!D$41","v":1},{"$f":"'DNSP Inputs General'!A$41","v":"Mercury Vapour 80 watt"},{"$f":"'RAB 2001 to 2004'!C$15","v":3.2014950908892019},{"$f":"F40*D40","v":42973.370547349514},{"$f":"IF('DNSP Inputs General'!K$41=0,1/10^6,'DNSP Inputs General'!K$41)","v":13422.90690048},{"$f":"IF(E$64=0,0,E40/E$64*G$64)","v":173152.52030842149},{"$f":"IF(F40=0,0,G40/F40)","v":12.899778087727748},{"$f":"IF(F40=0,0,E40/E$64*I$64/F40)","v":70.29207006952096}]
[{"$f":"'DNSP Inputs General'!B$42","v":"Sodium High Pressure 150 watt"},{"$f":"'DNSP Inputs General'!D$42","v":1},{"$f":"'DNSP Inputs General'!A$42","v":"Sodium High Pressure 150 watt"},{"$f":"'RAB 2001 to 2004'!C$20","v":3.7565587244975336},59005.047753905426,{"$f":"IF('DNSP Inputs General'!K$42=0,1/10^6,'DNSP Inputs General'!K$42)","v":15707.207601765302},{"$f":"IF(E$64=0,0,E41/E$64*G$64)","v":237748.92682085972},{"$f":"IF(F41=0,0,G41/F41)","v":15.136294932152014},{"$f":"IF(F41=0,0,E41/E$64*I$64/F41)","v":82.479054812265957}]
[{"$f":"'DNSP Inputs General'!B$43","v":"Sodium High Pressure 250 watt"},{"$f":"'DNSP Inputs General'!D$43","v":1},{"$f":"'DNSP Inputs General'!A$43","v":"Sodium High Pressure 250 watt"},{"$f":"'RAB 2001 to 2004'!C$25","v":3.9877829966041345},18911.685973552412,{"$f":"IF('DNSP Inputs General'!K$43=0,1/10^6,'DNSP Inputs General'!K$43)","v":4742.4059909119896},76200.820366043947,{"$f":"IF(F42=0,0,G42/F42)","v":16.06796645248631},{"$f":"IF(F42=0,0,E42/E$64*I$64/F42)","v":87.555818097939749}]
[{"$f":"'DNSP Inputs General'!B$44","v":"Mercury Vapour 80 watt"},{"$f":"'DNSP Inputs General'!D$44","v":1.25},{"$f":"'DNSP Inputs General'!A$44","v":"55W Ind"},{"$f":"B43*IF(A43=C40,D40,IF(A43=C41,D41,D42))","v":4.0018688636115023},0,{"$f":"'DNSP Inputs General'!K$44","v":0},0,{"$f":"IF(F43=0,0,G43/F43)","v":0},{"$f":"IF(F43=0,0,E43/E$64*I$64/F43)","v":0}]
[{"$f":"'DNSP Inputs General'!B$45","v":"Mercury Vapour 80 watt"},{"$f":"'DNSP Inputs General'!D$45","v":1.25},{"$f":"'DNSP Inputs General'!A$45","v":"Fluorescent 20 watt"},{"$f":"B44*IF(A44=C40,D40,IF(A44=C41,D41,D42))","v":4.0018688636115023},0,{"$f":"'DNSP Inputs General'!K$45","v":0},0,0,0]
[{"$f":"'DNSP Inputs General'!B$46","v":"Mercury Vapour 80 watt"},{"$f":"'DNSP Inputs General'!D$46","v":1.25},{"$f":"'DNSP Inputs General'!A$46","v":"Fluorescent 40 watt"},{"$f":"B45*IF(A45=C40,D40,IF(A45=C41,D41,D42))","v":4.0018688636115023},0,{"$f":"'DNSP Inputs General'!K$46","v":0},0,0,0]
[{"$f":"'DNSP Inputs General'!B$47","v":"Mercury Vapour 80 watt"},{"$f":"'DNSP Inputs General'!D$47","v":1.25},{"$f":"'DNSP Inputs General'!A$47","v":"Fluorescent 80 watt"},{"$f":"B46*IF(A46=C40,D40,IF(A46=C41,D41,D42))","v":4.0018688636115023},0,{"$f":"'DNSP Inputs General'!K$47","v":0},0,0,0]
[{"$f":"'DNSP Inputs General'!B$48","v":"Mercury Vapour 80 watt"},{"$f":"'DNSP Inputs General'!D$48","v":1.25},{"$f":"'DNSP Inputs General'!A$48","v":"Mercury Vapour 50 watt"},{"$f":"B47*IF(A47=C40,D40,IF(A47=C41,D41,D42))","v":4.0018688636115023},0,{"$f":"'DNSP Inputs General'!K$48","v":0},0,0,0]
[{"$f":"'DNSP Inputs General'!B$49","v":"Mercury Vapour 80 watt"},{"$f":"'DNSP Inputs General'!D$49","v":1.47},{"$f":"'DNSP Inputs General'!A$49","v":"Mercury Vapour 125 watt"},{"$f":"B48*IF(A48=C40,D40,IF(A48=C41,D41,D42))","v":4.7061977836071271},1668.6468350832527,{"$f":"'DNSP Inputs General'!K$49","v":354.56368640000005},6723.4755226142388,18.962673788959787,103.3293430021958]
[{"$f":"'DNSP Inputs General'!B$50","v":"Sodium High Pressure 250 watt"},{"$f":"'DNSP Inputs General'!D$50","v":0.96},{"$f":"'DNSP Inputs General'!A$50","v":"Mercury Vapour 250 watt"},{"$f":"B49*IF(A49=C40,D40,IF(A49=C41,D41,D42))","v":3.8282716767399689},454.46331183976844,{"$f":"'DNSP Inputs General'!K$50","v":118.71239823469753},1831.1681590361422,15.425247794386857,84.053585374022148]
[{"$f":"'DNSP Inputs General'!B$51","v":"Sodium High Pressure 250 watt"},{"$f":"'DNSP Inputs General'!D$51","v":1.08},{"$f":"'DNSP Inputs General'!A$51","v":"Mercury Vapour 400 watt"},{"$f":"B50*IF(A50=C40,D40,IF(A50=C41,D41,D42))","v":4.3068056363324656},829.46496386410843,{"$f":"'DNSP Inputs General'!K$51","v":192.59400908801021},3342.1616031340709,17.353403768685215,94.560283545774922]
[{"$f":"'DNSP Inputs General'!B$52","v":"Sodium High Pressure 150 watt"},{"$f":"'DNSP Inputs General'!D$52","v":1.25},{"$f":"'DNSP Inputs General'!A$52","v":"Sodium High Pressure 50 watt"},{"$f":"B51*IF(A51=C40,D40,IF(A51=C41,D41,D42))","v":4.6956984056219166},0,{"$f":"'DNSP Inputs General'!K$52","v":0},0,0,0]
[{"$f":"'DNSP Inputs General'!B$53","v":"Sodium High Pressure 150 watt"},{"$f":"'DNSP Inputs General'!D$53","v":1.06},{"$f":"'DNSP Inputs General'!A$53","v":"Sodium Low Pressure 90 watt"},{"$f":"B52*IF(A52=C40,D40,IF(A52=C41,D41,D42))","v":3.9819522479673859},0,{"$f":"'DNSP Inputs General'!K$53","v":0},0,0,0]
[{"$f":"'DNSP Inputs General'!B$54","v":"Sodium High Pressure 150 watt"},{"$f":"'DNSP Inputs General'!D$54","v":1.37},{"$f":"'DNSP Inputs General'!A$54","v":"Sodium High Pressure 100 watt"},{"$f":"B53*IF(A53=C40,D40,IF(A53=C41,D41,D42))","v":5.1464854525616213},5909.2126068600237,{"$f":"'DNSP Inputs General'!K$54","v":1148.2034995199999},23809.979130883385,20.73672405704826,112.99630509280436]
[{"$f":"'DNSP Inputs General'!B$55","v":"Sodium High Pressure 250 watt"},{"$f":"'DNSP Inputs General'!D$55","v":1.33},{"$f":"'DNSP Inputs General'!A$55","v":"Sodium High Pressure 400 watt"},{"$f":"B54*IF(A54=C40,D40,IF(A54=C41,D41,D42))","v":5.3037513854834994},1527.4803990192479,{"$f":"'DNSP Inputs General'!K$55","v":288},6154.6738699603566,21.370395381806794,116.44923807025988]
[{"$f":"'DNSP Inputs General'!B$56","v":"Mercury Vapour 80 watt"},{"$f":"'DNSP Inputs General'!D$56","v":2.57},{"$f":"'DNSP Inputs General'!A$56","v":"Metal Halide 70 watt"},{"$f":"B55*IF(A55=C40,D40,IF(A55=C41,D41,D42))","v":8.2278423835852479},98.734108603022975,{"$f":"'DNSP Inputs General'!K$56","v":12},397.82915622552372,33.152429685460312,180.65062007866882]
[{"$f":"'DNSP Inputs General'!B$57","v":"Sodium High Pressure 150 watt"},{"$f":"'DNSP Inputs General'!D$57","v":2.2200000000000002},{"$f":"'DNSP Inputs General'!A$57","v":"Metal Halide 150 watt"},{"$f":"B56*IF(A56=C40,D40,IF(A56=C41,D41,D42))","v":8.3395603683845252},275.20549215668933,{"$f":"'DNSP Inputs General'!K$57","v":33},1108.8849667294567,33.602574749377474,183.10350168323046]
[{"$f":"'DNSP Inputs General'!B$58","v":"Sodium High Pressure 250 watt"},{"$f":"'DNSP Inputs General'!D$58","v":2.15},{"$f":"'DNSP Inputs General'!A$58","v":"Metal Halide 250 watt"},{"$f":"B57*IF(A57=C40,D40,IF(A57=C41,D41,D42))","v":8.573733442698888},617.30880787431988,{"$f":"'DNSP Inputs General'!K$58","v":72},2487.3212068448802,34.54612787284556,188.24500891057042]
[{"$f":"'DNSP Inputs General'!B$59","v":"Mercury Vapour 80 watt"},{"$f":"'DNSP Inputs General'!D$59","v":1.56},{"$f":"'DNSP Inputs General'!A$59","v":"Incandescent 100 watt"},{"$f":"B58*IF(A58=C40,D40,IF(A58=C41,D41,D42))","v":4.994332341787155},0,{"$f":"'DNSP Inputs General'!K$59","v":0},0,0,0]
[{"$f":"'DNSP Inputs General'!B$60","v":"Mercury Vapour 80 watt"},{"$f":"'DNSP Inputs General'!D$60","v":1.95},{"$f":"'DNSP Inputs General'!A$60","v":"Incandescent 150 watt"},{"$f":"B59*IF(A59=C40,D40,IF(A59=C41,D41,D42))","v":6.2429154272339433},0,{"$f":"'DNSP Inputs General'!K$60","v":0},0,0,0]
[{"$f":"'DNSP Inputs General'!B$61","v":"Sodium High Pressure 250 watt"},{"$f":"'DNSP Inputs General'!D$61","v":1.56},{"$f":"'DNSP Inputs General'!A$61","v":"Sodium High Pressure 250 watt (24 hrs)"},{"$f":"B60*IF(A60=C40,D40,IF(A60=C41,D41,D42))","v":6.2209414747024496},0,{"$f":"'DNSP Inputs General'!K$61","v":0},0,0,0]
[{"$f":"'DNSP Inputs General'!B$62","v":"Sodium High Pressure 150 watt"},{"$f":"'DNSP Inputs General'!D$62","v":2.2200000000000002},{"$f":"'DNSP Inputs General'!A$62","v":"Metal Halide 100 watt"},{"$f":"B61*IF(A61=C40,D40,IF(A61=C41,D41,D42))","v":8.3395603683845252},0,{"$f":"'DNSP Inputs General'!K$62","v":0},0,0,0]
[]
[]
[null,null,null,null,{"$f":"SUM(E40:E63)","v":132270.62080010783},{"$f":"SUM(F40:F63)","v":36091.5940864},{"$f":"'Total RAB'!N$116","v":532957.7611107534},{"$f":"SUMPRODUCT(F40:F63,H40:H63)","v":532957.76111075329},{"$f":"'Total RAB'!N$110","v":2904135.5621250859}]
[null,null,null,"Check",{"$f":"SUM(F65:I65)","v":1.6298145055770874E-9},{"$f":"ABS('DNSP Inputs General'!K$65-F64)","v":0},{"$f":"ABS(G64-SUM(G40:G63))*IF(F64=0,0,1)","v":1.1641532182693481E-10},{"$f":"ABS(H64-G64)*IF(F64=0,0,1)","v":1.1641532182693481E-10},{"$f":"ABS(I64-SUMPRODUCT(F40:F63,I40:I63))*IF(F64=0,0,1)","v":1.3969838619232178E-9}]
[]
[]
[{"$f":"'DNSP Inputs General'!B$67","v":"Reference Light"},{"$f":"'DNSP Inputs General'!D$67","v":"Price Factor"},{"$f":"'DNSP Inputs General'!A$67","v":"Energy Efficient Lights"},"Unit cost",null,"Volumes","Unitisation - Luminaires & Ballasts"]
[{"$f":"'DNSP Inputs General'!B$68","v":"T5 2X14W"},{"$f":"'DNSP Inputs General'!D$68","v":1},{"$f":"'DNSP Inputs General'!A$68","v":"T5 2X14W"},{"$f":"'DNSP Inputs O & M'!$D$151*B69","v":240.441631071095},{"$f":"F69*D69","v":8436154.3030909263},{"$f":"'DNSP Inputs General'!K$68","v":35086.080000000002},{"$f":"IF(E$74=0,0,E69/E$74*G$74)","v":87216.347360773856},{"$f":"IF(F69=0,0,G69/F69)","v":2.4857820355187541}]
[{"$f":"'DNSP Inputs General'!B$69","v":"T5 2X14W"},{"$f":"'DNSP Inputs General'!D$69","v":1.1262458471760797},{"$f":"'DNSP Inputs General'!A$69","v":"T5 (2x24W)"},{"$f":"D69*B70","v":270.79638848206378},{"$f":"F70*D70","v":90175.197364527237},{"$f":"'DNSP Inputs General'!K$69","v":333},{"$f":"IF(E$74=0,0,E70/E$74*G$74)","v":932.26736426447007},{"$f":"IF(F70=0,0,G70/F70)","v":2.7996016944878983}]
[{"$f":"'DNSP Inputs General'!B$70","v":"LED 18W"},{"$f":"'DNSP Inputs General'!D$70","v":1},{"$f":"'DNSP Inputs General'!A$70","v":"LED 18W"},{"$f":"'DNSP Inputs O & M'!$D$184*B71","v":314.61949884374962},143569.03024624818,{"$f":"'DNSP Inputs General'!K$70","v":456.32591359999992},1484.2742276084784,3.2526625891106935]
[{"$f":"'DNSP Inputs General'!B$71","v":"T5 2X14W"},{"$f":"'DNSP Inputs General'!D$71","v":0.8625368731563422},{"$f":"'DNSP Inputs General'!A$71","v":"Compact Fluoro 32W"},{"$f":"D69*B72","v":207.3897726406731},1659.1181811253848,{"$f":"'DNSP Inputs General'!K$71","v":8},17.152629314116428,2.1440786642645535]
[{"$f":"'DNSP Inputs General'!B$72","v":"T5 2X14W"},{"$f":"'DNSP Inputs General'!D$72","v":0.97275747508305643},{"$f":"'DNSP Inputs General'!A$72","v":"Compact Fluoro 42W"},{"$f":"D69*B73","v":233.89139394557014},15904.61478829877,{"$f":"'DNSP Inputs General'!K$72","v":68},164.42828784050695,2.4180630564780436]
[null,null,null,null,{"$f":"SUM(E69:E73)","v":8687462.2636711281},{"$f":"SUM(F69:F73)","v":35951.4059136},{"$f":"'Total RAB'!N$131","v":89814.46986980144},{"$f":"SUMPRODUCT(F69:F73,H69:H73)","v":89814.469869801425}]
[null,null,null,"Check",{"$f":"SUM(F75:I75)","v":2.9103830456733704E-11},{"$f":"ABS('DNSP Inputs General'!K$73-F74)","v":0},{"$f":"ABS(G74-SUM(G69:G73))","v":1.4551915228366852E-11},{"$f":"ABS(H74-G74)","v":1.4551915228366852E-11}]
[]
[]
[null,null,{"$f":"'RAB 2001 to 2004'!A$27","v":"Poles & Brackets"},"Weighted Average Volumes",null,null,"Unitisation Poles & Brackets"]
[null,null,"Total Poles & Brackets",{"$f":"'DNSP Inputs General'!$D$41*F40","v":13422.90690048},{"$f":"SUMPRODUCT('DNSP Inputs General'!$D41:$D62,'DNSP Inputs General'!K41:K62)+SUMPRODUCT('DNSP Inputs General'!$D68:$D72,'DNSP Inputs General'!K68:K72)","v":72921.166922628589},{"$f":"IF(E79=0,0,D79/E79*G79)","v":67833.971294625138},{"$f":"'Total RAB'!N$101","v":368514.24065403215},{"$f":"F79/F40","v":5.0535976892009442}]
[]
[]
[]
[]
["DEPRECIATION AND RETURN",null,null,"Year",{"$f":"E36+1","v":2017}]
[]
[]
[{"$f":"'DNSP Inputs General'!B$40","v":"Reference Light"},{"$f":"'DNSP Inputs General'!D$40","v":"Price Factor"},{"$f":"'DNSP Inputs General'!A$40","v":"Existing Lights"},{"$f":"D$39","v":"WACC and Dep"},null,{"$f":"F$39","v":"Volumes"},{"$f":"G$39","v":"Unitisation - Luminaires"},null,{"$f":"I$39","v":"RAB WDV"}]
[{"$f":"'DNSP Inputs General'!B$41","v":"Mercury Vapour 80 watt"},{"$f":"'DNSP Inputs General'!D$41","v":1},{"$f":"'DNSP Inputs General'!A$41","v":"Mercury Vapour 80 watt"},{"$f":"'RAB 2001 to 2004'!D$15","v":3.0451257528121416},{"$f":"F88*D88","v":40285.847551735831},{"$f":"IF('DNSP Inputs General'!L$41=0,1/10^6,'DNSP Inputs General'!L$41)","v":13229.617041113088},{"$f":"IF(E$112=0,0,E88/E$112*G$112)","v":173308.12201685001},{"$f":"IF(F88=0,0,G88/F88)","v":13.100010489968692},{"$f":"IF(F88=0,0,E88/E$112*I$112/F88)","v":68.702389465484018}]
[{"$f":"'DNSP Inputs General'!B$42","v":"Sodium High Pressure 150 watt"},{"$f":"'DNSP Inputs General'!D$42","v":1},{"$f":"'DNSP Inputs General'!A$42","v":"Sodium High Pressure 150 watt"},{"$f":"'RAB 2001 to 2004'!D$20","v":3.5730786364383844},56883.663674187475,{"$f":"IF('DNSP Inputs General'!L$42=0,1/10^6,'DNSP Inputs General'!L$42)","v":15920.070466427978},{"$f":"IF(E$112=0,0,E89/E$112*G$112)","v":244711.27018368425},{"$f":"IF(F89=0,0,G89/F89)","v":15.371242903712515},{"$f":"IF(F89=0,0,E89/E$112*I$112/F89)","v":80.613761137678182}]
[{"$f":"'DNSP Inputs General'!B$43","v":"Sodium High Pressure 250 watt"},{"$f":"'DNSP Inputs General'!D$43","v":1},{"$f":"'DNSP Inputs General'!A$43","v":"Sodium High Pressure 250 watt"},{"$f":"'RAB 2001 to 2004'!D$25","v":3.7930093143490877},18023.863397623489,{"$f":"IF('DNSP Inputs General'!L$43=0,1/10^6,'DNSP Inputs General'!L$43)","v":4751.8637324297042},77537.947114526469,{"$f":"IF(F90=0,0,G90/F90)","v":16.317375977210538},{"$f":"IF(F90=0,0,E90/E$112*I$112/F90)","v":85.575711584314206}]
[{"$f":"'DNSP Inputs General'!B$44","v":"Mercury Vapour 80 watt"},{"$f":"'DNSP Inputs General'!D$44","v":1.25},{"$f":"'DNSP Inputs General'!A$44","v":"55W Ind"},{"$f":"B91*IF(A91=C88,D88,IF(A91=C89,D89,D90))","v":3.8064071910151771},0,{"$f":"'DNSP Inputs General'!L$44","v":0},0,{"$f":"IF(F91=0,0,G91/F91)","v":0},{"$f":"IF(F91=0,0,E91/E$112*I$112/F91)","v":0}]
[{"$f":"'DNSP Inputs General'!B$45","v":"Mercury Vapour 80 watt"},{"$f":"'DNSP Inputs General'!D$45","v":1.25},{"$f":"'DNSP Inputs General'!A$45","v":"Fluorescent 20 watt"},{"$f":"B92*IF(A92=C88,D88,IF(A92=C89,D89,D90))","v":3.8064071910151771},0,{"$f":"'DNSP Inputs General'!L$45","v":0},0,0,0]
[{"$f":"'DNSP Inputs General'!B$46","v":"Mercury Vapour 80 watt"},{"$f":"'DNSP Inputs General'!D$46","v":1.25},{"$f":"'DNSP Inputs General'!A$46","v":"Fluorescent 40 watt"},{"$f":"B93*IF(A93=C88,D88,IF(A93=C89,D89,D90))","v":3.8064071910151771},0,{"$f":"'DNSP Inputs General'!L$46","v":0},0,0,0]
[{"$f":"'DNSP Inputs General'!B$47","v":"Mercury Vapour 80 watt"},{"$f":"'DNSP Inputs General'!D$47","v":1.25},{"$f":"'DNSP Inputs General'!A$47","v":"Fluorescent 80 watt"},{"$f":"B94*IF(A94=C88,D88,IF(A94=C89,D89,D90))","v":3.8064071910151771},0,{"$f":"'DNSP Inputs General'!L$47","v":0},0,0,0]
[{"$f":"'DNSP Inputs General'!B$48","v":"Mercury Vapour 80 watt"},{"$f":"'DNSP Inputs General'!D$48","v":1.25},{"$f":"'DNSP Inputs General'!A$48","v":"Mercury Vapour 50 watt"},{"$f":"B95*IF(A95=C88,D88,IF(A95=C89,D89,D90))","v":3.8064071910151771},0,{"$f":"'DNSP Inputs General'!L$48","v":0},0,0,0]
[{"$f":"'DNSP Inputs General'!B$49","v":"Mercury Vapour 80 watt"},{"$f":"'DNSP Inputs General'!D$49","v":1.47},{"$f":"'DNSP Inputs General'!A$49","v":"Mercury Vapour 125 watt"},{"$f":"B96*IF(A96=C88,D88,IF(A96=C89,D89,D90))","v":4.4763348566338479},1564.2908889769765,{"$f":"'DNSP Inputs General'!L$49","v":349.45796931584005},6729.5175038457719,19.257015420253975,100.99251251426151]
[{"$f":"'DNSP Inputs General'!B$50","v":"Sodium High Pressure 250 watt"},{"$f":"'DNSP Inputs General'!D$50","v":0.96},{"$f":"'DNSP Inputs General'!A$50","v":"Mercury Vapour 250 watt"},{"$f":"B97*IF(A97=C88,D88,IF(A97=C89,D89,D90))","v":3.641288941775124},368.89728429218979,{"$f":"'DNSP Inputs General'!L$50","v":101.30953357201936},1586.9815193956545,15.664680938122117,82.152683120941632]
[{"$f":"'DNSP Inputs General'!B$51","v":"Sodium High Pressure 250 watt"},{"$f":"'DNSP Inputs General'!D$51","v":1.08},{"$f":"'DNSP Inputs General'!A$51","v":"Mercury Vapour 400 watt"},{"$f":"B98*IF(A98=C88,D88,IF(A98=C89,D89,D90))","v":4.0964500594970152},750.20857418439789,{"$f":"'DNSP Inputs General'!L$51","v":183.13626757029539},3227.3675996481434,17.622766055387387,92.421768511059369]
[{"$f":"'DNSP Inputs General'!B$52","v":"Sodium High Pressure 150 watt"},{"$f":"'DNSP Inputs General'!D$52","v":1.25},{"$f":"'DNSP Inputs General'!A$52","v":"Sodium High Pressure 50 watt"},{"$f":"B99*IF(A99=C88,D88,IF(A99=C89,D89,D90))","v":4.4663482955479807},0,{"$f":"'DNSP Inputs General'!L$52","v":0},0,0,0]
[{"$f":"'DNSP Inputs General'!B$53","v":"Sodium High Pressure 150 watt"},{"$f":"'DNSP Inputs General'!D$53","v":1.06},{"$f":"'DNSP Inputs General'!A$53","v":"Sodium Low Pressure 90 watt"},{"$f":"B100*IF(A100=C88,D88,IF(A100=C89,D89,D90))","v":3.7874633546246876},0,{"$f":"'DNSP Inputs General'!L$53","v":0},0,0,0]
[{"$f":"'DNSP Inputs General'!B$54","v":"Sodium High Pressure 150 watt"},{"$f":"'DNSP Inputs General'!D$54","v":1.37},{"$f":"'DNSP Inputs General'!A$54","v":"Sodium High Pressure 100 watt"},{"$f":"B101*IF(A101=C88,D88,IF(A101=C89,D89,D90))","v":4.8951177319205872},5539.654795484531,{"$f":"'DNSP Inputs General'!L$54","v":1131.669369126912},23831.375720570984,21.058602778086147,110.44085275861913]
[{"$f":"'DNSP Inputs General'!B$55","v":"Sodium High Pressure 250 watt"},{"$f":"'DNSP Inputs General'!D$55","v":1.33},{"$f":"'DNSP Inputs General'!A$55","v":"Sodium High Pressure 400 watt"},{"$f":"B102*IF(A102=C88,D88,IF(A102=C89,D89,D90))","v":5.0447023880842865},1452.8742877682746,{"$f":"'DNSP Inputs General'!L$55","v":288},6250.2076943107259,21.70211004969002,113.81569640713792]
[{"$f":"'DNSP Inputs General'!B$56","v":"Mercury Vapour 80 watt"},{"$f":"'DNSP Inputs General'!D$56","v":2.57},{"$f":"'DNSP Inputs General'!A$56","v":"Metal Halide 70 watt"},{"$f":"B103*IF(A103=C88,D88,IF(A103=C89,D89,D90))","v":7.8259731847272036},93.911678216726443,{"$f":"'DNSP Inputs General'!L$56","v":12},404.00432351063444,33.667026959219534,176.56514092629394]
[{"$f":"'DNSP Inputs General'!B$57","v":"Sodium High Pressure 150 watt"},{"$f":"'DNSP Inputs General'!D$57","v":2.2200000000000002},{"$f":"'DNSP Inputs General'!A$57","v":"Metal Halide 150 watt"},{"$f":"B104*IF(A104=C88,D88,IF(A104=C89,D89,D90))","v":7.932234572893214},261.76374090547608,{"$f":"'DNSP Inputs General'!L$57","v":33},1126.097255125979,{"$f":"IF(F104=0,0,G104/F104)","v":34.124159246241788},{"$f":"IF(F104=0,0,E104/E$112*I$112/F104)","v":178.96254972564563}]
[{"$f":"'DNSP Inputs General'!B$58","v":"Sodium High Pressure 250 watt"},{"$f":"'DNSP Inputs General'!D$58","v":2.15},{"$f":"'DNSP Inputs General'!A$58","v":"Metal Halide 250 watt"},{"$f":"B105*IF(A105=C88,D88,IF(A105=C89,D89,D90))","v":8.1549700258505382},587.15784186123869,{"$f":"'DNSP Inputs General'!L$58","v":72},2525.9298012721911,35.082358351002654,183.98777990627551]
[{"$f":"'DNSP Inputs General'!B$59","v":"Mercury Vapour 80 watt"},{"$f":"'DNSP Inputs General'!D$59","v":1.56},{"$f":"'DNSP Inputs General'!A$59","v":"Incandescent 100 watt"},{"$f":"B106*IF(A106=C88,D88,IF(A106=C89,D89,D90))","v":4.7503961743869407},0,{"$f":"'DNSP Inputs General'!L$59","v":0},0,0,0]
[{"$f":"'DNSP Inputs General'!B$60","v":"Mercury Vapour 80 watt"},{"$f":"'DNSP Inputs General'!D$60","v":1.95},{"$f":"'DNSP Inputs General'!A$60","v":"Incandescent 150 watt"},{"$f":"B107*IF(A107=C88,D88,IF(A107=C89,D89,D90))","v":5.9379952179836764},0,{"$f":"'DNSP Inputs General'!L$60","v":0},0,0,0]
[{"$f":"'DNSP Inputs General'!B$61","v":"Sodium High Pressure 250 watt"},{"$f":"'DNSP Inputs General'!D$61","v":1.56},{"$f":"'DNSP Inputs General'!A$61","v":"Sodium High Pressure 250 watt (24 hrs)"},{"$f":"B108*IF(A108=C88,D88,IF(A108=C89,D89,D90))","v":5.9170945303845768},0,{"$f":"'DNSP Inputs General'!L$61","v":0},0,0,0]
[{"$f":"'DNSP Inputs General'!B$62","v":"Sodium High Pressure 150 watt"},{"$f":"'DNSP Inputs General'!D$62","v":2.2200000000000002},{"$f":"'DNSP Inputs General'!A$62","v":"Metal Halide 100 watt"},{"$f":"B109*IF(A109=C88,D88,IF(A109=C89,D89,D90))","v":7.932234572893214},0,{"$f":"'DNSP Inputs General'!L$62","v":0},0,0,0]
[]
[]
[null,null,null,null,{"$f":"SUM(E88:E111)","v":125812.1337152366},{"$f":"SUM(F88:F111)","v":36072.124379555833},{"$f":"'Total RAB'!O$116","v":541238.8207327408},{"$f":"SUMPRODUCT(F88:F111,H88:H111)","v":541238.82073274092},{"$f":"'Total RAB'!O$110","v":2838501.5633608792}]
[null,null,null,"Check",{"$f":"SUM(F113:I113)","v":2.3283064365386963E-10},{"$f":"ABS('DNSP Inputs General'!L$65-F112)","v":0},{"$f":"ABS(G112-SUM(G88:G111))*IF(F112=0,0,1)","v":1.1641532182693481E-10},{"$f":"ABS(H112-G112)*IF(F112=0,0,1)","v":1.1641532182693481E-10},{"$f":"ABS(I112-SUMPRODUCT(F88:F111,I88:I111))*IF(F112=0,0,1)","v":0}]
[]
[]
[{"$f":"'DNSP Inputs General'!B$67","v":"Reference Light"},{"$f":"'DNSP Inputs General'!D$67","v":"Price Factor"},{"$f":"'DNSP Inputs General'!A$67","v":"Energy Efficient Lights"},{"$f":"D$68","v":"Unit cost"},null,{"$f":"F$68","v":"Volumes"},{"$f":"G$68","v":"Unitisation - Luminaires & Ballasts"}]
[{"$f":"'DNSP Inputs General'!B$68","v":"T5 2X14W"},{"$f":"'DNSP Inputs General'!D$68","v":1},{"$f":"'DNSP Inputs General'!A$68","v":"T5 2X14W"},{"$f":"'DNSP Inputs O & M'!$E$151*B117","v":249.62763921220224},{"$f":"F117*D117","v":8877912.130079072},{"$f":"'DNSP Inputs General'!L$68","v":35564.620000000003},{"$f":"IF(E$122=0,0,E117/E$122*G$122)","v":106187.20527948443},{"$f":"IF(F117=0,0,G117/F117)","v":2.9857539678333249}]
[{"$f":"'DNSP Inputs General'!B$69","v":"T5 2X14W"},{"$f":"'DNSP Inputs General'!D$69","v":1.1262458471760797},{"$f":"'DNSP Inputs General'!A$69","v":"T5 (2x24W)"},{"$f":"D117*B118","v":281.14209200311149},{"$f":"F118*D118","v":93620.316637036129},{"$f":"'DNSP Inputs General'!L$69","v":333},{"$f":"IF(E$122=0,0,E118/E$122*G$122)","v":1119.7767713182743},{"$f":"IF(F118=0,0,G118/F118)","v":3.3626930069617846}]
[{"$f":"'DNSP Inputs General'!B$70","v":"LED 18W"},{"$f":"'DNSP Inputs General'!D$70","v":1},{"$f":"'DNSP Inputs General'!A$70","v":"LED 18W"},{"$f":"'DNSP Inputs O & M'!$E$184*B119","v":326.63945256330828},219258.56839192437,{"$f":"'DNSP Inputs General'!L$70","v":671.25562044416029},2622.5146487129946,3.9068792406947952]
[{"$f":"'DNSP Inputs General'!B$71","v":"T5 2X14W"},{"$f":"'DNSP Inputs General'!D$71","v":0.8625368731563422},{"$f":"'DNSP Inputs General'!A$71","v":"Compact Fluoro 32W"},{"$f":"D117*B120","v":215.31304337949243},1722.5043470359394,{"$f":"'DNSP Inputs General'!L$71","v":8},20.602583131432787,2.5753228914290984]
[{"$f":"'DNSP Inputs General'!B$72","v":"T5 2X14W"},{"$f":"'DNSP Inputs General'!D$72","v":0.97275747508305643},{"$f":"'DNSP Inputs General'!A$72","v":"Compact Fluoro 42W"},{"$f":"D117*B121","v":242.82715203100602},16512.246338108409,{"$f":"'DNSP Inputs General'!L$72","v":68},197.50018538587585,2.9044144909687626]
[null,null,null,null,{"$f":"SUM(E117:E121)","v":9209025.7657931764},{"$f":"SUM(F117:F121)","v":36644.87562044416},{"$f":"'Total RAB'!O$131","v":110147.599468033},{"$f":"SUMPRODUCT(F117:F121,H117:H121)","v":110147.599468033}]
[null,null,null,"Check",{"$f":"SUM(F123:I123)","v":0},{"$f":"ABS('DNSP Inputs General'!L$73-F122)","v":0},{"$f":"ABS(G122-SUM(G117:G121))","v":0},{"$f":"ABS(H122-G122)","v":0}]
[]
[]
[null,null,{"$f":"'RAB 2001 to 2004'!A$27","v":"Poles & Brackets"},{"$f":"D$78","v":"Weighted Average Volumes"},null,null,{"$f":"G$78","v":"Unitisation Poles & Brackets"}]
[null,null,"Total Poles & Brackets",{"$f":"'DNSP Inputs General'!$D$41*F88","v":13229.617041113088},{"$f":"SUMPRODUCT('DNSP Inputs General'!$D41:$D62,'DNSP Inputs General'!L41:L62)+SUMPRODUCT('DNSP Inputs General'!$D68:$D72,'DNSP Inputs General'!L68:L72)","v":73586.589102618673},{"$f":"IF(E127=0,0,D127/E127*G127)","v":73352.410283117249},{"$f":"'Total RAB'!O$101","v":408005.28529405594},{"$f":"F127/F88","v":5.5445603644582642}]
[]
[]
[]
[]
["DEPRECIATION AND RETURN",null,null,"Year",{"$f":"E84+1","v":2018}]
[]
[]
[{"$f":"'DNSP Inputs General'!B$40","v":"Reference Light"},{"$f":"'DNSP Inputs General'!D$40","v":"Price Factor"},{"$f":"'DNSP Inputs General'!A$40","v":"Existing Lights"},{"$f":"D$39","v":"WACC and Dep"},null,{"$f":"F$39","v":"Volumes"},{"$f":"G$39","v":"Unitisation - Luminaires"},null,{"$f":"I$39","v":"RAB WDV"}]
[{"$f":"'DNSP Inputs General'!B$41","v":"Mercury Vapour 80 watt"},{"$f":"'DNSP Inputs General'!D$41","v":1},{"$f":"'DNSP Inputs General'!A$41","v":"Mercury Vapour 80 watt"},{"$f":"'RAB 2001 to 2004'!E$15","v":2.8887564147350813},{"$f":"F136*D136","v":37666.814260279119},{"$f":"IF('DNSP Inputs General'!M$41=0,1/10^6,'DNSP Inputs General'!M$41)","v":13039.110555721059},{"$f":"IF(E$160=0,0,E136/E$160*G$160)","v":173651.40044989559},{"$f":"IF(F136=0,0,G136/F136)","v":13.317733576060833},{"$f":"IF(F136=0,0,E136/E$160*I$160/F136)","v":67.065160482821696}]
[{"$f":"'DNSP Inputs General'!B$42","v":"Sodium High Pressure 150 watt"},{"$f":"'DNSP Inputs General'!D$42","v":1},{"$f":"'DNSP Inputs General'!A$42","v":"Sodium High Pressure 150 watt"},{"$f":"'RAB 2001 to 2004'!E$20","v":3.3895985483792348},54675.519838413325,{"$f":"IF('DNSP Inputs General'!M$42=0,1/10^6,'DNSP Inputs General'!M$42)","v":16130.382125799792},{"$f":"IF(E$160=0,0,E137/E$160*G$160)","v":252064.86868412339},{"$f":"IF(F137=0,0,G137/F137)","v":15.626714030596796},{"$f":"IF(F137=0,0,E137/E$160*I$160/F137)","v":78.692675318642259}]
[{"$f":"'DNSP Inputs General'!B$43","v":"Sodium High Pressure 250 watt"},{"$f":"'DNSP Inputs General'!D$43","v":1},{"$f":"'DNSP Inputs General'!A$43","v":"Sodium High Pressure 250 watt"},{"$f":"'RAB 2001 to 2004'!E$25","v":3.5982356320940414},17130.685409270114,{"$f":"IF('DNSP Inputs General'!M$43=0,1/10^6,'DNSP Inputs General'!M$43)","v":4760.8570312836027},78975.819176811478,{"$f":"IF(F138=0,0,G138/F138)","v":16.588571901626363},{"$f":"IF(F138=0,0,E138/E$160*I$160/F138)","v":83.536378799707336}]
[{"$f":"'DNSP Inputs General'!B$44","v":"Mercury Vapour 80 watt"},{"$f":"'DNSP Inputs General'!D$44","v":1.25},{"$f":"'DNSP Inputs General'!A$44","v":"55W Ind"},{"$f":"B139*IF(A139=C136,D136,IF(A139=C137,D137,D138))","v":3.6109455184188515},0,{"$f":"'DNSP Inputs General'!M$44","v":0},0,{"$f":"IF(F139=0,0,G139/F139)","v":0},{"$f":"IF(F139=0,0,E139/E$160*I$160/F139)","v":0}]
[{"$f":"'DNSP Inputs General'!B$45","v":"Mercury Vapour 80 watt"},{"$f":"'DNSP Inputs General'!D$45","v":1.25},{"$f":"'DNSP Inputs General'!A$45","v":"Fluorescent 20 watt"},{"$f":"B140*IF(A140=C136,D136,IF(A140=C137,D137,D138))","v":3.6109455184188515},0,{"$f":"'DNSP Inputs General'!M$45","v":0},0,0,0]
[{"$f":"'DNSP Inputs General'!B$46","v":"Mercury Vapour 80 watt"},{"$f":"'DNSP Inputs General'!D$46","v":1.25},{"$f":"'DNSP Inputs General'!A$46","v":"Fluorescent 40 watt"},{"$f":"B141*IF(A141=C136,D136,IF(A141=C137,D137,D138))","v":3.6109455184188515},0,{"$f":"'DNSP Inputs General'!M$46","v":0},0,0,0]
[{"$f":"'DNSP Inputs General'!B$47","v":"Mercury Vapour 80 watt"},{"$f":"'DNSP Inputs General'!D$47","v":1.25},{"$f":"'DNSP Inputs General'!A$47","v":"Fluorescent 80 watt"},{"$f":"B142*IF(A142=C136,D136,IF(A142=C137,D137,D138))","v":3.6109455184188515},0,{"$f":"'DNSP Inputs General'!M$47","v":0},0,0,0]
[{"$f":"'DNSP Inputs General'!B$48","v":"Mercury Vapour 80 watt"},{"$f":"'DNSP Inputs General'!D$48","v":1.25},{"$f":"'DNSP Inputs General'!A$48","v":"Mercury Vapour 50 watt"},{"$f":"B143*IF(A143=C136,D136,IF(A143=C137,D137,D138))","v":3.6109455184188515},0,{"$f":"'DNSP Inputs General'!M$48","v":0},0,0,0]
[{"$f":"'DNSP Inputs General'!B$49","v":"Mercury Vapour 80 watt"},{"$f":"'DNSP Inputs General'!D$49","v":1.47},{"$f":"'DNSP Inputs General'!A$49","v":"Mercury Vapour 125 watt"},{"$f":"B144*IF(A144=C136,D136,IF(A144=C137,D137,D138))","v":4.2464719296605695},1462.5943835108385,{"$f":"'DNSP Inputs General'!M$49","v":344.42577455769197},6742.8469323629688,19.577068356809427,98.585785909747912]
[{"$f":"'DNSP Inputs General'!B$50","v":"Sodium High Pressure 250 watt"},{"$f":"'DNSP Inputs General'!D$50","v":0.96},{"$f":"'DNSP Inputs General'!A$50","v":"Mercury Vapour 250 watt"},{"$f":"B145*IF(A145=C136,D136,IF(A145=C137,D137,D138))","v":3.4543062068102794},298.65197147739048,{"$f":"'DNSP Inputs General'!M$50","v":86.457874200205012},1376.8441561265929,15.925029025561308,80.194923647719037]
[{"$f":"'DNSP Inputs General'!B$51","v":"Sodium High Pressure 250 watt"},{"$f":"'DNSP Inputs General'!D$51","v":1.08},{"$f":"'DNSP Inputs General'!A$51","v":"Mercury Vapour 400 watt"},{"$f":"B146*IF(A146=C136,D136,IF(A146=C137,D137,D138))","v":3.8860944826615649},676.73602992309554,{"$f":"'DNSP Inputs General'!M$51","v":174.14296871639692},3119.8858103317912,17.915657653756476,90.219289103683934]
[{"$f":"'DNSP Inputs General'!B$52","v":"Sodium High Pressure 150 watt"},{"$f":"'DNSP Inputs General'!D$52","v":1.25},{"$f":"'DNSP Inputs General'!A$52","v":"Sodium High Pressure 50 watt"},{"$f":"B147*IF(A147=C136,D136,IF(A147=C137,D137,D138))","v":4.2369981854740431},0,{"$f":"'DNSP Inputs General'!M$52","v":0},0,0,0]
[{"$f":"'DNSP Inputs General'!B$53","v":"Sodium High Pressure 150 watt"},{"$f":"'DNSP Inputs General'!D$53","v":1.06},{"$f":"'DNSP Inputs General'!A$53","v":"Sodium Low Pressure 90 watt"},{"$f":"B148*IF(A148=C136,D136,IF(A148=C137,D137,D138))","v":3.5929744612819889},0,{"$f":"'DNSP Inputs General'!M$53","v":0},0,0,0]
[{"$f":"'DNSP Inputs General'!B$54","v":"Sodium High Pressure 150 watt"},{"$f":"'DNSP Inputs General'!D$54","v":1.37},{"$f":"'DNSP Inputs General'!A$54","v":"Sodium High Pressure 100 watt"},{"$f":"B149*IF(A149=C136,D136,IF(A149=C137,D137,D138))","v":4.6437500112795522},5179.5149147504926,{"$f":"'DNSP Inputs General'!M$54","v":1115.3733302114845},23878.579493939917,21.408598221917615,107.80896518653992]
[{"$f":"'DNSP Inputs General'!B$55","v":"Sodium High Pressure 250 watt"},{"$f":"'DNSP Inputs General'!D$55","v":1.33},{"$f":"'DNSP Inputs General'!A$55","v":"Sodium High Pressure 400 watt"},{"$f":"B150*IF(A150=C136,D136,IF(A150=C137,D137,D138))","v":4.7856533906850753},1378.2681765173018,{"$f":"'DNSP Inputs General'!M$55","v":288},6354.0865811989643,22.062800629163071,111.1033838036108]
[{"$f":"'DNSP Inputs General'!B$56","v":"Mercury Vapour 80 watt"},{"$f":"'DNSP Inputs General'!D$56","v":2.57},{"$f":"'DNSP Inputs General'!A$56","v":"Metal Halide 70 watt"},{"$f":"B151*IF(A151=C136,D136,IF(A151=C137,D137,D138))","v":7.4241039858691584},89.089247830429898,{"$f":"'DNSP Inputs General'!M$56","v":12},410.71890348571606,34.22657529047634,172.35746244085172]
[{"$f":"'DNSP Inputs General'!B$57","v":"Sodium High Pressure 150 watt"},{"$f":"'DNSP Inputs General'!D$57","v":2.2200000000000002},{"$f":"'DNSP Inputs General'!A$57","v":"Metal Halide 150 watt"},{"$f":"B152*IF(A152=C136,D136,IF(A152=C137,D137,D138))","v":7.5249087774019019},248.32198965426275,{"$f":"'DNSP Inputs General'!M$57","v":33},1144.8130698815216,34.691305147924901,174.69773920738587]
[{"$f":"'DNSP Inputs General'!B$58","v":"Sodium High Pressure 250 watt"},{"$f":"'DNSP Inputs General'!D$58","v":2.15},{"$f":"'DNSP Inputs General'!A$58","v":"Metal Halide 250 watt"},{"$f":"B153*IF(A153=C136,D136,IF(A153=C137,D137,D138))","v":7.7362066090021884},557.00687584815751,{"$f":"'DNSP Inputs General'!M$58","v":72},2567.9109303717614,35.665429588496686,179.6032144193708]
[{"$f":"'DNSP Inputs General'!B$59","v":"Mercury Vapour 80 watt"},{"$f":"'DNSP Inputs General'!D$59","v":1.56},{"$f":"'DNSP Inputs General'!A$59","v":"Incandescent 100 watt"},{"$f":"B154*IF(A154=C136,D136,IF(A154=C137,D137,D138))","v":4.5064600069867273},0,{"$f":"'DNSP Inputs General'!M$59","v":0},0,0,0]
[{"$f":"'DNSP Inputs General'!B$60","v":"Mercury Vapour 80 watt"},{"$f":"'DNSP Inputs General'!D$60","v":1.95},{"$f":"'DNSP Inputs General'!A$60","v":"Incandescent 150 watt"},{"$f":"B155*IF(A155=C136,D136,IF(A155=C137,D137,D138))","v":5.6330750087334085},0,{"$f":"'DNSP Inputs General'!M$60","v":0},0,0,0]
[{"$f":"'DNSP Inputs General'!B$61","v":"Sodium High Pressure 250 watt"},{"$f":"'DNSP Inputs General'!D$61","v":1.56},{"$f":"'DNSP Inputs General'!A$61","v":"Sodium High Pressure 250 watt (24 hrs)"},{"$f":"B156*IF(A156=C136,D136,IF(A156=C137,D137,D138))","v":5.6132475860667048},0,{"$f":"'DNSP Inputs General'!M$61","v":0},0,0,0]
[{"$f":"'DNSP Inputs General'!B$62","v":"Sodium High Pressure 150 watt"},{"$f":"'DNSP Inputs General'!D$62","v":2.2200000000000002},{"$f":"'DNSP Inputs General'!A$62","v":"Metal Halide 100 watt"},{"$f":"B157*IF(A157=C136,D136,IF(A157=C137,D137,D138))","v":7.5249087774019019},0,{"$f":"'DNSP Inputs General'!M$62","v":0},0,0,0]
[]
[]
[null,null,null,null,{"$f":"SUM(E136:E159)","v":119363.20309747453},{"$f":"SUM(F136:F159)","v":36055.749660490234},{"$f":"'Total RAB'!P$116","v":550287.7741885297},{"$f":"SUMPRODUCT(F136:F159,H136:H159)","v":550287.77418852958},{"$f":"'Total RAB'!P$110","v":2771127.5103165433}]
[null,null,null,"Check",{"$f":"SUM(F161:I161)","v":1.1641532182693481E-9},{"$f":"ABS('DNSP Inputs General'!M$65-F160)","v":0},{"$f":"ABS(G160-SUM(G136:G159))*IF(F160=0,0,1)","v":1.1641532182693481E-10},{"$f":"ABS(H160-G160)*IF(F160=0,0,1)","v":1.1641532182693481E-10},{"$f":"ABS(I160-SUMPRODUCT(F136:F159,I136:I159))*IF(F160=0,0,1)","v":9.3132257461547852E-10}]
[]
[]
[{"$f":"'DNSP Inputs General'!B$67","v":"Reference Light"},{"$f":"'DNSP Inputs General'!D$67","v":"Price Factor"},{"$f":"'DNSP Inputs General'!A$67","v":"Energy Efficient Lights"},{"$f":"D$68","v":"Unit cost"},null,{"$f":"F$68","v":"Volumes"},{"$f":"G$68","v":"Unitisation - Luminaires & Ballasts"}]
[{"$f":"'DNSP Inputs General'!B$68","v":"T5 2X14W"},{"$f":"'DNSP Inputs General'!D$68","v":1},{"$f":"'DNSP Inputs General'!A$68","v":"T5 2X14W"},{"$f":"'DNSP Inputs O & M'!$F$151*B165","v":253.17756870453118},{"$f":"F165*D165","v":9125319.6172284111},{"$f":"'DNSP Inputs General'!M$68","v":36043.160000000003},{"$f":"IF(E$170=0,0,E165/E$170*G$170)","v":125720.12158282066},{"$f":"IF(F165=0,0,G165/F165)","v":3.488043822539995}]
[{"$f":"'DNSP Inputs General'!B$69","v":"T5 2X14W"},{"$f":"'DNSP Inputs General'!D$69","v":1.1262458471760797},{"$f":"'DNSP Inputs General'!A$69","v":"T5 (2x24W)"},{"$f":"D165*B166","v":285.14018535161483},{"$f":"F166*D166","v":94951.681722087742},{"$f":"'DNSP Inputs General'!M$69","v":333},{"$f":"IF(E$170=0,0,E166/E$170*G$170)","v":1308.1554916779814},{"$f":"IF(F166=0,0,G166/F166)","v":3.928394869903848}]
[{"$f":"'DNSP Inputs General'!B$70","v":"LED 18W"},{"$f":"'DNSP Inputs General'!D$70","v":1},{"$f":"'DNSP Inputs General'!A$70","v":"LED 18W"},{"$f":"'DNSP Inputs O & M'!$F$184*B167","v":331.28455928975922},292554.19393753615,{"$f":"'DNSP Inputs General'!M$70","v":883.09033950976436},4030.5381481599147,4.5641289093904183]
[{"$f":"'DNSP Inputs General'!B$71","v":"T5 2X14W"},{"$f":"'DNSP Inputs General'!D$71","v":0.8625368731563422},{"$f":"'DNSP Inputs General'!A$71","v":"Compact Fluoro 32W"},{"$f":"D165*B168","v":218.37498846373131},1746.9999077098505,{"$f":"'DNSP Inputs General'!M$71","v":8},24.068531297007542,3.0085664121259428]
[{"$f":"'DNSP Inputs General'!B$72","v":"T5 2X14W"},{"$f":"'DNSP Inputs General'!D$72","v":0.97275747508305643},{"$f":"'DNSP Inputs General'!A$72","v":"Compact Fluoro 42W"},{"$f":"D165*B169","v":246.28037248068679},16747.065328686702,{"$f":"'DNSP Inputs General'!M$72","v":68},230.72540772192798,3.3930207017930587]
[null,null,null,null,{"$f":"SUM(E165:E169)","v":9531319.5581244323},{"$f":"SUM(F165:F169)","v":37335.250339509766},{"$f":"'Total RAB'!P$131","v":131313.60916167751},{"$f":"SUMPRODUCT(F165:F169,H165:H169)","v":131313.60916167751}]
[null,null,null,"Check",{"$f":"SUM(F171:I171)","v":0},{"$f":"ABS('DNSP Inputs General'!M$73-F170)","v":0},{"$f":"ABS(G170-SUM(G165:G169))","v":0},{"$f":"ABS(H170-G170)","v":0}]
[]
[]
[null,null,{"$f":"'RAB 2001 to 2004'!A$27","v":"Poles & Brackets"},{"$f":"D$78","v":"Weighted Average Volumes"},null,null,{"$f":"G$78","v":"Unitisation Poles & Brackets"}]
[null,null,"Total Poles & Brackets",{"$f":"'DNSP Inputs General'!$D$41*F136","v":13039.110555721059},{"$f":"SUMPRODUCT('DNSP Inputs General'!$D41:$D62,'DNSP Inputs General'!M41:M62)+SUMPRODUCT('DNSP Inputs General'!$D68:$D72,'DNSP Inputs General'!M68:M72)","v":74252.069039150199},{"$f":"IF(E175=0,0,D175/E175*G175)","v":78783.745848135892},{"$f":"'Total RAB'!P$101","v":448639.20057123509},{"$f":"F175/F136","v":6.0421104270466222}]
[]
[]
[]
[]
["DEPRECIATION AND RETURN",null,null,"Year",{"$f":"E132+1","v":2019}]
[]
[]
[{"$f":"'DNSP Inputs General'!B$40","v":"Reference Light"},{"$f":"'DNSP Inputs General'!D$40","v":"Price Factor"},{"$f":"'DNSP Inputs General'!A$40","v":"Existing Lights"},{"$f":"D$39","v":"WACC and Dep"},null,{"$f":"F$39","v":"Volumes"},{"$f":"G$39","v":"Unitisation - Luminaires"},null,{"$f":"I$39","v":"RAB WDV"}]
[{"$f":"'DNSP Inputs General'!B$41","v":"Mercury Vapour 80 watt"},{"$f":"'DNSP Inputs General'!D$41","v":1},{"$f":"'DNSP Inputs General'!A$41","v":"Mercury Vapour 80 watt"},{"$f":"'RAB 2001 to 2004'!F$15","v":2.7323870766580209},{"$f":"F184*D184","v":35114.855454268036},{"$f":"IF('DNSP Inputs General'!N$41=0,1/10^6,'DNSP Inputs General'!N$41)","v":12851.347363718676},{"$f":"IF(E$208=0,0,E184/E$208*G$208)","v":173771.87974697642},{"$f":"IF(F184=0,0,G184/F184)","v":13.521685690137135},{"$f":"IF(F184=0,0,E184/E$208*I$208/F184)","v":64.980328971378228}]
[{"$f":"'DNSP Inputs General'!B$42","v":"Sodium High Pressure 150 watt"},{"$f":"'DNSP Inputs General'!D$42","v":1},{"$f":"'DNSP Inputs General'!A$42","v":"Sodium High Pressure 150 watt"},{"$f":"'RAB 2001 to 2004'!F$20","v":3.2061184603200852},52383.219616773786,{"$f":"IF('DNSP Inputs General'!N$42=0,1/10^6,'DNSP Inputs General'!N$42)","v":16338.516578562125},{"$f":"IF(E$208=0,0,E185/E$208*G$208)","v":259227.33903491209},{"$f":"IF(F185=0,0,G185/F185)","v":15.866026624170152},{"$f":"IF(F185=0,0,E185/E$208*I$208/F185)","v":76.246383264124361}]
[{"$f":"'DNSP Inputs General'!B$43","v":"Sodium High Pressure 250 watt"},{"$f":"'DNSP Inputs General'!D$43","v":1},{"$f":"'DNSP Inputs General'!A$43","v":"Sodium High Pressure 250 watt"},{"$f":"'RAB 2001 to 2004'!F$25","v":3.4034619498389951},16232.50101641165,{"$f":"IF('DNSP Inputs General'!N$43=0,1/10^6,'DNSP Inputs General'!N$43)","v":4769.4086949259263},80329.31299660838,{"$f":"IF(F186=0,0,G186/F186)","v":16.842614700239267},{"$f":"IF(F186=0,0,E186/E$208*I$208/F186)","v":80.939512205790564}]
[{"$f":"'DNSP Inputs General'!B$44","v":"Mercury Vapour 80 watt"},{"$f":"'DNSP Inputs General'!D$44","v":1.25},{"$f":"'DNSP Inputs General'!A$44","v":"55W Ind"},{"$f":"B187*IF(A187=C184,D184,IF(A187=C185,D185,D186))","v":3.4154838458225263},0,{"$f":"'DNSP Inputs General'!N$44","v":0},0,{"$f":"IF(F187=0,0,G187/F187)","v":0},{"$f":"IF(F187=0,0,E187/E$208*I$208/F187)","v":0}]
[{"$f":"'DNSP Inputs General'!B$45","v":"Mercury Vapour 80 watt"},{"$f":"'DNSP Inputs General'!D$45","v":1.25},{"$f":"'DNSP Inputs General'!A$45","v":"Fluorescent 20 watt"},{"$f":"B188*IF(A188=C184,D184,IF(A188=C185,D185,D186))","v":3.4154838458225263},0,{"$f":"'DNSP Inputs General'!N$45","v":0},0,0,0]
[{"$f":"'DNSP Inputs General'!B$46","v":"Mercury Vapour 80 watt"},{"$f":"'DNSP Inputs General'!D$46","v":1.25},{"$f":"'DNSP Inputs General'!A$46","v":"Fluorescent 40 watt"},{"$f":"B189*IF(A189=C184,D184,IF(A189=C185,D185,D186))","v":3.4154838458225263},0,{"$f":"'DNSP Inputs General'!N$46","v":0},0,0,0]
[{"$f":"'DNSP Inputs General'!B$47","v":"Mercury Vapour 80 watt"},{"$f":"'DNSP Inputs General'!D$47","v":1.25},{"$f":"'DNSP Inputs General'!A$47","v":"Fluorescent 80 watt"},{"$f":"B190*IF(A190=C184,D184,IF(A190=C185,D185,D186))","v":3.4154838458225263},0,{"$f":"'DNSP Inputs General'!N$47","v":0},0,0,0]
[{"$f":"'DNSP Inputs General'!B$48","v":"Mercury Vapour 80 watt"},{"$f":"'DNSP Inputs General'!D$48","v":1.25},{"$f":"'DNSP Inputs General'!A$48","v":"Mercury Vapour 50 watt"},{"$f":"B191*IF(A191=C184,D184,IF(A191=C185,D185,D186))","v":3.4154838458225263},0,{"$f":"'DNSP Inputs General'!N$48","v":0},0,0,0]
[{"$f":"'DNSP Inputs General'!B$49","v":"Mercury Vapour 80 watt"},{"$f":"'DNSP Inputs General'!D$49","v":1.47},{"$f":"'DNSP Inputs General'!A$49","v":"Mercury Vapour 125 watt"},{"$f":"B192*IF(A192=C184,D184,IF(A192=C185,D185,D186))","v":4.0166090026872912},1363.5023660433872,{"$f":"'DNSP Inputs General'!N$49","v":339.46604340406122},6747.5251178347262,19.876877964501595,95.521083587926015]
[{"$f":"'DNSP Inputs General'!B$50","v":"Sodium High Pressure 250 watt"},{"$f":"'DNSP Inputs General'!D$50","v":0.96},{"$f":"'DNSP Inputs General'!A$50","v":"Mercury Vapour 250 watt"},{"$f":"B193*IF(A193=C184,D184,IF(A193=C185,D185,D186))","v":3.2673234718454354},241.07430469702058,{"$f":"'DNSP Inputs General'!N$50","v":73.783421437871297},1192.9975090017026,16.168910112229696,77.701931717558949]
[{"$f":"'DNSP Inputs General'!B$51","v":"Sodium High Pressure 250 watt"},{"$f":"'DNSP Inputs General'!D$51","v":1.08},{"$f":"'DNSP Inputs General'!A$51","v":"Mercury Vapour 400 watt"},{"$f":"B194*IF(A194=C184,D184,IF(A194=C185,D185,D186))","v":3.675738905826115},608.67040252729453,{"$f":"'DNSP Inputs General'!N$51","v":165.59130507407383},3012.1097929981929,18.190023876258408,87.414673182253821]
[{"$f":"'DNSP Inputs General'!B$52","v":"Sodium High Pressure 150 watt"},{"$f":"'DNSP Inputs General'!D$52","v":1.25},{"$f":"'DNSP Inputs General'!A$52","v":"Sodium High Pressure 50 watt"},{"$f":"B195*IF(A195=C184,D184,IF(A195=C185,D185,D186))","v":4.0076480754001063},0,{"$f":"'DNSP Inputs General'!N$52","v":0},0,0,0]
[{"$f":"'DNSP Inputs General'!B$53","v":"Sodium High Pressure 150 watt"},{"$f":"'DNSP Inputs General'!D$53","v":1.06},{"$f":"'DNSP Inputs General'!A$53","v":"Sodium Low Pressure 90 watt"},{"$f":"B196*IF(A196=C184,D184,IF(A196=C185,D185,D186))","v":3.3984855679392907},0,{"$f":"'DNSP Inputs General'!N$53","v":0},0,0,0]
[{"$f":"'DNSP Inputs General'!B$54","v":"Sodium High Pressure 150 watt"},{"$f":"'DNSP Inputs General'!D$54","v":1.37},{"$f":"'DNSP Inputs General'!A$54","v":"Sodium High Pressure 100 watt"},{"$f":"B197*IF(A197=C184,D184,IF(A197=C185,D185,D186))","v":4.3923822906385173},4828.598359763203,{"$f":"'DNSP Inputs General'!N$54","v":1099.3119542564391},23895.146446266623,21.736456475113108,104.45754507185039]
[{"$f":"'DNSP Inputs General'!B$55","v":"Sodium High Pressure 250 watt"},{"$f":"'DNSP Inputs General'!D$55","v":1.33},{"$f":"'DNSP Inputs General'!A$55","v":"Sodium High Pressure 400 watt"},{"$f":"B198*IF(A198=C184,D184,IF(A198=C185,D185,D186))","v":4.5266043932858633},1303.6620652663287,{"$f":"'DNSP Inputs General'!N$55","v":288},6451.3951347796483,22.400677551318225,107.64955123370146]
[{"$f":"'DNSP Inputs General'!B$56","v":"Mercury Vapour 80 watt"},{"$f":"'DNSP Inputs General'!D$56","v":2.57},{"$f":"'DNSP Inputs General'!A$56","v":"Metal Halide 70 watt"},{"$f":"B199*IF(A199=C184,D184,IF(A199=C185,D185,D186))","v":7.0222347870111133},84.266817444133352,{"$f":"'DNSP Inputs General'!N$56","v":12},417.00878668382927,34.750732223652442,166.99944545644203]
[{"$f":"'DNSP Inputs General'!B$57","v":"Sodium High Pressure 150 watt"},{"$f":"'DNSP Inputs General'!D$57","v":2.2200000000000002},{"$f":"'DNSP Inputs General'!A$57","v":"Metal Halide 150 watt"},{"$f":"B200*IF(A200=C184,D184,IF(A200=C185,D185,D186))","v":7.1175829819105898},234.88023840304947,{"$f":"'DNSP Inputs General'!N$57","v":33},1162.3451104867056,35.222579105657744,169.26697084635612]
[{"$f":"'DNSP Inputs General'!B$58","v":"Sodium High Pressure 250 watt"},{"$f":"'DNSP Inputs General'!D$58","v":2.15},{"$f":"'DNSP Inputs General'!A$58","v":"Metal Halide 250 watt"},{"$f":"B201*IF(A201=C184,D184,IF(A201=C185,D185,D186))","v":7.3174431921538394},526.85590983507643,{"$f":"'DNSP Inputs General'!N$58","v":72},2607.2367555970386,36.211621605514424,174.01995124244974]
[{"$f":"'DNSP Inputs General'!B$59","v":"Mercury Vapour 80 watt"},{"$f":"'DNSP Inputs General'!D$59","v":1.56},{"$f":"'DNSP Inputs General'!A$59","v":"Incandescent 100 watt"},{"$f":"B202*IF(A202=C184,D184,IF(A202=C185,D185,D186))","v":4.262523839586513},0,{"$f":"'DNSP Inputs General'!N$59","v":0},0,0,0]
[{"$f":"'DNSP Inputs General'!B$60","v":"Mercury Vapour 80 watt"},{"$f":"'DNSP Inputs General'!D$60","v":1.95},{"$f":"'DNSP Inputs General'!A$60","v":"Incandescent 150 watt"},{"$f":"B203*IF(A203=C184,D184,IF(A203=C185,D185,D186))","v":5.3281547994831406},0,{"$f":"'DNSP Inputs General'!N$60","v":0},0,0,0]
[{"$f":"'DNSP Inputs General'!B$61","v":"Sodium High Pressure 250 watt"},{"$f":"'DNSP Inputs General'!D$61","v":1.56},{"$f":"'DNSP Inputs General'!A$61","v":"Sodium High Pressure 250 watt (24 hrs)"},{"$f":"B204*IF(A204=C184,D184,IF(A204=C185,D185,D186))","v":5.3094006417488329},0,{"$f":"'DNSP Inputs General'!N$61","v":0},0,0,0]
[{"$f":"'DNSP Inputs General'!B$62","v":"Sodium High Pressure 150 watt"},{"$f":"'DNSP Inputs General'!D$62","v":2.2200000000000002},{"$f":"'DNSP Inputs General'!A$62","v":"Metal Halide 100 watt"},{"$f":"B205*IF(A205=C184,D184,IF(A205=C185,D185,D186))","v":7.1175829819105898},0,{"$f":"'DNSP Inputs General'!N$62","v":0},0,0,0]
[]
[]
[null,null,null,null,{"$f":"SUM(E184:E207)","v":112922.08655143295},{"$f":"SUM(F184:F207)","v":36042.425361379173},{"$f":"'Total RAB'!Q$116","v":558814.29643214529},{"$f":"SUMPRODUCT(F184:F207,H184:H207)","v":558814.29643214529},{"$f":"'Total RAB'!Q$110","v":2685459.3168480755}]
[null,null,null,"Check",{"$f":"SUM(F209:I209)","v":4.6566128730773926E-10},{"$f":"ABS('DNSP Inputs General'!N$65-F208)","v":0},{"$f":"ABS(G208-SUM(G184:G207))*IF(F208=0,0,1)","v":0},{"$f":"ABS(H208-G208)*IF(F208=0,0,1)","v":0},{"$f":"ABS(I208-SUMPRODUCT(F184:F207,I184:I207))*IF(F208=0,0,1)","v":4.6566128730773926E-10}]
[]
[]
[{"$f":"'DNSP Inputs General'!B$67","v":"Reference Light"},{"$f":"'DNSP Inputs General'!D$67","v":"Price Factor"},{"$f":"'DNSP Inputs General'!A$67","v":"Energy Efficient Lights"},{"$f":"D$68","v":"Unit cost"},null,{"$f":"F$68","v":"Volumes"},{"$f":"G$68","v":"Unitisation - Luminaires & Ballasts"}]
[{"$f":"'DNSP Inputs General'!B$68","v":"T5 2X14W"},{"$f":"'DNSP Inputs General'!D$68","v":1},{"$f":"'DNSP Inputs General'!A$68","v":"T5 2X14W"},{"$f":"'DNSP Inputs O & M'!$G$151*B213","v":237.70161686915893},{"$f":"F213*D213","v":8681267.140810363},{"$f":"'DNSP Inputs General'!N$68","v":36521.700000000004},{"$f":"IF(E$218=0,0,E213/E$218*G$218)","v":144951.36309878752},{"$f":"IF(F213=0,0,G213/F213)","v":3.9689106229662778}]
[{"$f":"'DNSP Inputs General'!B$69","v":"T5 2X14W"},{"$f":"'DNSP Inputs General'!D$69","v":1.1262458471760797},{"$f":"'DNSP Inputs General'!A$69","v":"T5 (2x24W)"},{"$f":"D213*B214","v":267.71045886592981},{"$f":"F214*D214","v":89147.58280235462},{"$f":"'DNSP Inputs General'!N$69","v":333},{"$f":"IF(E$218=0,0,E214/E$218*G$218)","v":1488.4997126072892},{"$f":"IF(F214=0,0,G214/F214)","v":4.4699691069287963}]
[{"$f":"'DNSP Inputs General'!B$70","v":"LED 18W"},{"$f":"'DNSP Inputs General'!D$70","v":1},{"$f":"'DNSP Inputs General'!A$70","v":"LED 18W"},{"$f":"'DNSP Inputs O & M'!$G$184*B215","v":311.03417174711637},339610.32387510996,{"$f":"'DNSP Inputs General'!N$70","v":1091.8746386208238},5670.4831874949923,5.1933463668114248]
[{"$f":"'DNSP Inputs General'!B$71","v":"T5 2X14W"},{"$f":"'DNSP Inputs General'!D$71","v":0.8625368731563422},{"$f":"'DNSP Inputs General'!A$71","v":"Compact Fluoro 32W"},{"$f":"D213*B216","v":205.0264093585312},1640.2112748682496,{"$f":"'DNSP Inputs General'!N$71","v":8},27.386654068562585,3.4233317585703231]
[{"$f":"'DNSP Inputs General'!B$72","v":"T5 2X14W"},{"$f":"'DNSP Inputs General'!D$72","v":0.97275747508305643},{"$f":"'DNSP Inputs General'!A$72","v":"Compact Fluoro 42W"},{"$f":"D213*B217","v":231.2260246488031},15723.369676118611,{"$f":"'DNSP Inputs General'!N$72","v":68},262.53354839703576,3.8607874764269963]
[null,null,null,null,{"$f":"SUM(E213:E217)","v":9127388.6284388155},{"$f":"SUM(F213:F217)","v":38022.574638620827},{"$f":"'Total RAB'!Q$131","v":152400.26620135541},{"$f":"SUMPRODUCT(F213:F217,H213:H217)","v":152400.26620135544}]
[null,null,null,"Check",{"$f":"SUM(F219:I219)","v":5.8207660913467407E-11},{"$f":"ABS('DNSP Inputs General'!N$73-F218)","v":0},{"$f":"ABS(G218-SUM(G213:G217))","v":2.9103830456733704E-11},{"$f":"ABS(H218-G218)","v":2.9103830456733704E-11}]
[]
[]
[null,null,{"$f":"'RAB 2001 to 2004'!A$27","v":"Poles & Brackets"},{"$f":"D$78","v":"Weighted Average Volumes"},null,null,{"$f":"G$78","v":"Unitisation Poles & Brackets"}]
[null,null,"Total Poles & Brackets",{"$f":"'DNSP Inputs General'!$D$41*F184","v":12851.347363718676},{"$f":"SUMPRODUCT('DNSP Inputs General'!$D41:$D62,'DNSP Inputs General'!N41:N62)+SUMPRODUCT('DNSP Inputs General'!$D68:$D72,'DNSP Inputs General'!N68:N72)","v":74917.618101423737},{"$f":"IF(E223=0,0,D223/E223*G223)","v":83814.087815415362},{"$f":"'Total RAB'!Q$101","v":488598.71613162436},{"$f":"F223/F184","v":6.5218132732164245}]
[]
[]
[]
[]
["DEPRECIATION AND RETURN",null,null,"Year",{"$f":"E180+1","v":2020}]
[]
[]
[{"$f":"'DNSP Inputs General'!B$40","v":"Reference Light"},{"$f":"'DNSP Inputs General'!D$40","v":"Price Factor"},{"$f":"'DNSP Inputs General'!A$40","v":"Existing Lights"},{"$f":"D$39","v":"WACC and Dep"},null,{"$f":"F$39","v":"Volumes"},{"$f":"G$39","v":"Unitisation - Luminaires"},null,{"$f":"I$39","v":"RAB WDV"}]
[{"$f":"'DNSP Inputs General'!B$41","v":"Mercury Vapour 80 watt"},{"$f":"'DNSP Inputs General'!D$41","v":1},{"$f":"'DNSP Inputs General'!A$41","v":"Mercury Vapour 80 watt"},{"$f":"'RAB 2001 to 2004'!G$15","v":2.5760177385809606},{"$f":"F232*D232","v":32628.582471265065},{"$f":"IF('DNSP Inputs General'!O$41=0,1/10^6,'DNSP Inputs General'!O$41)","v":12666.287961681128},{"$f":"IF(E$256=0,0,E232/E$256*G$256)","v":173536.2445580521},{"$f":"IF(F232=0,0,G232/F232)","v":13.700639451988234},{"$f":"IF(F232=0,0,E232/E$256*I$256/F232)","v":62.662839770937531}]
[{"$f":"'DNSP Inputs General'!B$42","v":"Sodium High Pressure 150 watt"},{"$f":"'DNSP Inputs General'!D$42","v":1},{"$f":"'DNSP Inputs General'!A$42","v":"Sodium High Pressure 150 watt"},{"$f":"'RAB 2001 to 2004'!G$20","v":3.022638372260936},50008.926171925428,{"$f":"IF('DNSP Inputs General'!O$42=0,1/10^6,'DNSP Inputs General'!O$42)","v":16544.792996364533},{"$f":"IF(E$256=0,0,E233/E$256*G$256)","v":265974.20374910784},{"$f":"IF(F233=0,0,G233/F233)","v":16.076006741671026},{"$f":"IF(F233=0,0,E233/E$256*I$256/F233)","v":73.52709617240923}]
[{"$f":"'DNSP Inputs General'!B$43","v":"Sodium High Pressure 250 watt"},{"$f":"'DNSP Inputs General'!D$43","v":1},{"$f":"'DNSP Inputs General'!A$43","v":"Sodium High Pressure 250 watt"},{"$f":"'RAB 2001 to 2004'!G$25","v":3.2086882675839483},15329.637864042475,{"$f":"IF('DNSP Inputs General'!O$43=0,1/10^6,'DNSP Inputs General'!O$43)","v":4777.5404108000994},81531.209261194352,{"$f":"IF(F234=0,0,G234/F234)","v":17.06551954576565},{"$f":"IF(F234=0,0,E234/E$256*I$256/F234)","v":78.052847142760797}]
[{"$f":"'DNSP Inputs General'!B$44","v":"Mercury Vapour 80 watt"},{"$f":"'DNSP Inputs General'!D$44","v":1.25},{"$f":"'DNSP Inputs General'!A$44","v":"55W Ind"},{"$f":"B235*IF(A235=C232,D232,IF(A235=C233,D233,D234))","v":3.2200221732262007},0,{"$f":"'DNSP Inputs General'!O$44","v":0},0,{"$f":"IF(F235=0,0,G235/F235)","v":0},{"$f":"IF(F235=0,0,E235/E$256*I$256/F235)","v":0}]
[{"$f":"'DNSP Inputs General'!B$45","v":"Mercury Vapour 80 watt"},{"$f":"'DNSP Inputs General'!D$45","v":1.25},{"$f":"'DNSP Inputs General'!A$45","v":"Fluorescent 20 watt"},{"$f":"B236*IF(A236=C232,D232,IF(A236=C233,D233,D234))","v":3.2200221732262007},0,{"$f":"'DNSP Inputs General'!O$45","v":0},0,0,0]
[{"$f":"'DNSP Inputs General'!B$46","v":"Mercury Vapour 80 watt"},{"$f":"'DNSP Inputs General'!D$46","v":1.25},{"$f":"'DNSP Inputs General'!A$46","v":"Fluorescent 40 watt"},{"$f":"B237*IF(A237=C232,D232,IF(A237=C233,D233,D234))","v":3.2200221732262007},0,{"$f":"'DNSP Inputs General'!O$46","v":0},0,0,0]
[{"$f":"'DNSP Inputs General'!B$47","v":"Mercury Vapour 80 watt"},{"$f":"'DNSP Inputs General'!D$47","v":1.25},{"$f":"'DNSP Inputs General'!A$47","v":"Fluorescent 80 watt"},{"$f":"B238*IF(A238=C232,D232,IF(A238=C233,D233,D234))","v":3.2200221732262007},0,{"$f":"'DNSP Inputs General'!O$47","v":0},0,0,0]
[{"$f":"'DNSP Inputs General'!B$48","v":"Mercury Vapour 80 watt"},{"$f":"'DNSP Inputs General'!D$48","v":1.25},{"$f":"'DNSP Inputs General'!A$48","v":"Mercury Vapour 50 watt"},{"$f":"B239*IF(A239=C232,D232,IF(A239=C233,D233,D234))","v":3.2200221732262007},0,{"$f":"'DNSP Inputs General'!O$48","v":0},0,0,0]
[{"$f":"'DNSP Inputs General'!B$49","v":"Mercury Vapour 80 watt"},{"$f":"'DNSP Inputs General'!D$49","v":1.47},{"$f":"'DNSP Inputs General'!A$49","v":"Mercury Vapour 125 watt"},{"$f":"B240*IF(A240=C232,D232,IF(A240=C233,D233,D234))","v":3.7867460757140119},1266.9609151076329,{"$f":"'DNSP Inputs General'!O$49","v":334.57773237904274},6738.3754535839371,20.139939994422697,92.114374463278139]
[{"$f":"'DNSP Inputs General'!B$50","v":"Sodium High Pressure 250 watt"},{"$f":"'DNSP Inputs General'!D$50","v":0.96},{"$f":"'DNSP Inputs General'!A$50","v":"Mercury Vapour 250 watt"},{"$f":"B241*IF(A241=C232,D232,IF(A241=C233,D233,D234))","v":3.0803407368805904},193.9598263776183,{"$f":"'DNSP Inputs General'!O$50","v":62.967003635460856},1031.5820460280841,16.382898763935028,74.930733257050363]
[{"$f":"'DNSP Inputs General'!B$51","v":"Sodium High Pressure 250 watt"},{"$f":"'DNSP Inputs General'!D$51","v":1.08},{"$f":"'DNSP Inputs General'!A$51","v":"Mercury Vapour 400 watt"},{"$f":"B242*IF(A242=C232,D232,IF(A242=C233,D233,D234))","v":3.4653833289906646},545.65783540305381,{"$f":"'DNSP Inputs General'!O$51","v":157.45958919990053},2902.1000729318635,18.430761109426903,84.297074914181664]
[{"$f":"'DNSP Inputs General'!B$52","v":"Sodium High Pressure 150 watt"},{"$f":"'DNSP Inputs General'!D$52","v":1.25},{"$f":"'DNSP Inputs General'!A$52","v":"Sodium High Pressure 50 watt"},{"$f":"B243*IF(A243=C232,D232,IF(A243=C233,D233,D234))","v":3.7782979653261699},0,{"$f":"'DNSP Inputs General'!O$52","v":0},0,0,0]
[{"$f":"'DNSP Inputs General'!B$53","v":"Sodium High Pressure 150 watt"},{"$f":"'DNSP Inputs General'!D$53","v":1.06},{"$f":"'DNSP Inputs General'!A$53","v":"Sodium Low Pressure 90 watt"},{"$f":"B244*IF(A244=C232,D232,IF(A244=C233,D233,D234))","v":3.2039966745965924},0,{"$f":"'DNSP Inputs General'!O$53","v":0},0,0,0]
[{"$f":"'DNSP Inputs General'!B$54","v":"Sodium High Pressure 150 watt"},{"$f":"'DNSP Inputs General'!D$54","v":1.37},{"$f":"'DNSP Inputs General'!A$54","v":"Sodium High Pressure 100 watt"},{"$f":"B245*IF(A245=C232,D232,IF(A245=C233,D233,D234))","v":4.1410145699974823},4486.7141773468247,{"$f":"'DNSP Inputs General'!O$54","v":1083.4818621151464},23862.744556182679,22.024129236089305,100.73212175620066]
[{"$f":"'DNSP Inputs General'!B$55","v":"Sodium High Pressure 250 watt"},{"$f":"'DNSP Inputs General'!D$55","v":1.33},{"$f":"'DNSP Inputs General'!A$55","v":"Sodium High Pressure 400 watt"},{"$f":"B246*IF(A246=C232,D232,IF(A246=C233,D233,D234))","v":4.2675553958866512},1229.0559540153556,{"$f":"'DNSP Inputs General'!O$55","v":288},6536.7766068100755,22.697140995868317,103.81028669987187]
[{"$f":"'DNSP Inputs General'!B$56","v":"Mercury Vapour 80 watt"},{"$f":"'DNSP Inputs General'!D$56","v":2.57},{"$f":"'DNSP Inputs General'!A$56","v":"Metal Halide 70 watt"},{"$f":"B247*IF(A247=C232,D232,IF(A247=C233,D233,D234))","v":6.6203655881530681},79.444387057836821,{"$f":"'DNSP Inputs General'!O$56","v":12},422.52772069931706,35.210643391609757,161.04349821130941]
[{"$f":"'DNSP Inputs General'!B$57","v":"Sodium High Pressure 150 watt"},{"$f":"'DNSP Inputs General'!D$57","v":2.2200000000000002},{"$f":"'DNSP Inputs General'!A$57","v":"Metal Halide 150 watt"},{"$f":"B248*IF(A248=C232,D232,IF(A248=C233,D233,D234))","v":6.7102571864192786},221.4384871518362,{"$f":"'DNSP Inputs General'!O$57","v":33},1177.7282538948195,35.688734966509685,163.23015350274855]
[{"$f":"'DNSP Inputs General'!B$58","v":"Sodium High Pressure 250 watt"},{"$f":"'DNSP Inputs General'!D$58","v":2.15},{"$f":"'DNSP Inputs General'!A$58","v":"Metal Halide 250 watt"},{"$f":"B249*IF(A249=C232,D232,IF(A249=C233,D233,D234))","v":6.8986797753054887},496.70494382199519,{"$f":"'DNSP Inputs General'!O$58","v":72},2641.7424256845234,36.690867023396159,167.81362135693573]
[{"$f":"'DNSP Inputs General'!B$59","v":"Mercury Vapour 80 watt"},{"$f":"'DNSP Inputs General'!D$59","v":1.56},{"$f":"'DNSP Inputs General'!A$59","v":"Incandescent 100 watt"},{"$f":"B250*IF(A250=C232,D232,IF(A250=C233,D233,D234))","v":4.0185876721862988},0,{"$f":"'DNSP Inputs General'!O$59","v":0},0,0,0]
[{"$f":"'DNSP Inputs General'!B$60","v":"Mercury Vapour 80 watt"},{"$f":"'DNSP Inputs General'!D$60","v":1.95},{"$f":"'DNSP Inputs General'!A$60","v":"Incandescent 150 watt"},{"$f":"B251*IF(A251=C232,D232,IF(A251=C233,D233,D234))","v":5.0232345902328728},0,{"$f":"'DNSP Inputs General'!O$60","v":0},0,0,0]
[{"$f":"'DNSP Inputs General'!B$61","v":"Sodium High Pressure 250 watt"},{"$f":"'DNSP Inputs General'!D$61","v":1.56},{"$f":"'DNSP Inputs General'!A$61","v":"Sodium High Pressure 250 watt (24 hrs)"},{"$f":"B252*IF(A252=C232,D232,IF(A252=C233,D233,D234))","v":5.0055536974309591},0,{"$f":"'DNSP Inputs General'!O$61","v":0},0,0,0]
[{"$f":"'DNSP Inputs General'!B$62","v":"Sodium High Pressure 150 watt"},{"$f":"'DNSP Inputs General'!D$62","v":2.2200000000000002},{"$f":"'DNSP Inputs General'!A$62","v":"Metal Halide 100 watt"},{"$f":"B253*IF(A253=C232,D232,IF(A253=C233,D233,D234))","v":6.7102571864192786},0,{"$f":"'DNSP Inputs General'!O$62","v":0},0,0,0]
[]
[]
[null,null,null,null,{"$f":"SUM(E232:E255)","v":106487.08303351514},{"$f":"SUM(F232:F255)","v":36032.107556175317},{"$f":"'Total RAB'!R$116","v":566355.23470416968},{"$f":"SUMPRODUCT(F232:F255,H232:H255)","v":566355.23470416944},{"$f":"'Total RAB'!R$110","v":2590348.2425084095}]
[null,null,null,"Check",{"$f":"SUM(F257:I257)","v":1.3969838619232178E-9},{"$f":"ABS('DNSP Inputs General'!O$65-F256)","v":0},{"$f":"ABS(G256-SUM(G232:G255))*IF(F256=0,0,1)","v":2.3283064365386963E-10},{"$f":"ABS(H256-G256)*IF(F256=0,0,1)","v":2.3283064365386963E-10},{"$f":"ABS(I256-SUMPRODUCT(F232:F255,I232:I255))*IF(F256=0,0,1)","v":9.3132257461547852E-10}]
[]
[]
[{"$f":"'DNSP Inputs General'!B$67","v":"Reference Light"},{"$f":"'DNSP Inputs General'!D$67","v":"Price Factor"},{"$f":"'DNSP Inputs General'!A$67","v":"Energy Efficient Lights"},{"$f":"D$68","v":"Unit cost"},null,{"$f":"F$68","v":"Volumes"},{"$f":"G$68","v":"Unitisation - Luminaires & Ballasts"}]
[{"$f":"'DNSP Inputs General'!B$68","v":"T5 2X14W"},{"$f":"'DNSP Inputs General'!D$68","v":1},{"$f":"'DNSP Inputs General'!A$68","v":"T5 2X14W"},{"$f":"'DNSP Inputs O & M'!$H$151*B261","v":231.98313085847229},{"$f":"F261*D261","v":8583431.5177148823},{"$f":"'DNSP Inputs General'!O$68","v":37000.240000000005},{"$f":"IF(E$266=0,0,E261/E$266*G$266)","v":163557.58020182585},{"$f":"IF(F261=0,0,G261/F261)","v":4.4204464674236119}]
[{"$f":"'DNSP Inputs General'!B$69","v":"T5 2X14W"},{"$f":"'DNSP Inputs General'!D$69","v":1.1262458471760797},{"$f":"'DNSP Inputs General'!A$69","v":"T5 (2x24W)"},{"$f":"D261*B262","v":261.27003774425947},{"$f":"F262*D262","v":87002.922568838403},{"$f":"'DNSP Inputs General'!O$69","v":333},{"$f":"IF(E$266=0,0,E262/E$266*G$266)","v":1657.8436557078048},{"$f":"IF(F262=0,0,G262/F262)","v":4.9785094766000144}]
[{"$f":"'DNSP Inputs General'!B$70","v":"LED 18W"},{"$f":"'DNSP Inputs General'!D$70","v":1},{"$f":"'DNSP Inputs General'!A$70","v":"LED 18W"},{"$f":"'DNSP Inputs O & M'!$H$184*B263","v":303.55149416415139},393904.33822874515,{"$f":"'DNSP Inputs General'!O$70","v":1297.6524438246834},7505.8605941842361,5.7841840701671732]
[{"$f":"'DNSP Inputs General'!B$71","v":"T5 2X14W"},{"$f":"'DNSP Inputs General'!D$71","v":0.8625368731563422},{"$f":"'DNSP Inputs General'!A$71","v":"Compact Fluoro 32W"},{"$f":"D261*B264","v":200.09400431568525},1600.752034525482,{"$f":"'DNSP Inputs General'!O$71","v":8},30.502384591732486,3.8127980739665608]
[{"$f":"'DNSP Inputs General'!B$72","v":"T5 2X14W"},{"$f":"'DNSP Inputs General'!D$72","v":0.97275747508305643},{"$f":"'DNSP Inputs General'!A$72","v":"Compact Fluoro 42W"},{"$f":"D261*B265","v":225.66332463574977},15345.106075230984,{"$f":"'DNSP Inputs General'!O$72","v":68},292.40151941857499,4.3000223443908085]
[null,null,null,null,{"$f":"SUM(E261:E265)","v":9081284.636622224},{"$f":"SUM(F261:F265)","v":38706.89244382469},{"$f":"'Total RAB'!R$131","v":173044.18835572823},{"$f":"SUMPRODUCT(F261:F265,H261:H265)","v":173044.1883557282}]
[null,null,null,"Check",{"$f":"SUM(F267:I267)","v":5.8207660913467407E-11},{"$f":"ABS('DNSP Inputs General'!O$73-F266)","v":0},{"$f":"ABS(G266-SUM(G261:G265))","v":2.9103830456733704E-11},{"$f":"ABS(H266-G266)","v":2.9103830456733704E-11}]
[]
[]
[null,null,{"$f":"'RAB 2001 to 2004'!A$27","v":"Poles & Brackets"},{"$f":"D$78","v":"Weighted Average Volumes"},null,null,{"$f":"G$78","v":"Unitisation Poles & Brackets"}]
[null,null,"Total Poles & Brackets",{"$f":"'DNSP Inputs General'!$D$41*F232","v":12666.287961681128},{"$f":"SUMPRODUCT('DNSP Inputs General'!$D41:$D62,'DNSP Inputs General'!O41:O62)+SUMPRODUCT('DNSP Inputs General'!$D68:$D72,'DNSP Inputs General'!O68:O72)","v":75583.245580591873},{"$f":"IF(E271=0,0,D271/E271*G271)","v":88346.523702591468},{"$f":"'Total RAB'!R$101","v":527188.15626218251},{"$f":"F271/F232","v":6.9749340903872605}]

{"sheet":"Total RAB","index":16,"n_rows":144,"n_cols":18,"rows_kept":144,"cut":false,"hidden":false,"merged":[]}
[{"$f":"'DNSP Inputs O & M'!$A$3","v":"Jemena"},null,null,null,"Check",{"$f":"SUM(B144)","v":3.8184225559234619E-8}]
[]
["Total Public Lighting RAB"]
["Historical cost ($)"]
[]
[null,"Life (years)",2005,2006,2007,2008,2009,2010,2011,2012,2013,2014,2015,2016,2017,2018,2019,2020]
[]
["Capital Expenditure (Nominal $)"]
["(Net of customer contributions)"]
[]
["Poles and Brackets",{"$f":"'DNSP Inputs O & M'!$C$123","v":35},109050.4,129623.6,25274.907749077491,29131.03833616299,{"$f":"'DNSP Inputs General'!D6","v":82127},{"$f":"'DNSP Inputs General'!E6","v":138408.88364290475},{"$f":"'DNSP Inputs General'!F6","v":240569.22979197878},{"$f":"'DNSP Inputs General'!G6","v":377.09368474217445},{"$f":"'DNSP Inputs General'!H6","v":464412.56016068463},{"$f":"'DNSP Inputs General'!I6","v":728309.15983931557},{"$f":"'DNSP Inputs General'!J6*M$20","v":446763.99455775094},{"$f":"'DNSP Inputs General'!K6*N$20","v":475262.71435124887},{"$f":"'DNSP Inputs General'!L6*O$20","v":500397.52921985701},{"$f":"'DNSP Inputs General'!M6*P$20","v":518452.69074778323},{"$f":"'DNSP Inputs General'!N6*Q$20","v":507807.06124196778},{"$f":"'DNSP Inputs General'!O6*R$20","v":511976.75537189055}]
[]
["Existing Lights"]
["Luminaires",{"$f":"'DNSP Inputs O & M'!$C$24","v":20},432949.6,411376.4,317200.09225092252,924101.27166383713,{"$f":"'DNSP Inputs General'!D9","v":584487},{"$f":"'DNSP Inputs General'!E9","v":160929.55445048958},{"$f":"'DNSP Inputs General'!F9","v":415008.14485426829},{"$f":"'DNSP Inputs General'!G9","v":203015.00196367491},{"$f":"'DNSP Inputs General'!H9","v":457113.91598946741},{"$f":"'DNSP Inputs General'!I9","v":459265.21401053265},{"$f":"'DNSP Inputs General'!J9*M$20","v":-1151949.3046831542},{"$f":"'DNSP Inputs General'!K9*N$20","v":253724.01704565191},{"$f":"'DNSP Inputs General'!L9*O$20","v":270128.03139003803},{"$f":"'DNSP Inputs General'!M9*P$20","v":282196.07989195804},{"$f":"'DNSP Inputs General'!N9*Q$20","v":277904.45278474421},{"$f":"'DNSP Inputs General'!O9*R$20","v":282470.95716222015}]
[]
["Energy Efficient Lights"]
["Luminaires and Ballasts",{"$f":"'DNSP Inputs O & M'!$C$143","v":20},null,null,null,null,{"$f":"'DNSP Inputs General'!D12","v":0},{"$f":"'DNSP Inputs General'!E12","v":137050.55928334597},{"$f":"'DNSP Inputs General'!F12","v":39381.391293943496},{"$f":"'DNSP Inputs General'!G12","v":321713.60156957514},{"$f":"'DNSP Inputs General'!H12","v":1127.3708052474763},{"$f":"'DNSP Inputs General'!I12","v":3240.0691947525238},{"$f":"'DNSP Inputs General'!J12*M$20","v":218756.5313710499},{"$f":"'DNSP Inputs General'!K12*N$20","v":187103.62410169991},{"$f":"'DNSP Inputs General'!L12*O$20","v":201108.7079032886},{"$f":"'DNSP Inputs General'!M12*P$20","v":212608.74610288668},{"$f":"'DNSP Inputs General'!N12*Q$20","v":212143.04709638548},{"$f":"'DNSP Inputs General'!O12*R$20","v":217904.86492206968}]
[]
[]
["CPI Index",null,null,null,null,null,null,null,null,null,null,null,1,{"$f":"M20*(1+WACC!E$6)","v":1.0232307982099371},{"$f":"N20*(1+WACC!F$6)","v":1.047001266405345},{"$f":"O20*(1+WACC!G$6)","v":1.0713239415507561},{"$f":"P20*(1+WACC!H$6)","v":1.0962116518543961},{"$f":"Q20*(1+WACC!I$6)","v":1.1216775235340073}]
[]
[]
["Depreciation",null,{"$f":"$C$6","v":2005},{"$f":"$D$6","v":2006},{"$f":"$E$6","v":2007},{"$f":"$F$6","v":2008},{"$f":"G$6","v":2009},{"$f":"H$6","v":2010},2011,2012,2013,2014,2015,2016,2017,2018,2019,2020]
[{"$f":"$A$11","v":"Poles and Brackets"}]
["RAB 2001-04",null,{"$f":"'RAB 2001 to 2004'!F113","v":48593.842438459491},{"$f":"'RAB 2001 to 2004'!G113","v":48593.842438459491},{"$f":"'RAB 2001 to 2004'!H113","v":48593.842438459491},{"$f":"'RAB 2001 to 2004'!I113","v":48593.842438459491},{"$f":"'RAB 2001 to 2004'!J113","v":48593.842438459491},{"$f":"'RAB 2001 to 2004'!K113","v":48593.842438459491},{"$f":"'RAB 2001 to 2004'!L113","v":48593.842438459491},{"$f":"'RAB 2001 to 2004'!M113","v":48593.842438459491},{"$f":"'RAB 2001 to 2004'!N113","v":48593.842438459491},{"$f":"'RAB 2001 to 2004'!O113","v":48593.842438459491},{"$f":"'RAB 2001 to 2004'!P113","v":48593.842438459491},{"$f":"'RAB 2001 to 2004'!Q113","v":48593.842438459491},{"$f":"'RAB 2001 to 2004'!R113","v":48593.842438459491},{"$f":"'RAB 2001 to 2004'!S113","v":48593.842438459491},{"$f":"'RAB 2001 to 2004'!T113","v":48593.842438459491},{"$f":"'RAB 2001 to 2004'!U113","v":48593.842438459491}]
["Depn Capex 2005",null,{"$f":"C$11/$B$11/2","v":1557.8628571428571},{"$f":"C26*2","v":3115.7257142857143},{"$f":"D26","v":3115.7257142857143},3115.7257142857143,3115.7257142857143,3115.7257142857143,3115.7257142857143,3115.7257142857143,3115.7257142857143,3115.7257142857143,3115.7257142857143,3115.7257142857143,3115.7257142857143,3115.7257142857143,3115.7257142857143,3115.7257142857143]
["Depn Capex 2006",null,null,{"$f":"D$11/$B$11/2","v":1851.7657142857145},{"$f":"D27*2","v":3703.5314285714289},{"$f":"E27","v":3703.5314285714289},3703.5314285714289,3703.5314285714289,3703.5314285714289,3703.5314285714289,3703.5314285714289,3703.5314285714289,3703.5314285714289,3703.5314285714289,3703.5314285714289,3703.5314285714289,3703.5314285714289,3703.5314285714289]
["Depn Capex 2007",null,null,null,{"$f":"E$11/$B$11/2","v":361.07011070110701},{"$f":"E28*2","v":722.14022140221402},{"$f":"F28","v":722.14022140221402},722.14022140221402,722.14022140221402,722.14022140221402,722.14022140221402,722.14022140221402,722.14022140221402,722.14022140221402,722.14022140221402,722.14022140221402,722.14022140221402,722.14022140221402]
["Depn Capex 2008",null,null,null,null,{"$f":"F$11/$B$11/2","v":416.15769051661414},{"$f":"F29*2","v":832.31538103322828},{"$f":"G29","v":832.31538103322828},832.31538103322828,832.31538103322828,832.31538103322828,832.31538103322828,832.31538103322828,832.31538103322828,832.31538103322828,832.31538103322828,832.31538103322828,832.31538103322828]
["Depn Capex 2009",null,null,null,null,null,{"$f":"G$11/$B$11/2","v":1173.2428571428572},{"$f":"G30*2","v":2346.4857142857145},{"$f":"H30","v":2346.4857142857145},{"$f":"I30","v":2346.4857142857145},{"$f":"J30","v":2346.4857142857145},{"$f":"K30","v":2346.4857142857145},{"$f":"L30","v":2346.4857142857145},2346.4857142857145,2346.4857142857145,2346.4857142857145,2346.4857142857145,2346.4857142857145]
["Depn Capex 2010",null,null,null,null,null,null,{"$f":"H$11/$B$11/2","v":1977.2697663272108},{"$f":"H31*2","v":3954.5395326544217},{"$f":"I31","v":3954.5395326544217},{"$f":"J31","v":3954.5395326544217},{"$f":"K31","v":3954.5395326544217},{"$f":"L31","v":3954.5395326544217},3954.5395326544217,3954.5395326544217,3954.5395326544217,3954.5395326544217,3954.5395326544217]
["Depn Capex 2011",null,null,null,null,null,null,null,{"$f":"I$11/$B$11/2","v":3436.7032827425542},{"$f":"I32*2","v":6873.4065654851083},{"$f":"J32","v":6873.4065654851083},{"$f":"K32","v":6873.4065654851083},{"$f":"L32","v":6873.4065654851083},6873.4065654851083,6873.4065654851083,6873.4065654851083,6873.4065654851083,6873.4065654851083]
["Depn Capex 2012",null,null,null,null,null,null,null,null,{"$f":"J$11/$B$11/2","v":5.3870526391739206},{"$f":"J33*2","v":10.774105278347841},{"$f":"K33","v":10.774105278347841},{"$f":"L33","v":10.774105278347841},10.774105278347841,10.774105278347841,10.774105278347841,10.774105278347841,10.774105278347841]
["Depn Capex 2013",null,null,null,null,null,null,null,null,null,{"$f":"K$11/$B$11/2","v":6634.4651451526379},{"$f":"K34*2","v":13268.930290305276},{"$f":"L34","v":13268.930290305276},13268.930290305276,13268.930290305276,13268.930290305276,13268.930290305276,13268.930290305276]
["Depn Capex 2014",null,null,null,null,null,null,null,null,null,null,{"$f":"L$11/$B$11/2","v":10404.41656913308},{"$f":"L35*2","v":20808.83313826616},20808.83313826616,20808.83313826616,20808.83313826616,20808.83313826616,20808.83313826616]
["Depn Capex 2015",null,null,null,null,null,null,null,null,null,null,null,{"$f":"M$11/$B$11/2","v":6382.342779396442},{"$f":"M36*2","v":12764.685558792884},12764.685558792884,12764.685558792884,12764.685558792884,12764.685558792884]
["Depn Capex 2016",null,null,null,null,null,null,null,null,null,null,null,null,{"$f":"N$11/$B$11/2","v":6789.4673478749837},{"$f":"N37*2","v":13578.934695749967},13578.934695749967,13578.934695749967,13578.934695749967]
["Depn Capex 2017",null,null,null,null,null,null,null,null,null,null,null,null,null,{"$f":"O$11/$B$11/2","v":7148.5361317122433},{"$f":"O38*2","v":14297.072263424487},14297.072263424487,14297.072263424487]
["Depn Capex 2018",null,null,null,null,null,null,null,null,null,null,null,null,null,null,{"$f":"P$11/$B$11/2","v":7406.4670106826179},{"$f":"P39*2","v":14812.934021365236},14812.934021365236]
["Depn Capex 2019",null,null,null,null,null,null,null,null,null,null,null,null,null,null,null,{"$f":"Q$11/$B$11/2","v":7254.3865891709684},{"$f":"Q40*2","v":14508.773178341937}]
["Depn Capex 2020",null,null,null,null,null,null,null,null,null,null,null,null,null,null,null,null,{"$f":"R$11/$B$11/2","v":7313.9536481698651}]
["Total Depreciation",null,{"$f":"SUM(C25:C41)","v":50151.705295602347},{"$f":"SUM(D25:D41)","v":53561.333867030917},55774.169692017735,56551.397493235461,58140.798040894937,61291.310664365003,66705.283713434765,70147.374048816491,76787.226246608319,93826.107960894034,110612.86730942354,123784.67743669498,137722.6809162822,152277.68405867706,166938.53765853064,181506.8778958715]
[]
[{"$f":"$A$13","v":"Existing Lights"}]
[{"$f":"$A$14","v":"Luminaires"}]
[{"$f":"A25","v":"RAB 2001-04"},null,{"$f":"'RAB 2001 to 2004'!F77","v":155647.78399220886},{"$f":"'RAB 2001 to 2004'!G77","v":155647.78399220886},{"$f":"'RAB 2001 to 2004'!H77","v":155647.78399220886},{"$f":"'RAB 2001 to 2004'!I77","v":155647.78399220886},{"$f":"'RAB 2001 to 2004'!J77","v":155647.78399220886},{"$f":"'RAB 2001 to 2004'!K77","v":155647.78399220886},{"$f":"'RAB 2001 to 2004'!L77","v":155647.78399220886},{"$f":"'RAB 2001 to 2004'!M77","v":155647.78399220886},{"$f":"'RAB 2001 to 2004'!N77","v":155647.78399220886},{"$f":"'RAB 2001 to 2004'!O77","v":155647.78399220886},{"$f":"'RAB 2001 to 2004'!P77","v":155647.78399220886},{"$f":"'RAB 2001 to 2004'!Q77","v":155647.78399220886},{"$f":"'RAB 2001 to 2004'!R77","v":155647.78399220886},{"$f":"'RAB 2001 to 2004'!S77","v":155647.78399220886},{"$f":"'RAB 2001 to 2004'!T77","v":155647.78399220886},{"$f":"'RAB 2001 to 2004'!U77","v":155647.78399220886}]
[{"$f":"A26","v":"Depn Capex 2005"},null,{"$f":"C$14/$B$14/2","v":10823.74},{"$f":"C47*2","v":21647.48},{"$f":"D47","v":21647.48},21647.48,21647.48,21647.48,21647.48,21647.48,21647.48,21647.48,21647.48,21647.48,21647.48,21647.48,21647.48,21647.48]
[{"$f":"A27","v":"Depn Capex 2006"},null,null,{"$f":"D$14/$B$14/2","v":10284.41},{"$f":"D48*2","v":20568.82},{"$f":"E48","v":20568.82},20568.82,20568.82,20568.82,20568.82,20568.82,20568.82,20568.82,20568.82,20568.82,20568.82,20568.82,20568.82]
["Depn Capex 2007",null,null,null,{"$f":"E$14/$B$14/2","v":7930.0023062730634},{"$f":"E49*2","v":15860.004612546127},{"$f":"F49","v":15860.004612546127},15860.004612546127,15860.004612546127,15860.004612546127,15860.004612546127,15860.004612546127,15860.004612546127,15860.004612546127,15860.004612546127,15860.004612546127,15860.004612546127,15860.004612546127]
["Depn Capex 2008",null,null,null,null,{"$f":"F$14/$B$14/2","v":23102.531791595928},{"$f":"F50*2","v":46205.063583191855},{"$f":"G50","v":46205.063583191855},46205.063583191855,46205.063583191855,46205.063583191855,46205.063583191855,46205.063583191855,46205.063583191855,46205.063583191855,46205.063583191855,46205.063583191855,46205.063583191855]
["Depn Capex 2009",null,null,null,null,null,{"$f":"G$14/$B$14/2","v":14612.174999999999},{"$f":"G51*2","v":29224.35},{"$f":"H51","v":29224.35},{"$f":"I51","v":29224.35},{"$f":"J51","v":29224.35},{"$f":"K51","v":29224.35},{"$f":"L51","v":29224.35},29224.35,29224.35,29224.35,29224.35,29224.35]
["Depn Capex 2010",null,null,null,null,null,null,{"$f":"H$14/$B$14/2","v":4023.2388612622394},{"$f":"H52*2","v":8046.4777225244788},{"$f":"I52","v":8046.4777225244788},{"$f":"J52","v":8046.4777225244788},{"$f":"K52","v":8046.4777225244788},{"$f":"L52","v":8046.4777225244788},8046.4777225244788,8046.4777225244788,8046.4777225244788,8046.4777225244788,8046.4777225244788]
["Depn Capex 2011",null,null,null,null,null,null,null,{"$f":"I$14/$B$14/2","v":10375.203621356708},{"$f":"I53*2","v":20750.407242713416},{"$f":"J53","v":20750.407242713416},{"$f":"K53","v":20750.407242713416},{"$f":"L53","v":20750.407242713416},20750.407242713416,20750.407242713416,20750.407242713416,20750.407242713416,20750.407242713416]
["Depn Capex 2012",null,null,null,null,null,null,null,null,{"$f":"J$14/$B$14/2","v":5075.3750490918728},{"$f":"J54*2","v":10150.750098183746},{"$f":"K54","v":10150.750098183746},{"$f":"L54","v":10150.750098183746},10150.750098183746,10150.750098183746,10150.750098183746,10150.750098183746,10150.750098183746]
["Depn Capex 2013",null,null,null,null,null,null,null,null,null,{"$f":"K$14/$B$14/2","v":11427.847899736686},{"$f":"K55*2","v":22855.695799473371},{"$f":"L55","v":22855.695799473371},22855.695799473371,22855.695799473371,22855.695799473371,22855.695799473371,22855.695799473371]
["Depn Capex 2014",null,null,null,null,null,null,null,null,null,null,{"$f":"L$14/$B$14/2","v":11481.630350263316},{"$f":"L56*2","v":22963.260700526633},22963.260700526633,22963.260700526633,22963.260700526633,22963.260700526633,22963.260700526633]
["Depn Capex 2015",null,null,null,null,null,null,null,null,null,null,null,{"$f":"M$14/$B$14/2","v":-28798.732617078855},{"$f":"M57*2","v":-57597.465234157709},-57597.465234157709,-57597.465234157709,-57597.465234157709,-57597.465234157709]
["Depn Capex 2016",null,null,null,null,null,null,null,null,null,null,null,null,{"$f":"N$14/$B$14/2","v":6343.1004261412982},{"$f":"N58*2","v":12686.200852282596},12686.200852282596,12686.200852282596,12686.200852282596]
["Depn Capex 2017",null,null,null,null,null,null,null,null,null,null,null,null,null,{"$f":"O$14/$B$14/2","v":6753.2007847509503},{"$f":"O59*2","v":13506.401569501901},13506.401569501901,13506.401569501901]
["Depn Capex 2018",null,null,null,null,null,null,null,null,null,null,null,null,null,null,{"$f":"P$14/$B$14/2","v":7054.9019972989508},{"$f":"P60*2","v":14109.803994597902},14109.803994597902]
["Depn Capex 2019",null,null,null,null,null,null,null,null,null,null,null,null,null,null,null,{"$f":"Q$14/$B$14/2","v":6947.6113196186052},{"$f":"Q61*2","v":13895.22263923721}]
["Depn Capex 2020",null,null,null,null,null,null,null,null,null,null,null,null,null,null,null,null,{"$f":"R$14/$B$14/2","v":7061.7739290555037}]
["Total Depreciation",null,{"$f":"SUM(C46:C62)","v":166471.52399220885},187579.67399220887,205794.08629848194,236826.62039635092,274541.32718794688,293176.74104920909,307575.18353182805,323025.76220227667,339528.98515110521,362438.46340110525,345121.36113428971,322665.72894335218,335762.03015424439,349570.13293629431,363572.64625321189,377582.03150188603]
[]
[{"$f":"$A$16","v":"Energy Efficient Lights"}]
[{"$f":"$A$17","v":"Luminaires and Ballasts"}]
[{"$f":"A46","v":"RAB 2001-04"}]
[{"$f":"A47","v":"Depn Capex 2005"}]
[{"$f":"A48","v":"Depn Capex 2006"}]
["Depn Capex 2007"]
["Depn Capex 2008"]
["Depn Capex 2009",null,null,null,null,null,{"$f":"G$17/$B$17/2","v":0},{"$f":"G72*2","v":0},{"$f":"H72","v":0},{"$f":"I72","v":0},{"$f":"J72","v":0},{"$f":"K72","v":0},{"$f":"L72","v":0},{"$f":"M72","v":0},0,0,0,0]
["Depn Capex 2010",null,null,null,null,null,null,{"$f":"H$17/$B$17/2","v":3426.2639820836494},{"$f":"H73*2","v":6852.5279641672987},{"$f":"I73","v":6852.5279641672987},{"$f":"J73","v":6852.5279641672987},{"$f":"K73","v":6852.5279641672987},{"$f":"L73","v":6852.5279641672987},6852.5279641672987,6852.5279641672987,6852.5279641672987,6852.5279641672987,6852.5279641672987]
["Depn Capex 2011",null,null,null,null,null,null,null,{"$f":"I$17/$B$17/2","v":984.53478234858744},{"$f":"I74*2","v":1969.0695646971749},{"$f":"J74","v":1969.0695646971749},{"$f":"K74","v":1969.0695646971749},{"$f":"L74","v":1969.0695646971749},1969.0695646971749,1969.0695646971749,1969.0695646971749,1969.0695646971749,1969.0695646971749]
["Depn Capex 2012",null,null,null,null,null,null,null,null,{"$f":"J$17/$B$17/2","v":8042.8400392393787},{"$f":"J75*2","v":16085.680078478757},{"$f":"K75","v":16085.680078478757},{"$f":"L75","v":16085.680078478757},16085.680078478757,16085.680078478757,16085.680078478757,16085.680078478757,16085.680078478757]
["Depn Capex 2013",null,null,null,null,null,null,null,null,null,{"$f":"K$17/$B$17/2","v":28.184270131186906},{"$f":"K76*2","v":56.368540262373813},{"$f":"L76","v":56.368540262373813},56.368540262373813,56.368540262373813,56.368540262373813,56.368540262373813,56.368540262373813]
["Depn Capex 2014",null,null,null,null,null,null,null,null,null,null,{"$f":"L$17/$B$17/2","v":81.001729868813101},{"$f":"L77*2","v":162.0034597376262},162.0034597376262,162.0034597376262,162.0034597376262,162.0034597376262,162.0034597376262]
["Depn Capex 2015",null,null,null,null,null,null,null,null,null,null,null,{"$f":"M$17/$B$17/2","v":5468.9132842762474},{"$f":"M78*2","v":10937.826568552495},10937.826568552495,10937.826568552495,10937.826568552495,10937.826568552495]
["Depn Capex 2016",null,null,null,null,null,null,null,null,null,null,null,null,{"$f":"N$17/$B$17/2","v":4677.5906025424974},{"$f":"N79*2","v":9355.1812050849949},9355.1812050849949,9355.1812050849949,9355.1812050849949]
["Depn Capex 2017",null,null,null,null,null,null,null,null,null,null,null,null,null,{"$f":"O$17/$B$17/2","v":5027.7176975822149},{"$f":"O80*2","v":10055.43539516443},10055.43539516443,10055.43539516443]
["Depn Capex 2018",null,null,null,null,null,null,null,null,null,null,null,null,null,null,{"$f":"P$17/$B$17/2","v":5315.2186525721672},{"$f":"P81*2","v":10630.437305144334},10630.437305144334]
["Depn Capex 2019",null,null,null,null,null,null,null,null,null,null,null,null,null,null,null,{"$f":"Q$17/$B$17/2","v":5303.5761774096372},{"$f":"Q82*2","v":10607.152354819274}]
["Depn Capex 2020",null,null,null,null,null,null,null,null,null,null,null,null,null,null,null,null,{"$f":"R$17/$B$17/2","v":5447.6216230517421}]
["Total Depreciation",null,{"$f":"SUM(C67:C83)","v":0},{"$f":"SUM(D67:D83)","v":0},{"$f":"SUM(E67:E83)","v":0},{"$f":"SUM(F67:F83)","v":0},{"$f":"SUM(G67:G83)","v":0},{"$f":"SUM(H67:H83)","v":3426.2639820836494},{"$f":"SUM(I67:I83)","v":7837.0627465158859},{"$f":"SUM(J67:J83)","v":16864.437568103851},{"$f":"SUM(K67:K83)","v":24935.461877474419},{"$f":"SUM(L67:L83)","v":25044.647877474421},{"$f":"SUM(M67:M83)","v":30594.56289161948},{"$f":"SUM(N67:N83)","v":40741.066778438224},{"$f":"SUM(O67:O83)","v":50446.375078562931},{"$f":"SUM(P67:P83)","v":60789.311428717316},{"$f":"SUM(Q67:Q83)","v":71408.106258699117},{"$f":"SUM(R67:R83)","v":82159.304059160509}]
[]
[]
["Nominal pre tax WACC",null,null,null,null,null,null,null,null,null,null,null,null,{"$f":"WACC!E$8","v":7.1561822935523933E-2},{"$f":"WACC!F$8","v":7.1561822935523933E-2},{"$f":"WACC!G$8","v":7.1561822935523933E-2},{"$f":"WACC!H$8","v":7.1561822935523933E-2},{"$f":"WACC!I$8","v":7.1561822935523933E-2}]
[]
[]
[{"$f":"$A$11","v":"Poles and Brackets"}]
["RAB",null,{"$f":"C$6","v":2005},{"$f":"D$6","v":2006},2007,2008,2009,2010,2011,2012,2013,2014,2015,2016,2017,2018,2019,2020]
["Opening RAB",null,{"$f":"'RAB 2001 to 2004'!E113","v":1603596.8004691626},{"$f":"C95","v":1662495.4951735602},1738557.7613065294,1708058.4993635891,1680638.1402065165,1704624.3421656215,1781741.9151441611,1955605.8612227051,1885835.5808586308,2273460.914772707,2907943.9666511281,{"$f":"M95","v":3244095.0938994554},{"$f":"N95","v":3595573.1308140093},{"$f":"O95","v":3958247.9791175839},{"$f":"P95","v":4324422.9858066896},{"$f":"Q95","v":4665291.5093901269}]
["Additional Capex",null,{"$f":"C$11","v":109050.4},129623.6,25274.907749077491,29131.03833616299,82127,138408.88364290475,240569.22979197878,377.09368474217445,464412.56016068463,728309.15983931557,446763.99455775094,475262.71435124887,500397.52921985701,518452.69074778323,507807.06124196778,511976.75537189055]
["Depreciation",null,{"$f":"C$42","v":50151.705295602347},53561.333867030917,55774.169692017735,56551.397493235461,58140.798040894937,61291.310664365003,66705.283713434765,70147.374048816491,76787.226246608319,93826.107960894034,110612.86730942354,123784.67743669498,137722.6809162822,152277.68405867706,166938.53765853064,181506.8778958715]
["Closing RAB",null,{"$f":"C92+C93-C94","v":1662495.4951735602},1738557.7613065294,1708058.4993635891,1680638.1402065165,1704624.3421656215,1781741.9151441611,1955605.8612227051,1885835.5808586308,2273460.914772707,2907943.9666511281,3244095.0938994554,{"$f":"N92+N93-N94","v":3595573.1308140093},3958247.9791175839,4324422.9858066896,4665291.5093901269,4995761.3868661467]
["Average RAB",null,{"$f":"SUM(C92,C95)/2","v":1633046.1478213614},1700526.6282400447,1723308.1303350592,1694348.3197850529,{"$f":"SUM(G92,G95)/2","v":1692631.2411860689},1743183.1286548912,1868673.8881834331,1920720.721040668,2079648.247815669,2590702.4407119174,3076019.5302752918,3419834.1123567326,3776910.5549657969,4141335.482462137,4494857.2475984078,4830526.4481281368]
[]
["Total Value to be recovered by change in unit rates",null,null,null,null,null,null,null,null,null,null,null,null,{"$f":"N$6","v":2016},2017,2018,2019,2020]
["Depreciation",null,null,null,null,null,null,null,null,null,null,null,null,{"$f":"N94","v":123784.67743669498},{"$f":"O94","v":137722.6809162822},{"$f":"P94","v":152277.68405867706},{"$f":"Q94","v":166938.53765853064},{"$f":"R94","v":181506.8778958715}]
["ROA",null,null,null,null,null,null,null,null,null,null,null,null,{"$f":"N$87*N96","v":244729.56321733716},{"$f":"O$87*O96","v":270282.60437777377},296361.51651255804,321660.17847309372,345681.27836631105]
[null,null,null,null,null,null,null,null,null,null,null,null,null,{"$f":"SUM(N99:N100)","v":368514.24065403215},{"$f":"SUM(O99:O100)","v":408005.28529405594},448639.20057123509,488598.71613162436,527188.15626218251]
[]
[]
[{"$f":"$A$13","v":"Existing Lights"}]
[{"$f":"$A$14","v":"Luminaires"}]
["RAB",null,{"$f":"C$6","v":2005},{"$f":"D$6","v":2006},2007,2008,2009,2010,2011,2012,2013,2014,2015,2016,2017,2018,2019,2020]
["Opening RAB",null,{"$f":"'RAB 2001 to 2004'!E77","v":2801660.1118597607},{"$f":"C110","v":3068138.187867552},3291934.9138753433,3403340.9198277839,4090615.5710952696,4400561.2439073222,4268314.0573086031,4375747.0186310429,4255736.2583924411,4373321.1892308025,4470147.9398402302,{"$f":"M110","v":2973077.2740227859},{"$f":"N110","v":2904135.5621250859},{"$f":"O110","v":2838501.5633608792},{"$f":"P110","v":2771127.5103165433},{"$f":"Q110","v":2685459.3168480755}]
["Additional Capex",null,{"$f":"C$14","v":432949.6},411376.4,317200.09225092252,924101.27166383713,584487,160929.55445048958,415008.14485426829,203015.00196367491,457113.91598946741,459265.21401053265,-1151949.3046831542,253724.01704565191,270128.03139003803,282196.07989195804,277904.45278474421,282470.95716222015]
["Depreciation",null,{"$f":"C$63","v":166471.52399220885},187579.67399220887,205794.08629848194,236826.62039635092,274541.32718794688,293176.74104920909,307575.18353182805,323025.76220227667,339528.98515110521,362438.46340110525,345121.36113428971,322665.72894335218,335762.03015424439,349570.13293629431,363572.64625321189,377582.03150188603]
["Closing RAB",null,{"$f":"C107+C108-C109","v":3068138.187867552},3291934.9138753433,3403340.9198277839,4090615.5710952696,4400561.2439073222,4268314.0573086031,4375747.0186310429,4255736.2583924411,4373321.1892308025,4470147.9398402302,2973077.2740227859,{"$f":"N107+N108-N109","v":2904135.5621250859},2838501.5633608792,2771127.5103165433,2685459.3168480755,2590348.2425084095]
["Average RAB",null,{"$f":"SUM(C107,C110)/2","v":2934899.1498636566},3180036.5508714477,3347637.9168515634,3746978.2454615268,{"$f":"SUM(G107,G110)/2","v":4245588.4075012961},4334437.6506079622,4322030.537969823,4315741.6385117415,4314528.7238116218,4421734.5645355163,3721612.6069315081,2938606.4180739359,2871318.5627429825,2804814.5368387112,2728293.4135823091,2637903.7796782423]
[]
["Total Value to be recovered by change in unit rates",null,null,null,null,null,null,null,null,null,null,null,null,{"$f":"N$6","v":2016},2017,2018,2019,2020]
["Depreciation",null,null,null,null,null,null,null,null,null,null,null,null,{"$f":"N109","v":322665.72894335218},{"$f":"O109","v":335762.03015424439},{"$f":"P109","v":349570.13293629431},{"$f":"Q109","v":363572.64625321189},{"$f":"R109","v":377582.03150188603}]
["ROA",null,null,null,null,null,null,null,null,null,null,null,null,{"$f":"N$87*N111","v":210292.03216740122},{"$f":"O$87*O111","v":205476.79057849638},200717.64125223542,195241.65017893337,188773.20320228371]
[null,null,null,null,null,null,null,null,null,null,null,null,null,{"$f":"SUM(N114:N115)","v":532957.7611107534},541238.8207327408,550287.7741885297,558814.29643214529,566355.23470416968]
[]
[]
[{"$f":"$A$16","v":"Energy Efficient Lights"}]
[{"$f":"$A$17","v":"Luminaires and Ballasts"}]
["RAB",null,{"$f":"C$6","v":2005},{"$f":"D$6","v":2006},2007,2008,2009,2010,2011,2012,2013,2014,2015,2016,2017,2018,2019,2020]
["Opening RAB",null,0,{"$f":"C125","v":0},0,0,0,0,133624.29530126232,165168.62384868992,470017.78785016126,446209.69677793427,424405.11809521238,{"$f":"M125","v":612567.0865746428},{"$f":"N125","v":758929.64389790455},{"$f":"O125","v":909591.97672263021},{"$f":"P125","v":1061411.4113967996},{"$f":"Q125","v":1202146.3522344858}]
["Additional Capex",null,{"$f":"C$17","v":0},0,0,0,0,137050.55928334597,39381.391293943496,321713.60156957514,1127.3708052474763,3240.0691947525238,218756.5313710499,187103.62410169991,201108.7079032886,212608.74610288668,212143.04709638548,217904.86492206968]
["Depreciation",null,{"$f":"C$84","v":0},0,0,0,0,3426.2639820836494,7837.0627465158859,16864.437568103851,24935.461877474419,25044.647877474421,30594.56289161948,40741.066778438224,50446.375078562931,60789.311428717316,71408.106258699117,82159.304059160509]
["Closing RAB",null,{"$f":"C122+C123-C124","v":0},0,0,0,0,133624.29530126232,165168.62384868992,470017.78785016126,446209.69677793427,424405.11809521238,612567.0865746428,{"$f":"N122+N123-N124","v":758929.64389790455},909591.97672263021,1061411.4113967996,1202146.3522344858,1337891.9130973951]
["Average RAB",null,{"$f":"SUM(C122,C125)/2","v":0},0,0,0,{"$f":"SUM(G122,G125)/2","v":0},66812.147650631159,149396.45957497612,317593.20584942558,458113.74231404776,435307.4074365733,518486.10233492759,685748.36523627373,834260.81031026738,985501.69405971491,1131778.8818156426,1270019.1326659406]
[]
["Total Value to be recovered by change in unit rates",null,null,null,null,null,null,null,null,null,null,null,null,{"$f":"N$6","v":2016},2017,2018,2019,2020]
["Depreciation",null,null,null,null,null,null,null,null,null,null,null,null,{"$f":"N124","v":40741.066778438224},{"$f":"O124","v":50446.375078562931},{"$f":"P124","v":60789.311428717316},{"$f":"Q124","v":71408.106258699117},{"$f":"R124","v":82159.304059160509}]
["ROA",null,null,null,null,null,null,null,null,null,null,null,null,{"$f":"N$87*N126","v":49073.403091363216},{"$f":"O$87*O126","v":59701.224389470073},70524.2977329602,80992.15994265629,90884.884296567718]
[null,null,null,null,null,null,null,null,null,null,null,null,null,{"$f":"SUM(N129:N130)","v":89814.46986980144},110147.599468033,131313.60916167751,152400.26620135541,173044.18835572823]
[]
[]
[]
["Total Public Lighting RAB"]
["Historical cost ($)"]
[]
["RAB",null,{"$f":"C$6","v":2005},{"$f":"D$6","v":2006},{"$f":"E$6","v":2007},2008,2009,2010,2011,2012,2013,2014,2015,2016,2017,2018,2019,2020]
["Opening RAB",null,{"$f":"SUM(C92,C107,C122)","v":4405256.9123289231},{"$f":"C142","v":4730633.6830411116},{"$f":"D142","v":5030492.6751818722},5111399.4191913726,5771253.7113017868,6105185.586072945,6183680.2677540276,6496521.5037024394,6611589.6271012351,7092991.8007814474,7802497.0245865751,6829739.4544968884,7258638.3368370039,7706341.5192010971,8156961.9075200353,8552897.1784726903]
["Capex",null,{"$f":"SUM(C93,C108,C123)","v":542000},{"$f":"SUM(D93,D108,D123)","v":541000},342475,953232.31000000017,666614,436388.99737674033,694958.76594019064,525105.69721799227,922653.84695539949,1190814.4430446008,-486428.77875435341,916090.35549860063,971634.26851318358,1013257.5167426281,997854.56112309743,1012352.5774561805]
["Depreciation",null,{"$f":"SUM(C94,C109,C124)","v":216623.22928781121},241141.00785923979,261568.25599049969,293378.01788958639,332682.12522884179,357894.31569565774,382117.52999177872,410037.57381919702,441251.67327518796,481309.21923947369,486328.79133533273,487191.47315848537,523931.08614908956,562637.1284236887,601919.29017044161,641248.21345691802]
["Closing RAB",null,{"$f":"C139+C140-C141","v":4730633.6830411116},{"$f":"D139+D140-D141","v":5030492.6751818722},{"$f":"E139+E140-E141","v":5111399.4191913726},5771253.7113017868,6105185.586072945,6183680.2677540276,6496521.5037024394,6611589.6271012351,7092991.8007814474,7802497.0245865751,6829739.4544968884,7258638.3368370039,7706341.5192010971,8156961.9075200353,8552897.1784726903,8924001.5424719527]
["Average RAB",null,{"$f":"SUM(C139,C142)/2","v":4567945.2976850178},{"$f":"SUM(D139,D142)/2","v":4880563.1791114919},{"$f":"SUM(E139,E142)/2","v":5070946.0471866224},5441326.5652465802,5938219.6486873664,6144432.9269134868,6340100.8857282335,6554055.5654018372,6852290.7139413413,7447744.4126840113,7316118.2395417318,7044188.8956669457,7482489.9280190505,7931651.7133605666,8354929.5429963628,8738449.3604723215]
["Check",{"$f":"SUM(C144:R144)","v":3.8184225559234619E-8},{"$f":"ABS(C142-SUM(C95,C110,C125))","v":9.3132257461547852E-10},9.3132257461547852E-10,9.3132257461547852E-10,9.3132257461547852E-10,9.3132257461547852E-10,9.3132257461547852E-10,1.862645149230957E-9,1.862645149230957E-9,3.7252902984619141E-9,4.6566128730773926E-9,4.6566128730773926E-9,4.6566128730773926E-9,4.6566128730773926E-9,2.7939677238464355E-9,1.862645149230957E-9,1.862645149230957E-9]

{"sheet":"RAB 2001 to 2004","index":17,"n_rows":237,"n_cols":41,"rows_kept":237,"cut":false,"hidden":false,"merged":[[80,5,80,20],[87,5,87,20],[45,5,45,20],[52,5,52,20],[205,1,205,5],[205,7,205,11],[205,13,205,17],[205,19,205,23]]}
[{"$f":"'Inputs PL Final Decision 2004'!$A$123","v":"Jemena"}]
[]
["Public Lighting RAB - Assets constructed between 1 January 2001 and 31 December 2004."]
["Historical cost ($)"]
[]
["Summary"]
[]
["Cost Per Unit",null,2016,2017,2018,2019,2020]
["Rate of return (per annum) (Nominal Pre tax WACC)",null,{"$f":"WACC!E$8","v":7.1561822935523933E-2},{"$f":"WACC!F$8","v":7.1561822935523933E-2},{"$f":"WACC!G$8","v":7.1561822935523933E-2},{"$f":"WACC!H$8","v":7.1561822935523933E-2},{"$f":"WACC!I$8","v":7.1561822935523933E-2}]
[]
["Luminaires"]
[{"$f":"$A$132","v":"MV 80"}]
["Luminaire - depreciation",null,{"$f":"Q142","v":2.1850943933883098},{"$f":"R142","v":2.1850943933883098},{"$f":"S142","v":2.1850943933883098},{"$f":"T142","v":2.1850943933883098},{"$f":"U142","v":2.1850943933883098}]
["Luminaire - return on",null,{"$f":"Q141*C$9","v":1.0164006975008921},{"$f":"R141*D$9","v":0.86003135942383169},{"$f":"S141*E$9","v":0.70366202134677147},{"$f":"T141*F$9","v":0.54729268326971103},{"$f":"U141*G$9","v":0.39092334519265076}]
["Capital Charge",null,{"$f":"SUM(C13:C14)","v":3.2014950908892019},3.0451257528121416,2.8887564147350813,2.7323870766580209,{"$f":"SUM(G13:G14)","v":2.5760177385809606}]
[]
[{"$f":"$A$146","v":"S-HP 150 "}]
["Luminaire - depreciation",null,{"$f":"Q156","v":2.5639381521130624},{"$f":"R156","v":2.5639381521130624},{"$f":"S156","v":2.5639381521130624},{"$f":"T156","v":2.5639381521130624},{"$f":"U156","v":2.5639381521130624}]
["Luminaire - return on",null,{"$f":"Q155*C$9","v":1.1926205723844712},{"$f":"R155*D$9","v":1.0091404843253218},{"$f":"S155*E$9","v":0.82566039626617227},{"$f":"T155*F$9","v":0.64218030820702288},{"$f":"U155*G$9","v":0.45870022014787348}]
["Capital Charge",null,{"$f":"SUM(C18:C19)","v":3.7565587244975336},3.5730786364383844,3.3895985483792348,3.2061184603200852,{"$f":"SUM(G18:G19)","v":3.022638372260936}]
[]
[{"$f":"$A$160","v":"S-HP 250 "}]
["Luminaire - depreciation",null,{"$f":"Q170","v":2.7217540619463323},{"$f":"R170","v":2.7217540619463323},{"$f":"S170","v":2.7217540619463323},{"$f":"T170","v":2.7217540619463323},{"$f":"U170","v":2.7217540619463323}]
["Luminaire - return on",null,{"$f":"Q169*C$9","v":1.266028934657802},{"$f":"R169*D$9","v":1.0712552524027557},{"$f":"S169*E$9","v":0.87648157014770922},{"$f":"T169*F$9","v":0.68170788789266268},{"$f":"U169*G$9","v":0.48693420563761619}]
["Capital Charge",null,{"$f":"SUM(C23:C24)","v":3.9877829966041345},3.7930093143490877,3.5982356320940414,3.4034619498389951,{"$f":"SUM(G23:G24)","v":3.2086882675839483}]
[]
[{"$f":"$A$174","v":"Poles & Brackets"}]
[{"$f":"$A$175","v":"Dedicated poles"}]
["Dedicated poles - depreciation",null,{"$f":"Q184","v":0.46838728035617327},{"$f":"R184","v":0.46838728035617327},{"$f":"S184","v":0.46838728035617327},{"$f":"T184","v":0.46838728035617327},{"$f":"U184","v":0.46838728035617327}]
["Dedicated poles - return on",null,{"$f":"Q183*C$9","v":0.72065092387515173},{"$f":"R183*D$9","v":0.68713227625305162},{"$f":"S183*E$9","v":0.65361362863095163},{"$f":"T183*F$9","v":0.62009498100885141},{"$f":"U183*G$9","v":0.58657633338675141}]
["Capital Charge",null,{"$f":"SUM(C29:C30)","v":1.189038204231325},1.1555195566092249,1.122000908987125,1.0884822613650247,{"$f":"SUM(G29:G30)","v":1.0549636137429248}]
[]
[{"$f":"A189","v":"Brackets"}]
["Brackets - depreciation",null,{"$f":"Q198","v":0.25340553615940259},{"$f":"R198","v":0.25340553615940259},{"$f":"S198","v":0.25340553615940259},{"$f":"T198","v":0.25340553615940259},{"$f":"U198","v":0.25340553615940259}]
["Brackets - return on",null,{"$f":"Q197*C$9","v":0.38988448535469467},{"$f":"R197*D$9","v":0.37175032324517393},{"$f":"S197*E$9","v":0.35361616113565325},{"$f":"T197*F$9","v":0.33548199902613252},{"$f":"U197*G$9","v":0.31734783691661184}]
["Capital Charge",null,{"$f":"SUM(C34:C35)","v":0.64329002151409731},0.62515585940457652,0.60702169729505584,0.58888753518553516,{"$f":"SUM(G34:G35)","v":0.57075337307601437}]
[]
[]
[]
[]
["Closing RAB at 31 December 2004 and Depreciation per annum 2005 onwards"]
[]
["Note : Calculation of the closing $ value of RAB in 2004 is Unit WDV at 31 December 2004 multiplied by volumes at 31 December 2004."]
[]
["Luminaires"]
["Depreciation",null,null,null,"Closing RAB per unit","Depreciation per unit"]
[null,null,null,null,2004,2005,2006,2007,2008,2009,2010,2011,2012,2013,2014,2015,2016,2017,2018,2019,2020]
[{"$f":"'DNSP Inputs General'!A$41","v":"Mercury Vapour 80 watt"},null,null,null,{"$f":"F141+F142/2","v":39.33169908098958},{"$f":"F142","v":2.1850943933883098},{"$f":"G142","v":2.1850943933883098},2.1850943933883098,2.1850943933883098,2.1850943933883098,2.1850943933883098,2.1850943933883098,2.1850943933883098,2.1850943933883098,2.1850943933883098,2.1850943933883098,2.1850943933883098,2.1850943933883098,2.1850943933883098,2.1850943933883098,2.1850943933883098]
[{"$f":"'DNSP Inputs General'!A$42","v":"Sodium High Pressure 150 watt"},null,null,null,{"$f":"F155+F156/2","v":46.150886738035119},{"$f":"F156","v":2.5639381521130624},{"$f":"G156","v":2.5639381521130624},2.5639381521130624,2.5639381521130624,2.5639381521130624,2.5639381521130624,2.5639381521130624,2.5639381521130624,2.5639381521130624,2.5639381521130624,2.5639381521130624,2.5639381521130624,2.5639381521130624,2.5639381521130624,2.5639381521130624,2.5639381521130624]
[{"$f":"'DNSP Inputs General'!A$43","v":"Sodium High Pressure 250 watt"},null,null,null,{"$f":"F169+F170/2","v":48.991573115033979},{"$f":"F170","v":2.7217540619463323},{"$f":"G170","v":2.7217540619463323},2.7217540619463323,2.7217540619463323,2.7217540619463323,2.7217540619463323,2.7217540619463323,2.7217540619463323,2.7217540619463323,2.7217540619463323,2.7217540619463323,2.7217540619463323,2.7217540619463323,2.7217540619463323,2.7217540619463323,2.7217540619463323]
[]
[null,null,null,null,null,{"$f":"E55-SUM($F55:F55)","v":1699977.2169233847}]
[null,null,"Assumed",null,"Closing RAB","Depreciation"]
[null,null," 2004 Volumes",null,{"$f":"E$47","v":2004},2005,2006,2007,2008,2009,2010,2011,2012,2013,2014,2015,2016,2017,2018,2019,2020]
[{"$f":"'DNSP Inputs General'!A$41","v":"Mercury Vapour 80 watt"},null,{"$f":"45764+282*0","v":45764},null,{"$f":"E48*$C55","v":1799975.8767424072},{"$f":"F48*$C55","v":99998.659819022607},99998.659819022607,99998.659819022607,99998.659819022607,99998.659819022607,99998.659819022607,{"$f":"L48*$C55","v":99998.659819022607},99998.659819022607,99998.659819022607,99998.659819022607,99998.659819022607,99998.659819022607,99998.659819022607,99998.659819022607,99998.659819022607,99998.659819022607]
[{"$f":"'DNSP Inputs General'!A$42","v":"Sodium High Pressure 150 watt"},null,14085,null,{"$f":"E49*$C56","v":650035.23970522464},{"$f":"F49*$C56","v":36113.068872512486},36113.068872512486,36113.068872512486,36113.068872512486,36113.068872512486,36113.068872512486,{"$f":"L49*$C56","v":36113.068872512486},36113.068872512486,36113.068872512486,36113.068872512486,36113.068872512486,36113.068872512486,36113.068872512486,36113.068872512486,36113.068872512486,36113.068872512486]
[{"$f":"'DNSP Inputs General'!A$43","v":"Sodium High Pressure 250 watt"},null,4192,null,{"$f":"E50*$C57","v":205372.67449822245},{"$f":"F50*$C57","v":11409.593027679024},11409.593027679024,11409.593027679024,11409.593027679024,11409.593027679024,11409.593027679024,{"$f":"L50*$C57","v":11409.593027679024},11409.593027679024,11409.593027679024,11409.593027679024,11409.593027679024,11409.593027679024,11409.593027679024,11409.593027679024,11409.593027679024,11409.593027679024]
[{"$f":"'DNSP Inputs General'!A$44","v":"55W Ind"},null,0,null,{"$f":"IF('DNSP Inputs General'!$B44='DNSP Inputs General'!$A$41,E$48,IF('DNSP Inputs General'!$B44='DNSP Inputs General'!$A$42,E$49,E$50))*'DNSP Inputs General'!$D44*$C58","v":0},{"$f":"IF('DNSP Inputs General'!$B44='DNSP Inputs General'!$A$41,F$48,IF('DNSP Inputs General'!$B44='DNSP Inputs General'!$A$42,F$49,F$50))*'DNSP Inputs General'!$D44*$C58","v":0},{"$f":"IF('DNSP Inputs General'!$B44='DNSP Inputs General'!$A$41,G$48,IF('DNSP Inputs General'!$B44='DNSP Inputs General'!$A$42,G$49,G$50))*'DNSP Inputs General'!$D44*$C58","v":0},{"$f":"IF('DNSP Inputs General'!$B44='DNSP Inputs General'!$A$41,H$48,IF('DNSP Inputs General'!$B44='DNSP Inputs General'!$A$42,H$49,H$50))*'DNSP Inputs General'!$D44*$C58","v":0},{"$f":"IF('DNSP Inputs General'!$B44='DNSP Inputs General'!$A$41,I$48,IF('DNSP Inputs General'!$B44='DNSP Inputs General'!$A$42,I$49,I$50))*'DNSP Inputs General'!$D44*$C58","v":0},{"$f":"IF('DNSP Inputs General'!$B44='DNSP Inputs General'!$A$41,J$48,IF('DNSP Inputs General'!$B44='DNSP Inputs General'!$A$42,J$49,J$50))*'DNSP Inputs General'!$D44*$C58","v":0},{"$f":"IF('DNSP Inputs General'!$B44='DNSP Inputs General'!$A$41,K$48,IF('DNSP Inputs General'!$B44='DNSP Inputs General'!$A$42,K$49,K$50))*'DNSP Inputs General'!$D44*$C58","v":0},{"$f":"IF('DNSP Inputs General'!$B44='DNSP Inputs General'!$A$41,L$48,IF('DNSP Inputs General'!$B44='DNSP Inputs General'!$A$42,L$49,L$50))*'DNSP Inputs General'!$D44*$C58","v":0},{"$f":"IF('DNSP Inputs General'!$B44='DNSP Inputs General'!$A$41,M$48,IF('DNSP Inputs General'!$B44='DNSP Inputs General'!$A$42,M$49,M$50))*'DNSP Inputs General'!$D44*$C58","v":0},{"$f":"IF('DNSP Inputs General'!$B44='DNSP Inputs General'!$A$41,N$48,IF('DNSP Inputs General'!$B44='DNSP Inputs General'!$A$42,N$49,N$50))*'DNSP Inputs General'!$D44*$C58","v":0},{"$f":"IF('DNSP Inputs General'!$B44='DNSP Inputs General'!$A$41,O$48,IF('DNSP Inputs General'!$B44='DNSP Inputs General'!$A$42,O$49,O$50))*'DNSP Inputs General'!$D44*$C58","v":0},{"$f":"IF('DNSP Inputs General'!$B44='DNSP Inputs General'!$A$41,P$48,IF('DNSP Inputs General'!$B44='DNSP Inputs General'!$A$42,P$49,P$50))*'DNSP Inputs General'!$D44*$C58","v":0},{"$f":"IF('DNSP Inputs General'!$B44='DNSP Inputs General'!$A$41,Q$48,IF('DNSP Inputs General'!$B44='DNSP Inputs General'!$A$42,Q$49,Q$50))*'DNSP Inputs General'!$D44*$C58","v":0},{"$f":"IF('DNSP Inputs General'!$B44='DNSP Inputs General'!$A$41,R$48,IF('DNSP Inputs General'!$B44='DNSP Inputs General'!$A$42,R$49,R$50))*'DNSP Inputs General'!$D44*$C58","v":0},{"$f":"IF('DNSP Inputs General'!$B44='DNSP Inputs General'!$A$41,S$48,IF('DNSP Inputs General'!$B44='DNSP Inputs General'!$A$42,S$49,S$50))*'DNSP Inputs General'!$D44*$C58","v":0},{"$f":"IF('DNSP Inputs General'!$B44='DNSP Inputs General'!$A$41,T$48,IF('DNSP Inputs General'!$B44='DNSP Inputs General'!$A$42,T$49,T$50))*'DNSP Inputs General'!$D44*$C58","v":0},{"$f":"IF('DNSP Inputs General'!$B44='DNSP Inputs General'!$A$41,U$48,IF('DNSP Inputs General'!$B44='DNSP Inputs General'!$A$42,U$49,U$50))*'DNSP Inputs General'!$D44*$C58","v":0}]
[{"$f":"'DNSP Inputs General'!A$45","v":"Fluorescent 20 watt"},null,3,null,{"$f":"IF('DNSP Inputs General'!$B45='DNSP Inputs General'!$A$41,E$48,IF('DNSP Inputs General'!$B45='DNSP Inputs General'!$A$42,E$49,E$50))*'DNSP Inputs General'!$D45*$C59","v":147.49387155371093},{"$f":"IF('DNSP Inputs General'!$B45='DNSP Inputs General'!$A$41,F$48,IF('DNSP Inputs General'!$B45='DNSP Inputs General'!$A$42,F$49,F$50))*'DNSP Inputs General'!$D45*$C59","v":8.1941039752061613},{"$f":"IF('DNSP Inputs General'!$B45='DNSP Inputs General'!$A$41,G$48,IF('DNSP Inputs General'!$B45='DNSP Inputs General'!$A$42,G$49,G$50))*'DNSP Inputs General'!$D45*$C59","v":8.1941039752061613},{"$f":"IF('DNSP Inputs General'!$B45='DNSP Inputs General'!$A$41,H$48,IF('DNSP Inputs General'!$B45='DNSP Inputs General'!$A$42,H$49,H$50))*'DNSP Inputs General'!$D45*$C59","v":8.1941039752061613},{"$f":"IF('DNSP Inputs General'!$B45='DNSP Inputs General'!$A$41,I$48,IF('DNSP Inputs General'!$B45='DNSP Inputs General'!$A$42,I$49,I$50))*'DNSP Inputs General'!$D45*$C59","v":8.1941039752061613},{"$f":"IF('DNSP Inputs General'!$B45='DNSP Inputs General'!$A$41,J$48,IF('DNSP Inputs General'!$B45='DNSP Inputs General'!$A$42,J$49,J$50))*'DNSP Inputs General'!$D45*$C59","v":8.1941039752061613},{"$f":"IF('DNSP Inputs General'!$B45='DNSP Inputs General'!$A$41,K$48,IF('DNSP Inputs General'!$B45='DNSP Inputs General'!$A$42,K$49,K$50))*'DNSP Inputs General'!$D45*$C59","v":8.1941039752061613},{"$f":"IF('DNSP Inputs General'!$B45='DNSP Inputs General'!$A$41,L$48,IF('DNSP Inputs General'!$B45='DNSP Inputs General'!$A$42,L$49,L$50))*'DNSP Inputs General'!$D45*$C59","v":8.1941039752061613},{"$f":"IF('DNSP Inputs General'!$B45='DNSP Inputs General'!$A$41,M$48,IF('DNSP Inputs General'!$B45='DNSP Inputs General'!$A$42,M$49,M$50))*'DNSP Inputs General'!$D45*$C59","v":8.1941039752061613},{"$f":"IF('DNSP Inputs General'!$B45='DNSP Inputs General'!$A$41,N$48,IF('DNSP Inputs General'!$B45='DNSP Inputs General'!$A$42,N$49,N$50))*'DNSP Inputs General'!$D45*$C59","v":8.1941039752061613},{"$f":"IF('DNSP Inputs General'!$B45='DNSP Inputs General'!$A$41,O$48,IF('DNSP Inputs General'!$B45='DNSP Inputs General'!$A$42,O$49,O$50))*'DNSP Inputs General'!$D45*$C59","v":8.1941039752061613},{"$f":"IF('DNSP Inputs General'!$B45='DNSP Inputs General'!$A$41,P$48,IF('DNSP Inputs General'!$B45='DNSP Inputs General'!$A$42,P$49,P$50))*'DNSP Inputs General'!$D45*$C59","v":8.1941039752061613},{"$f":"IF('DNSP Inputs General'!$B45='DNSP Inputs General'!$A$41,Q$48,IF('DNSP Inputs General'!$B45='DNSP Inputs General'!$A$42,Q$49,Q$50))*'DNSP Inputs General'!$D45*$C59","v":8.1941039752061613},{"$f":"IF('DNSP Inputs General'!$B45='DNSP Inputs General'!$A$41,R$48,IF('DNSP Inputs General'!$B45='DNSP Inputs General'!$A$42,R$49,R$50))*'DNSP Inputs General'!$D45*$C59","v":8.1941039752061613},{"$f":"IF('DNSP Inputs General'!$B45='DNSP Inputs General'!$A$41,S$48,IF('DNSP Inputs General'!$B45='DNSP Inputs General'!$A$42,S$49,S$50))*'DNSP Inputs General'!$D45*$C59","v":8.1941039752061613},{"$f":"IF('DNSP Inputs General'!$B45='DNSP Inputs General'!$A$41,T$48,IF('DNSP Inputs General'!$B45='DNSP Inputs General'!$A$42,T$49,T$50))*'DNSP Inputs General'!$D45*$C59","v":8.1941039752061613},{"$f":"IF('DNSP Inputs General'!$B45='DNSP Inputs General'!$A$41,U$48,IF('DNSP Inputs General'!$B45='DNSP Inputs General'!$A$42,U$49,U$50))*'DNSP Inputs General'!$D45*$C59","v":8.1941039752061613}]
[{"$f":"'DNSP Inputs General'!A$46","v":"Fluorescent 40 watt"},null,230,null,{"$f":"IF('DNSP Inputs General'!$B46='DNSP Inputs General'!$A$41,E$48,IF('DNSP Inputs General'!$B46='DNSP Inputs General'!$A$42,E$49,E$50))*'DNSP Inputs General'!$D46*$C60","v":11307.863485784505},{"$f":"IF('DNSP Inputs General'!$B46='DNSP Inputs General'!$A$41,F$48,IF('DNSP Inputs General'!$B46='DNSP Inputs General'!$A$42,F$49,F$50))*'DNSP Inputs General'!$D46*$C60","v":628.21463809913905},{"$f":"IF('DNSP Inputs General'!$B46='DNSP Inputs General'!$A$41,G$48,IF('DNSP Inputs General'!$B46='DNSP Inputs General'!$A$42,G$49,G$50))*'DNSP Inputs General'!$D46*$C60","v":628.21463809913905},{"$f":"IF('DNSP Inputs General'!$B46='DNSP Inputs General'!$A$41,H$48,IF('DNSP Inputs General'!$B46='DNSP Inputs General'!$A$42,H$49,H$50))*'DNSP Inputs General'!$D46*$C60","v":628.21463809913905},{"$f":"IF('DNSP Inputs General'!$B46='DNSP Inputs General'!$A$41,I$48,IF('DNSP Inputs General'!$B46='DNSP Inputs General'!$A$42,I$49,I$50))*'DNSP Inputs General'!$D46*$C60","v":628.21463809913905},{"$f":"IF('DNSP Inputs General'!$B46='DNSP Inputs General'!$A$41,J$48,IF('DNSP Inputs General'!$B46='DNSP Inputs General'!$A$42,J$49,J$50))*'DNSP Inputs General'!$D46*$C60","v":628.21463809913905},{"$f":"IF('DNSP Inputs General'!$B46='DNSP Inputs General'!$A$41,K$48,IF('DNSP Inputs General'!$B46='DNSP Inputs General'!$A$42,K$49,K$50))*'DNSP Inputs General'!$D46*$C60","v":628.21463809913905},{"$f":"IF('DNSP Inputs General'!$B46='DNSP Inputs General'!$A$41,L$48,IF('DNSP Inputs General'!$B46='DNSP Inputs General'!$A$42,L$49,L$50))*'DNSP Inputs General'!$D46*$C60","v":628.21463809913905},{"$f":"IF('DNSP Inputs General'!$B46='DNSP Inputs General'!$A$41,M$48,IF('DNSP Inputs General'!$B46='DNSP Inputs General'!$A$42,M$49,M$50))*'DNSP Inputs General'!$D46*$C60","v":628.21463809913905},{"$f":"IF('DNSP Inputs General'!$B46='DNSP Inputs General'!$A$41,N$48,IF('DNSP Inputs General'!$B46='DNSP Inputs General'!$A$42,N$49,N$50))*'DNSP Inputs General'!$D46*$C60","v":628.21463809913905},{"$f":"IF('DNSP Inputs General'!$B46='DNSP Inputs General'!$A$41,O$48,IF('DNSP Inputs General'!$B46='DNSP Inputs General'!$A$42,O$49,O$50))*'DNSP Inputs General'!$D46*$C60","v":628.21463809913905},{"$f":"IF('DNSP Inputs General'!$B46='DNSP Inputs General'!$A$41,P$48,IF('DNSP Inputs General'!$B46='DNSP Inputs General'!$A$42,P$49,P$50))*'DNSP Inputs General'!$D46*$C60","v":628.21463809913905},{"$f":"IF('DNSP Inputs General'!$B46='DNSP Inputs General'!$A$41,Q$48,IF('DNSP Inputs General'!$B46='DNSP Inputs General'!$A$42,Q$49,Q$50))*'DNSP Inputs General'!$D46*$C60","v":628.21463809913905},{"$f":"IF('DNSP Inputs General'!$B46='DNSP Inputs General'!$A$41,R$48,IF('DNSP Inputs General'!$B46='DNSP Inputs General'!$A$42,R$49,R$50))*'DNSP Inputs General'!$D46*$C60","v":628.21463809913905},{"$f":"IF('DNSP Inputs General'!$B46='DNSP Inputs General'!$A$41,S$48,IF('DNSP Inputs General'!$B46='DNSP Inputs General'!$A$42,S$49,S$50))*'DNSP Inputs General'!$D46*$C60","v":628.21463809913905},{"$f":"IF('DNSP Inputs General'!$B46='DNSP Inputs General'!$A$41,T$48,IF('DNSP Inputs General'!$B46='DNSP Inputs General'!$A$42,T$49,T$50))*'DNSP Inputs General'!$D46*$C60","v":628.21463809913905},{"$f":"IF('DNSP Inputs General'!$B46='DNSP Inputs General'!$A$41,U$48,IF('DNSP Inputs General'!$B46='DNSP Inputs General'!$A$42,U$49,U$50))*'DNSP Inputs General'!$D46*$C60","v":628.21463809913905}]
[{"$f":"'DNSP Inputs General'!A$47","v":"Fluorescent 80 watt"},null,8,null,{"$f":"IF('DNSP Inputs General'!$B47='DNSP Inputs General'!$A$41,E$48,IF('DNSP Inputs General'!$B47='DNSP Inputs General'!$A$42,E$49,E$50))*'DNSP Inputs General'!$D47*$C61","v":393.3169908098958},{"$f":"IF('DNSP Inputs General'!$B47='DNSP Inputs General'!$A$41,F$48,IF('DNSP Inputs General'!$B47='DNSP Inputs General'!$A$42,F$49,F$50))*'DNSP Inputs General'!$D47*$C61","v":21.850943933883098},{"$f":"IF('DNSP Inputs General'!$B47='DNSP Inputs General'!$A$41,G$48,IF('DNSP Inputs General'!$B47='DNSP Inputs General'!$A$42,G$49,G$50))*'DNSP Inputs General'!$D47*$C61","v":21.850943933883098},{"$f":"IF('DNSP Inputs General'!$B47='DNSP Inputs General'!$A$41,H$48,IF('DNSP Inputs General'!$B47='DNSP Inputs General'!$A$42,H$49,H$50))*'DNSP Inputs General'!$D47*$C61","v":21.850943933883098},{"$f":"IF('DNSP Inputs General'!$B47='DNSP Inputs General'!$A$41,I$48,IF('DNSP Inputs General'!$B47='DNSP Inputs General'!$A$42,I$49,I$50))*'DNSP Inputs General'!$D47*$C61","v":21.850943933883098},{"$f":"IF('DNSP Inputs General'!$B47='DNSP Inputs General'!$A$41,J$48,IF('DNSP Inputs General'!$B47='DNSP Inputs General'!$A$42,J$49,J$50))*'DNSP Inputs General'!$D47*$C61","v":21.850943933883098},{"$f":"IF('DNSP Inputs General'!$B47='DNSP Inputs General'!$A$41,K$48,IF('DNSP Inputs General'!$B47='DNSP Inputs General'!$A$42,K$49,K$50))*'DNSP Inputs General'!$D47*$C61","v":21.850943933883098},{"$f":"IF('DNSP Inputs General'!$B47='DNSP Inputs General'!$A$41,L$48,IF('DNSP Inputs General'!$B47='DNSP Inputs General'!$A$42,L$49,L$50))*'DNSP Inputs General'!$D47*$C61","v":21.850943933883098},{"$f":"IF('DNSP Inputs General'!$B47='DNSP Inputs General'!$A$41,M$48,IF('DNSP Inputs General'!$B47='DNSP Inputs General'!$A$42,M$49,M$50))*'DNSP Inputs General'!$D47*$C61","v":21.850943933883098},{"$f":"IF('DNSP Inputs General'!$B47='DNSP Inputs General'!$A$41,N$48,IF('DNSP Inputs General'!$B47='DNSP Inputs General'!$A$42,N$49,N$50))*'DNSP Inputs General'!$D47*$C61","v":21.850943933883098},{"$f":"IF('DNSP Inputs General'!$B47='DNSP Inputs General'!$A$41,O$48,IF('DNSP Inputs General'!$B47='DNSP Inputs General'!$A$42,O$49,O$50))*'DNSP Inputs General'!$D47*$C61","v":21.850943933883098},{"$f":"IF('DNSP Inputs General'!$B47='DNSP Inputs General'!$A$41,P$48,IF('DNSP Inputs General'!$B47='DNSP Inputs General'!$A$42,P$49,P$50))*'DNSP Inputs General'!$D47*$C61","v":21.850943933883098},{"$f":"IF('DNSP Inputs General'!$B47='DNSP Inputs General'!$A$41,Q$48,IF('DNSP Inputs General'!$B47='DNSP Inputs General'!$A$42,Q$49,Q$50))*'DNSP Inputs General'!$D47*$C61","v":21.850943933883098},{"$f":"IF('DNSP Inputs General'!$B47='DNSP Inputs General'!$A$41,R$48,IF('DNSP Inputs General'!$B47='DNSP Inputs General'!$A$42,R$49,R$50))*'DNSP Inputs General'!$D47*$C61","v":21.850943933883098},{"$f":"IF('DNSP Inputs General'!$B47='DNSP Inputs General'!$A$41,S$48,IF('DNSP Inputs General'!$B47='DNSP Inputs General'!$A$42,S$49,S$50))*'DNSP Inputs General'!$D47*$C61","v":21.850943933883098},{"$f":"IF('DNSP Inputs General'!$B47='DNSP Inputs General'!$A$41,T$48,IF('DNSP Inputs General'!$B47='DNSP Inputs General'!$A$42,T$49,T$50))*'DNSP Inputs General'!$D47*$C61","v":21.850943933883098},{"$f":"IF('DNSP Inputs General'!$B47='DNSP Inputs General'!$A$41,U$48,IF('DNSP Inputs General'!$B47='DNSP Inputs General'!$A$42,U$49,U$50))*'DNSP Inputs General'!$D47*$C61","v":21.850943933883098}]
[{"$f":"'DNSP Inputs General'!A$48","v":"Mercury Vapour 50 watt"},null,87,null,{"$f":"IF('DNSP Inputs General'!$B48='DNSP Inputs General'!$A$41,E$48,IF('DNSP Inputs General'!$B48='DNSP Inputs General'!$A$42,E$49,E$50))*'DNSP Inputs General'!$D48*$C62","v":4277.3222750576169},{"$f":"IF('DNSP Inputs General'!$B48='DNSP Inputs General'!$A$41,F$48,IF('DNSP Inputs General'!$B48='DNSP Inputs General'!$A$42,F$49,F$50))*'DNSP Inputs General'!$D48*$C62","v":237.62901528097868},{"$f":"IF('DNSP Inputs General'!$B48='DNSP Inputs General'!$A$41,G$48,IF('DNSP Inputs General'!$B48='DNSP Inputs General'!$A$42,G$49,G$50))*'DNSP Inputs General'!$D48*$C62","v":237.62901528097868},{"$f":"IF('DNSP Inputs General'!$B48='DNSP Inputs General'!$A$41,H$48,IF('DNSP Inputs General'!$B48='DNSP Inputs General'!$A$42,H$49,H$50))*'DNSP Inputs General'!$D48*$C62","v":237.62901528097868},{"$f":"IF('DNSP Inputs General'!$B48='DNSP Inputs General'!$A$41,I$48,IF('DNSP Inputs General'!$B48='DNSP Inputs General'!$A$42,I$49,I$50))*'DNSP Inputs General'!$D48*$C62","v":237.62901528097868},{"$f":"IF('DNSP Inputs General'!$B48='DNSP Inputs General'!$A$41,J$48,IF('DNSP Inputs General'!$B48='DNSP Inputs General'!$A$42,J$49,J$50))*'DNSP Inputs General'!$D48*$C62","v":237.62901528097868},{"$f":"IF('DNSP Inputs General'!$B48='DNSP Inputs General'!$A$41,K$48,IF('DNSP Inputs General'!$B48='DNSP Inputs General'!$A$42,K$49,K$50))*'DNSP Inputs General'!$D48*$C62","v":237.62901528097868},{"$f":"IF('DNSP Inputs General'!$B48='DNSP Inputs General'!$A$41,L$48,IF('DNSP Inputs General'!$B48='DNSP Inputs General'!$A$42,L$49,L$50))*'DNSP Inputs General'!$D48*$C62","v":237.62901528097868},{"$f":"IF('DNSP Inputs General'!$B48='DNSP Inputs General'!$A$41,M$48,IF('DNSP Inputs General'!$B48='DNSP Inputs General'!$A$42,M$49,M$50))*'DNSP Inputs General'!$D48*$C62","v":237.62901528097868},{"$f":"IF('DNSP Inputs General'!$B48='DNSP Inputs General'!$A$41,N$48,IF('DNSP Inputs General'!$B48='DNSP Inputs General'!$A$42,N$49,N$50))*'DNSP Inputs General'!$D48*$C62","v":237.62901528097868},{"$f":"IF('DNSP Inputs General'!$B48='DNSP Inputs General'!$A$41,O$48,IF('DNSP Inputs General'!$B48='DNSP Inputs General'!$A$42,O$49,O$50))*'DNSP Inputs General'!$D48*$C62","v":237.62901528097868},{"$f":"IF('DNSP Inputs General'!$B48='DNSP Inputs General'!$A$41,P$48,IF('DNSP Inputs General'!$B48='DNSP Inputs General'!$A$42,P$49,P$50))*'DNSP Inputs General'!$D48*$C62","v":237.62901528097868},{"$f":"IF('DNSP Inputs General'!$B48='DNSP Inputs General'!$A$41,Q$48,IF('DNSP Inputs General'!$B48='DNSP Inputs General'!$A$42,Q$49,Q$50))*'DNSP Inputs General'!$D48*$C62","v":237.62901528097868},{"$f":"IF('DNSP Inputs General'!$B48='DNSP Inputs General'!$A$41,R$48,IF('DNSP Inputs General'!$B48='DNSP Inputs General'!$A$42,R$49,R$50))*'DNSP Inputs General'!$D48*$C62","v":237.62901528097868},{"$f":"IF('DNSP Inputs General'!$B48='DNSP Inputs General'!$A$41,S$48,IF('DNSP Inputs General'!$B48='DNSP Inputs General'!$A$42,S$49,S$50))*'DNSP Inputs General'!$D48*$C62","v":237.62901528097868},{"$f":"IF('DNSP Inputs General'!$B48='DNSP Inputs General'!$A$41,T$48,IF('DNSP Inputs General'!$B48='DNSP Inputs General'!$A$42,T$49,T$50))*'DNSP Inputs General'!$D48*$C62","v":237.62901528097868},{"$f":"IF('DNSP Inputs General'!$B48='DNSP Inputs General'!$A$41,U$48,IF('DNSP Inputs General'!$B48='DNSP Inputs General'!$A$42,U$49,U$50))*'DNSP Inputs General'!$D48*$C62","v":237.62901528097868}]
[{"$f":"'DNSP Inputs General'!A$49","v":"Mercury Vapour 125 watt"},null,439,null,{"$f":"IF('DNSP Inputs General'!$B49='DNSP Inputs General'!$A$41,E$48,IF('DNSP Inputs General'!$B49='DNSP Inputs General'!$A$42,E$49,E$50))*'DNSP Inputs General'!$D49*$C63","v":25381.925367935004},{"$f":"IF('DNSP Inputs General'!$B49='DNSP Inputs General'!$A$41,F$48,IF('DNSP Inputs General'!$B49='DNSP Inputs General'!$A$42,F$49,F$50))*'DNSP Inputs General'!$D49*$C63","v":1410.1069648852781},{"$f":"IF('DNSP Inputs General'!$B49='DNSP Inputs General'!$A$41,G$48,IF('DNSP Inputs General'!$B49='DNSP Inputs General'!$A$42,G$49,G$50))*'DNSP Inputs General'!$D49*$C63","v":1410.1069648852781},{"$f":"IF('DNSP Inputs General'!$B49='DNSP Inputs General'!$A$41,H$48,IF('DNSP Inputs General'!$B49='DNSP Inputs General'!$A$42,H$49,H$50))*'DNSP Inputs General'!$D49*$C63","v":1410.1069648852781},{"$f":"IF('DNSP Inputs General'!$B49='DNSP Inputs General'!$A$41,I$48,IF('DNSP Inputs General'!$B49='DNSP Inputs General'!$A$42,I$49,I$50))*'DNSP Inputs General'!$D49*$C63","v":1410.1069648852781},{"$f":"IF('DNSP Inputs General'!$B49='DNSP Inputs General'!$A$41,J$48,IF('DNSP Inputs General'!$B49='DNSP Inputs General'!$A$42,J$49,J$50))*'DNSP Inputs General'!$D49*$C63","v":1410.1069648852781},{"$f":"IF('DNSP Inputs General'!$B49='DNSP Inputs General'!$A$41,K$48,IF('DNSP Inputs General'!$B49='DNSP Inputs General'!$A$42,K$49,K$50))*'DNSP Inputs General'!$D49*$C63","v":1410.1069648852781},{"$f":"IF('DNSP Inputs General'!$B49='DNSP Inputs General'!$A$41,L$48,IF('DNSP Inputs General'!$B49='DNSP Inputs General'!$A$42,L$49,L$50))*'DNSP Inputs General'!$D49*$C63","v":1410.1069648852781},{"$f":"IF('DNSP Inputs General'!$B49='DNSP Inputs General'!$A$41,M$48,IF('DNSP Inputs General'!$B49='DNSP Inputs General'!$A$42,M$49,M$50))*'DNSP Inputs General'!$D49*$C63","v":1410.1069648852781},{"$f":"IF('DNSP Inputs General'!$B49='DNSP Inputs General'!$A$41,N$48,IF('DNSP Inputs General'!$B49='DNSP Inputs General'!$A$42,N$49,N$50))*'DNSP Inputs General'!$D49*$C63","v":1410.1069648852781},{"$f":"IF('DNSP Inputs General'!$B49='DNSP Inputs General'!$A$41,O$48,IF('DNSP Inputs General'!$B49='DNSP Inputs General'!$A$42,O$49,O$50))*'DNSP Inputs General'!$D49*$C63","v":1410.1069648852781},{"$f":"IF('DNSP Inputs General'!$B49='DNSP Inputs General'!$A$41,P$48,IF('DNSP Inputs General'!$B49='DNSP Inputs General'!$A$42,P$49,P$50))*'DNSP Inputs General'!$D49*$C63","v":1410.1069648852781},{"$f":"IF('DNSP Inputs General'!$B49='DNSP Inputs General'!$A$41,Q$48,IF('DNSP Inputs General'!$B49='DNSP Inputs General'!$A$42,Q$49,Q$50))*'DNSP Inputs General'!$D49*$C63","v":1410.1069648852781},{"$f":"IF('DNSP Inputs General'!$B49='DNSP Inputs General'!$A$41,R$48,IF('DNSP Inputs General'!$B49='DNSP Inputs General'!$A$42,R$49,R$50))*'DNSP Inputs General'!$D49*$C63","v":1410.1069648852781},{"$f":"IF('DNSP Inputs General'!$B49='DNSP Inputs General'!$A$41,S$48,IF('DNSP Inputs General'!$B49='DNSP Inputs General'!$A$42,S$49,S$50))*'DNSP Inputs General'!$D49*$C63","v":1410.1069648852781},{"$f":"IF('DNSP Inputs General'!$B49='DNSP Inputs General'!$A$41,T$48,IF('DNSP Inputs General'!$B49='DNSP Inputs General'!$A$42,T$49,T$50))*'DNSP Inputs General'!$D49*$C63","v":1410.1069648852781},{"$f":"IF('DNSP Inputs General'!$B49='DNSP Inputs General'!$A$41,U$48,IF('DNSP Inputs General'!$B49='DNSP Inputs General'!$A$42,U$49,U$50))*'DNSP Inputs General'!$D49*$C63","v":1410.1069648852781}]
[{"$f":"'DNSP Inputs General'!A$50","v":"Mercury Vapour 250 watt"},null,199,null,{"$f":"IF('DNSP Inputs General'!$B50='DNSP Inputs General'!$A$41,E$48,IF('DNSP Inputs General'!$B50='DNSP Inputs General'!$A$42,E$49,E$50))*'DNSP Inputs General'!$D50*$C64","v":9359.3501278960903},{"$f":"IF('DNSP Inputs General'!$B50='DNSP Inputs General'!$A$41,F$48,IF('DNSP Inputs General'!$B50='DNSP Inputs General'!$A$42,F$49,F$50))*'DNSP Inputs General'!$D50*$C64","v":519.9638959942273},{"$f":"IF('DNSP Inputs General'!$B50='DNSP Inputs General'!$A$41,G$48,IF('DNSP Inputs General'!$B50='DNSP Inputs General'!$A$42,G$49,G$50))*'DNSP Inputs General'!$D50*$C64","v":519.9638959942273},{"$f":"IF('DNSP Inputs General'!$B50='DNSP Inputs General'!$A$41,H$48,IF('DNSP Inputs General'!$B50='DNSP Inputs General'!$A$42,H$49,H$50))*'DNSP Inputs General'!$D50*$C64","v":519.9638959942273},{"$f":"IF('DNSP Inputs General'!$B50='DNSP Inputs General'!$A$41,I$48,IF('DNSP Inputs General'!$B50='DNSP Inputs General'!$A$42,I$49,I$50))*'DNSP Inputs General'!$D50*$C64","v":519.9638959942273},{"$f":"IF('DNSP Inputs General'!$B50='DNSP Inputs General'!$A$41,J$48,IF('DNSP Inputs General'!$B50='DNSP Inputs General'!$A$42,J$49,J$50))*'DNSP Inputs General'!$D50*$C64","v":519.9638959942273},{"$f":"IF('DNSP Inputs General'!$B50='DNSP Inputs General'!$A$41,K$48,IF('DNSP Inputs General'!$B50='DNSP Inputs General'!$A$42,K$49,K$50))*'DNSP Inputs General'!$D50*$C64","v":519.9638959942273},{"$f":"IF('DNSP Inputs General'!$B50='DNSP Inputs General'!$A$41,L$48,IF('DNSP Inputs General'!$B50='DNSP Inputs General'!$A$42,L$49,L$50))*'DNSP Inputs General'!$D50*$C64","v":519.9638959942273},{"$f":"IF('DNSP Inputs General'!$B50='DNSP Inputs General'!$A$41,M$48,IF('DNSP Inputs General'!$B50='DNSP Inputs General'!$A$42,M$49,M$50))*'DNSP Inputs General'!$D50*$C64","v":519.9638959942273},{"$f":"IF('DNSP Inputs General'!$B50='DNSP Inputs General'!$A$41,N$48,IF('DNSP Inputs General'!$B50='DNSP Inputs General'!$A$42,N$49,N$50))*'DNSP Inputs General'!$D50*$C64","v":519.9638959942273},{"$f":"IF('DNSP Inputs General'!$B50='DNSP Inputs General'!$A$41,O$48,IF('DNSP Inputs General'!$B50='DNSP Inputs General'!$A$42,O$49,O$50))*'DNSP Inputs General'!$D50*$C64","v":519.9638959942273},{"$f":"IF('DNSP Inputs General'!$B50='DNSP Inputs General'!$A$41,P$48,IF('DNSP Inputs General'!$B50='DNSP Inputs General'!$A$42,P$49,P$50))*'DNSP Inputs General'!$D50*$C64","v":519.9638959942273},{"$f":"IF('DNSP Inputs General'!$B50='DNSP Inputs General'!$A$41,Q$48,IF('DNSP Inputs General'!$B50='DNSP Inputs General'!$A$42,Q$49,Q$50))*'DNSP Inputs General'!$D50*$C64","v":519.9638959942273},{"$f":"IF('DNSP Inputs General'!$B50='DNSP Inputs General'!$A$41,R$48,IF('DNSP Inputs General'!$B50='DNSP Inputs General'!$A$42,R$49,R$50))*'DNSP Inputs General'!$D50*$C64","v":519.9638959942273},{"$f":"IF('DNSP Inputs General'!$B50='DNSP Inputs General'!$A$41,S$48,IF('DNSP Inputs General'!$B50='DNSP Inputs General'!$A$42,S$49,S$50))*'DNSP Inputs General'!$D50*$C64","v":519.9638959942273},{"$f":"IF('DNSP Inputs General'!$B50='DNSP Inputs General'!$A$41,T$48,IF('DNSP Inputs General'!$B50='DNSP Inputs General'!$A$42,T$49,T$50))*'DNSP Inputs General'!$D50*$C64","v":519.9638959942273},{"$f":"IF('DNSP Inputs General'!$B50='DNSP Inputs General'!$A$41,U$48,IF('DNSP Inputs General'!$B50='DNSP Inputs General'!$A$42,U$49,U$50))*'DNSP Inputs General'!$D50*$C64","v":519.9638959942273}]
[{"$f":"'DNSP Inputs General'!A$51","v":"Mercury Vapour 400 watt"},null,184,null,{"$f":"IF('DNSP Inputs General'!$B51='DNSP Inputs General'!$A$41,E$48,IF('DNSP Inputs General'!$B51='DNSP Inputs General'!$A$42,E$49,E$50))*'DNSP Inputs General'!$D51*$C65","v":9735.6054094195533},{"$f":"IF('DNSP Inputs General'!$B51='DNSP Inputs General'!$A$41,F$48,IF('DNSP Inputs General'!$B51='DNSP Inputs General'!$A$42,F$49,F$50))*'DNSP Inputs General'!$D51*$C65","v":540.86696718997518},{"$f":"IF('DNSP Inputs General'!$B51='DNSP Inputs General'!$A$41,G$48,IF('DNSP Inputs General'!$B51='DNSP Inputs General'!$A$42,G$49,G$50))*'DNSP Inputs General'!$D51*$C65","v":540.86696718997518},{"$f":"IF('DNSP Inputs General'!$B51='DNSP Inputs General'!$A$41,H$48,IF('DNSP Inputs General'!$B51='DNSP Inputs General'!$A$42,H$49,H$50))*'DNSP Inputs General'!$D51*$C65","v":540.86696718997518},{"$f":"IF('DNSP Inputs General'!$B51='DNSP Inputs General'!$A$41,I$48,IF('DNSP Inputs General'!$B51='DNSP Inputs General'!$A$42,I$49,I$50))*'DNSP Inputs General'!$D51*$C65","v":540.86696718997518},{"$f":"IF('DNSP Inputs General'!$B51='DNSP Inputs General'!$A$41,J$48,IF('DNSP Inputs General'!$B51='DNSP Inputs General'!$A$42,J$49,J$50))*'DNSP Inputs General'!$D51*$C65","v":540.86696718997518},{"$f":"IF('DNSP Inputs General'!$B51='DNSP Inputs General'!$A$41,K$48,IF('DNSP Inputs General'!$B51='DNSP Inputs General'!$A$42,K$49,K$50))*'DNSP Inputs General'!$D51*$C65","v":540.86696718997518},{"$f":"IF('DNSP Inputs General'!$B51='DNSP Inputs General'!$A$41,L$48,IF('DNSP Inputs General'!$B51='DNSP Inputs General'!$A$42,L$49,L$50))*'DNSP Inputs General'!$D51*$C65","v":540.86696718997518},{"$f":"IF('DNSP Inputs General'!$B51='DNSP Inputs General'!$A$41,M$48,IF('DNSP Inputs General'!$B51='DNSP Inputs General'!$A$42,M$49,M$50))*'DNSP Inputs General'!$D51*$C65","v":540.86696718997518},{"$f":"IF('DNSP Inputs General'!$B51='DNSP Inputs General'!$A$41,N$48,IF('DNSP Inputs General'!$B51='DNSP Inputs General'!$A$42,N$49,N$50))*'DNSP Inputs General'!$D51*$C65","v":540.86696718997518},{"$f":"IF('DNSP Inputs General'!$B51='DNSP Inputs General'!$A$41,O$48,IF('DNSP Inputs General'!$B51='DNSP Inputs General'!$A$42,O$49,O$50))*'DNSP Inputs General'!$D51*$C65","v":540.86696718997518},{"$f":"IF('DNSP Inputs General'!$B51='DNSP Inputs General'!$A$41,P$48,IF('DNSP Inputs General'!$B51='DNSP Inputs General'!$A$42,P$49,P$50))*'DNSP Inputs General'!$D51*$C65","v":540.86696718997518},{"$f":"IF('DNSP Inputs General'!$B51='DNSP Inputs General'!$A$41,Q$48,IF('DNSP Inputs General'!$B51='DNSP Inputs General'!$A$42,Q$49,Q$50))*'DNSP Inputs General'!$D51*$C65","v":540.86696718997518},{"$f":"IF('DNSP Inputs General'!$B51='DNSP Inputs General'!$A$41,R$48,IF('DNSP Inputs General'!$B51='DNSP Inputs General'!$A$42,R$49,R$50))*'DNSP Inputs General'!$D51*$C65","v":540.86696718997518},{"$f":"IF('DNSP Inputs General'!$B51='DNSP Inputs General'!$A$41,S$48,IF('DNSP Inputs General'!$B51='DNSP Inputs General'!$A$42,S$49,S$50))*'DNSP Inputs General'!$D51*$C65","v":540.86696718997518},{"$f":"IF('DNSP Inputs General'!$B51='DNSP Inputs General'!$A$41,T$48,IF('DNSP Inputs General'!$B51='DNSP Inputs General'!$A$42,T$49,T$50))*'DNSP Inputs General'!$D51*$C65","v":540.86696718997518},{"$f":"IF('DNSP Inputs General'!$B51='DNSP Inputs General'!$A$41,U$48,IF('DNSP Inputs General'!$B51='DNSP Inputs General'!$A$42,U$49,U$50))*'DNSP Inputs General'!$D51*$C65","v":540.86696718997518}]
[{"$f":"'DNSP Inputs General'!A$52","v":"Sodium High Pressure 50 watt"},null,0,null,{"$f":"IF('DNSP Inputs General'!$B52='DNSP Inputs General'!$A$41,E$48,IF('DNSP Inputs General'!$B52='DNSP Inputs General'!$A$42,E$49,E$50))*'DNSP Inputs General'!$D52*$C66","v":0},{"$f":"IF('DNSP Inputs General'!$B52='DNSP Inputs General'!$A$41,F$48,IF('DNSP Inputs General'!$B52='DNSP Inputs General'!$A$42,F$49,F$50))*'DNSP Inputs General'!$D52*$C66","v":0},{"$f":"IF('DNSP Inputs General'!$B52='DNSP Inputs General'!$A$41,G$48,IF('DNSP Inputs General'!$B52='DNSP Inputs General'!$A$42,G$49,G$50))*'DNSP Inputs General'!$D52*$C66","v":0},{"$f":"IF('DNSP Inputs General'!$B52='DNSP Inputs General'!$A$41,H$48,IF('DNSP Inputs General'!$B52='DNSP Inputs General'!$A$42,H$49,H$50))*'DNSP Inputs General'!$D52*$C66","v":0},{"$f":"IF('DNSP Inputs General'!$B52='DNSP Inputs General'!$A$41,I$48,IF('DNSP Inputs General'!$B52='DNSP Inputs General'!$A$42,I$49,I$50))*'DNSP Inputs General'!$D52*$C66","v":0},{"$f":"IF('DNSP Inputs General'!$B52='DNSP Inputs General'!$A$41,J$48,IF('DNSP Inputs General'!$B52='DNSP Inputs General'!$A$42,J$49,J$50))*'DNSP Inputs General'!$D52*$C66","v":0},{"$f":"IF('DNSP Inputs General'!$B52='DNSP Inputs General'!$A$41,K$48,IF('DNSP Inputs General'!$B52='DNSP Inputs General'!$A$42,K$49,K$50))*'DNSP Inputs General'!$D52*$C66","v":0},{"$f":"IF('DNSP Inputs General'!$B52='DNSP Inputs General'!$A$41,L$48,IF('DNSP Inputs General'!$B52='DNSP Inputs General'!$A$42,L$49,L$50))*'DNSP Inputs General'!$D52*$C66","v":0},{"$f":"IF('DNSP Inputs General'!$B52='DNSP Inputs General'!$A$41,M$48,IF('DNSP Inputs General'!$B52='DNSP Inputs General'!$A$42,M$49,M$50))*'DNSP Inputs General'!$D52*$C66","v":0},{"$f":"IF('DNSP Inputs General'!$B52='DNSP Inputs General'!$A$41,N$48,IF('DNSP Inputs General'!$B52='DNSP Inputs General'!$A$42,N$49,N$50))*'DNSP Inputs General'!$D52*$C66","v":0},{"$f":"IF('DNSP Inputs General'!$B52='DNSP Inputs General'!$A$41,O$48,IF('DNSP Inputs General'!$B52='DNSP Inputs General'!$A$42,O$49,O$50))*'DNSP Inputs General'!$D52*$C66","v":0},{"$f":"IF('DNSP Inputs General'!$B52='DNSP Inputs General'!$A$41,P$48,IF('DNSP Inputs General'!$B52='DNSP Inputs General'!$A$42,P$49,P$50))*'DNSP Inputs General'!$D52*$C66","v":0},{"$f":"IF('DNSP Inputs General'!$B52='DNSP Inputs General'!$A$41,Q$48,IF('DNSP Inputs General'!$B52='DNSP Inputs General'!$A$42,Q$49,Q$50))*'DNSP Inputs General'!$D52*$C66","v":0},{"$f":"IF('DNSP Inputs General'!$B52='DNSP Inputs General'!$A$41,R$48,IF('DNSP Inputs General'!$B52='DNSP Inputs General'!$A$42,R$49,R$50))*'DNSP Inputs General'!$D52*$C66","v":0},{"$f":"IF('DNSP Inputs General'!$B52='DNSP Inputs General'!$A$41,S$48,IF('DNSP Inputs General'!$B52='DNSP Inputs General'!$A$42,S$49,S$50))*'DNSP Inputs General'!$D52*$C66","v":0},{"$f":"IF('DNSP Inputs General'!$B52='DNSP Inputs General'!$A$41,T$48,IF('DNSP Inputs General'!$B52='DNSP Inputs General'!$A$42,T$49,T$50))*'DNSP Inputs General'!$D52*$C66","v":0},{"$f":"IF('DNSP Inputs General'!$B52='DNSP Inputs General'!$A$41,U$48,IF('DNSP Inputs General'!$B52='DNSP Inputs General'!$A$42,U$49,U$50))*'DNSP Inputs General'!$D52*$C66","v":0}]
[{"$f":"'DNSP Inputs General'!A$53","v":"Sodium Low Pressure 90 watt"},null,10,null,{"$f":"IF('DNSP Inputs General'!$B53='DNSP Inputs General'!$A$41,E$48,IF('DNSP Inputs General'!$B53='DNSP Inputs General'!$A$42,E$49,E$50))*'DNSP Inputs General'!$D53*$C67","v":489.19939942317228},{"$f":"IF('DNSP Inputs General'!$B53='DNSP Inputs General'!$A$41,F$48,IF('DNSP Inputs General'!$B53='DNSP Inputs General'!$A$42,F$49,F$50))*'DNSP Inputs General'!$D53*$C67","v":27.177744412398464},{"$f":"IF('DNSP Inputs General'!$B53='DNSP Inputs General'!$A$41,G$48,IF('DNSP Inputs General'!$B53='DNSP Inputs General'!$A$42,G$49,G$50))*'DNSP Inputs General'!$D53*$C67","v":27.177744412398464},{"$f":"IF('DNSP Inputs General'!$B53='DNSP Inputs General'!$A$41,H$48,IF('DNSP Inputs General'!$B53='DNSP Inputs General'!$A$42,H$49,H$50))*'DNSP Inputs General'!$D53*$C67","v":27.177744412398464},{"$f":"IF('DNSP Inputs General'!$B53='DNSP Inputs General'!$A$41,I$48,IF('DNSP Inputs General'!$B53='DNSP Inputs General'!$A$42,I$49,I$50))*'DNSP Inputs General'!$D53*$C67","v":27.177744412398464},{"$f":"IF('DNSP Inputs General'!$B53='DNSP Inputs General'!$A$41,J$48,IF('DNSP Inputs General'!$B53='DNSP Inputs General'!$A$42,J$49,J$50))*'DNSP Inputs General'!$D53*$C67","v":27.177744412398464},{"$f":"IF('DNSP Inputs General'!$B53='DNSP Inputs General'!$A$41,K$48,IF('DNSP Inputs General'!$B53='DNSP Inputs General'!$A$42,K$49,K$50))*'DNSP Inputs General'!$D53*$C67","v":27.177744412398464},{"$f":"IF('DNSP Inputs General'!$B53='DNSP Inputs General'!$A$41,L$48,IF('DNSP Inputs General'!$B53='DNSP Inputs General'!$A$42,L$49,L$50))*'DNSP Inputs General'!$D53*$C67","v":27.177744412398464},{"$f":"IF('DNSP Inputs General'!$B53='DNSP Inputs General'!$A$41,M$48,IF('DNSP Inputs General'!$B53='DNSP Inputs General'!$A$42,M$49,M$50))*'DNSP Inputs General'!$D53*$C67","v":27.177744412398464},{"$f":"IF('DNSP Inputs General'!$B53='DNSP Inputs General'!$A$41,N$48,IF('DNSP Inputs General'!$B53='DNSP Inputs General'!$A$42,N$49,N$50))*'DNSP Inputs General'!$D53*$C67","v":27.177744412398464},{"$f":"IF('DNSP Inputs General'!$B53='DNSP Inputs General'!$A$41,O$48,IF('DNSP Inputs General'!$B53='DNSP Inputs General'!$A$42,O$49,O$50))*'DNSP Inputs General'!$D53*$C67","v":27.177744412398464},{"$f":"IF('DNSP Inputs General'!$B53='DNSP Inputs General'!$A$41,P$48,IF('DNSP Inputs General'!$B53='DNSP Inputs General'!$A$42,P$49,P$50))*'DNSP Inputs General'!$D53*$C67","v":27.177744412398464},{"$f":"IF('DNSP Inputs General'!$B53='DNSP Inputs General'!$A$41,Q$48,IF('DNSP Inputs General'!$B53='DNSP Inputs General'!$A$42,Q$49,Q$50))*'DNSP Inputs General'!$D53*$C67","v":27.177744412398464},{"$f":"IF('DNSP Inputs General'!$B53='DNSP Inputs General'!$A$41,R$48,IF('DNSP Inputs General'!$B53='DNSP Inputs General'!$A$42,R$49,R$50))*'DNSP Inputs General'!$D53*$C67","v":27.177744412398464},{"$f":"IF('DNSP Inputs General'!$B53='DNSP Inputs General'!$A$41,S$48,IF('DNSP Inputs General'!$B53='DNSP Inputs General'!$A$42,S$49,S$50))*'DNSP Inputs General'!$D53*$C67","v":27.177744412398464},{"$f":"IF('DNSP Inputs General'!$B53='DNSP Inputs General'!$A$41,T$48,IF('DNSP Inputs General'!$B53='DNSP Inputs General'!$A$42,T$49,T$50))*'DNSP Inputs General'!$D53*$C67","v":27.177744412398464},{"$f":"IF('DNSP Inputs General'!$B53='DNSP Inputs General'!$A$41,U$48,IF('DNSP Inputs General'!$B53='DNSP Inputs General'!$A$42,U$49,U$50))*'DNSP Inputs General'!$D53*$C67","v":27.177744412398464}]
[{"$f":"'DNSP Inputs General'!A$54","v":"Sodium High Pressure 100 watt"},null,960,null,{"$f":"IF('DNSP Inputs General'!$B54='DNSP Inputs General'!$A$41,E$48,IF('DNSP Inputs General'!$B54='DNSP Inputs General'!$A$42,E$49,E$50))*'DNSP Inputs General'!$D54*$C68","v":60697.646237863795},{"$f":"IF('DNSP Inputs General'!$B54='DNSP Inputs General'!$A$41,F$48,IF('DNSP Inputs General'!$B54='DNSP Inputs General'!$A$42,F$49,F$50))*'DNSP Inputs General'!$D54*$C68","v":3372.0914576590999},{"$f":"IF('DNSP Inputs General'!$B54='DNSP Inputs General'!$A$41,G$48,IF('DNSP Inputs General'!$B54='DNSP Inputs General'!$A$42,G$49,G$50))*'DNSP Inputs General'!$D54*$C68","v":3372.0914576590999},{"$f":"IF('DNSP Inputs General'!$B54='DNSP Inputs General'!$A$41,H$48,IF('DNSP Inputs General'!$B54='DNSP Inputs General'!$A$42,H$49,H$50))*'DNSP Inputs General'!$D54*$C68","v":3372.0914576590999},{"$f":"IF('DNSP Inputs General'!$B54='DNSP Inputs General'!$A$41,I$48,IF('DNSP Inputs General'!$B54='DNSP Inputs General'!$A$42,I$49,I$50))*'DNSP Inputs General'!$D54*$C68","v":3372.0914576590999},{"$f":"IF('DNSP Inputs General'!$B54='DNSP Inputs General'!$A$41,J$48,IF('DNSP Inputs General'!$B54='DNSP Inputs General'!$A$42,J$49,J$50))*'DNSP Inputs General'!$D54*$C68","v":3372.0914576590999},{"$f":"IF('DNSP Inputs General'!$B54='DNSP Inputs General'!$A$41,K$48,IF('DNSP Inputs General'!$B54='DNSP Inputs General'!$A$42,K$49,K$50))*'DNSP Inputs General'!$D54*$C68","v":3372.0914576590999},{"$f":"IF('DNSP Inputs General'!$B54='DNSP Inputs General'!$A$41,L$48,IF('DNSP Inputs General'!$B54='DNSP Inputs General'!$A$42,L$49,L$50))*'DNSP Inputs General'!$D54*$C68","v":3372.0914576590999},{"$f":"IF('DNSP Inputs General'!$B54='DNSP Inputs General'!$A$41,M$48,IF('DNSP Inputs General'!$B54='DNSP Inputs General'!$A$42,M$49,M$50))*'DNSP Inputs General'!$D54*$C68","v":3372.0914576590999},{"$f":"IF('DNSP Inputs General'!$B54='DNSP Inputs General'!$A$41,N$48,IF('DNSP Inputs General'!$B54='DNSP Inputs General'!$A$42,N$49,N$50))*'DNSP Inputs General'!$D54*$C68","v":3372.0914576590999},{"$f":"IF('DNSP Inputs General'!$B54='DNSP Inputs General'!$A$41,O$48,IF('DNSP Inputs General'!$B54='DNSP Inputs General'!$A$42,O$49,O$50))*'DNSP Inputs General'!$D54*$C68","v":3372.0914576590999},{"$f":"IF('DNSP Inputs General'!$B54='DNSP Inputs General'!$A$41,P$48,IF('DNSP Inputs General'!$B54='DNSP Inputs General'!$A$42,P$49,P$50))*'DNSP Inputs General'!$D54*$C68","v":3372.0914576590999},{"$f":"IF('DNSP Inputs General'!$B54='DNSP Inputs General'!$A$41,Q$48,IF('DNSP Inputs General'!$B54='DNSP Inputs General'!$A$42,Q$49,Q$50))*'DNSP Inputs General'!$D54*$C68","v":3372.0914576590999},{"$f":"IF('DNSP Inputs General'!$B54='DNSP Inputs General'!$A$41,R$48,IF('DNSP Inputs General'!$B54='DNSP Inputs General'!$A$42,R$49,R$50))*'DNSP Inputs General'!$D54*$C68","v":3372.0914576590999},{"$f":"IF('DNSP Inputs General'!$B54='DNSP Inputs General'!$A$41,S$48,IF('DNSP Inputs General'!$B54='DNSP Inputs General'!$A$42,S$49,S$50))*'DNSP Inputs General'!$D54*$C68","v":3372.0914576590999},{"$f":"IF('DNSP Inputs General'!$B54='DNSP Inputs General'!$A$41,T$48,IF('DNSP Inputs General'!$B54='DNSP Inputs General'!$A$42,T$49,T$50))*'DNSP Inputs General'!$D54*$C68","v":3372.0914576590999},{"$f":"IF('DNSP Inputs General'!$B54='DNSP Inputs General'!$A$41,U$48,IF('DNSP Inputs General'!$B54='DNSP Inputs General'!$A$42,U$49,U$50))*'DNSP Inputs General'!$D54*$C68","v":3372.0914576590999}]
[{"$f":"'DNSP Inputs General'!A$55","v":"Sodium High Pressure 400 watt"},null,273,null,{"$f":"IF('DNSP Inputs General'!$B55='DNSP Inputs General'!$A$41,E$48,IF('DNSP Inputs General'!$B55='DNSP Inputs General'!$A$42,E$49,E$50))*'DNSP Inputs General'!$D55*$C69","v":17788.350282337688},{"$f":"IF('DNSP Inputs General'!$B55='DNSP Inputs General'!$A$41,F$48,IF('DNSP Inputs General'!$B55='DNSP Inputs General'!$A$42,F$49,F$50))*'DNSP Inputs General'!$D55*$C69","v":988.24168235209379},{"$f":"IF('DNSP Inputs General'!$B55='DNSP Inputs General'!$A$41,G$48,IF('DNSP Inputs General'!$B55='DNSP Inputs General'!$A$42,G$49,G$50))*'DNSP Inputs General'!$D55*$C69","v":988.24168235209379},{"$f":"IF('DNSP Inputs General'!$B55='DNSP Inputs General'!$A$41,H$48,IF('DNSP Inputs General'!$B55='DNSP Inputs General'!$A$42,H$49,H$50))*'DNSP Inputs General'!$D55*$C69","v":988.24168235209379},{"$f":"IF('DNSP Inputs General'!$B55='DNSP Inputs General'!$A$41,I$48,IF('DNSP Inputs General'!$B55='DNSP Inputs General'!$A$42,I$49,I$50))*'DNSP Inputs General'!$D55*$C69","v":988.24168235209379},{"$f":"IF('DNSP Inputs General'!$B55='DNSP Inputs General'!$A$41,J$48,IF('DNSP Inputs General'!$B55='DNSP Inputs General'!$A$42,J$49,J$50))*'DNSP Inputs General'!$D55*$C69","v":988.24168235209379},{"$f":"IF('DNSP Inputs General'!$B55='DNSP Inputs General'!$A$41,K$48,IF('DNSP Inputs General'!$B55='DNSP Inputs General'!$A$42,K$49,K$50))*'DNSP Inputs General'!$D55*$C69","v":988.24168235209379},{"$f":"IF('DNSP Inputs General'!$B55='DNSP Inputs General'!$A$41,L$48,IF('DNSP Inputs General'!$B55='DNSP Inputs General'!$A$42,L$49,L$50))*'DNSP Inputs General'!$D55*$C69","v":988.24168235209379},{"$f":"IF('DNSP Inputs General'!$B55='DNSP Inputs General'!$A$41,M$48,IF('DNSP Inputs General'!$B55='DNSP Inputs General'!$A$42,M$49,M$50))*'DNSP Inputs General'!$D55*$C69","v":988.24168235209379},{"$f":"IF('DNSP Inputs General'!$B55='DNSP Inputs General'!$A$41,N$48,IF('DNSP Inputs General'!$B55='DNSP Inputs General'!$A$42,N$49,N$50))*'DNSP Inputs General'!$D55*$C69","v":988.24168235209379},{"$f":"IF('DNSP Inputs General'!$B55='DNSP Inputs General'!$A$41,O$48,IF('DNSP Inputs General'!$B55='DNSP Inputs General'!$A$42,O$49,O$50))*'DNSP Inputs General'!$D55*$C69","v":988.24168235209379},{"$f":"IF('DNSP Inputs General'!$B55='DNSP Inputs General'!$A$41,P$48,IF('DNSP Inputs General'!$B55='DNSP Inputs General'!$A$42,P$49,P$50))*'DNSP Inputs General'!$D55*$C69","v":988.24168235209379},{"$f":"IF('DNSP Inputs General'!$B55='DNSP Inputs General'!$A$41,Q$48,IF('DNSP Inputs General'!$B55='DNSP Inputs General'!$A$42,Q$49,Q$50))*'DNSP Inputs General'!$D55*$C69","v":988.24168235209379},{"$f":"IF('DNSP Inputs General'!$B55='DNSP Inputs General'!$A$41,R$48,IF('DNSP Inputs General'!$B55='DNSP Inputs General'!$A$42,R$49,R$50))*'DNSP Inputs General'!$D55*$C69","v":988.24168235209379},{"$f":"IF('DNSP Inputs General'!$B55='DNSP Inputs General'!$A$41,S$48,IF('DNSP Inputs General'!$B55='DNSP Inputs General'!$A$42,S$49,S$50))*'DNSP Inputs General'!$D55*$C69","v":988.24168235209379},{"$f":"IF('DNSP Inputs General'!$B55='DNSP Inputs General'!$A$41,T$48,IF('DNSP Inputs General'!$B55='DNSP Inputs General'!$A$42,T$49,T$50))*'DNSP Inputs General'!$D55*$C69","v":988.24168235209379},{"$f":"IF('DNSP Inputs General'!$B55='DNSP Inputs General'!$A$41,U$48,IF('DNSP Inputs General'!$B55='DNSP Inputs General'!$A$42,U$49,U$50))*'DNSP Inputs General'!$D55*$C69","v":988.24168235209379}]
[{"$f":"'DNSP Inputs General'!A$56","v":"Metal Halide 70 watt"},null,13,null,{"$f":"IF('DNSP Inputs General'!$B56='DNSP Inputs General'!$A$41,E$48,IF('DNSP Inputs General'!$B56='DNSP Inputs General'!$A$42,E$49,E$50))*'DNSP Inputs General'!$D56*$C70","v":1314.0720662958618},{"$f":"IF('DNSP Inputs General'!$B56='DNSP Inputs General'!$A$41,F$48,IF('DNSP Inputs General'!$B56='DNSP Inputs General'!$A$42,F$49,F$50))*'DNSP Inputs General'!$D56*$C70","v":73.00400368310342},{"$f":"IF('DNSP Inputs General'!$B56='DNSP Inputs General'!$A$41,G$48,IF('DNSP Inputs General'!$B56='DNSP Inputs General'!$A$42,G$49,G$50))*'DNSP Inputs General'!$D56*$C70","v":73.00400368310342},{"$f":"IF('DNSP Inputs General'!$B56='DNSP Inputs General'!$A$41,H$48,IF('DNSP Inputs General'!$B56='DNSP Inputs General'!$A$42,H$49,H$50))*'DNSP Inputs General'!$D56*$C70","v":73.00400368310342},{"$f":"IF('DNSP Inputs General'!$B56='DNSP Inputs General'!$A$41,I$48,IF('DNSP Inputs General'!$B56='DNSP Inputs General'!$A$42,I$49,I$50))*'DNSP Inputs General'!$D56*$C70","v":73.00400368310342},{"$f":"IF('DNSP Inputs General'!$B56='DNSP Inputs General'!$A$41,J$48,IF('DNSP Inputs General'!$B56='DNSP Inputs General'!$A$42,J$49,J$50))*'DNSP Inputs General'!$D56*$C70","v":73.00400368310342},{"$f":"IF('DNSP Inputs General'!$B56='DNSP Inputs General'!$A$41,K$48,IF('DNSP Inputs General'!$B56='DNSP Inputs General'!$A$42,K$49,K$50))*'DNSP Inputs General'!$D56*$C70","v":73.00400368310342},{"$f":"IF('DNSP Inputs General'!$B56='DNSP Inputs General'!$A$41,L$48,IF('DNSP Inputs General'!$B56='DNSP Inputs General'!$A$42,L$49,L$50))*'DNSP Inputs General'!$D56*$C70","v":73.00400368310342},{"$f":"IF('DNSP Inputs General'!$B56='DNSP Inputs General'!$A$41,M$48,IF('DNSP Inputs General'!$B56='DNSP Inputs General'!$A$42,M$49,M$50))*'DNSP Inputs General'!$D56*$C70","v":73.00400368310342},{"$f":"IF('DNSP Inputs General'!$B56='DNSP Inputs General'!$A$41,N$48,IF('DNSP Inputs General'!$B56='DNSP Inputs General'!$A$42,N$49,N$50))*'DNSP Inputs General'!$D56*$C70","v":73.00400368310342},{"$f":"IF('DNSP Inputs General'!$B56='DNSP Inputs General'!$A$41,O$48,IF('DNSP Inputs General'!$B56='DNSP Inputs General'!$A$42,O$49,O$50))*'DNSP Inputs General'!$D56*$C70","v":73.00400368310342},{"$f":"IF('DNSP Inputs General'!$B56='DNSP Inputs General'!$A$41,P$48,IF('DNSP Inputs General'!$B56='DNSP Inputs General'!$A$42,P$49,P$50))*'DNSP Inputs General'!$D56*$C70","v":73.00400368310342},{"$f":"IF('DNSP Inputs General'!$B56='DNSP Inputs General'!$A$41,Q$48,IF('DNSP Inputs General'!$B56='DNSP Inputs General'!$A$42,Q$49,Q$50))*'DNSP Inputs General'!$D56*$C70","v":73.00400368310342},{"$f":"IF('DNSP Inputs General'!$B56='DNSP Inputs General'!$A$41,R$48,IF('DNSP Inputs General'!$B56='DNSP Inputs General'!$A$42,R$49,R$50))*'DNSP Inputs General'!$D56*$C70","v":73.00400368310342},{"$f":"IF('DNSP Inputs General'!$B56='DNSP Inputs General'!$A$41,S$48,IF('DNSP Inputs General'!$B56='DNSP Inputs General'!$A$42,S$49,S$50))*'DNSP Inputs General'!$D56*$C70","v":73.00400368310342},{"$f":"IF('DNSP Inputs General'!$B56='DNSP Inputs General'!$A$41,T$48,IF('DNSP Inputs General'!$B56='DNSP Inputs General'!$A$42,T$49,T$50))*'DNSP Inputs General'!$D56*$C70","v":73.00400368310342},{"$f":"IF('DNSP Inputs General'!$B56='DNSP Inputs General'!$A$41,U$48,IF('DNSP Inputs General'!$B56='DNSP Inputs General'!$A$42,U$49,U$50))*'DNSP Inputs General'!$D56*$C70","v":73.00400368310342}]
[{"$f":"'DNSP Inputs General'!A$57","v":"Metal Halide 150 watt"},null,16,null,{"$f":"IF('DNSP Inputs General'!$B57='DNSP Inputs General'!$A$41,E$48,IF('DNSP Inputs General'!$B57='DNSP Inputs General'!$A$42,E$49,E$50))*'DNSP Inputs General'!$D57*$C71","v":1639.2794969350075},{"$f":"IF('DNSP Inputs General'!$B57='DNSP Inputs General'!$A$41,F$48,IF('DNSP Inputs General'!$B57='DNSP Inputs General'!$A$42,F$49,F$50))*'DNSP Inputs General'!$D57*$C71","v":91.071083163055988},{"$f":"IF('DNSP Inputs General'!$B57='DNSP Inputs General'!$A$41,G$48,IF('DNSP Inputs General'!$B57='DNSP Inputs General'!$A$42,G$49,G$50))*'DNSP Inputs General'!$D57*$C71","v":91.071083163055988},{"$f":"IF('DNSP Inputs General'!$B57='DNSP Inputs General'!$A$41,H$48,IF('DNSP Inputs General'!$B57='DNSP Inputs General'!$A$42,H$49,H$50))*'DNSP Inputs General'!$D57*$C71","v":91.071083163055988},{"$f":"IF('DNSP Inputs General'!$B57='DNSP Inputs General'!$A$41,I$48,IF('DNSP Inputs General'!$B57='DNSP Inputs General'!$A$42,I$49,I$50))*'DNSP Inputs General'!$D57*$C71","v":91.071083163055988},{"$f":"IF('DNSP Inputs General'!$B57='DNSP Inputs General'!$A$41,J$48,IF('DNSP Inputs General'!$B57='DNSP Inputs General'!$A$42,J$49,J$50))*'DNSP Inputs General'!$D57*$C71","v":91.071083163055988},{"$f":"IF('DNSP Inputs General'!$B57='DNSP Inputs General'!$A$41,K$48,IF('DNSP Inputs General'!$B57='DNSP Inputs General'!$A$42,K$49,K$50))*'DNSP Inputs General'!$D57*$C71","v":91.071083163055988},{"$f":"IF('DNSP Inputs General'!$B57='DNSP Inputs General'!$A$41,L$48,IF('DNSP Inputs General'!$B57='DNSP Inputs General'!$A$42,L$49,L$50))*'DNSP Inputs General'!$D57*$C71","v":91.071083163055988},{"$f":"IF('DNSP Inputs General'!$B57='DNSP Inputs General'!$A$41,M$48,IF('DNSP Inputs General'!$B57='DNSP Inputs General'!$A$42,M$49,M$50))*'DNSP Inputs General'!$D57*$C71","v":91.071083163055988},{"$f":"IF('DNSP Inputs General'!$B57='DNSP Inputs General'!$A$41,N$48,IF('DNSP Inputs General'!$B57='DNSP Inputs General'!$A$42,N$49,N$50))*'DNSP Inputs General'!$D57*$C71","v":91.071083163055988},{"$f":"IF('DNSP Inputs General'!$B57='DNSP Inputs General'!$A$41,O$48,IF('DNSP Inputs General'!$B57='DNSP Inputs General'!$A$42,O$49,O$50))*'DNSP Inputs General'!$D57*$C71","v":91.071083163055988},{"$f":"IF('DNSP Inputs General'!$B57='DNSP Inputs General'!$A$41,P$48,IF('DNSP Inputs General'!$B57='DNSP Inputs General'!$A$42,P$49,P$50))*'DNSP Inputs General'!$D57*$C71","v":91.071083163055988},{"$f":"IF('DNSP Inputs General'!$B57='DNSP Inputs General'!$A$41,Q$48,IF('DNSP Inputs General'!$B57='DNSP Inputs General'!$A$42,Q$49,Q$50))*'DNSP Inputs General'!$D57*$C71","v":91.071083163055988},{"$f":"IF('DNSP Inputs General'!$B57='DNSP Inputs General'!$A$41,R$48,IF('DNSP Inputs General'!$B57='DNSP Inputs General'!$A$42,R$49,R$50))*'DNSP Inputs General'!$D57*$C71","v":91.071083163055988},{"$f":"IF('DNSP Inputs General'!$B57='DNSP Inputs General'!$A$41,S$48,IF('DNSP Inputs General'!$B57='DNSP Inputs General'!$A$42,S$49,S$50))*'DNSP Inputs General'!$D57*$C71","v":91.071083163055988},{"$f":"IF('DNSP Inputs General'!$B57='DNSP Inputs General'!$A$41,T$48,IF('DNSP Inputs General'!$B57='DNSP Inputs General'!$A$42,T$49,T$50))*'DNSP Inputs General'!$D57*$C71","v":91.071083163055988},{"$f":"IF('DNSP Inputs General'!$B57='DNSP Inputs General'!$A$41,U$48,IF('DNSP Inputs General'!$B57='DNSP Inputs General'!$A$42,U$49,U$50))*'DNSP Inputs General'!$D57*$C71","v":91.071083163055988}]
[{"$f":"'DNSP Inputs General'!A$58","v":"Metal Halide 250 watt"},null,29,null,{"$f":"IF('DNSP Inputs General'!$B58='DNSP Inputs General'!$A$41,E$48,IF('DNSP Inputs General'!$B58='DNSP Inputs General'!$A$42,E$49,E$50))*'DNSP Inputs General'!$D58*$C72","v":3054.6245837223687},{"$f":"IF('DNSP Inputs General'!$B58='DNSP Inputs General'!$A$41,F$48,IF('DNSP Inputs General'!$B58='DNSP Inputs General'!$A$42,F$49,F$50))*'DNSP Inputs General'!$D58*$C72","v":169.70136576235382},{"$f":"IF('DNSP Inputs General'!$B58='DNSP Inputs General'!$A$41,G$48,IF('DNSP Inputs General'!$B58='DNSP Inputs General'!$A$42,G$49,G$50))*'DNSP Inputs General'!$D58*$C72","v":169.70136576235382},{"$f":"IF('DNSP Inputs General'!$B58='DNSP Inputs General'!$A$41,H$48,IF('DNSP Inputs General'!$B58='DNSP Inputs General'!$A$42,H$49,H$50))*'DNSP Inputs General'!$D58*$C72","v":169.70136576235382},{"$f":"IF('DNSP Inputs General'!$B58='DNSP Inputs General'!$A$41,I$48,IF('DNSP Inputs General'!$B58='DNSP Inputs General'!$A$42,I$49,I$50))*'DNSP Inputs General'!$D58*$C72","v":169.70136576235382},{"$f":"IF('DNSP Inputs General'!$B58='DNSP Inputs General'!$A$41,J$48,IF('DNSP Inputs General'!$B58='DNSP Inputs General'!$A$42,J$49,J$50))*'DNSP Inputs General'!$D58*$C72","v":169.70136576235382},{"$f":"IF('DNSP Inputs General'!$B58='DNSP Inputs General'!$A$41,K$48,IF('DNSP Inputs General'!$B58='DNSP Inputs General'!$A$42,K$49,K$50))*'DNSP Inputs General'!$D58*$C72","v":169.70136576235382},{"$f":"IF('DNSP Inputs General'!$B58='DNSP Inputs General'!$A$41,L$48,IF('DNSP Inputs General'!$B58='DNSP Inputs General'!$A$42,L$49,L$50))*'DNSP Inputs General'!$D58*$C72","v":169.70136576235382},{"$f":"IF('DNSP Inputs General'!$B58='DNSP Inputs General'!$A$41,M$48,IF('DNSP Inputs General'!$B58='DNSP Inputs General'!$A$42,M$49,M$50))*'DNSP Inputs General'!$D58*$C72","v":169.70136576235382},{"$f":"IF('DNSP Inputs General'!$B58='DNSP Inputs General'!$A$41,N$48,IF('DNSP Inputs General'!$B58='DNSP Inputs General'!$A$42,N$49,N$50))*'DNSP Inputs General'!$D58*$C72","v":169.70136576235382},{"$f":"IF('DNSP Inputs General'!$B58='DNSP Inputs General'!$A$41,O$48,IF('DNSP Inputs General'!$B58='DNSP Inputs General'!$A$42,O$49,O$50))*'DNSP Inputs General'!$D58*$C72","v":169.70136576235382},{"$f":"IF('DNSP Inputs General'!$B58='DNSP Inputs General'!$A$41,P$48,IF('DNSP Inputs General'!$B58='DNSP Inputs General'!$A$42,P$49,P$50))*'DNSP Inputs General'!$D58*$C72","v":169.70136576235382},{"$f":"IF('DNSP Inputs General'!$B58='DNSP Inputs General'!$A$41,Q$48,IF('DNSP Inputs General'!$B58='DNSP Inputs General'!$A$42,Q$49,Q$50))*'DNSP Inputs General'!$D58*$C72","v":169.70136576235382},{"$f":"IF('DNSP Inputs General'!$B58='DNSP Inputs General'!$A$41,R$48,IF('DNSP Inputs General'!$B58='DNSP Inputs General'!$A$42,R$49,R$50))*'DNSP Inputs General'!$D58*$C72","v":169.70136576235382},{"$f":"IF('DNSP Inputs General'!$B58='DNSP Inputs General'!$A$41,S$48,IF('DNSP Inputs General'!$B58='DNSP Inputs General'!$A$42,S$49,S$50))*'DNSP Inputs General'!$D58*$C72","v":169.70136576235382},{"$f":"IF('DNSP Inputs General'!$B58='DNSP Inputs General'!$A$41,T$48,IF('DNSP Inputs General'!$B58='DNSP Inputs General'!$A$42,T$49,T$50))*'DNSP Inputs General'!$D58*$C72","v":169.70136576235382},{"$f":"IF('DNSP Inputs General'!$B58='DNSP Inputs General'!$A$41,U$48,IF('DNSP Inputs General'!$B58='DNSP Inputs General'!$A$42,U$49,U$50))*'DNSP Inputs General'!$D58*$C72","v":169.70136576235382}]
[{"$f":"'DNSP Inputs General'!A$59","v":"Incandescent 100 watt"},null,5,null,{"$f":"IF('DNSP Inputs General'!$B59='DNSP Inputs General'!$A$41,E$48,IF('DNSP Inputs General'!$B59='DNSP Inputs General'!$A$42,E$49,E$50))*'DNSP Inputs General'!$D59*$C73","v":306.78725283171872},{"$f":"IF('DNSP Inputs General'!$B59='DNSP Inputs General'!$A$41,F$48,IF('DNSP Inputs General'!$B59='DNSP Inputs General'!$A$42,F$49,F$50))*'DNSP Inputs General'!$D59*$C73","v":17.043736268428816},{"$f":"IF('DNSP Inputs General'!$B59='DNSP Inputs General'!$A$41,G$48,IF('DNSP Inputs General'!$B59='DNSP Inputs General'!$A$42,G$49,G$50))*'DNSP Inputs General'!$D59*$C73","v":17.043736268428816},{"$f":"IF('DNSP Inputs General'!$B59='DNSP Inputs General'!$A$41,H$48,IF('DNSP Inputs General'!$B59='DNSP Inputs General'!$A$42,H$49,H$50))*'DNSP Inputs General'!$D59*$C73","v":17.043736268428816},{"$f":"IF('DNSP Inputs General'!$B59='DNSP Inputs General'!$A$41,I$48,IF('DNSP Inputs General'!$B59='DNSP Inputs General'!$A$42,I$49,I$50))*'DNSP Inputs General'!$D59*$C73","v":17.043736268428816},{"$f":"IF('DNSP Inputs General'!$B59='DNSP Inputs General'!$A$41,J$48,IF('DNSP Inputs General'!$B59='DNSP Inputs General'!$A$42,J$49,J$50))*'DNSP Inputs General'!$D59*$C73","v":17.043736268428816},{"$f":"IF('DNSP Inputs General'!$B59='DNSP Inputs General'!$A$41,K$48,IF('DNSP Inputs General'!$B59='DNSP Inputs General'!$A$42,K$49,K$50))*'DNSP Inputs General'!$D59*$C73","v":17.043736268428816},{"$f":"IF('DNSP Inputs General'!$B59='DNSP Inputs General'!$A$41,L$48,IF('DNSP Inputs General'!$B59='DNSP Inputs General'!$A$42,L$49,L$50))*'DNSP Inputs General'!$D59*$C73","v":17.043736268428816},{"$f":"IF('DNSP Inputs General'!$B59='DNSP Inputs General'!$A$41,M$48,IF('DNSP Inputs General'!$B59='DNSP Inputs General'!$A$42,M$49,M$50))*'DNSP Inputs General'!$D59*$C73","v":17.043736268428816},{"$f":"IF('DNSP Inputs General'!$B59='DNSP Inputs General'!$A$41,N$48,IF('DNSP Inputs General'!$B59='DNSP Inputs General'!$A$42,N$49,N$50))*'DNSP Inputs General'!$D59*$C73","v":17.043736268428816},{"$f":"IF('DNSP Inputs General'!$B59='DNSP Inputs General'!$A$41,O$48,IF('DNSP Inputs General'!$B59='DNSP Inputs General'!$A$42,O$49,O$50))*'DNSP Inputs General'!$D59*$C73","v":17.043736268428816},{"$f":"IF('DNSP Inputs General'!$B59='DNSP Inputs General'!$A$41,P$48,IF('DNSP Inputs General'!$B59='DNSP Inputs General'!$A$42,P$49,P$50))*'DNSP Inputs General'!$D59*$C73","v":17.043736268428816},{"$f":"IF('DNSP Inputs General'!$B59='DNSP Inputs General'!$A$41,Q$48,IF('DNSP Inputs General'!$B59='DNSP Inputs General'!$A$42,Q$49,Q$50))*'DNSP Inputs General'!$D59*$C73","v":17.043736268428816},{"$f":"IF('DNSP Inputs General'!$B59='DNSP Inputs General'!$A$41,R$48,IF('DNSP Inputs General'!$B59='DNSP Inputs General'!$A$42,R$49,R$50))*'DNSP Inputs General'!$D59*$C73","v":17.043736268428816},{"$f":"IF('DNSP Inputs General'!$B59='DNSP Inputs General'!$A$41,S$48,IF('DNSP Inputs General'!$B59='DNSP Inputs General'!$A$42,S$49,S$50))*'DNSP Inputs General'!$D59*$C73","v":17.043736268428816},{"$f":"IF('DNSP Inputs General'!$B59='DNSP Inputs General'!$A$41,T$48,IF('DNSP Inputs General'!$B59='DNSP Inputs General'!$A$42,T$49,T$50))*'DNSP Inputs General'!$D59*$C73","v":17.043736268428816},{"$f":"IF('DNSP Inputs General'!$B59='DNSP Inputs General'!$A$41,U$48,IF('DNSP Inputs General'!$B59='DNSP Inputs General'!$A$42,U$49,U$50))*'DNSP Inputs General'!$D59*$C73","v":17.043736268428816}]
[{"$f":"'DNSP Inputs General'!A$60","v":"Incandescent 150 watt"},null,5,null,{"$f":"IF('DNSP Inputs General'!$B60='DNSP Inputs General'!$A$41,E$48,IF('DNSP Inputs General'!$B60='DNSP Inputs General'!$A$42,E$49,E$50))*'DNSP Inputs General'!$D60*$C74","v":383.48406603964838},{"$f":"IF('DNSP Inputs General'!$B60='DNSP Inputs General'!$A$41,F$48,IF('DNSP Inputs General'!$B60='DNSP Inputs General'!$A$42,F$49,F$50))*'DNSP Inputs General'!$D60*$C74","v":21.30467033553602},{"$f":"IF('DNSP Inputs General'!$B60='DNSP Inputs General'!$A$41,G$48,IF('DNSP Inputs General'!$B60='DNSP Inputs General'!$A$42,G$49,G$50))*'DNSP Inputs General'!$D60*$C74","v":21.30467033553602},{"$f":"IF('DNSP Inputs General'!$B60='DNSP Inputs General'!$A$41,H$48,IF('DNSP Inputs General'!$B60='DNSP Inputs General'!$A$42,H$49,H$50))*'DNSP Inputs General'!$D60*$C74","v":21.30467033553602},{"$f":"IF('DNSP Inputs General'!$B60='DNSP Inputs General'!$A$41,I$48,IF('DNSP Inputs General'!$B60='DNSP Inputs General'!$A$42,I$49,I$50))*'DNSP Inputs General'!$D60*$C74","v":21.30467033553602},{"$f":"IF('DNSP Inputs General'!$B60='DNSP Inputs General'!$A$41,J$48,IF('DNSP Inputs General'!$B60='DNSP Inputs General'!$A$42,J$49,J$50))*'DNSP Inputs General'!$D60*$C74","v":21.30467033553602},{"$f":"IF('DNSP Inputs General'!$B60='DNSP Inputs General'!$A$41,K$48,IF('DNSP Inputs General'!$B60='DNSP Inputs General'!$A$42,K$49,K$50))*'DNSP Inputs General'!$D60*$C74","v":21.30467033553602},{"$f":"IF('DNSP Inputs General'!$B60='DNSP Inputs General'!$A$41,L$48,IF('DNSP Inputs General'!$B60='DNSP Inputs General'!$A$42,L$49,L$50))*'DNSP Inputs General'!$D60*$C74","v":21.30467033553602},{"$f":"IF('DNSP Inputs General'!$B60='DNSP Inputs General'!$A$41,M$48,IF('DNSP Inputs General'!$B60='DNSP Inputs General'!$A$42,M$49,M$50))*'DNSP Inputs General'!$D60*$C74","v":21.30467033553602},{"$f":"IF('DNSP Inputs General'!$B60='DNSP Inputs General'!$A$41,N$48,IF('DNSP Inputs General'!$B60='DNSP Inputs General'!$A$42,N$49,N$50))*'DNSP Inputs General'!$D60*$C74","v":21.30467033553602},{"$f":"IF('DNSP Inputs General'!$B60='DNSP Inputs General'!$A$41,O$48,IF('DNSP Inputs General'!$B60='DNSP Inputs General'!$A$42,O$49,O$50))*'DNSP Inputs General'!$D60*$C74","v":21.30467033553602},{"$f":"IF('DNSP Inputs General'!$B60='DNSP Inputs General'!$A$41,P$48,IF('DNSP Inputs General'!$B60='DNSP Inputs General'!$A$42,P$49,P$50))*'DNSP Inputs General'!$D60*$C74","v":21.30467033553602},{"$f":"IF('DNSP Inputs General'!$B60='DNSP Inputs General'!$A$41,Q$48,IF('DNSP Inputs General'!$B60='DNSP Inputs General'!$A$42,Q$49,Q$50))*'DNSP Inputs General'!$D60*$C74","v":21.30467033553602},{"$f":"IF('DNSP Inputs General'!$B60='DNSP Inputs General'!$A$41,R$48,IF('DNSP Inputs General'!$B60='DNSP Inputs General'!$A$42,R$49,R$50))*'DNSP Inputs General'!$D60*$C74","v":21.30467033553602},{"$f":"IF('DNSP Inputs General'!$B60='DNSP Inputs General'!$A$41,S$48,IF('DNSP Inputs General'!$B60='DNSP Inputs General'!$A$42,S$49,S$50))*'DNSP Inputs General'!$D60*$C74","v":21.30467033553602},{"$f":"IF('DNSP Inputs General'!$B60='DNSP Inputs General'!$A$41,T$48,IF('DNSP Inputs General'!$B60='DNSP Inputs General'!$A$42,T$49,T$50))*'DNSP Inputs General'!$D60*$C74","v":21.30467033553602},{"$f":"IF('DNSP Inputs General'!$B60='DNSP Inputs General'!$A$41,U$48,IF('DNSP Inputs General'!$B60='DNSP Inputs General'!$A$42,U$49,U$50))*'DNSP Inputs General'!$D60*$C74","v":21.30467033553602}]
[{"$f":"'DNSP Inputs General'!A$61","v":"Sodium High Pressure 250 watt (24 hrs)"},null,0,null,{"$f":"IF('DNSP Inputs General'!$B61='DNSP Inputs General'!$A$41,E$48,IF('DNSP Inputs General'!$B61='DNSP Inputs General'!$A$42,E$49,E$50))*'DNSP Inputs General'!$D61*$C75","v":0},{"$f":"IF('DNSP Inputs General'!$B61='DNSP Inputs General'!$A$41,F$48,IF('DNSP Inputs General'!$B61='DNSP Inputs General'!$A$42,F$49,F$50))*'DNSP Inputs General'!$D61*$C75","v":0},{"$f":"IF('DNSP Inputs General'!$B61='DNSP Inputs General'!$A$41,G$48,IF('DNSP Inputs General'!$B61='DNSP Inputs General'!$A$42,G$49,G$50))*'DNSP Inputs General'!$D61*$C75","v":0},{"$f":"IF('DNSP Inputs General'!$B61='DNSP Inputs General'!$A$41,H$48,IF('DNSP Inputs General'!$B61='DNSP Inputs General'!$A$42,H$49,H$50))*'DNSP Inputs General'!$D61*$C75","v":0},{"$f":"IF('DNSP Inputs General'!$B61='DNSP Inputs General'!$A$41,I$48,IF('DNSP Inputs General'!$B61='DNSP Inputs General'!$A$42,I$49,I$50))*'DNSP Inputs General'!$D61*$C75","v":0},{"$f":"IF('DNSP Inputs General'!$B61='DNSP Inputs General'!$A$41,J$48,IF('DNSP Inputs General'!$B61='DNSP Inputs General'!$A$42,J$49,J$50))*'DNSP Inputs General'!$D61*$C75","v":0},{"$f":"IF('DNSP Inputs General'!$B61='DNSP Inputs General'!$A$41,K$48,IF('DNSP Inputs General'!$B61='DNSP Inputs General'!$A$42,K$49,K$50))*'DNSP Inputs General'!$D61*$C75","v":0},{"$f":"IF('DNSP Inputs General'!$B61='DNSP Inputs General'!$A$41,L$48,IF('DNSP Inputs General'!$B61='DNSP Inputs General'!$A$42,L$49,L$50))*'DNSP Inputs General'!$D61*$C75","v":0},{"$f":"IF('DNSP Inputs General'!$B61='DNSP Inputs General'!$A$41,M$48,IF('DNSP Inputs General'!$B61='DNSP Inputs General'!$A$42,M$49,M$50))*'DNSP Inputs General'!$D61*$C75","v":0},{"$f":"IF('DNSP Inputs General'!$B61='DNSP Inputs General'!$A$41,N$48,IF('DNSP Inputs General'!$B61='DNSP Inputs General'!$A$42,N$49,N$50))*'DNSP Inputs General'!$D61*$C75","v":0},{"$f":"IF('DNSP Inputs General'!$B61='DNSP Inputs General'!$A$41,O$48,IF('DNSP Inputs General'!$B61='DNSP Inputs General'!$A$42,O$49,O$50))*'DNSP Inputs General'!$D61*$C75","v":0},{"$f":"IF('DNSP Inputs General'!$B61='DNSP Inputs General'!$A$41,P$48,IF('DNSP Inputs General'!$B61='DNSP Inputs General'!$A$42,P$49,P$50))*'DNSP Inputs General'!$D61*$C75","v":0},{"$f":"IF('DNSP Inputs General'!$B61='DNSP Inputs General'!$A$41,Q$48,IF('DNSP Inputs General'!$B61='DNSP Inputs General'!$A$42,Q$49,Q$50))*'DNSP Inputs General'!$D61*$C75","v":0},{"$f":"IF('DNSP Inputs General'!$B61='DNSP Inputs General'!$A$41,R$48,IF('DNSP Inputs General'!$B61='DNSP Inputs General'!$A$42,R$49,R$50))*'DNSP Inputs General'!$D61*$C75","v":0},{"$f":"IF('DNSP Inputs General'!$B61='DNSP Inputs General'!$A$41,S$48,IF('DNSP Inputs General'!$B61='DNSP Inputs General'!$A$42,S$49,S$50))*'DNSP Inputs General'!$D61*$C75","v":0},{"$f":"IF('DNSP Inputs General'!$B61='DNSP Inputs General'!$A$41,T$48,IF('DNSP Inputs General'!$B61='DNSP Inputs General'!$A$42,T$49,T$50))*'DNSP Inputs General'!$D61*$C75","v":0},{"$f":"IF('DNSP Inputs General'!$B61='DNSP Inputs General'!$A$41,U$48,IF('DNSP Inputs General'!$B61='DNSP Inputs General'!$A$42,U$49,U$50))*'DNSP Inputs General'!$D61*$C75","v":0}]
[{"$f":"'DNSP Inputs General'!A$62","v":"Metal Halide 100 watt"},null,0,null,{"$f":"IF('DNSP Inputs General'!$B62='DNSP Inputs General'!$A$41,E$48,IF('DNSP Inputs General'!$B62='DNSP Inputs General'!$A$42,E$49,E$50))*'DNSP Inputs General'!$D62*$C76","v":0},{"$f":"IF('DNSP Inputs General'!$B62='DNSP Inputs General'!$A$41,F$48,IF('DNSP Inputs General'!$B62='DNSP Inputs General'!$A$42,F$49,F$50))*'DNSP Inputs General'!$D62*$C76","v":0},{"$f":"IF('DNSP Inputs General'!$B62='DNSP Inputs General'!$A$41,G$48,IF('DNSP Inputs General'!$B62='DNSP Inputs General'!$A$42,G$49,G$50))*'DNSP Inputs General'!$D62*$C76","v":0},{"$f":"IF('DNSP Inputs General'!$B62='DNSP Inputs General'!$A$41,H$48,IF('DNSP Inputs General'!$B62='DNSP Inputs General'!$A$42,H$49,H$50))*'DNSP Inputs General'!$D62*$C76","v":0},{"$f":"IF('DNSP Inputs General'!$B62='DNSP Inputs General'!$A$41,I$48,IF('DNSP Inputs General'!$B62='DNSP Inputs General'!$A$42,I$49,I$50))*'DNSP Inputs General'!$D62*$C76","v":0},{"$f":"IF('DNSP Inputs General'!$B62='DNSP Inputs General'!$A$41,J$48,IF('DNSP Inputs General'!$B62='DNSP Inputs General'!$A$42,J$49,J$50))*'DNSP Inputs General'!$D62*$C76","v":0},{"$f":"IF('DNSP Inputs General'!$B62='DNSP Inputs General'!$A$41,K$48,IF('DNSP Inputs General'!$B62='DNSP Inputs General'!$A$42,K$49,K$50))*'DNSP Inputs General'!$D62*$C76","v":0},{"$f":"IF('DNSP Inputs General'!$B62='DNSP Inputs General'!$A$41,L$48,IF('DNSP Inputs General'!$B62='DNSP Inputs General'!$A$42,L$49,L$50))*'DNSP Inputs General'!$D62*$C76","v":0},{"$f":"IF('DNSP Inputs General'!$B62='DNSP Inputs General'!$A$41,M$48,IF('DNSP Inputs General'!$B62='DNSP Inputs General'!$A$42,M$49,M$50))*'DNSP Inputs General'!$D62*$C76","v":0},{"$f":"IF('DNSP Inputs General'!$B62='DNSP Inputs General'!$A$41,N$48,IF('DNSP Inputs General'!$B62='DNSP Inputs General'!$A$42,N$49,N$50))*'DNSP Inputs General'!$D62*$C76","v":0},{"$f":"IF('DNSP Inputs General'!$B62='DNSP Inputs General'!$A$41,O$48,IF('DNSP Inputs General'!$B62='DNSP Inputs General'!$A$42,O$49,O$50))*'DNSP Inputs General'!$D62*$C76","v":0},{"$f":"IF('DNSP Inputs General'!$B62='DNSP Inputs General'!$A$41,P$48,IF('DNSP Inputs General'!$B62='DNSP Inputs General'!$A$42,P$49,P$50))*'DNSP Inputs General'!$D62*$C76","v":0},{"$f":"IF('DNSP Inputs General'!$B62='DNSP Inputs General'!$A$41,Q$48,IF('DNSP Inputs General'!$B62='DNSP Inputs General'!$A$42,Q$49,Q$50))*'DNSP Inputs General'!$D62*$C76","v":0},{"$f":"IF('DNSP Inputs General'!$B62='DNSP Inputs General'!$A$41,R$48,IF('DNSP Inputs General'!$B62='DNSP Inputs General'!$A$42,R$49,R$50))*'DNSP Inputs General'!$D62*$C76","v":0},{"$f":"IF('DNSP Inputs General'!$B62='DNSP Inputs General'!$A$41,S$48,IF('DNSP Inputs General'!$B62='DNSP Inputs General'!$A$42,S$49,S$50))*'DNSP Inputs General'!$D62*$C76","v":0},{"$f":"IF('DNSP Inputs General'!$B62='DNSP Inputs General'!$A$41,T$48,IF('DNSP Inputs General'!$B62='DNSP Inputs General'!$A$42,T$49,T$50))*'DNSP Inputs General'!$D62*$C76","v":0},{"$f":"IF('DNSP Inputs General'!$B62='DNSP Inputs General'!$A$41,U$48,IF('DNSP Inputs General'!$B62='DNSP Inputs General'!$A$42,U$49,U$50))*'DNSP Inputs General'!$D62*$C76","v":0}]
[null,null,null,null,{"$f":"SUM(E55:E76)","v":2801660.1118597607},{"$f":"SUM(F55:F76)","v":155647.78399220886},155647.78399220886,155647.78399220886,155647.78399220886,155647.78399220886,155647.78399220886,{"$f":"SUM(L55:L76)","v":155647.78399220886},155647.78399220886,155647.78399220886,155647.78399220886,155647.78399220886,155647.78399220886,155647.78399220886,155647.78399220886,155647.78399220886,155647.78399220886]
[]
[]
["Poles & Brackets"]
["Depreciation",null,null,null,"Closing RAB per unit","Depreciation per unit"]
[null,null,null,null,{"$f":"E$47","v":2004},2005,2006,2007,2008,2009,2010,2011,2012,2013,2014,2015,2016,2017,2018,2019,2020]
[{"$f":"'RAB 2001 to 2004'!A$28","v":"Dedicated poles"},null,null,null,{"$f":"F183+F184/2","v":15.456780251753715},{"$f":"F184","v":0.46838728035617327},{"$f":"G184","v":0.46838728035617327},0.46838728035617327,0.46838728035617327,0.46838728035617327,0.46838728035617327,0.46838728035617327,0.46838728035617327,0.46838728035617327,0.46838728035617327,0.46838728035617327,0.46838728035617327,0.46838728035617327,0.46838728035617327,0.46838728035617327,0.46838728035617327]
[{"$f":"'RAB 2001 to 2004'!A$33","v":"Brackets"},null,null,null,{"$f":"F197+F198/2","v":8.3623826932602849},{"$f":"F198","v":0.25340553615940259},{"$f":"G198","v":0.25340553615940259},0.25340553615940259,0.25340553615940259,0.25340553615940259,0.25340553615940259,0.25340553615940259,0.25340553615940259,0.25340553615940259,0.25340553615940259,0.25340553615940259,0.25340553615940259,0.25340553615940259,0.25340553615940259,0.25340553615940259,0.25340553615940259]
[null,null,null,null,{"$f":"SUM(E83:E84)","v":23.819162945014},{"$f":"SUM(F83:F84)","v":0.72179281651557581},{"$f":"SUM(G83:G84)","v":0.72179281651557581},0.72179281651557581,0.72179281651557581,0.72179281651557581,0.72179281651557581,0.72179281651557581,0.72179281651557581,0.72179281651557581,0.72179281651557581,0.72179281651557581,0.72179281651557581,0.72179281651557581,0.72179281651557581,0.72179281651557581,0.72179281651557581]
[]
[]
[null,null,"Assumed",null,"Closing RAB","Depreciation"]
[null,null," 2004 Volumes",null,{"$f":"E$47","v":2004},2005,2006,2007,2008,2009,2010,2011,2012,2013,2014,2015,2016,2017,2018,2019,2020]
[{"$f":"'DNSP Inputs General'!A$41","v":"Mercury Vapour 80 watt"},null,{"$f":"C$55","v":45764},null,{"$f":"E$85*$C90","v":1090060.1730156208},{"$f":"F$85*$C90","v":33032.126455018813},33032.126455018813,33032.126455018813,{"$f":"I$85*$C90","v":33032.126455018813},33032.126455018813,33032.126455018813,33032.126455018813,33032.126455018813,33032.126455018813,33032.126455018813,33032.126455018813,33032.126455018813,33032.126455018813,{"$f":"S$85*$C90","v":33032.126455018813},33032.126455018813,33032.126455018813]
[{"$f":"'DNSP Inputs General'!A$42","v":"Sodium High Pressure 150 watt"},null,{"$f":"C$56","v":14085},null,{"$f":"E$85*$C91","v":335492.91008052218},10166.451820621885,10166.451820621885,10166.451820621885,10166.451820621885,10166.451820621885,10166.451820621885,10166.451820621885,10166.451820621885,10166.451820621885,10166.451820621885,10166.451820621885,10166.451820621885,10166.451820621885,10166.451820621885,10166.451820621885,10166.451820621885]
[{"$f":"'DNSP Inputs General'!A$43","v":"Sodium High Pressure 250 watt"},null,{"$f":"C$57","v":4192},null,{"$f":"E$85*$C92","v":99849.931065498691},3025.7554868332936,3025.7554868332936,3025.7554868332936,3025.7554868332936,3025.7554868332936,3025.7554868332936,3025.7554868332936,3025.7554868332936,3025.7554868332936,3025.7554868332936,3025.7554868332936,3025.7554868332936,3025.7554868332936,3025.7554868332936,3025.7554868332936,3025.7554868332936]
[{"$f":"'DNSP Inputs General'!A$44","v":"55W Ind"},null,{"$f":"C$58","v":0},null,{"$f":"E$85*'DNSP Inputs General'!$D44*$C93","v":0},{"$f":"F$85*'DNSP Inputs General'!$D44*$C93","v":0},{"$f":"G$85*'DNSP Inputs General'!$D44*$C93","v":0},{"$f":"H$85*'DNSP Inputs General'!$D44*$C93","v":0},{"$f":"I$85*'DNSP Inputs General'!$D44*$C93","v":0},{"$f":"J$85*'DNSP Inputs General'!$D44*$C93","v":0},{"$f":"K$85*'DNSP Inputs General'!$D44*$C93","v":0},{"$f":"L$85*'DNSP Inputs General'!$D44*$C93","v":0},{"$f":"M$85*'DNSP Inputs General'!$D44*$C93","v":0},{"$f":"N$85*'DNSP Inputs General'!$D44*$C93","v":0},{"$f":"O$85*'DNSP Inputs General'!$D44*$C93","v":0},{"$f":"P$85*'DNSP Inputs General'!$D44*$C93","v":0},{"$f":"Q$85*'DNSP Inputs General'!$D44*$C93","v":0},{"$f":"R$85*'DNSP Inputs General'!$D44*$C93","v":0},{"$f":"S$85*'DNSP Inputs General'!$D44*$C93","v":0},{"$f":"T$85*'DNSP Inputs General'!$D44*$C93","v":0},{"$f":"U$85*'DNSP Inputs General'!$D44*$C93","v":0}]
[{"$f":"'DNSP Inputs General'!A$45","v":"Fluorescent 20 watt"},null,{"$f":"C$59","v":3},null,{"$f":"E$85*'DNSP Inputs General'!$D45*$C94","v":89.3218610438025},{"$f":"F$85*'DNSP Inputs General'!$D45*$C94","v":2.7067230619334093},{"$f":"G$85*'DNSP Inputs General'!$D45*$C94","v":2.7067230619334093},{"$f":"H$85*'DNSP Inputs General'!$D45*$C94","v":2.7067230619334093},{"$f":"I$85*'DNSP Inputs General'!$D45*$C94","v":2.7067230619334093},{"$f":"J$85*'DNSP Inputs General'!$D45*$C94","v":2.7067230619334093},{"$f":"K$85*'DNSP Inputs General'!$D45*$C94","v":2.7067230619334093},{"$f":"L$85*'DNSP Inputs General'!$D45*$C94","v":2.7067230619334093},{"$f":"M$85*'DNSP Inputs General'!$D45*$C94","v":2.7067230619334093},{"$f":"N$85*'DNSP Inputs General'!$D45*$C94","v":2.7067230619334093},{"$f":"O$85*'DNSP Inputs General'!$D45*$C94","v":2.7067230619334093},{"$f":"P$85*'DNSP Inputs General'!$D45*$C94","v":2.7067230619334093},{"$f":"Q$85*'DNSP Inputs General'!$D45*$C94","v":2.7067230619334093},{"$f":"R$85*'DNSP Inputs General'!$D45*$C94","v":2.7067230619334093},{"$f":"S$85*'DNSP Inputs General'!$D45*$C94","v":2.7067230619334093},{"$f":"T$85*'DNSP Inputs General'!$D45*$C94","v":2.7067230619334093},{"$f":"U$85*'DNSP Inputs General'!$D45*$C94","v":2.7067230619334093}]
[{"$f":"'DNSP Inputs General'!A$46","v":"Fluorescent 40 watt"},null,{"$f":"C$60","v":230},null,{"$f":"E$85*'DNSP Inputs General'!$D46*$C95","v":6848.009346691525},{"$f":"F$85*'DNSP Inputs General'!$D46*$C95","v":207.51543474822805},{"$f":"G$85*'DNSP Inputs General'!$D46*$C95","v":207.51543474822805},{"$f":"H$85*'DNSP Inputs General'!$D46*$C95","v":207.51543474822805},{"$f":"I$85*'DNSP Inputs General'!$D46*$C95","v":207.51543474822805},{"$f":"J$85*'DNSP Inputs General'!$D46*$C95","v":207.51543474822805},{"$f":"K$85*'DNSP Inputs General'!$D46*$C95","v":207.51543474822805},{"$f":"L$85*'DNSP Inputs General'!$D46*$C95","v":207.51543474822805},{"$f":"M$85*'DNSP Inputs General'!$D46*$C95","v":207.51543474822805},{"$f":"N$85*'DNSP Inputs General'!$D46*$C95","v":207.51543474822805},{"$f":"O$85*'DNSP Inputs General'!$D46*$C95","v":207.51543474822805},{"$f":"P$85*'DNSP Inputs General'!$D46*$C95","v":207.51543474822805},{"$f":"Q$85*'DNSP Inputs General'!$D46*$C95","v":207.51543474822805},{"$f":"R$85*'DNSP Inputs General'!$D46*$C95","v":207.51543474822805},{"$f":"S$85*'DNSP Inputs General'!$D46*$C95","v":207.51543474822805},{"$f":"T$85*'DNSP Inputs General'!$D46*$C95","v":207.51543474822805},{"$f":"U$85*'DNSP Inputs General'!$D46*$C95","v":207.51543474822805}]
[{"$f":"'DNSP Inputs General'!A$47","v":"Fluorescent 80 watt"},null,{"$f":"C$61","v":8},null,{"$f":"E$85*'DNSP Inputs General'!$D47*$C96","v":238.19162945014},{"$f":"F$85*'DNSP Inputs General'!$D47*$C96","v":7.2179281651557581},{"$f":"G$85*'DNSP Inputs General'!$D47*$C96","v":7.2179281651557581},{"$f":"H$85*'DNSP Inputs General'!$D47*$C96","v":7.2179281651557581},{"$f":"I$85*'DNSP Inputs General'!$D47*$C96","v":7.2179281651557581},{"$f":"J$85*'DNSP Inputs General'!$D47*$C96","v":7.2179281651557581},{"$f":"K$85*'DNSP Inputs General'!$D47*$C96","v":7.2179281651557581},{"$f":"L$85*'DNSP Inputs General'!$D47*$C96","v":7.2179281651557581},{"$f":"M$85*'DNSP Inputs General'!$D47*$C96","v":7.2179281651557581},{"$f":"N$85*'DNSP Inputs General'!$D47*$C96","v":7.2179281651557581},{"$f":"O$85*'DNSP Inputs General'!$D47*$C96","v":7.2179281651557581},{"$f":"P$85*'DNSP Inputs General'!$D47*$C96","v":7.2179281651557581},{"$f":"Q$85*'DNSP Inputs General'!$D47*$C96","v":7.2179281651557581},{"$f":"R$85*'DNSP Inputs General'!$D47*$C96","v":7.2179281651557581},{"$f":"S$85*'DNSP Inputs General'!$D47*$C96","v":7.2179281651557581},{"$f":"T$85*'DNSP Inputs General'!$D47*$C96","v":7.2179281651557581},{"$f":"U$85*'DNSP Inputs General'!$D47*$C96","v":7.2179281651557581}]
[{"$f":"'DNSP Inputs General'!A$48","v":"Mercury Vapour 50 watt"},null,{"$f":"C$62","v":87},null,{"$f":"E$85*'DNSP Inputs General'!$D48*$C97","v":2590.3339702702724},{"$f":"F$85*'DNSP Inputs General'!$D48*$C97","v":78.494968796068875},{"$f":"G$85*'DNSP Inputs General'!$D48*$C97","v":78.494968796068875},{"$f":"H$85*'DNSP Inputs General'!$D48*$C97","v":78.494968796068875},{"$f":"I$85*'DNSP Inputs General'!$D48*$C97","v":78.494968796068875},{"$f":"J$85*'DNSP Inputs General'!$D48*$C97","v":78.494968796068875},{"$f":"K$85*'DNSP Inputs General'!$D48*$C97","v":78.494968796068875},{"$f":"L$85*'DNSP Inputs General'!$D48*$C97","v":78.494968796068875},{"$f":"M$85*'DNSP Inputs General'!$D48*$C97","v":78.494968796068875},{"$f":"N$85*'DNSP Inputs General'!$D48*$C97","v":78.494968796068875},{"$f":"O$85*'DNSP Inputs General'!$D48*$C97","v":78.494968796068875},{"$f":"P$85*'DNSP Inputs General'!$D48*$C97","v":78.494968796068875},{"$f":"Q$85*'DNSP Inputs General'!$D48*$C97","v":78.494968796068875},{"$f":"R$85*'DNSP Inputs General'!$D48*$C97","v":78.494968796068875},{"$f":"S$85*'DNSP Inputs General'!$D48*$C97","v":78.494968796068875},{"$f":"T$85*'DNSP Inputs General'!$D48*$C97","v":78.494968796068875},{"$f":"U$85*'DNSP Inputs General'!$D48*$C97","v":78.494968796068875}]
[{"$f":"'DNSP Inputs General'!A$49","v":"Mercury Vapour 125 watt"},null,{"$f":"C$63","v":439},null,{"$f":"E$85*'DNSP Inputs General'!$D49*$C98","v":15371.220423305886},{"$f":"F$85*'DNSP Inputs General'!$D49*$C98","v":465.7945582819965},{"$f":"G$85*'DNSP Inputs General'!$D49*$C98","v":465.7945582819965},{"$f":"H$85*'DNSP Inputs General'!$D49*$C98","v":465.7945582819965},{"$f":"I$85*'DNSP Inputs General'!$D49*$C98","v":465.7945582819965},{"$f":"J$85*'DNSP Inputs General'!$D49*$C98","v":465.7945582819965},{"$f":"K$85*'DNSP Inputs General'!$D49*$C98","v":465.7945582819965},{"$f":"L$85*'DNSP Inputs General'!$D49*$C98","v":465.7945582819965},{"$f":"M$85*'DNSP Inputs General'!$D49*$C98","v":465.7945582819965},{"$f":"N$85*'DNSP Inputs General'!$D49*$C98","v":465.7945582819965},{"$f":"O$85*'DNSP Inputs General'!$D49*$C98","v":465.7945582819965},{"$f":"P$85*'DNSP Inputs General'!$D49*$C98","v":465.7945582819965},{"$f":"Q$85*'DNSP Inputs General'!$D49*$C98","v":465.7945582819965},{"$f":"R$85*'DNSP Inputs General'!$D49*$C98","v":465.7945582819965},{"$f":"S$85*'DNSP Inputs General'!$D49*$C98","v":465.7945582819965},{"$f":"T$85*'DNSP Inputs General'!$D49*$C98","v":465.7945582819965},{"$f":"U$85*'DNSP Inputs General'!$D49*$C98","v":465.7945582819965}]
[{"$f":"'DNSP Inputs General'!A$50","v":"Mercury Vapour 250 watt"},null,{"$f":"C$64","v":199},null,{"$f":"E$85*'DNSP Inputs General'!$D50*$C99","v":4550.4128890154743},{"$f":"F$85*'DNSP Inputs General'!$D50*$C99","v":137.8912996671356},{"$f":"G$85*'DNSP Inputs General'!$D50*$C99","v":137.8912996671356},{"$f":"H$85*'DNSP Inputs General'!$D50*$C99","v":137.8912996671356},{"$f":"I$85*'DNSP Inputs General'!$D50*$C99","v":137.8912996671356},{"$f":"J$85*'DNSP Inputs General'!$D50*$C99","v":137.8912996671356},{"$f":"K$85*'DNSP Inputs General'!$D50*$C99","v":137.8912996671356},{"$f":"L$85*'DNSP Inputs General'!$D50*$C99","v":137.8912996671356},{"$f":"M$85*'DNSP Inputs General'!$D50*$C99","v":137.8912996671356},{"$f":"N$85*'DNSP Inputs General'!$D50*$C99","v":137.8912996671356},{"$f":"O$85*'DNSP Inputs General'!$D50*$C99","v":137.8912996671356},{"$f":"P$85*'DNSP Inputs General'!$D50*$C99","v":137.8912996671356},{"$f":"Q$85*'DNSP Inputs General'!$D50*$C99","v":137.8912996671356},{"$f":"R$85*'DNSP Inputs General'!$D50*$C99","v":137.8912996671356},{"$f":"S$85*'DNSP Inputs General'!$D50*$C99","v":137.8912996671356},{"$f":"T$85*'DNSP Inputs General'!$D50*$C99","v":137.8912996671356},{"$f":"U$85*'DNSP Inputs General'!$D50*$C99","v":137.8912996671356}]
[{"$f":"'DNSP Inputs General'!A$51","v":"Mercury Vapour 400 watt"},null,{"$f":"C$65","v":184},null,{"$f":"E$85*'DNSP Inputs General'!$D51*$C100","v":4733.3440604331818},{"$f":"F$85*'DNSP Inputs General'!$D51*$C100","v":143.43466849797522},{"$f":"G$85*'DNSP Inputs General'!$D51*$C100","v":143.43466849797522},{"$f":"H$85*'DNSP Inputs General'!$D51*$C100","v":143.43466849797522},{"$f":"I$85*'DNSP Inputs General'!$D51*$C100","v":143.43466849797522},{"$f":"J$85*'DNSP Inputs General'!$D51*$C100","v":143.43466849797522},{"$f":"K$85*'DNSP Inputs General'!$D51*$C100","v":143.43466849797522},{"$f":"L$85*'DNSP Inputs General'!$D51*$C100","v":143.43466849797522},{"$f":"M$85*'DNSP Inputs General'!$D51*$C100","v":143.43466849797522},{"$f":"N$85*'DNSP Inputs General'!$D51*$C100","v":143.43466849797522},{"$f":"O$85*'DNSP Inputs General'!$D51*$C100","v":143.43466849797522},{"$f":"P$85*'DNSP Inputs General'!$D51*$C100","v":143.43466849797522},{"$f":"Q$85*'DNSP Inputs General'!$D51*$C100","v":143.43466849797522},{"$f":"R$85*'DNSP Inputs General'!$D51*$C100","v":143.43466849797522},{"$f":"S$85*'DNSP Inputs General'!$D51*$C100","v":143.43466849797522},{"$f":"T$85*'DNSP Inputs General'!$D51*$C100","v":143.43466849797522},{"$f":"U$85*'DNSP Inputs General'!$D51*$C100","v":143.43466849797522}]
[{"$f":"'DNSP Inputs General'!A$52","v":"Sodium High Pressure 50 watt"},null,{"$f":"C$66","v":0},null,{"$f":"E$85*'DNSP Inputs General'!$D52*$C101","v":0},{"$f":"F$85*'DNSP Inputs General'!$D52*$C101","v":0},{"$f":"G$85*'DNSP Inputs General'!$D52*$C101","v":0},{"$f":"H$85*'DNSP Inputs General'!$D52*$C101","v":0},{"$f":"I$85*'DNSP Inputs General'!$D52*$C101","v":0},{"$f":"J$85*'DNSP Inputs General'!$D52*$C101","v":0},{"$f":"K$85*'DNSP Inputs General'!$D52*$C101","v":0},{"$f":"L$85*'DNSP Inputs General'!$D52*$C101","v":0},{"$f":"M$85*'DNSP Inputs General'!$D52*$C101","v":0},{"$f":"N$85*'DNSP Inputs General'!$D52*$C101","v":0},{"$f":"O$85*'DNSP Inputs General'!$D52*$C101","v":0},{"$f":"P$85*'DNSP Inputs General'!$D52*$C101","v":0},{"$f":"Q$85*'DNSP Inputs General'!$D52*$C101","v":0},{"$f":"R$85*'DNSP Inputs General'!$D52*$C101","v":0},{"$f":"S$85*'DNSP Inputs General'!$D52*$C101","v":0},{"$f":"T$85*'DNSP Inputs General'!$D52*$C101","v":0},{"$f":"U$85*'DNSP Inputs General'!$D52*$C101","v":0}]
[{"$f":"'DNSP Inputs General'!A$53","v":"Sodium Low Pressure 90 watt"},null,{"$f":"C$67","v":10},null,{"$f":"E$85*'DNSP Inputs General'!$D53*$C102","v":252.48312721714842},{"$f":"F$85*'DNSP Inputs General'!$D53*$C102","v":7.6510038550651043},{"$f":"G$85*'DNSP Inputs General'!$D53*$C102","v":7.6510038550651043},{"$f":"H$85*'DNSP Inputs General'!$D53*$C102","v":7.6510038550651043},{"$f":"I$85*'DNSP Inputs General'!$D53*$C102","v":7.6510038550651043},{"$f":"J$85*'DNSP Inputs General'!$D53*$C102","v":7.6510038550651043},{"$f":"K$85*'DNSP Inputs General'!$D53*$C102","v":7.6510038550651043},{"$f":"L$85*'DNSP Inputs General'!$D53*$C102","v":7.6510038550651043},{"$f":"M$85*'DNSP Inputs General'!$D53*$C102","v":7.6510038550651043},{"$f":"N$85*'DNSP Inputs General'!$D53*$C102","v":7.6510038550651043},{"$f":"O$85*'DNSP Inputs General'!$D53*$C102","v":7.6510038550651043},{"$f":"P$85*'DNSP Inputs General'!$D53*$C102","v":7.6510038550651043},{"$f":"Q$85*'DNSP Inputs General'!$D53*$C102","v":7.6510038550651043},{"$f":"R$85*'DNSP Inputs General'!$D53*$C102","v":7.6510038550651043},{"$f":"S$85*'DNSP Inputs General'!$D53*$C102","v":7.6510038550651043},{"$f":"T$85*'DNSP Inputs General'!$D53*$C102","v":7.6510038550651043},{"$f":"U$85*'DNSP Inputs General'!$D53*$C102","v":7.6510038550651043}]
[{"$f":"'DNSP Inputs General'!A$54","v":"Sodium High Pressure 100 watt"},null,{"$f":"C$68","v":960},null,{"$f":"E$85*'DNSP Inputs General'!$D54*$C103","v":31326.963105282419},{"$f":"F$85*'DNSP Inputs General'!$D54*$C103","v":949.30191228128535},{"$f":"G$85*'DNSP Inputs General'!$D54*$C103","v":949.30191228128535},{"$f":"H$85*'DNSP Inputs General'!$D54*$C103","v":949.30191228128535},{"$f":"I$85*'DNSP Inputs General'!$D54*$C103","v":949.30191228128535},{"$f":"J$85*'DNSP Inputs General'!$D54*$C103","v":949.30191228128535},{"$f":"K$85*'DNSP Inputs General'!$D54*$C103","v":949.30191228128535},{"$f":"L$85*'DNSP Inputs General'!$D54*$C103","v":949.30191228128535},{"$f":"M$85*'DNSP Inputs General'!$D54*$C103","v":949.30191228128535},{"$f":"N$85*'DNSP Inputs General'!$D54*$C103","v":949.30191228128535},{"$f":"O$85*'DNSP Inputs General'!$D54*$C103","v":949.30191228128535},{"$f":"P$85*'DNSP Inputs General'!$D54*$C103","v":949.30191228128535},{"$f":"Q$85*'DNSP Inputs General'!$D54*$C103","v":949.30191228128535},{"$f":"R$85*'DNSP Inputs General'!$D54*$C103","v":949.30191228128535},{"$f":"S$85*'DNSP Inputs General'!$D54*$C103","v":949.30191228128535},{"$f":"T$85*'DNSP Inputs General'!$D54*$C103","v":949.30191228128535},{"$f":"U$85*'DNSP Inputs General'!$D54*$C103","v":949.30191228128535}]
[{"$f":"'DNSP Inputs General'!A$55","v":"Sodium High Pressure 400 watt"},null,{"$f":"C$69","v":273},null,{"$f":"E$85*'DNSP Inputs General'!$D55*$C104","v":8648.4998737051337},{"$f":"F$85*'DNSP Inputs General'!$D55*$C104","v":262.07575374864041},{"$f":"G$85*'DNSP Inputs General'!$D55*$C104","v":262.07575374864041},{"$f":"H$85*'DNSP Inputs General'!$D55*$C104","v":262.07575374864041},{"$f":"I$85*'DNSP Inputs General'!$D55*$C104","v":262.07575374864041},{"$f":"J$85*'DNSP Inputs General'!$D55*$C104","v":262.07575374864041},{"$f":"K$85*'DNSP Inputs General'!$D55*$C104","v":262.07575374864041},{"$f":"L$85*'DNSP Inputs General'!$D55*$C104","v":262.07575374864041},{"$f":"M$85*'DNSP Inputs General'!$D55*$C104","v":262.07575374864041},{"$f":"N$85*'DNSP Inputs General'!$D55*$C104","v":262.07575374864041},{"$f":"O$85*'DNSP Inputs General'!$D55*$C104","v":262.07575374864041},{"$f":"P$85*'DNSP Inputs General'!$D55*$C104","v":262.07575374864041},{"$f":"Q$85*'DNSP Inputs General'!$D55*$C104","v":262.07575374864041},{"$f":"R$85*'DNSP Inputs General'!$D55*$C104","v":262.07575374864041},{"$f":"S$85*'DNSP Inputs General'!$D55*$C104","v":262.07575374864041},{"$f":"T$85*'DNSP Inputs General'!$D55*$C104","v":262.07575374864041},{"$f":"U$85*'DNSP Inputs General'!$D55*$C104","v":262.07575374864041}]
[{"$f":"'DNSP Inputs General'!A$56","v":"Metal Halide 70 watt"},null,{"$f":"C$70","v":13},null,{"$f":"E$85*'DNSP Inputs General'!$D56*$C105","v":795.79823399291763},{"$f":"F$85*'DNSP Inputs General'!$D56*$C105","v":24.115097999785387},{"$f":"G$85*'DNSP Inputs General'!$D56*$C105","v":24.115097999785387},{"$f":"H$85*'DNSP Inputs General'!$D56*$C105","v":24.115097999785387},{"$f":"I$85*'DNSP Inputs General'!$D56*$C105","v":24.115097999785387},{"$f":"J$85*'DNSP Inputs General'!$D56*$C105","v":24.115097999785387},{"$f":"K$85*'DNSP Inputs General'!$D56*$C105","v":24.115097999785387},{"$f":"L$85*'DNSP Inputs General'!$D56*$C105","v":24.115097999785387},{"$f":"M$85*'DNSP Inputs General'!$D56*$C105","v":24.115097999785387},{"$f":"N$85*'DNSP Inputs General'!$D56*$C105","v":24.115097999785387},{"$f":"O$85*'DNSP Inputs General'!$D56*$C105","v":24.115097999785387},{"$f":"P$85*'DNSP Inputs General'!$D56*$C105","v":24.115097999785387},{"$f":"Q$85*'DNSP Inputs General'!$D56*$C105","v":24.115097999785387},{"$f":"R$85*'DNSP Inputs General'!$D56*$C105","v":24.115097999785387},{"$f":"S$85*'DNSP Inputs General'!$D56*$C105","v":24.115097999785387},{"$f":"T$85*'DNSP Inputs General'!$D56*$C105","v":24.115097999785387},{"$f":"U$85*'DNSP Inputs General'!$D56*$C105","v":24.115097999785387}]
[{"$f":"'DNSP Inputs General'!A$57","v":"Metal Halide 150 watt"},null,{"$f":"C$71","v":16},null,{"$f":"E$85*'DNSP Inputs General'!$D57*$C106","v":846.05666780689739},{"$f":"F$85*'DNSP Inputs General'!$D57*$C106","v":25.638080842633254},{"$f":"G$85*'DNSP Inputs General'!$D57*$C106","v":25.638080842633254},{"$f":"H$85*'DNSP Inputs General'!$D57*$C106","v":25.638080842633254},{"$f":"I$85*'DNSP Inputs General'!$D57*$C106","v":25.638080842633254},{"$f":"J$85*'DNSP Inputs General'!$D57*$C106","v":25.638080842633254},{"$f":"K$85*'DNSP Inputs General'!$D57*$C106","v":25.638080842633254},{"$f":"L$85*'DNSP Inputs General'!$D57*$C106","v":25.638080842633254},{"$f":"M$85*'DNSP Inputs General'!$D57*$C106","v":25.638080842633254},{"$f":"N$85*'DNSP Inputs General'!$D57*$C106","v":25.638080842633254},{"$f":"O$85*'DNSP Inputs General'!$D57*$C106","v":25.638080842633254},{"$f":"P$85*'DNSP Inputs General'!$D57*$C106","v":25.638080842633254},{"$f":"Q$85*'DNSP Inputs General'!$D57*$C106","v":25.638080842633254},{"$f":"R$85*'DNSP Inputs General'!$D57*$C106","v":25.638080842633254},{"$f":"S$85*'DNSP Inputs General'!$D57*$C106","v":25.638080842633254},{"$f":"T$85*'DNSP Inputs General'!$D57*$C106","v":25.638080842633254},{"$f":"U$85*'DNSP Inputs General'!$D57*$C106","v":25.638080842633254}]
[{"$f":"'DNSP Inputs General'!A$58","v":"Metal Halide 250 watt"},null,{"$f":"C$72","v":29},null,{"$f":"E$85*'DNSP Inputs General'!$D58*$C107","v":1485.1248096216229},{"$f":"F$85*'DNSP Inputs General'!$D58*$C107","v":45.003782109746147},{"$f":"G$85*'DNSP Inputs General'!$D58*$C107","v":45.003782109746147},{"$f":"H$85*'DNSP Inputs General'!$D58*$C107","v":45.003782109746147},{"$f":"I$85*'DNSP Inputs General'!$D58*$C107","v":45.003782109746147},{"$f":"J$85*'DNSP Inputs General'!$D58*$C107","v":45.003782109746147},{"$f":"K$85*'DNSP Inputs General'!$D58*$C107","v":45.003782109746147},{"$f":"L$85*'DNSP Inputs General'!$D58*$C107","v":45.003782109746147},{"$f":"M$85*'DNSP Inputs General'!$D58*$C107","v":45.003782109746147},{"$f":"N$85*'DNSP Inputs General'!$D58*$C107","v":45.003782109746147},{"$f":"O$85*'DNSP Inputs General'!$D58*$C107","v":45.003782109746147},{"$f":"P$85*'DNSP Inputs General'!$D58*$C107","v":45.003782109746147},{"$f":"Q$85*'DNSP Inputs General'!$D58*$C107","v":45.003782109746147},{"$f":"R$85*'DNSP Inputs General'!$D58*$C107","v":45.003782109746147},{"$f":"S$85*'DNSP Inputs General'!$D58*$C107","v":45.003782109746147},{"$f":"T$85*'DNSP Inputs General'!$D58*$C107","v":45.003782109746147},{"$f":"U$85*'DNSP Inputs General'!$D58*$C107","v":45.003782109746147}]
[{"$f":"'DNSP Inputs General'!A$59","v":"Incandescent 100 watt"},null,{"$f":"C$73","v":5},null,{"$f":"E$85*'DNSP Inputs General'!$D59*$C108","v":185.78947097110921},{"$f":"F$85*'DNSP Inputs General'!$D59*$C108","v":5.6299839688214917},{"$f":"G$85*'DNSP Inputs General'!$D59*$C108","v":5.6299839688214917},{"$f":"H$85*'DNSP Inputs General'!$D59*$C108","v":5.6299839688214917},{"$f":"I$85*'DNSP Inputs General'!$D59*$C108","v":5.6299839688214917},{"$f":"J$85*'DNSP Inputs General'!$D59*$C108","v":5.6299839688214917},{"$f":"K$85*'DNSP Inputs General'!$D59*$C108","v":5.6299839688214917},{"$f":"L$85*'DNSP Inputs General'!$D59*$C108","v":5.6299839688214917},{"$f":"M$85*'DNSP Inputs General'!$D59*$C108","v":5.6299839688214917},{"$f":"N$85*'DNSP Inputs General'!$D59*$C108","v":5.6299839688214917},{"$f":"O$85*'DNSP Inputs General'!$D59*$C108","v":5.6299839688214917},{"$f":"P$85*'DNSP Inputs General'!$D59*$C108","v":5.6299839688214917},{"$f":"Q$85*'DNSP Inputs General'!$D59*$C108","v":5.6299839688214917},{"$f":"R$85*'DNSP Inputs General'!$D59*$C108","v":5.6299839688214917},{"$f":"S$85*'DNSP Inputs General'!$D59*$C108","v":5.6299839688214917},{"$f":"T$85*'DNSP Inputs General'!$D59*$C108","v":5.6299839688214917},{"$f":"U$85*'DNSP Inputs General'!$D59*$C108","v":5.6299839688214917}]
[{"$f":"'DNSP Inputs General'!A$60","v":"Incandescent 150 watt"},null,{"$f":"C$74","v":5},null,{"$f":"E$85*'DNSP Inputs General'!$D60*$C109","v":232.23683871388647},{"$f":"F$85*'DNSP Inputs General'!$D60*$C109","v":7.0374799610268637},{"$f":"G$85*'DNSP Inputs General'!$D60*$C109","v":7.0374799610268637},{"$f":"H$85*'DNSP Inputs General'!$D60*$C109","v":7.0374799610268637},{"$f":"I$85*'DNSP Inputs General'!$D60*$C109","v":7.0374799610268637},{"$f":"J$85*'DNSP Inputs General'!$D60*$C109","v":7.0374799610268637},{"$f":"K$85*'DNSP Inputs General'!$D60*$C109","v":7.0374799610268637},{"$f":"L$85*'DNSP Inputs General'!$D60*$C109","v":7.0374799610268637},{"$f":"M$85*'DNSP Inputs General'!$D60*$C109","v":7.0374799610268637},{"$f":"N$85*'DNSP Inputs General'!$D60*$C109","v":7.0374799610268637},{"$f":"O$85*'DNSP Inputs General'!$D60*$C109","v":7.0374799610268637},{"$f":"P$85*'DNSP Inputs General'!$D60*$C109","v":7.0374799610268637},{"$f":"Q$85*'DNSP Inputs General'!$D60*$C109","v":7.0374799610268637},{"$f":"R$85*'DNSP Inputs General'!$D60*$C109","v":7.0374799610268637},{"$f":"S$85*'DNSP Inputs General'!$D60*$C109","v":7.0374799610268637},{"$f":"T$85*'DNSP Inputs General'!$D60*$C109","v":7.0374799610268637},{"$f":"U$85*'DNSP Inputs General'!$D60*$C109","v":7.0374799610268637}]
[{"$f":"'DNSP Inputs General'!A$61","v":"Sodium High Pressure 250 watt (24 hrs)"},null,{"$f":"C$75","v":0},null,{"$f":"E$85*'DNSP Inputs General'!$D61*$C110","v":0},{"$f":"F$85*'DNSP Inputs General'!$D61*$C110","v":0},{"$f":"G$85*'DNSP Inputs General'!$D61*$C110","v":0},{"$f":"H$85*'DNSP Inputs General'!$D61*$C110","v":0},{"$f":"I$85*'DNSP Inputs General'!$D61*$C110","v":0},{"$f":"J$85*'DNSP Inputs General'!$D61*$C110","v":0},{"$f":"K$85*'DNSP Inputs General'!$D61*$C110","v":0},{"$f":"L$85*'DNSP Inputs General'!$D61*$C110","v":0},{"$f":"M$85*'DNSP Inputs General'!$D61*$C110","v":0},{"$f":"N$85*'DNSP Inputs General'!$D61*$C110","v":0},{"$f":"O$85*'DNSP Inputs General'!$D61*$C110","v":0},{"$f":"P$85*'DNSP Inputs General'!$D61*$C110","v":0},{"$f":"Q$85*'DNSP Inputs General'!$D61*$C110","v":0},{"$f":"R$85*'DNSP Inputs General'!$D61*$C110","v":0},{"$f":"S$85*'DNSP Inputs General'!$D61*$C110","v":0},{"$f":"T$85*'DNSP Inputs General'!$D61*$C110","v":0},{"$f":"U$85*'DNSP Inputs General'!$D61*$C110","v":0}]
[{"$f":"'DNSP Inputs General'!A$62","v":"Metal Halide 100 watt"},null,{"$f":"C$76","v":0},null,{"$f":"E$85*'DNSP Inputs General'!$D62*$C111","v":0},{"$f":"F$85*'DNSP Inputs General'!$D62*$C111","v":0},{"$f":"G$85*'DNSP Inputs General'!$D62*$C111","v":0},{"$f":"H$85*'DNSP Inputs General'!$D62*$C111","v":0},{"$f":"I$85*'DNSP Inputs General'!$D62*$C111","v":0},{"$f":"J$85*'DNSP Inputs General'!$D62*$C111","v":0},{"$f":"K$85*'DNSP Inputs General'!$D62*$C111","v":0},{"$f":"L$85*'DNSP Inputs General'!$D62*$C111","v":0},{"$f":"M$85*'DNSP Inputs General'!$D62*$C111","v":0},{"$f":"N$85*'DNSP Inputs General'!$D62*$C111","v":0},{"$f":"O$85*'DNSP Inputs General'!$D62*$C111","v":0},{"$f":"P$85*'DNSP Inputs General'!$D62*$C111","v":0},{"$f":"Q$85*'DNSP Inputs General'!$D62*$C111","v":0},{"$f":"R$85*'DNSP Inputs General'!$D62*$C111","v":0},{"$f":"S$85*'DNSP Inputs General'!$D62*$C111","v":0},{"$f":"T$85*'DNSP Inputs General'!$D62*$C111","v":0},{"$f":"U$85*'DNSP Inputs General'!$D62*$C111","v":0}]
[]
[null,null,null,null,{"$f":"SUM(E90:E112)","v":1603596.8004691626},{"$f":"SUM(F90:F112)","v":48593.842438459491},48593.842438459491,48593.842438459491,{"$f":"SUM(I90:I112)","v":48593.842438459491},48593.842438459491,48593.842438459491,48593.842438459491,48593.842438459491,48593.842438459491,48593.842438459491,48593.842438459491,48593.842438459491,48593.842438459491,{"$f":"SUM(S90:S112)","v":48593.842438459491},48593.842438459491,48593.842438459491]
[]
[]
[]
[]
[]
["Detailed calculations"]
[]
[]
["DEPRECIATION PROFILE"]
["Year Counter",1,{"$f":"B123+1","v":2},3,4,5,6,7,8,9,10,11,12,13,14,15,16,17,18,19,20,21,22,23,24,25,26,27,28,29,30,31,32,33,34,35,36,37,38,39,40]
["Numerator",2001,{"$f":"B124+1","v":2002},2003,2004,2005,2006,2007,2008,2009,2010,2011,2012,2013,2014,2015,2016,2017,2018,2019,2020,2021,2022,2023,2024,2025,2026,2027,2028,2029,2030,2031,2032,2033,2034,2035,2036,2037,2038,2039,2040]
[{"$f":"'Inputs PL Final Decision 2004'!$A$65","v":"20 year asset life"},10,29,47,64,{"$f":"E125+10-4","v":70},{"$f":"F125-4","v":66},{"$f":"IF(G125-4<0,0,G125-4)","v":62},58,54,50,46,42,38,34,30,26,22,18,14,10,6,{"$f":"IF(V125-3<0,0,V125-3)","v":3},{"$f":"IF(W125-2<0,0,W125-2)","v":1},{"$f":"IF(X125-1<0,0,X125-1)","v":0},{"$f":"IF(Y125-1<0,0,Y125-1)","v":0},{"$f":"IF(Z125-1<0,0,Z125-1)","v":0},0,0,0,0,0,0,0,0,0,0,0,0,0,0]
[]
[{"$f":"'Inputs PL Final Decision 2004'!$A$74","v":"35 year asset life"},17.5,51.5,84.5,116.5,{"$f":"E127+17.5-4","v":130},{"$f":"F127-4","v":126},{"$f":"IF(G127-4<0,0,G127-4)","v":122},118,114,110,106,102,98,94,90,86,82,78,74,70,66,62,58,54,50,46,42,38,34,30,26,22,18,14,10,6,{"$f":"IF(AK127-3<0,0,AK127-3)","v":3},{"$f":"IF(AL127-2<0,0,AL127-2)","v":1},{"$f":"IF(AM127-1<0,0,AM127-1)","v":0},{"$f":"IF(AN127-1<0,0,AN127-1)","v":0}]
[]
[]
[]
[]
["MV 80",null,null,{"$f":"'Inputs PL Final Decision 2004'!$B$88","v":"Location of selected public lighting assets within distributors' areas (%)"},null,null,null,null,null,{"$f":"'Inputs PL Final Decision 2004'!$B$107","v":"Proportion of lights installed at 1 January 2001 (%)"}]
["Luminaire",null,null,{"$f":"'Inputs PL Final Decision 2004'!$B$92","v":"CitiPower"},{"$f":"IF($A$1='Inputs PL Final Decision 2004'!$A$123,'Inputs PL Final Decision 2004'!$C$92,IF($A$1='Inputs PL Final Decision 2004'!$A$124,'Inputs PL Final Decision 2004'!$D$92,IF($A$1='Inputs PL Final Decision 2004'!$A$125,'Inputs PL Final Decision 2004'!$E$92,IF($A$1='Inputs PL Final Decision 2004'!$A$126,'Inputs PL Final Decision 2004'!$F$92,IF($A$1='Inputs PL Final Decision 2004'!$A$127,'Inputs PL Final Decision 2004'!$G$92,'Inputs PL Final Decision 2004'!$H$92)))))","v":0},null,null,null,null,{"$f":"IF($A$1='Inputs PL Final Decision 2004'!$A$123,'Inputs PL Final Decision 2004'!$C$110,IF($A$1='Inputs PL Final Decision 2004'!$A$124,'Inputs PL Final Decision 2004'!$D$110,IF($A$1='Inputs PL Final Decision 2004'!$A$125,'Inputs PL Final Decision 2004'!$E$110,IF($A$1='Inputs PL Final Decision 2004'!$A$126,'Inputs PL Final Decision 2004'!$F$110,IF($A$1='Inputs PL Final Decision 2004'!$A$127,'Inputs PL Final Decision 2004'!$G$110,'Inputs PL Final Decision 2004'!$H$110)))))","v":0.905787037037037}]
["Capital cost",{"$f":"($F$212*E133+$L$212*E134+$R$212*E135+$X$212*E136)*J133","v":218.50943933883099},null,{"$f":"'Inputs PL Final Decision 2004'!$B$93","v":"Urban"},{"$f":"IF($A$1='Inputs PL Final Decision 2004'!$A$123,'Inputs PL Final Decision 2004'!$C$93,IF($A$1='Inputs PL Final Decision 2004'!$A$124,'Inputs PL Final Decision 2004'!$D$93,IF($A$1='Inputs PL Final Decision 2004'!$A$125,'Inputs PL Final Decision 2004'!$E$93,IF($A$1='Inputs PL Final Decision 2004'!$A$126,'Inputs PL Final Decision 2004'!$F$93,IF($A$1='Inputs PL Final Decision 2004'!$A$127,'Inputs PL Final Decision 2004'!$G$93,'Inputs PL Final Decision 2004'!$H$93)))))","v":0.97}]
[{"$f":"'Inputs PL Final Decision 2004'!$A$20","v":"Depreciation period"},{"$f":"'Inputs PL Final Decision 2004'!$B$20","v":20},null,{"$f":"'Inputs PL Final Decision 2004'!$B$94","v":"Rural"},{"$f":"IF($A$1='Inputs PL Final Decision 2004'!$A$123,'Inputs PL Final Decision 2004'!$C$94,IF($A$1='Inputs PL Final Decision 2004'!$A$124,'Inputs PL Final Decision 2004'!$D$94,IF($A$1='Inputs PL Final Decision 2004'!$A$125,'Inputs PL Final Decision 2004'!$E$94,IF($A$1='Inputs PL Final Decision 2004'!$A$126,'Inputs PL Final Decision 2004'!$F$94,IF($A$1='Inputs PL Final Decision 2004'!$A$127,'Inputs PL Final Decision 2004'!$G$94,'Inputs PL Final Decision 2004'!$H$94)))))","v":0.03}]
[{"$f":"'Inputs PL Final Decision 2004'!$A$16","v":"Number of years from 1 January 2001"},{"$f":"'Inputs PL Final Decision 2004'!$B$16","v":4},null,{"$f":"'Inputs PL Final Decision 2004'!$B$95","v":"Remote"},{"$f":"IF($A$1='Inputs PL Final Decision 2004'!$A$123,'Inputs PL Final Decision 2004'!$C$95,IF($A$1='Inputs PL Final Decision 2004'!$A$124,'Inputs PL Final Decision 2004'!$D$95,IF($A$1='Inputs PL Final Decision 2004'!$A$125,'Inputs PL Final Decision 2004'!$E$95,IF($A$1='Inputs PL Final Decision 2004'!$A$126,'Inputs PL Final Decision 2004'!$F$95,IF($A$1='Inputs PL Final Decision 2004'!$A$127,'Inputs PL Final Decision 2004'!$G$95,'Inputs PL Final Decision 2004'!$H$95)))))","v":0}]
[]
[]
[]
[null,null,null,null,2004,{"$f":"E140+1","v":2005},2006,2007,2008,2009,2010,2011,2012,2013,2014,2015,{"$f":"P140+1","v":2016},{"$f":"Q140+1","v":2017},{"$f":"R140+1","v":2018},{"$f":"S140+1","v":2019},{"$f":"T140+1","v":2020},{"$f":"U140+1","v":2021},{"$f":"V140+1","v":2022},{"$f":"W140+1","v":2023},{"$f":"X140+1","v":2024},{"$f":"Y140+1","v":2025},{"$f":"Z140+1","v":2026},{"$f":"AA140+1","v":2027},{"$f":"AB140+1","v":2028},{"$f":"AC140+1","v":2029},{"$f":"AD140+1","v":2030},{"$f":"AE140+1","v":2031},{"$f":"AF140+1","v":2032},{"$f":"AG140+1","v":2033},{"$f":"AH140+1","v":2034},{"$f":"AI140+1","v":2035},{"$f":"AJ140+1","v":2036},{"$f":"AK140+1","v":2037},{"$f":"AL140+1","v":2038},{"$f":"AM140+1","v":2039},{"$f":"AN140+1","v":2040}]
["RAB for Return",null,null,null,{"$f":"E$125/$B135*$B134/$B135","v":34.961510294212964},38.239151884295424,36.054057490907113,33.868963097518801,31.683868704130493,29.498774310742185,27.313679917353873,25.128585523965562,22.943491130577254,20.758396737188942,18.573302343800634,16.388207950412323,14.203113557024015,12.018019163635705,9.832924770247395,7.6478303768590834,5.4627359834707745,3.2776415900824647,1.6388207950412323,0.54627359834707756,0,0,0,0,0,0,0,0,0,0,0,0,0,0,0,0,0]
["Depreciation",null,null,null,{"$f":"IF(E141=0,0,$B$134*$B$136/$B$135/$B$135)","v":2.1850943933883098},2.1850943933883098,2.1850943933883098,2.1850943933883098,2.1850943933883098,2.1850943933883098,2.1850943933883098,2.1850943933883098,2.1850943933883098,2.1850943933883098,2.1850943933883098,2.1850943933883098,{"$f":"IF(Q141=0,0,$B$134*$B$136/$B$135/$B$135)","v":2.1850943933883098},2.1850943933883098,2.1850943933883098,2.1850943933883098,2.1850943933883098,2.1850943933883098,2.1850943933883098,2.1850943933883098,0,0,0,0,0,0,0,0,0,0,0,0,0,0,0,0,0]
[]
[]
[]
["S-HP 150 ",null,null,{"$f":"'Inputs PL Final Decision 2004'!$B$88","v":"Location of selected public lighting assets within distributors' areas (%)"},null,null,null,null,null,{"$f":"'Inputs PL Final Decision 2004'!$B$107","v":"Proportion of lights installed at 1 January 2001 (%)"}]
["Luminaire",null,null,{"$f":"'Inputs PL Final Decision 2004'!$B$92","v":"CitiPower"},{"$f":"IF($A$1='Inputs PL Final Decision 2004'!$A$123,'Inputs PL Final Decision 2004'!$C$97,IF($A$1='Inputs PL Final Decision 2004'!$A$124,'Inputs PL Final Decision 2004'!$D$97,IF($A$1='Inputs PL Final Decision 2004'!$A$125,'Inputs PL Final Decision 2004'!$E$97,IF($A$1='Inputs PL Final Decision 2004'!$A$126,'Inputs PL Final Decision 2004'!$F$97,IF($A$1='Inputs PL Final Decision 2004'!$A$127,'Inputs PL Final Decision 2004'!$G$97,'Inputs PL Final Decision 2004'!$H$97)))))","v":0},null,null,null,null,{"$f":"IF($A$1='Inputs PL Final Decision 2004'!$A$123,'Inputs PL Final Decision 2004'!$C$111,IF($A$1='Inputs PL Final Decision 2004'!$A$124,'Inputs PL Final Decision 2004'!$D$111,IF($A$1='Inputs PL Final Decision 2004'!$A$125,'Inputs PL Final Decision 2004'!$E$111,IF($A$1='Inputs PL Final Decision 2004'!$A$126,'Inputs PL Final Decision 2004'!$F$111,IF($A$1='Inputs PL Final Decision 2004'!$A$127,'Inputs PL Final Decision 2004'!$G$111,'Inputs PL Final Decision 2004'!$H$111)))))","v":0.92852830188679247}]
["Capital cost",{"$f":"($F$218*E147+$L$218*E148+$R$218*E149+$X$218*E150)*J147","v":256.39381521130622},null,{"$f":"'Inputs PL Final Decision 2004'!$B$93","v":"Urban"},{"$f":"IF($A$1='Inputs PL Final Decision 2004'!$A$123,'Inputs PL Final Decision 2004'!$C$98,IF($A$1='Inputs PL Final Decision 2004'!$A$124,'Inputs PL Final Decision 2004'!$D$98,IF($A$1='Inputs PL Final Decision 2004'!$A$125,'Inputs PL Final Decision 2004'!$E$98,IF($A$1='Inputs PL Final Decision 2004'!$A$126,'Inputs PL Final Decision 2004'!$F$98,IF($A$1='Inputs PL Final Decision 2004'!$A$127,'Inputs PL Final Decision 2004'!$G$98,'Inputs PL Final Decision 2004'!$H$98)))))","v":0.98}]
[{"$f":"'Inputs PL Final Decision 2004'!$A$20","v":"Depreciation period"},{"$f":"'Inputs PL Final Decision 2004'!$B$30","v":20},null,{"$f":"'Inputs PL Final Decision 2004'!$B$94","v":"Rural"},{"$f":"IF($A$1='Inputs PL Final Decision 2004'!$A$123,'Inputs PL Final Decision 2004'!$C$99,IF($A$1='Inputs PL Final Decision 2004'!$A$124,'Inputs PL Final Decision 2004'!$D$99,IF($A$1='Inputs PL Final Decision 2004'!$A$125,'Inputs PL Final Decision 2004'!$E$99,IF($A$1='Inputs PL Final Decision 2004'!$A$126,'Inputs PL Final Decision 2004'!$F$99,IF($A$1='Inputs PL Final Decision 2004'!$A$127,'Inputs PL Final Decision 2004'!$G$99,'Inputs PL Final Decision 2004'!$H$99)))))","v":0.02}]
[{"$f":"'Inputs PL Final Decision 2004'!$A$16","v":"Number of years from 1 January 2001"},{"$f":"'Inputs PL Final Decision 2004'!$B$16","v":4},null,{"$f":"'Inputs PL Final Decision 2004'!$B$95","v":"Remote"},{"$f":"IF($A$1='Inputs PL Final Decision 2004'!$A$123,'Inputs PL Final Decision 2004'!$C$100,IF($A$1='Inputs PL Final Decision 2004'!$A$124,'Inputs PL Final Decision 2004'!$D$100,IF($A$1='Inputs PL Final Decision 2004'!$A$125,'Inputs PL Final Decision 2004'!$E$100,IF($A$1='Inputs PL Final Decision 2004'!$A$126,'Inputs PL Final Decision 2004'!$F$100,IF($A$1='Inputs PL Final Decision 2004'!$A$127,'Inputs PL Final Decision 2004'!$G$100,'Inputs PL Final Decision 2004'!$H$100)))))","v":0}]
[]
[]
[]
[null,null,null,null,2004,{"$f":"E154+1","v":2005},2006,2007,2008,2009,2010,2011,2012,2013,2014,2015,{"$f":"P154+1","v":2016},{"$f":"Q154+1","v":2017},{"$f":"R154+1","v":2018},{"$f":"S154+1","v":2019},{"$f":"T154+1","v":2020},{"$f":"U154+1","v":2021},{"$f":"V154+1","v":2022},{"$f":"W154+1","v":2023},{"$f":"X154+1","v":2024},{"$f":"Y154+1","v":2025},{"$f":"Z154+1","v":2026},{"$f":"AA154+1","v":2027},{"$f":"AB154+1","v":2028},{"$f":"AC154+1","v":2029},{"$f":"AD154+1","v":2030},{"$f":"AE154+1","v":2031},{"$f":"AF154+1","v":2032},{"$f":"AG154+1","v":2033},{"$f":"AH154+1","v":2034},{"$f":"AI154+1","v":2035},{"$f":"AJ154+1","v":2036},{"$f":"AK154+1","v":2037},{"$f":"AL154+1","v":2038},{"$f":"AM154+1","v":2039},{"$f":"AN154+1","v":2040}]
["RAB for Return",null,null,null,{"$f":"E$125/$B149*$B148/$B149","v":41.023010433808999},44.868917661978585,42.304979509865525,39.741041357752465,37.177103205639398,34.613165053526345,32.049226901413277,29.485288749300214,26.921350597187153,24.35741244507409,21.793474292961029,19.229536140847966,16.665597988734905,14.101659836621844,11.53772168450878,8.9737835323957178,6.4098453802826558,3.845907228169593,1.9229536140847965,0.6409845380282656,0,0,0,0,0,0,0,0,0,0,0,0,0,0,0,0,0]
["Depreciation",null,null,null,{"$f":"IF(E155=0,0,$B$148*$B$150/$B$149/$B$149)","v":2.5639381521130624},2.5639381521130624,2.5639381521130624,2.5639381521130624,2.5639381521130624,2.5639381521130624,2.5639381521130624,2.5639381521130624,2.5639381521130624,2.5639381521130624,2.5639381521130624,2.5639381521130624,{"$f":"IF(Q155=0,0,$B$148*$B$150/$B$149/$B$149)","v":2.5639381521130624},2.5639381521130624,2.5639381521130624,2.5639381521130624,2.5639381521130624,2.5639381521130624,2.5639381521130624,2.5639381521130624,0,0,0,0,0,0,0,0,0,0,0,0,0,0,0,0,0]
[]
[]
[]
["S-HP 250 ",null,null,{"$f":"'Inputs PL Final Decision 2004'!$B$88","v":"Location of selected public lighting assets within distributors' areas (%)"},null,null,null,null,null,{"$f":"'Inputs PL Final Decision 2004'!$B$107","v":"Proportion of lights installed at 1 January 2001 (%)"}]
["Luminaire",null,null,{"$f":"'Inputs PL Final Decision 2004'!$B$92","v":"CitiPower"},{"$f":"IF($A$1='Inputs PL Final Decision 2004'!$A$123,'Inputs PL Final Decision 2004'!$C$102,IF($A$1='Inputs PL Final Decision 2004'!$A$124,'Inputs PL Final Decision 2004'!$D$102,IF($A$1='Inputs PL Final Decision 2004'!$A$125,'Inputs PL Final Decision 2004'!$E$102,IF($A$1='Inputs PL Final Decision 2004'!$A$126,'Inputs PL Final Decision 2004'!$F$102,IF($A$1='Inputs PL Final Decision 2004'!$A$127,'Inputs PL Final Decision 2004'!$G$102,'Inputs PL Final Decision 2004'!$H$102)))))","v":0},null,null,null,null,{"$f":"IF($A$1='Inputs PL Final Decision 2004'!$A$123,'Inputs PL Final Decision 2004'!$C$112,IF($A$1='Inputs PL Final Decision 2004'!$A$124,'Inputs PL Final Decision 2004'!$D$112,IF($A$1='Inputs PL Final Decision 2004'!$A$125,'Inputs PL Final Decision 2004'!$E$112,IF($A$1='Inputs PL Final Decision 2004'!$A$126,'Inputs PL Final Decision 2004'!$F$112,IF($A$1='Inputs PL Final Decision 2004'!$A$127,'Inputs PL Final Decision 2004'!$G$112,'Inputs PL Final Decision 2004'!$H$112)))))","v":0.97372093023255812}]
["Capital cost",{"$f":"($F$224*E161+$L$224*E162+$R$224*E163+$X$224*E164)*J161","v":272.17540619463324},null,{"$f":"'Inputs PL Final Decision 2004'!$B$93","v":"Urban"},{"$f":"IF($A$1='Inputs PL Final Decision 2004'!$A$123,'Inputs PL Final Decision 2004'!$C$103,IF($A$1='Inputs PL Final Decision 2004'!$A$124,'Inputs PL Final Decision 2004'!$D$103,IF($A$1='Inputs PL Final Decision 2004'!$A$125,'Inputs PL Final Decision 2004'!$E$103,IF($A$1='Inputs PL Final Decision 2004'!$A$126,'Inputs PL Final Decision 2004'!$F$103,IF($A$1='Inputs PL Final Decision 2004'!$A$127,'Inputs PL Final Decision 2004'!$G$103,'Inputs PL Final Decision 2004'!$H$103)))))","v":0.96}]
[{"$f":"'Inputs PL Final Decision 2004'!$A$20","v":"Depreciation period"},{"$f":"'Inputs PL Final Decision 2004'!$B$41","v":20},null,{"$f":"'Inputs PL Final Decision 2004'!$B$94","v":"Rural"},{"$f":"IF($A$1='Inputs PL Final Decision 2004'!$A$123,'Inputs PL Final Decision 2004'!$C$104,IF($A$1='Inputs PL Final Decision 2004'!$A$124,'Inputs PL Final Decision 2004'!$D$104,IF($A$1='Inputs PL Final Decision 2004'!$A$125,'Inputs PL Final Decision 2004'!$E$104,IF($A$1='Inputs PL Final Decision 2004'!$A$126,'Inputs PL Final Decision 2004'!$F$104,IF($A$1='Inputs PL Final Decision 2004'!$A$127,'Inputs PL Final Decision 2004'!$G$104,'Inputs PL Final Decision 2004'!$H$104)))))","v":0.04}]
[{"$f":"'Inputs PL Final Decision 2004'!$A$16","v":"Number of years from 1 January 2001"},{"$f":"'Inputs PL Final Decision 2004'!$B$16","v":4},null,{"$f":"'Inputs PL Final Decision 2004'!$B$95","v":"Remote"},{"$f":"IF($A$1='Inputs PL Final Decision 2004'!$A$123,'Inputs PL Final Decision 2004'!$C$105,IF($A$1='Inputs PL Final Decision 2004'!$A$124,'Inputs PL Final Decision 2004'!$D$105,IF($A$1='Inputs PL Final Decision 2004'!$A$125,'Inputs PL Final Decision 2004'!$E$105,IF($A$1='Inputs PL Final Decision 2004'!$A$126,'Inputs PL Final Decision 2004'!$F$105,IF($A$1='Inputs PL Final Decision 2004'!$A$127,'Inputs PL Final Decision 2004'!$G$105,'Inputs PL Final Decision 2004'!$H$105)))))","v":0}]
[]
[]
[]
[null,null,null,null,2004,{"$f":"E168+1","v":2005},2006,2007,2008,2009,2010,2011,2012,2013,2014,2015,{"$f":"P168+1","v":2016},{"$f":"Q168+1","v":2017},{"$f":"R168+1","v":2018},{"$f":"S168+1","v":2019},{"$f":"T168+1","v":2020},{"$f":"U168+1","v":2021},{"$f":"V168+1","v":2022},{"$f":"W168+1","v":2023},{"$f":"X168+1","v":2024},{"$f":"Y168+1","v":2025},{"$f":"Z168+1","v":2026},{"$f":"AA168+1","v":2027},{"$f":"AB168+1","v":2028},{"$f":"AC168+1","v":2029},{"$f":"AD168+1","v":2030},{"$f":"AE168+1","v":2031},{"$f":"AF168+1","v":2032},{"$f":"AG168+1","v":2033},{"$f":"AH168+1","v":2034},{"$f":"AI168+1","v":2035},{"$f":"AJ168+1","v":2036},{"$f":"AK168+1","v":2037},{"$f":"AL168+1","v":2038},{"$f":"AM168+1","v":2039},{"$f":"AN168+1","v":2040}]
["RAB for Return",null,null,null,{"$f":"E$125/$B163*$B162/$B163","v":43.548064991141317},47.630696084060816,44.908942022114488,42.187187960168153,39.465433898221818,36.74367983627549,34.021925774329155,31.30017171238282,28.578417650436489,25.856663588490157,23.134909526543826,20.413155464597491,17.691401402651159,14.96964734070483,12.247893278758497,9.5261392168121635,6.8043851548658312,4.082631092919498,2.041315546459749,0.68043851548658307,0,0,0,0,0,0,0,0,0,0,0,0,0,0,0,0,0]
["Depreciation",null,null,null,{"$f":"IF(E169=0,0,$B$162*$B$164/$B$163/$B$163)","v":2.7217540619463323},2.7217540619463323,2.7217540619463323,2.7217540619463323,2.7217540619463323,2.7217540619463323,2.7217540619463323,2.7217540619463323,2.7217540619463323,2.7217540619463323,2.7217540619463323,2.7217540619463323,{"$f":"IF(Q169=0,0,$B$162*$B$164/$B$163/$B$163)","v":2.7217540619463323},2.7217540619463323,2.7217540619463323,2.7217540619463323,2.7217540619463323,2.7217540619463323,2.7217540619463323,2.7217540619463323,0,0,0,0,0,0,0,0,0,0,0,0,0,0,0,0,0]
[]
[]
[]
["Poles & Brackets",null,null,{"$f":"'Inputs PL Final Decision 2004'!$B$88","v":"Location of selected public lighting assets within distributors' areas (%)"},null,null,null,null,null,{"$f":"'Inputs PL Final Decision 2004'!$A$114","v":"Proportion of lights on dedicated poles"},null,null,null,{"$f":"'Inputs PL Final Decision 2004'!$A$115","v":"Proportion of dedicated poles at 1 Jan 2001"}]
["Dedicated poles",null,null,{"$f":"'Inputs PL Final Decision 2004'!$B$92","v":"CitiPower"},{"$f":"IF($A$1='Inputs PL Final Decision 2004'!$A$123,'Inputs PL Final Decision 2004'!$C$92,IF($A$1='Inputs PL Final Decision 2004'!$A$124,'Inputs PL Final Decision 2004'!$D$92,IF($A$1='Inputs PL Final Decision 2004'!$A$125,'Inputs PL Final Decision 2004'!$E$92,IF($A$1='Inputs PL Final Decision 2004'!$A$126,'Inputs PL Final Decision 2004'!$F$92,IF($A$1='Inputs PL Final Decision 2004'!$A$127,'Inputs PL Final Decision 2004'!$G$92,'Inputs PL Final Decision 2004'!$H$92)))))","v":0},null,null,null,null,{"$f":"IF($A$1='Inputs PL Final Decision 2004'!$A$123,'Inputs PL Final Decision 2004'!$C$114,IF($A$1='Inputs PL Final Decision 2004'!$A$124,'Inputs PL Final Decision 2004'!$D$114,IF($A$1='Inputs PL Final Decision 2004'!$A$125,'Inputs PL Final Decision 2004'!$E$114,IF($A$1='Inputs PL Final Decision 2004'!$A$126,'Inputs PL Final Decision 2004'!$F$114,IF($A$1='Inputs PL Final Decision 2004'!$A$127,'Inputs PL Final Decision 2004'!$G$114,'Inputs PL Final Decision 2004'!$H$114)))))","v":0.1908204},null,null,null,{"$f":"IF($A$1='Inputs PL Final Decision 2004'!$A$123,'Inputs PL Final Decision 2004'!$C$115,IF($A$1='Inputs PL Final Decision 2004'!$A$124,'Inputs PL Final Decision 2004'!$D$115,IF($A$1='Inputs PL Final Decision 2004'!$A$125,'Inputs PL Final Decision 2004'!$E$115,IF($A$1='Inputs PL Final Decision 2004'!$A$126,'Inputs PL Final Decision 2004'!$F$115,IF($A$1='Inputs PL Final Decision 2004'!$A$127,'Inputs PL Final Decision 2004'!$G$115,'Inputs PL Final Decision 2004'!$H$115)))))","v":0.91293333333333337}]
["Capital cost",{"$f":"($F$229*E175+$L$229*E176+$R$229*E177+$X$229*E178)*J175*N175","v":143.44360460907805},null,{"$f":"'Inputs PL Final Decision 2004'!$B$93","v":"Urban"},{"$f":"IF($A$1='Inputs PL Final Decision 2004'!$A$123,'Inputs PL Final Decision 2004'!$C$93,IF($A$1='Inputs PL Final Decision 2004'!$A$124,'Inputs PL Final Decision 2004'!$D$93,IF($A$1='Inputs PL Final Decision 2004'!$A$125,'Inputs PL Final Decision 2004'!$E$93,IF($A$1='Inputs PL Final Decision 2004'!$A$126,'Inputs PL Final Decision 2004'!$F$93,IF($A$1='Inputs PL Final Decision 2004'!$A$127,'Inputs PL Final Decision 2004'!$G$93,'Inputs PL Final Decision 2004'!$H$93)))))","v":0.97}]
[{"$f":"'Inputs PL Final Decision 2004'!$A$52","v":"Depreciation of dedicated street lighting pole & bracket"},{"$f":"'Inputs PL Final Decision 2004'!$B$52","v":35},null,{"$f":"'Inputs PL Final Decision 2004'!$B$94","v":"Rural"},{"$f":"IF($A$1='Inputs PL Final Decision 2004'!$A$123,'Inputs PL Final Decision 2004'!$C$94,IF($A$1='Inputs PL Final Decision 2004'!$A$124,'Inputs PL Final Decision 2004'!$D$94,IF($A$1='Inputs PL Final Decision 2004'!$A$125,'Inputs PL Final Decision 2004'!$E$94,IF($A$1='Inputs PL Final Decision 2004'!$A$126,'Inputs PL Final Decision 2004'!$F$94,IF($A$1='Inputs PL Final Decision 2004'!$A$127,'Inputs PL Final Decision 2004'!$G$94,'Inputs PL Final Decision 2004'!$H$94)))))","v":0.03}]
[{"$f":"'Inputs PL Final Decision 2004'!$A$16","v":"Number of years from 1 January 2001"},{"$f":"'Inputs PL Final Decision 2004'!$B$16","v":4},null,{"$f":"'Inputs PL Final Decision 2004'!$B$95","v":"Remote"},{"$f":"IF($A$1='Inputs PL Final Decision 2004'!$A$123,'Inputs PL Final Decision 2004'!$C$95,IF($A$1='Inputs PL Final Decision 2004'!$A$124,'Inputs PL Final Decision 2004'!$D$95,IF($A$1='Inputs PL Final Decision 2004'!$A$125,'Inputs PL Final Decision 2004'!$E$95,IF($A$1='Inputs PL Final Decision 2004'!$A$126,'Inputs PL Final Decision 2004'!$F$95,IF($A$1='Inputs PL Final Decision 2004'!$A$127,'Inputs PL Final Decision 2004'!$G$95,'Inputs PL Final Decision 2004'!$H$95)))))","v":0}]
[]
[]
[]
[null,null,null,null,2004,{"$f":"E182+1","v":2005},2006,2007,2008,2009,2010,2011,2012,2013,2014,2015,{"$f":"P182+1","v":2016},{"$f":"Q182+1","v":2017},{"$f":"R182+1","v":2018},{"$f":"S182+1","v":2019},{"$f":"T182+1","v":2020},{"$f":"U182+1","v":2021},{"$f":"V182+1","v":2022},{"$f":"W182+1","v":2023},{"$f":"X182+1","v":2024},{"$f":"Y182+1","v":2025},{"$f":"Z182+1","v":2026},{"$f":"AA182+1","v":2027},{"$f":"AB182+1","v":2028},{"$f":"AC182+1","v":2029},{"$f":"AD182+1","v":2030},{"$f":"AE182+1","v":2031},{"$f":"AF182+1","v":2032},{"$f":"AG182+1","v":2033},{"$f":"AH182+1","v":2034},{"$f":"AI182+1","v":2035},{"$f":"AJ182+1","v":2036},{"$f":"AK182+1","v":2037},{"$f":"AL182+1","v":2038},{"$f":"AM182+1","v":2039},{"$f":"AN182+1","v":2040}]
["RAB for Return",null,null,null,{"$f":"E$127/$B177*$B176/$B177","v":13.641779540373545},15.222586611575629,14.754199331219457,14.285812050863283,13.817424770507111,13.349037490150936,12.880650209794764,12.41226292943859,11.943875649082417,11.475488368726243,11.007101088370071,10.538713808013899,10.070326527657725,9.6019392473015515,9.1335519669453795,8.665164686589204,8.1967774062330321,7.7283901258768584,7.2600028455206846,6.7916155651645118,6.323228284808339,5.8548410044521653,5.3864537240959915,4.9180664437398187,4.449679163383645,3.9812918830274726,3.5129046026712989,3.0445173223151261,2.5761300419589528,2.1077427616027795,1.6393554812466065,1.170968200890433,0.70258092053425991,0.35129046026712996,0.11709682008904332,0,0]
["Depreciation",null,null,null,{"$f":"IF(E183=0,0,$B$176*$B$178/$B$177/$B$177)","v":0.46838728035617327},0.46838728035617327,0.46838728035617327,0.46838728035617327,0.46838728035617327,0.46838728035617327,0.46838728035617327,0.46838728035617327,0.46838728035617327,0.46838728035617327,0.46838728035617327,0.46838728035617327,{"$f":"IF(Q183=0,0,$B$176*$B$178/$B$177/$B$177)","v":0.46838728035617327},0.46838728035617327,0.46838728035617327,0.46838728035617327,0.46838728035617327,0.46838728035617327,0.46838728035617327,0.46838728035617327,0.46838728035617327,0.46838728035617327,0.46838728035617327,0.46838728035617327,0.46838728035617327,0.46838728035617327,0.46838728035617327,0.46838728035617327,0.46838728035617327,0.46838728035617327,0.46838728035617327,0.46838728035617327,0.46838728035617327,0.46838728035617327,0.46838728035617327,0,0]
[]
[]
[]
["Poles & Brackets",null,null,{"$f":"'Inputs PL Final Decision 2004'!$B$88","v":"Location of selected public lighting assets within distributors' areas (%)"},null,null,null,null,null,{"$f":"'Inputs PL Final Decision 2004'!$A$117","v":"Proportion of non-dedicated poles at 1 Jan 2001"}]
["Brackets",null,null,{"$f":"'Inputs PL Final Decision 2004'!$B$92","v":"CitiPower"},{"$f":"IF($A$1='Inputs PL Final Decision 2004'!$A$123,'Inputs PL Final Decision 2004'!$C$92,IF($A$1='Inputs PL Final Decision 2004'!$A$124,'Inputs PL Final Decision 2004'!$D$92,IF($A$1='Inputs PL Final Decision 2004'!$A$125,'Inputs PL Final Decision 2004'!$E$92,IF($A$1='Inputs PL Final Decision 2004'!$A$126,'Inputs PL Final Decision 2004'!$F$92,IF($A$1='Inputs PL Final Decision 2004'!$A$127,'Inputs PL Final Decision 2004'!$G$92,'Inputs PL Final Decision 2004'!$H$92)))))","v":0},null,null,null,null,{"$f":"IF($A$1='Inputs PL Final Decision 2004'!$A$123,'Inputs PL Final Decision 2004'!$C$117,IF($A$1='Inputs PL Final Decision 2004'!$A$124,'Inputs PL Final Decision 2004'!$D$117,IF($A$1='Inputs PL Final Decision 2004'!$A$125,'Inputs PL Final Decision 2004'!$E$117,IF($A$1='Inputs PL Final Decision 2004'!$A$126,'Inputs PL Final Decision 2004'!$F$117,IF($A$1='Inputs PL Final Decision 2004'!$A$127,'Inputs PL Final Decision 2004'!$G$117,'Inputs PL Final Decision 2004'!$H$117)))))","v":0.74134150899999995}]
["Capital cost",{"$f":"($F$234*E189+$L$234*E190+$R$234*E191+$X$234*E192)*J189","v":77.605445448817051},null,{"$f":"'Inputs PL Final Decision 2004'!$B$93","v":"Urban"},{"$f":"IF($A$1='Inputs PL Final Decision 2004'!$A$123,'Inputs PL Final Decision 2004'!$C$93,IF($A$1='Inputs PL Final Decision 2004'!$A$124,'Inputs PL Final Decision 2004'!$D$93,IF($A$1='Inputs PL Final Decision 2004'!$A$125,'Inputs PL Final Decision 2004'!$E$93,IF($A$1='Inputs PL Final Decision 2004'!$A$126,'Inputs PL Final Decision 2004'!$F$93,IF($A$1='Inputs PL Final Decision 2004'!$A$127,'Inputs PL Final Decision 2004'!$G$93,'Inputs PL Final Decision 2004'!$H$93)))))","v":0.97}]
[{"$f":"'Inputs PL Final Decision 2004'!$A$52","v":"Depreciation of dedicated street lighting pole & bracket"},{"$f":"'Inputs PL Final Decision 2004'!$B$52","v":35},null,{"$f":"'Inputs PL Final Decision 2004'!$B$94","v":"Rural"},{"$f":"IF($A$1='Inputs PL Final Decision 2004'!$A$123,'Inputs PL Final Decision 2004'!$C$94,IF($A$1='Inputs PL Final Decision 2004'!$A$124,'Inputs PL Final Decision 2004'!$D$94,IF($A$1='Inputs PL Final Decision 2004'!$A$125,'Inputs PL Final Decision 2004'!$E$94,IF($A$1='Inputs PL Final Decision 2004'!$A$126,'Inputs PL Final Decision 2004'!$F$94,IF($A$1='Inputs PL Final Decision 2004'!$A$127,'Inputs PL Final Decision 2004'!$G$94,'Inputs PL Final Decision 2004'!$H$94)))))","v":0.03}]
[{"$f":"'Inputs PL Final Decision 2004'!$A$16","v":"Number of years from 1 January 2001"},{"$f":"'Inputs PL Final Decision 2004'!$B$16","v":4},null,{"$f":"'Inputs PL Final Decision 2004'!$B$95","v":"Remote"},{"$f":"IF($A$1='Inputs PL Final Decision 2004'!$A$123,'Inputs PL Final Decision 2004'!$C$95,IF($A$1='Inputs PL Final Decision 2004'!$A$124,'Inputs PL Final Decision 2004'!$D$95,IF($A$1='Inputs PL Final Decision 2004'!$A$125,'Inputs PL Final Decision 2004'!$E$95,IF($A$1='Inputs PL Final Decision 2004'!$A$126,'Inputs PL Final Decision 2004'!$F$95,IF($A$1='Inputs PL Final Decision 2004'!$A$127,'Inputs PL Final Decision 2004'!$G$95,'Inputs PL Final Decision 2004'!$H$95)))))","v":0}]
[]
[]
[]
[null,null,null,null,2004,{"$f":"E196+1","v":2005},2006,2007,2008,2009,2010,2011,2012,2013,2014,2015,{"$f":"P196+1","v":2016},{"$f":"Q196+1","v":2017},{"$f":"R196+1","v":2018},{"$f":"S196+1","v":2019},{"$f":"T196+1","v":2020},{"$f":"U196+1","v":2021},{"$f":"V196+1","v":2022},{"$f":"W196+1","v":2023},{"$f":"X196+1","v":2024},{"$f":"Y196+1","v":2025},{"$f":"Z196+1","v":2026},{"$f":"AA196+1","v":2027},{"$f":"AB196+1","v":2028},{"$f":"AC196+1","v":2029},{"$f":"AD196+1","v":2030},{"$f":"AE196+1","v":2031},{"$f":"AF196+1","v":2032},{"$f":"AG196+1","v":2033},{"$f":"AH196+1","v":2034},{"$f":"AI196+1","v":2035},{"$f":"AJ196+1","v":2036},{"$f":"AK196+1","v":2037},{"$f":"AL196+1","v":2038},{"$f":"AM196+1","v":2039},{"$f":"AN196+1","v":2040}]
["RAB for Return",null,null,null,{"$f":"E$127/$B191*$B190/$B191","v":7.3804362406426014},8.2356799251805839,7.9822743890211836,7.7288688528617806,7.4754633167023776,7.2220577805429738,6.9686522443835726,6.7152467082241696,6.4618411720647666,6.2084356359053636,5.9550300997459606,5.7016245635865586,5.4482190274271574,5.1948134912677544,4.9414079551083514,4.6880024189489484,4.4345968827895454,4.1811913466301434,3.9277858104707399,3.6743802743113383,3.4209747381519353,3.1675692019925328,2.9141636658331302,2.6607581296737273,2.4073525935143247,2.1539470573549222,1.9005415211955194,1.6471359850361169,1.3937304488767144,1.1403249127173116,0.8869193765579092,0.63351384039850644,0.38010830423910397,0.19005415211955198,6.3351384039850647E-2,0,0]
["Depreciation",null,null,null,{"$f":"IF(E197=0,0,$B$190*$B$192/$B$191/$B$191)","v":0.25340553615940259},0.25340553615940259,0.25340553615940259,0.25340553615940259,0.25340553615940259,0.25340553615940259,0.25340553615940259,0.25340553615940259,0.25340553615940259,0.25340553615940259,0.25340553615940259,0.25340553615940259,{"$f":"IF(Q197=0,0,$B$190*$B$192/$B$191/$B$191)","v":0.25340553615940259},0.25340553615940259,0.25340553615940259,0.25340553615940259,0.25340553615940259,0.25340553615940259,0.25340553615940259,0.25340553615940259,0.25340553615940259,0.25340553615940259,0.25340553615940259,0.25340553615940259,0.25340553615940259,0.25340553615940259,0.25340553615940259,0.25340553615940259,0.25340553615940259,0.25340553615940259,0.25340553615940259,0.25340553615940259,0.25340553615940259,0.25340553615940259,0.25340553615940259,0,0]
[]
[]
[]
[]
[]
[]
[]
[null,"CitiPower",null,null,null,null,null,"Urban",null,null,null,null,null,"Rural",null,null,null,null,null,"Remote"]
[]
[null,"Unit rate","Number","Hours","Cost","Annualised",null,"Unit rate","Number","Hours","Cost","Annualised",null,"Unit rate","Number","Hours","Cost","Annualised",null,"Unit rate","Number","Hours","Cost","Annualised"]
[null,null,null,null,null," cost",null,null,null,null,null," cost",null,null,null,null,null," cost",null,null,null,null,null," cost"]
["MV80"]
["Luminaires "]
["Material & misc",{"$f":"'Inputs PL Final Decision 2004'!$B$21+'Inputs PL Final Decision 2004'!$B$22","v":159.55000000000001},{"$f":"'Inputs PL Final Decision 2004'!$B$24","v":16},null,{"$f":"B212*C212","v":2552.8000000000002},{"$f":"(E212+E213+E214)/C212","v":240.24687500000002},null,{"$f":"'Inputs PL Final Decision 2004'!$B$21+'Inputs PL Final Decision 2004'!$B$22","v":159.55000000000001},{"$f":"'Inputs PL Final Decision 2004'!$B$24","v":16},null,{"$f":"H212*I212","v":2552.8000000000002},{"$f":"(K212+K213+K214)/I212","v":240.24687500000002},null,{"$f":"('Inputs PL Final Decision 2004'!$B$21+'Inputs PL Final Decision 2004'!$B$22)*(1+'Inputs PL Final Decision 2004'!$B$10)","v":167.52750000000003},{"$f":"'Inputs PL Final Decision 2004'!$B$25","v":13},null,{"$f":"N212*O212","v":2177.8575000000005},{"$f":"(Q212+Q213+Q214)/O212","v":273.2544230769231},null,{"$f":"('Inputs PL Final Decision 2004'!$B$21+'Inputs PL Final Decision 2004'!$B$22)*(1+'Inputs PL Final Decision 2004'!$B$10)","v":167.52750000000003},{"$f":"'Inputs PL Final Decision 2004'!$B$26","v":10},null,{"$f":"T212*U212","v":1675.2750000000003},{"$f":"(W212+W213+W214)/U212","v":304.97250000000003}]
["Crew costs",{"$f":"'Inputs PL Final Decision 2004'!$B$11","v":60},{"$f":"'Inputs PL Final Decision 2004'!$B$23","v":2},{"$f":"'Inputs PL Final Decision 2004'!$B$14","v":8.33},{"$f":"B213*C213*D213","v":999.6},null,null,{"$f":"'Inputs PL Final Decision 2004'!$B$11","v":60},{"$f":"'Inputs PL Final Decision 2004'!$B$23","v":2},{"$f":"'Inputs PL Final Decision 2004'!$B$14","v":8.33},{"$f":"H213*I213*J213","v":999.6},null,null,{"$f":"'Inputs PL Final Decision 2004'!$B$11","v":60},{"$f":"'Inputs PL Final Decision 2004'!$B$23","v":2},{"$f":"'Inputs PL Final Decision 2004'!$B$14","v":8.33},{"$f":"N213*O213*P213","v":999.6},null,null,{"$f":"'Inputs PL Final Decision 2004'!$B$11","v":60},{"$f":"'Inputs PL Final Decision 2004'!$B$23","v":2},{"$f":"'Inputs PL Final Decision 2004'!$B$14","v":8.33},{"$f":"T213*U213*V213","v":999.6}]
["Elevated platform costs",{"$f":"'Inputs PL Final Decision 2004'!$B$12","v":35},1,{"$f":"'Inputs PL Final Decision 2004'!$B$14","v":8.33},{"$f":"B214*C214*D214","v":291.55},null,null,{"$f":"'Inputs PL Final Decision 2004'!$B$12","v":35},1,{"$f":"'Inputs PL Final Decision 2004'!$B$14","v":8.33},{"$f":"H214*I214*J214","v":291.55},null,null,{"$f":"'Inputs PL Final Decision 2004'!$B$13","v":45},1,{"$f":"'Inputs PL Final Decision 2004'!$B$14","v":8.33},{"$f":"N214*O214*P214","v":374.85},null,null,{"$f":"'Inputs PL Final Decision 2004'!$B$13","v":45},1,{"$f":"'Inputs PL Final Decision 2004'!$B$14","v":8.33},{"$f":"T214*U214*V214","v":374.85}]
[]
["S-HP 150"]
["Luminaires "]
["Material & misc",{"$f":"'Inputs PL Final Decision 2004'!$B$31+'Inputs PL Final Decision 2004'!$B$32","v":189.64},{"$f":"'Inputs PL Final Decision 2004'!$B$35","v":16},null,{"$f":"B218*C218","v":3034.24},{"$f":"(E218+E219+E220)/C218","v":291.16187500000001},null,{"$f":"'Inputs PL Final Decision 2004'!$B$31+'Inputs PL Final Decision 2004'!$B$32","v":189.64},{"$f":"'Inputs PL Final Decision 2004'!$B$35","v":16},null,{"$f":"H218*I218","v":3034.24},{"$f":"(K218+K219+K220)/I218","v":275.54312499999997},null,{"$f":"('Inputs PL Final Decision 2004'!$B$31+'Inputs PL Final Decision 2004'!$B$32)*(1+'Inputs PL Final Decision 2004'!$B$10)","v":199.12199999999999},{"$f":"'Inputs PL Final Decision 2004'!$B$36","v":13},null,{"$f":"N218*O218","v":2588.5859999999998},{"$f":"(Q218+Q219+Q220)/O218","v":304.84892307692303},null,{"$f":"('Inputs PL Final Decision 2004'!$B$31+'Inputs PL Final Decision 2004'!$B$32)*(1+'Inputs PL Final Decision 2004'!$B$10)","v":199.12199999999999},{"$f":"'Inputs PL Final Decision 2004'!$B$37","v":10},null,{"$f":"T218*U218","v":1991.2199999999998},{"$f":"(W218+W219+W220)/U218","v":336.56699999999995}]
["Crew costs",{"$f":"'Inputs PL Final Decision 2004'!$B$11","v":60},{"$f":"'Inputs PL Final Decision 2004'!$B$34","v":2.5},{"$f":"'Inputs PL Final Decision 2004'!$B$14","v":8.33},{"$f":"D219*C219*B219","v":1249.5},null,null,{"$f":"'Inputs PL Final Decision 2004'!$B$11","v":60},{"$f":"'Inputs PL Final Decision 2004'!$B$33","v":2},{"$f":"'Inputs PL Final Decision 2004'!$B$14","v":8.33},{"$f":"J219*I219*H219","v":999.6},null,null,{"$f":"'Inputs PL Final Decision 2004'!$B$11","v":60},{"$f":"'Inputs PL Final Decision 2004'!$B$33","v":2},{"$f":"'Inputs PL Final Decision 2004'!$B$14","v":8.33},{"$f":"P219*O219*N219","v":999.6},null,null,{"$f":"'Inputs PL Final Decision 2004'!$B$11","v":60},{"$f":"'Inputs PL Final Decision 2004'!$B$33","v":2},{"$f":"'Inputs PL Final Decision 2004'!$B$14","v":8.33},{"$f":"V219*U219*T219","v":999.6}]
["Elevated platform vehicle costs",{"$f":"'Inputs PL Final Decision 2004'!$B$13","v":45},1,{"$f":"'Inputs PL Final Decision 2004'!$B$14","v":8.33},{"$f":"D220*C220*B220","v":374.85},null,null,{"$f":"'Inputs PL Final Decision 2004'!$B$13","v":45},1,{"$f":"'Inputs PL Final Decision 2004'!$B$14","v":8.33},{"$f":"J220*I220*H220","v":374.85},null,null,{"$f":"'Inputs PL Final Decision 2004'!$B$13","v":45},1,{"$f":"'Inputs PL Final Decision 2004'!$B$14","v":8.33},{"$f":"P220*O220*N220","v":374.85},null,null,{"$f":"'Inputs PL Final Decision 2004'!$B$13","v":45},1,{"$f":"'Inputs PL Final Decision 2004'!$B$14","v":8.33},{"$f":"V220*U220*T220","v":374.85}]
[]
["S-HP 250"]
["Luminaires "]
["Material & misc",{"$f":"'Inputs PL Final Decision 2004'!$B$42+'Inputs PL Final Decision 2004'!$B$43","v":192.44},{"$f":"'Inputs PL Final Decision 2004'!$B$46","v":16},null,{"$f":"B224*C224","v":3079.04},{"$f":"(E224+E225+E226)/C224","v":293.96187500000002},null,{"$f":"'Inputs PL Final Decision 2004'!$B$42+'Inputs PL Final Decision 2004'!$B$43","v":192.44},{"$f":"'Inputs PL Final Decision 2004'!$B$46","v":16},null,{"$f":"H224*I224","v":3079.04},{"$f":"(K224+K225+K226)/I224","v":278.34312499999999},null,{"$f":"('Inputs PL Final Decision 2004'!$B$42+'Inputs PL Final Decision 2004'!$B$43)*(1+'Inputs PL Final Decision 2004'!$B$10)","v":202.06200000000001},{"$f":"'Inputs PL Final Decision 2004'!$B$47","v":13},null,{"$f":"N224*O224","v":2626.806},{"$f":"(Q224+Q225+Q226)/O224","v":307.78892307692308},null,{"$f":"('Inputs PL Final Decision 2004'!$B$42+'Inputs PL Final Decision 2004'!$B$43)*(1+'Inputs PL Final Decision 2004'!$B$10)","v":202.06200000000001},{"$f":"'Inputs PL Final Decision 2004'!$B$48","v":10},null,{"$f":"T224*U224","v":2020.6200000000001},{"$f":"(W224+W225+W226)/U224","v":339.50700000000001}]
["Crew costs",{"$f":"'Inputs PL Final Decision 2004'!$B$11","v":60},{"$f":"'Inputs PL Final Decision 2004'!$B$45","v":2.5},{"$f":"'Inputs PL Final Decision 2004'!$B$14","v":8.33},{"$f":"D225*C225*B225","v":1249.5},null,null,{"$f":"'Inputs PL Final Decision 2004'!$B$11","v":60},{"$f":"'Inputs PL Final Decision 2004'!$B$44","v":2},{"$f":"'Inputs PL Final Decision 2004'!$B$14","v":8.33},{"$f":"J225*I225*H225","v":999.6},null,null,{"$f":"'Inputs PL Final Decision 2004'!$B$11","v":60},{"$f":"'Inputs PL Final Decision 2004'!$B$44","v":2},{"$f":"'Inputs PL Final Decision 2004'!$B$14","v":8.33},{"$f":"P225*O225*N225","v":999.6},null,null,{"$f":"'Inputs PL Final Decision 2004'!$B$11","v":60},{"$f":"'Inputs PL Final Decision 2004'!$B$44","v":2},{"$f":"'Inputs PL Final Decision 2004'!$B$14","v":8.33},{"$f":"V225*U225*T225","v":999.6}]
["Elevated platform vehicle costs",{"$f":"'Inputs PL Final Decision 2004'!$B$13","v":45},1,{"$f":"'Inputs PL Final Decision 2004'!$B$14","v":8.33},{"$f":"D226*C226*B226","v":374.85},null,null,{"$f":"'Inputs PL Final Decision 2004'!$B$13","v":45},1,{"$f":"'Inputs PL Final Decision 2004'!$B$14","v":8.33},{"$f":"J226*I226*H226","v":374.85},null,null,{"$f":"'Inputs PL Final Decision 2004'!$B$13","v":45},1,{"$f":"'Inputs PL Final Decision 2004'!$B$14","v":8.33},{"$f":"P226*O226*N226","v":374.85},null,null,{"$f":"'Inputs PL Final Decision 2004'!$B$13","v":45},1,{"$f":"'Inputs PL Final Decision 2004'!$B$14","v":8.33},{"$f":"V226*U226*T226","v":374.85}]
[]
["Dedicated poles"]
["Material",{"$f":"'Inputs PL Final Decision 2004'!$B$53","v":500},{"$f":"'Inputs PL Final Decision 2004'!$B$54","v":4},null,{"$f":"C229*B229","v":2000},{"$f":"(E229+E230+E231)/C229","v":822.78750000000002},null,{"$f":"'Inputs PL Final Decision 2004'!$B$53","v":500},{"$f":"'Inputs PL Final Decision 2004'!$B$54","v":4},null,{"$f":"I229*H229","v":2000},{"$f":"(K229+K230+K231)/I229","v":822.78750000000002},null,{"$f":"'Inputs PL Final Decision 2004'!$B$53","v":500},{"$f":"'Inputs PL Final Decision 2004'!$B$54","v":4},null,{"$f":"O229*N229","v":2000},{"$f":"(Q229+Q230+Q231)/O229","v":843.61249999999995},null,{"$f":"'Inputs PL Final Decision 2004'!$B$53","v":500},{"$f":"'Inputs PL Final Decision 2004'!$B$54","v":4},null,{"$f":"U229*T229","v":2000},{"$f":"(W229+W230+W231)/U229","v":843.61249999999995}]
["Crew costs",{"$f":"'Inputs PL Final Decision 2004'!$B$11","v":60},{"$f":"'Inputs PL Final Decision 2004'!$B$23","v":2},{"$f":"'Inputs PL Final Decision 2004'!$B$14","v":8.33},{"$f":"B230*C230*D230","v":999.6},null,null,{"$f":"'Inputs PL Final Decision 2004'!$B$11","v":60},{"$f":"'Inputs PL Final Decision 2004'!$B$23","v":2},{"$f":"'Inputs PL Final Decision 2004'!$B$14","v":8.33},{"$f":"H230*I230*J230","v":999.6},null,null,{"$f":"'Inputs PL Final Decision 2004'!$B$11","v":60},{"$f":"'Inputs PL Final Decision 2004'!$B$23","v":2},{"$f":"'Inputs PL Final Decision 2004'!$B$14","v":8.33},{"$f":"N230*O230*P230","v":999.6},null,null,{"$f":"'Inputs PL Final Decision 2004'!$B$11","v":60},{"$f":"'Inputs PL Final Decision 2004'!$B$23","v":2},{"$f":"'Inputs PL Final Decision 2004'!$B$14","v":8.33},{"$f":"T230*U230*V230","v":999.6}]
["Elevated platform costs",{"$f":"'Inputs PL Final Decision 2004'!$B$12","v":35},1,{"$f":"'Inputs PL Final Decision 2004'!$B$14","v":8.33},{"$f":"B231*C231*D231","v":291.55},null,null,{"$f":"'Inputs PL Final Decision 2004'!$B$12","v":35},1,{"$f":"'Inputs PL Final Decision 2004'!$B$14","v":8.33},{"$f":"H231*I231*J231","v":291.55},null,null,{"$f":"'Inputs PL Final Decision 2004'!$B$13","v":45},1,{"$f":"'Inputs PL Final Decision 2004'!$B$14","v":8.33},{"$f":"N231*O231*P231","v":374.85},null,null,{"$f":"'Inputs PL Final Decision 2004'!$B$13","v":45},1,{"$f":"'Inputs PL Final Decision 2004'!$B$14","v":8.33},{"$f":"T231*U231*V231","v":374.85}]
[]
["Brackets"]
["Material",{"$f":"'Inputs PL Final Decision 2004'!$B$55","v":40},{"$f":"'Inputs PL Final Decision 2004'!$B$56","v":20},null,{"$f":"C234*B234","v":800},{"$f":"(E234+E235+E236)/C234","v":104.5575},null,{"$f":"'Inputs PL Final Decision 2004'!$B$55","v":40},{"$f":"'Inputs PL Final Decision 2004'!$B$56","v":20},null,{"$f":"I234*H234","v":800},{"$f":"(K234+K235+K236)/I234","v":104.5575},null,{"$f":"'Inputs PL Final Decision 2004'!$B$55","v":40},{"$f":"'Inputs PL Final Decision 2004'!$B$56","v":20},null,{"$f":"O234*N234","v":800},{"$f":"(Q234+Q235+Q236)/O234","v":108.7225},null,{"$f":"'Inputs PL Final Decision 2004'!$B$55","v":40},{"$f":"'Inputs PL Final Decision 2004'!$B$56","v":20},null,{"$f":"U234*T234","v":800},{"$f":"(W234+W235+W236)/U234","v":108.7225}]
["Crew costs",{"$f":"'Inputs PL Final Decision 2004'!$B$11","v":60},{"$f":"'Inputs PL Final Decision 2004'!$B$23","v":2},{"$f":"'Inputs PL Final Decision 2004'!$B$14","v":8.33},{"$f":"B235*C235*D235","v":999.6},null,null,{"$f":"'Inputs PL Final Decision 2004'!$B$11","v":60},{"$f":"'Inputs PL Final Decision 2004'!$B$23","v":2},{"$f":"'Inputs PL Final Decision 2004'!$B$14","v":8.33},{"$f":"H235*I235*J235","v":999.6},null,null,{"$f":"'Inputs PL Final Decision 2004'!$B$11","v":60},{"$f":"'Inputs PL Final Decision 2004'!$B$23","v":2},{"$f":"'Inputs PL Final Decision 2004'!$B$14","v":8.33},{"$f":"N235*O235*P235","v":999.6},null,null,{"$f":"'Inputs PL Final Decision 2004'!$B$11","v":60},{"$f":"'Inputs PL Final Decision 2004'!$B$23","v":2},{"$f":"'Inputs PL Final Decision 2004'!$B$14","v":8.33},{"$f":"T235*U235*V235","v":999.6}]
["Elevated platform costs",{"$f":"'Inputs PL Final Decision 2004'!$B$12","v":35},1,{"$f":"'Inputs PL Final Decision 2004'!$B$14","v":8.33},{"$f":"B236*C236*D236","v":291.55},null,null,{"$f":"'Inputs PL Final Decision 2004'!$B$12","v":35},1,{"$f":"'Inputs PL Final Decision 2004'!$B$14","v":8.33},{"$f":"H236*I236*J236","v":291.55},null,null,{"$f":"'Inputs PL Final Decision 2004'!$B$13","v":45},1,{"$f":"'Inputs PL Final Decision 2004'!$B$14","v":8.33},{"$f":"N236*O236*P236","v":374.85},null,null,{"$f":"'Inputs PL Final Decision 2004'!$B$13","v":45},1,{"$f":"'Inputs PL Final Decision 2004'!$B$14","v":8.33},{"$f":"T236*U236*V236","v":374.85}]
[" "]

{"sheet":"Inputs PL Final Decision 2004","index":18,"n_rows":128,"n_cols":8,"rows_kept":128,"cut":false,"hidden":false,"merged":[[88,5,88,6],[88,7,89,7],[88,1,89,1],[88,2,89,2],[88,3,89,3],[88,4,89,4],[116,0,116,1],[107,5,107,6],[107,7,108,7],[113,0,113,1],[114,0,114,1],[107,1,108,1],[107,2,108,2],[107,3,108,3],[107,4,108,4]]}
[{"$f":"'Inputs PL Final Decision 2004'!$A$123","v":"Jemena"}]
[]
["Final Decision - Cost Build-up Model 2004"]
[]
[]
[]
["Input parameters"]
[]
["Inputs - all lamps"]
["Material premium for rural areas",0.05]
["Labour rate (per hour)",60]
["Elevated platform vehicle (per hour) - urban MV",35]
["Elevated platform vehicle (per hour) - rural MV, S-HP",45]
["Number of hours in a day",8.33]
["Rate of return (per annum)",9.5000000000000001E-2]
["Number of years from 1 January 2001",4]
[]
["Inputs - MV80"]
[]
["Depreciation period",20,"years"]
["Unit cost - luminaire",158.55000000000001]
["Unit cost - miscellaneous materials (bulk lamp)",1]
["Number of men in crew",2]
["Number of luminaires replaced per day - urban",16]
["Number of luminaires replaced per day - rural",13]
["Number of luminaires replaced per day - remote",10]
[]
["Inputs - S-HP150"]
[]
["Depreciation period ",20,"years"]
["Unit cost - luminaire",187.64]
["Unit cost - miscellaneous materials",2]
["Number of men in crew - repairs (exc CitiPower)",2]
["Number of men in crew - repairs (CitiPower)",2.5]
["Number of luminaires replaced per day - urban",16]
["Number of luminaires replaced per day - rural",13]
["Number of luminaires replaced per day - remote",10]
[]
["Inputs - S-HP250"]
[]
["Depreciation period ",{"$f":"B30","v":20},"years"]
["Unit cost - luminaire",190.44]
["Unit cost - miscellaneous materials",2]
["Number of men in crew - repairs (exc CitiPower)",{"$f":"B33","v":2}]
["Number of men in crew - repairs (CitiPower)",{"$f":"B34","v":2.5}]
["Number of luminaires replaced per day - urban",{"$f":"B35","v":16}]
["Number of luminaires replaced per day - rural",{"$f":"B36","v":13}]
["Number of luminaires replaced per day - remote",{"$f":"B37","v":10}]
[]
["Dedicated street lighting poles"]
[]
["Depreciation of dedicated street lighting pole & bracket",35,"years"]
["Cost of pole & bracket",500]
["Number of poles & brackets replaced per day",4]
["Cost of bracket",40]
["Number of brackets replaced per day",20]
[]
[]
[]
[]
[]
[]
["DEPRECIATION PROFILE"]
[]
["20 year asset life"]
[null,2001,2002,2003,2004]
["New assets in 2001","10/20","19/20","18/20","17/20","Assume half the asset base in first year"]
["New assets in 2002",null,"10/20","19/20","18/20","In subsequent years - depreciation of 1/20 per year"]
["New assets in 2003",null,null,"10/20","19/20"]
["New assets in 2004",null,null,null,"10/20"]
[]
["Total","10/20","29/20","47/20","64/20"]
[]
["35 year asset life"]
[null,2001,2002,2003,2004]
["New assets in 2001","17.5/35","34/35","33/35","32/35","Assume half the asset base in first year"]
["New assets in 2002",null,"17.5/35","34/35","33/35","In subsequent years - depreciation of 1/35 per year"]
["New assets in 2003",null,null,"17.5/35","34/35"]
["New assets in 2004",null,null,null,"17.5/35"]
[]
["Total","17.5/35","51.5/35","84.5/35","116.5/35"]
[]
[]
[]
[]
[]
[]
[null,"Location of selected public lighting assets within distributors' areas (%)"]
[null,null,"AGL (%)","CitiPower (%)","Powercor (%)","TXU (%)",null,"United Energy (%)"]
[null,null,null,null,null,"central","north/east"]
[null,"MV 80 Watt"]
[null,"CitiPower",0,1,0,0,0,0]
[null,"Urban",0.97,0,0.39,0.96,0.35,0.84]
[null,"Rural",0.03,0,0.57099999999999995,0.04,0.53,0.16]
[null,"Remote",0,0,3.9E-2,0,0.12,0]
[null,"S-HP 150 Watt"]
[null,"CitiPower",0,1,0,0,0,0]
[null,"Urban",0.98,0,0.52,0.94,0.3,0.84]
[null,"Rural",0.02,0,0.441,0.06,0.63,0.16]
[null,"Remote",0,0,3.9E-2,0,7.0000000000000007E-2,0]
[null,"S-HP 250 Watt"]
[null,"CitiPower",0,1,0,0,0,0]
[null,"Urban",0.96,0,0.48,0.9,0.37,0.84]
[null,"Rural",0.04,0,0.48099999999999998,0.1,0.56999999999999995,0.16]
[null,"Remote",0,0,3.9E-2,0,0.06,0]
[]
[null,"Proportion of lights installed at 1 January 2001 (%)"]
[null,null,"AGL","CitiPower","Powercor","TXU",null,"United Energy"]
[null,null,null,null,null,"central","north/east"]
[null,"MV 80 Watt",0.905787037037037,1,0.86777777777777776,0.88453792189886593,0.88441954863731531,0.89212199870214148]
[null,"S-HP 150 Watt",0.92852830188679247,0.97046808510638294,0.79574999999999996,0.9271778402248092,0.92717784022480954,0.76780200027653589]
[null,"S-HP 250 Watt",0.97372093023255812,1,0.8570165745856354,0.93238356164383551,0.93238356164383573,0.79881039340498805]
[]
["Proportion of lights on dedicated poles",null,0.1908204,0.19633080440438641,0.28800286795458091,0.38119062500000001,0.38296744016378254,0.2370560408218817]
["Proportion of dedicated poles at 1 Jan 2001",null,0.91293333333333337,0.91293333333333337,0.88888888888888884,0.89230769230769236,0.88888888888888884,0.91293333333333337]
[]
["Proportion of non-dedicated poles at 1 Jan 2001",null,0.74134150899999995,0.85329845683448124,0.6107644460365671,0.54998659800000005,0.54983737742466199,0.66538387625035467]
[]
[]
[]
[]
[]
["Jemena",{"$f":"C108","v":"AGL"}]
["Citipower",{"$f":"D108","v":"CitiPower"}]
["Powercor",{"$f":"E108","v":"Powercor"}]
["SP AusNet - Central",{"$f":"F108","v":"TXU"},{"$f":"F109","v":"central"}]
["SP AusNet - North/East",{"$f":"F108","v":"TXU"},{"$f":"G109","v":"north/east"}]
["United Energy",{"$f":"H108","v":"United Energy"}]