{"text_format":"1","workbook":"xlsx","n_sheets":2,"sheets":["2014 scenario - input","2014 scenario - output"],"not_rendered":{"charts":0,"images":0,"macros":1,"external_links":0,"defined_names":1,"comments":0,"pivot_tables":0},"unopened":[],"bounds":{"document_bytes":16777216,"sheet_cells":100000,"rows_first":2000,"rows_last":500,"rows_between":2000,"halvings":0,"cell_chars":16384,"cell_head_chars":4096},"cells_cut":0,"cells_raw":0,"read":"whole","date_system":"1900"}

{"sheet":"2014 scenario - input","index":0,"n_rows":146,"n_cols":190,"rows_kept":146,"cut":false,"hidden":false,"merged":[[2,3,3,3],[2,4,3,5],[2,6,3,6]]}
[null,"Unit cost - historical","Calibration period:"]
[null,"Replacement lives - calibrated"]
[null,null,null,"Unit cost","Replacement \nlife",null,"Method","Volume",null,null,null,null,null,null,null,null,null,null,null,null,null,null,null,null,null,null,null,null,null,null,null,null,null,null,null,null,null,null,null,null,null,null,null,null,null,null,null,null,null,null,null,null,null,null,null,null,null,null,null,null,null,null,null,null,null,null,null,null,null,null,null,null,null,null,null,null,null,null,null,null,null,null,null,null,null,null,null,null,null,null,null,null,null,null,null,null,null,null,null,"Replacement Cost (NOT depreciated)"]
[null,null,null,null,null,null,null,"Installation date",null,null,null,null,null,null,null,null,null,null,null,null,null,null,null,null,null,null,null,null,null,null,null,null,null,null,null,null,null,null,null,null,null,null,null,null,null,null,null,null,null,null,null,null,null,null,null,null,null,null,null,null,null,null,null,null,null,null,null,null,null,null,null,null,null,null,null,null,null,null,null,null,null,null,null,null,null,null,null,null,null,null,null,null,null,null,null,null,null,null,null,"Installation date"]
["ID","Asset group","Asset category","$ ('000)","μ","σ","#",2014,2013,2012,2011,2010,2009,2008,2007,2006,2005,2004,2003,2002,2001,2000,1999,1998,1997,1996,1995,1994,1993,1992,1991,1990,1989,1988,1987,1986,1985,1984,1983,1982,1981,1980,1979,1978,1977,1976,1975,1974,1973,1972,1971,1970,1969,1968,1967,1966,1965,1964,1963,1962,1961,1960,1959,1958,1957,1956,1955,1954,1953,1952,1951,1950,1949,1948,1947,1946,1945,1944,1943,1942,1941,1940,1939,1938,1937,1936,1935,1934,1933,1932,1931,1930,1929,1928,1927,1926,1925,1924,null,2014,2013,2012,2011,2010,2009,2008,2007,2006,2005,2004,2003,2002,2001,2000,1999,1998,1997,1996,1995,1994,1993,1992,1991,1990,1989,1988,1987,1986,1985,1984,1983,1982,1981,1980,1979,1978,1977,1976,1975,1974,1973,1972,1971,1970,1969,1968,1967,1966,1965,1964,1963,1962,1961,1960,1959,1958,1957,1956,1955,1954,1953,1952,1951,1950,1949,1948,1947,1946,1945,1944,1943,1942,1941,1940,1939,1938,1937,1936,1935,1934,1933,1932,1931,1930,1929,1928,1927,1926,1925,1924]
[2,"POLES","˂ = 1 kv ; wood",1,71.327772846508665,8.4455771174330447,2,300,417,449,289,393,663,383,463,459,630,592,568,482,758,653,438,50,20,15,8,4,20,17,38,395,1249,1233,1090,3214,2147,2523,1927,1846,2016,3695,1879,2259,1849,3538,3185,2581,3219,2705,2159,2378,3236,3156,3253,2241,2575,2581,1548,1788,1581,1484,1185,1115,1181,322,469,420,463,594,446,768,298,198,150,136,105,35,29,130,400,918,496,857,234,181,68,137,71,28,16,21,0,0,0,0,0,0,"",300,417,449,289,393,663,383,463,459,630,592,568,482,758,653,438,50,20,15,8,4,20,17,38,395,1249,1233,1090,3214,2147,2523,1927,1846,2016,3695,1879,2259,1849,3538,3185,2581,3219,2705,2159,2378,3236,3156,3253,2241,2575,2581,1548,1788,1581,1484,1185,1115,1181,322,469,420,463,594,446,768,298,198,150,136,105,35,29,130,400,918,496,857,234,181,68,137,71,28,16,21,0,0,0,0,0,0]
[2,"POLES","˃ 11 kv & < = 22 kv ; wood",1,70.894627445270075,8.4198947407476581,2,814,1394,1568,1215,1199,1729,1615,1750,1821,2674,3196,2715,2103,3721,3292,1915,356,164,122,171,157,540,111,589,1606,1494,2785,1506,4591,4411,5583,5142,5227,7037,6981,2630,4653,7206,7223,5543,4057,3664,3564,3076,4992,7775,8127,8285,9833,11681,11431,5134,4826,4781,4065,3689,3660,3603,846,1815,1378,1001,1169,1165,1219,665,240,182,236,266,220,84,337,588,1677,1321,2577,648,313,162,84,61,35,7,8,0,0,0,0,0,0,"",814,1394,1568,1215,1199,1729,1615,1750,1821,2674,3196,2715,2103,3721,3292,1915,356,164,122,171,157,540,111,589,1606,1494,2785,1506,4591,4411,5583,5142,5227,7037,6981,2630,4653,7206,7223,5543,4057,3664,3564,3076,4992,7775,8127,8285,9833,11681,11431,5134,4826,4781,4065,3689,3660,3603,846,1815,1378,1001,1169,1165,1219,665,240,182,236,266,220,84,337,588,1677,1321,2577,648,313,162,84,61,35,7,8,0,0,0,0,0,0]
[2,"POLES","> 1 kv & < = 11 kv ; wood",1,64.838048193634293,8.0522076596194587,2,12,19,10,7,2,7,10,7,10,5,13,7,5,10,6,2,2,3,8,3,0,9,0,6,33,15,7,8,4,20,20,19,3,4,16,5,30,11,3,9,12,9,18,7,22,9,17,13,33,18,5,11,15,20,11,23,10,4,0,0,7,2,0,2,4,0,0,0,2,0,0,0,0,9,3,3,3,0,0,0,0,0,0,0,0,0,0,0,0,0,0,"",12,19,10,7,2,7,10,7,10,5,13,7,5,10,6,2,2,3,8,3,0,9,0,6,33,15,7,8,4,20,20,19,3,4,16,5,30,11,3,9,12,9,18,7,22,9,17,13,33,18,5,11,15,20,11,23,10,4,0,0,7,2,0,2,4,0,0,0,2,0,0,0,0,9,3,3,3,0,0,0,0,0,0,0,0,0,0,0,0,0,0]
[2,"POLES","> 22 kv & < = 66 kv ; wood",1,74.509930070768178,8.6319134652038869,2,45,208,463,292,343,87,314,290,378,214,668,268,274,343,271,287,27,13,13,26,10,44,8,35,281,175,56,42,46,86,293,132,123,360,201,129,44,430,757,817,388,226,338,209,753,556,165,446,397,332,497,256,192,291,127,150,43,482,332,57,18,62,27,51,34,21,21,7,7,4,2,266,68,183,62,26,21,5,4,56,26,2,0,0,2,0,0,0,0,0,0,"",45,208,463,292,343,87,314,290,378,214,668,268,274,343,271,287,27,13,13,26,10,44,8,35,281,175,56,42,46,86,293,132,123,360,201,129,44,430,757,817,388,226,338,209,753,556,165,446,397,332,497,256,192,291,127,150,43,482,332,57,18,62,27,51,34,21,21,7,7,4,2,266,68,183,62,26,21,5,4,56,26,2,0,0,2,0,0,0,0,0,0]
[2,"POLES","staking of a wooden pole",1,33.890053426912402,5.8215164198782778,2,1066,1309,1133,847,802,512,698,1061,869,966,658,607,560,366,209,231,163,1679,1495,789,690,495,571,967,1070,1660,415,146,75,103,59,52,55,56,58,0,0,0,0,0,0,0,0,0,0,0,0,0,0,0,0,0,0,0,0,0,0,0,0,0,0,0,0,0,0,0,0,0,0,0,0,0,0,0,0,0,0,0,0,0,0,0,0,0,0,0,0,0,0,0,0,"",1066,1309,1133,847,802,512,698,1061,869,966,658,607,560,366,209,231,163,1679,1495,789,690,495,571,967,1070,1660,415,146,75,103,59,52,55,56,58,0,0,0,0,0,0,0,0,0,0,0,0,0,0,0,0,0,0,0,0,0,0,0,0,0,0,0,0,0,0,0,0,0,0,0,0,0,0,0,0,0,0,0,0,0,0,0,0,0,0,0,0,0,0,0,0]
["",null,null,null,null,null,null,null,null,null,null,null,null,null,null,null,null,null,null,null,null,null,null,null,null,null,null,null,null,null,null,null,null,null,null,null,null,null,null,null,null,null,null,null,null,null,null,null,null,null,null,null,null,null,null,null,null,null,null,null,null,null,null,null,null,null,null,null,null,null,null,null,null,null,null,null,null,null,null,null,null,null,null,null,null,null,null,null,null,null,null,null,null,null,null,null,null,null,null,0,0,0,0,0,0,0,0,0,0,0,0,0,0,0,0,0,0,0,0,0,0,0,0,0,0,0,0,0,0,0,0,0,0,0,0,0,0,0,0,0,0,0,0,0,0,0,0,0,0,0,0,0,0,0,0,0,0,0,0,0,0,0,0,0,0,0,0,0,0,0,0,0,0,0,0,0,0,0,0,0,0,0,0,0,0,0,0,0,0,0]
["",null,null,null,null,null,null,null,null,null,null,null,null,null,null,null,null,null,null,null,null,null,null,null,null,null,null,null,null,null,null,null,null,null,null,null,null,null,null,null,null,null,null,null,null,null,null,null,null,null,null,null,null,null,null,null,null,null,null,null,null,null,null,null,null,null,null,null,null,null,null,null,null,null,null,null,null,null,null,null,null,null,null,null,null,null,null,null,null,null,null,null,null,null,null,null,null,null,null,0,0,0,0,0,0,0,0,0,0,0,0,0,0,0,0,0,0,0,0,0,0,0,0,0,0,0,0,0,0,0,0,0,0,0,0,0,0,0,0,0,0,0,0,0,0,0,0,0,0,0,0,0,0,0,0,0,0,0,0,0,0,0,0,0,0,0,0,0,0,0,0,0,0,0,0,0,0,0,0,0,0,0,0,0,0,0,0,0,0,0]
["",null,null,null,null,"","",null,null,null,null,null,null,null,null,null,null,null,null,null,null,null,null,null,null,null,null,null,null,null,null,null,null,null,null,null,null,null,null,null,null,null,null,null,null,null,null,null,null,null,null,null,null,null,null,null,null,null,null,null,null,null,null,null,null,null,null,null,null,null,null,null,null,null,null,null,null,null,null,null,null,null,null,null,null,null,null,null,null,null,null,null,null,null,null,null,null,null,null,0,0,0,0,0,0,0,0,0,0,0,0,0,0,0,0,0,0,0,0,0,0,0,0,0,0,0,0,0,0,0,0,0,0,0,0,0,0,0,0,0,0,0,0,0,0,0,0,0,0,0,0,0,0,0,0,0,0,0,0,0,0,0,0,0,0,0,0,0,0,0,0,0,0,0,0,0,0,0,0,0,0,0,0,0,0,0,0,0,0,0]
["",null,null,null,null,"","",null,null,null,null,null,null,null,null,null,null,null,null,null,null,null,null,null,null,null,null,null,null,null,null,null,null,null,null,null,null,null,null,null,null,null,null,null,null,null,null,null,null,null,null,null,null,null,null,null,null,null,null,null,null,null,null,null,null,null,null,null,null,null,null,null,null,null,null,null,null,null,null,null,null,null,null,null,null,null,null,null,null,null,null,null,null,null,null,null,null,null,null,0,0,0,0,0,0,0,0,0,0,0,0,0,0,0,0,0,0,0,0,0,0,0,0,0,0,0,0,0,0,0,0,0,0,0,0,0,0,0,0,0,0,0,0,0,0,0,0,0,0,0,0,0,0,0,0,0,0,0,0,0,0,0,0,0,0,0,0,0,0,0,0,0,0,0,0,0,0,0,0,0,0,0,0,0,0,0,0,0,0,0]
["",null,null,null,null,"","",null,null,null,null,null,null,null,null,null,null,null,null,null,null,null,null,null,null,null,null,null,null,null,null,null,null,null,null,null,null,null,null,null,null,null,null,null,null,null,null,null,null,null,null,null,null,null,null,null,null,null,null,null,null,null,null,null,null,null,null,null,null,null,null,null,null,null,null,null,null,null,null,null,null,null,null,null,null,null,null,null,null,null,null,null,null,null,null,null,null,null,null,0,0,0,0,0,0,0,0,0,0,0,0,0,0,0,0,0,0,0,0,0,0,0,0,0,0,0,0,0,0,0,0,0,0,0,0,0,0,0,0,0,0,0,0,0,0,0,0,0,0,0,0,0,0,0,0,0,0,0,0,0,0,0,0,0,0,0,0,0,0,0,0,0,0,0,0,0,0,0,0,0,0,0,0,0,0,0,0,0,0,0]
["",null,null,null,null,"","",null,null,null,null,null,null,null,null,null,null,null,null,null,null,null,null,null,null,null,null,null,null,null,null,null,null,null,null,null,null,null,null,null,null,null,null,null,null,null,null,null,null,null,null,null,null,null,null,null,null,null,null,null,null,null,null,null,null,null,null,null,null,null,null,null,null,null,null,null,null,null,null,null,null,null,null,null,null,null,null,null,null,null,null,null,null,null,null,null,null,null,null,0,0,0,0,0,0,0,0,0,0,0,0,0,0,0,0,0,0,0,0,0,0,0,0,0,0,0,0,0,0,0,0,0,0,0,0,0,0,0,0,0,0,0,0,0,0,0,0,0,0,0,0,0,0,0,0,0,0,0,0,0,0,0,0,0,0,0,0,0,0,0,0,0,0,0,0,0,0,0,0,0,0,0,0,0,0,0,0,0,0,0]
["",null,null,null,null,"","",null,null,null,null,null,null,null,null,null,null,null,null,null,null,null,null,null,null,null,null,null,null,null,null,null,null,null,null,null,null,null,null,null,null,null,null,null,null,null,null,null,null,null,null,null,null,null,null,null,null,null,null,null,null,null,null,null,null,null,null,null,null,null,null,null,null,null,null,null,null,null,null,null,null,null,null,null,null,null,null,null,null,null,null,null,null,null,null,null,null,null,null,0,0,0,0,0,0,0,0,0,0,0,0,0,0,0,0,0,0,0,0,0,0,0,0,0,0,0,0,0,0,0,0,0,0,0,0,0,0,0,0,0,0,0,0,0,0,0,0,0,0,0,0,0,0,0,0,0,0,0,0,0,0,0,0,0,0,0,0,0,0,0,0,0,0,0,0,0,0,0,0,0,0,0,0,0,0,0,0,0,0,0]
["",null,null,null,null,"","",null,null,null,null,null,null,null,null,null,null,null,null,null,null,null,null,null,null,null,null,null,null,null,null,null,null,null,null,null,null,null,null,null,null,null,null,null,null,null,null,null,null,null,null,null,null,null,null,null,null,null,null,null,null,null,null,null,null,null,null,null,null,null,null,null,null,null,null,null,null,null,null,null,null,null,null,null,null,null,null,null,null,null,null,null,null,null,null,null,null,null,null,0,0,0,0,0,0,0,0,0,0,0,0,0,0,0,0,0,0,0,0,0,0,0,0,0,0,0,0,0,0,0,0,0,0,0,0,0,0,0,0,0,0,0,0,0,0,0,0,0,0,0,0,0,0,0,0,0,0,0,0,0,0,0,0,0,0,0,0,0,0,0,0,0,0,0,0,0,0,0,0,0,0,0,0,0,0,0,0,0,0,0]
["",null,null,null,null,"","",null,null,null,null,null,null,null,null,null,null,null,null,null,null,null,null,null,null,null,null,null,null,null,null,null,null,null,null,null,null,null,null,null,null,null,null,null,null,null,null,null,null,null,null,null,null,null,null,null,null,null,null,null,null,null,null,null,null,null,null,null,null,null,null,null,null,null,null,null,null,null,null,null,null,null,null,null,null,null,null,null,null,null,null,null,null,null,null,null,null,null,null,0,0,0,0,0,0,0,0,0,0,0,0,0,0,0,0,0,0,0,0,0,0,0,0,0,0,0,0,0,0,0,0,0,0,0,0,0,0,0,0,0,0,0,0,0,0,0,0,0,0,0,0,0,0,0,0,0,0,0,0,0,0,0,0,0,0,0,0,0,0,0,0,0,0,0,0,0,0,0,0,0,0,0,0,0,0,0,0,0,0,0]
["",null,null,null,null,"","",null,null,null,null,null,null,null,null,null,null,null,null,null,null,null,null,null,null,null,null,null,null,null,null,null,null,null,null,null,null,null,null,null,null,null,null,null,null,null,null,null,null,null,null,null,null,null,null,null,null,null,null,null,null,null,null,null,null,null,null,null,null,null,null,null,null,null,null,null,null,null,null,null,null,null,null,null,null,null,null,null,null,null,null,null,null,null,null,null,null,null,null,0,0,0,0,0,0,0,0,0,0,0,0,0,0,0,0,0,0,0,0,0,0,0,0,0,0,0,0,0,0,0,0,0,0,0,0,0,0,0,0,0,0,0,0,0,0,0,0,0,0,0,0,0,0,0,0,0,0,0,0,0,0,0,0,0,0,0,0,0,0,0,0,0,0,0,0,0,0,0,0,0,0,0,0,0,0,0,0,0,0,0]
["",null,null,null,null,"","",null,null,null,null,null,null,null,null,null,null,null,null,null,null,null,null,null,null,null,null,null,null,null,null,null,null,null,null,null,null,null,null,null,null,null,null,null,null,null,null,null,null,null,null,null,null,null,null,null,null,null,null,null,null,null,null,null,null,null,null,null,null,null,null,null,null,null,null,null,null,null,null,null,null,null,null,null,null,null,null,null,null,null,null,null,null,null,null,null,null,null,null,0,0,0,0,0,0,0,0,0,0,0,0,0,0,0,0,0,0,0,0,0,0,0,0,0,0,0,0,0,0,0,0,0,0,0,0,0,0,0,0,0,0,0,0,0,0,0,0,0,0,0,0,0,0,0,0,0,0,0,0,0,0,0,0,0,0,0,0,0,0,0,0,0,0,0,0,0,0,0,0,0,0,0,0,0,0,0,0,0,0,0]
["",null,null,null,null,"","",null,null,null,null,null,null,null,null,null,null,null,null,null,null,null,null,null,null,null,null,null,null,null,null,null,null,null,null,null,null,null,null,null,null,null,null,null,null,null,null,null,null,null,null,null,null,null,null,null,null,null,null,null,null,null,null,null,null,null,null,null,null,null,null,null,null,null,null,null,null,null,null,null,null,null,null,null,null,null,null,null,null,null,null,null,null,null,null,null,null,null,null,0,0,0,0,0,0,0,0,0,0,0,0,0,0,0,0,0,0,0,0,0,0,0,0,0,0,0,0,0,0,0,0,0,0,0,0,0,0,0,0,0,0,0,0,0,0,0,0,0,0,0,0,0,0,0,0,0,0,0,0,0,0,0,0,0,0,0,0,0,0,0,0,0,0,0,0,0,0,0,0,0,0,0,0,0,0,0,0,0,0,0]
["",null,null,null,null,"","",null,null,null,null,null,null,null,null,null,null,null,null,null,null,null,null,null,null,null,null,null,null,null,null,null,null,null,null,null,null,null,null,null,null,null,null,null,null,null,null,null,null,null,null,null,null,null,null,null,null,null,null,null,null,null,null,null,null,null,null,null,null,null,null,null,null,null,null,null,null,null,null,null,null,null,null,null,null,null,null,null,null,null,null,null,null,null,null,null,null,null,null,0,0,0,0,0,0,0,0,0,0,0,0,0,0,0,0,0,0,0,0,0,0,0,0,0,0,0,0,0,0,0,0,0,0,0,0,0,0,0,0,0,0,0,0,0,0,0,0,0,0,0,0,0,0,0,0,0,0,0,0,0,0,0,0,0,0,0,0,0,0,0,0,0,0,0,0,0,0,0,0,0,0,0,0,0,0,0,0,0,0,0]
["",null,null,null,null,"","",null,null,null,null,null,null,null,null,null,null,null,null,null,null,null,null,null,null,null,null,null,null,null,null,null,null,null,null,null,null,null,null,null,null,null,null,null,null,null,null,null,null,null,null,null,null,null,null,null,null,null,null,null,null,null,null,null,null,null,null,null,null,null,null,null,null,null,null,null,null,null,null,null,null,null,null,null,null,null,null,null,null,null,null,null,null,null,null,null,null,null,null,0,0,0,0,0,0,0,0,0,0,0,0,0,0,0,0,0,0,0,0,0,0,0,0,0,0,0,0,0,0,0,0,0,0,0,0,0,0,0,0,0,0,0,0,0,0,0,0,0,0,0,0,0,0,0,0,0,0,0,0,0,0,0,0,0,0,0,0,0,0,0,0,0,0,0,0,0,0,0,0,0,0,0,0,0,0,0,0,0,0,0]
["",null,null,null,null,"","",null,null,null,null,null,null,null,null,null,null,null,null,null,null,null,null,null,null,null,null,null,null,null,null,null,null,null,null,null,null,null,null,null,null,null,null,null,null,null,null,null,null,null,null,null,null,null,null,null,null,null,null,null,null,null,null,null,null,null,null,null,null,null,null,null,null,null,null,null,null,null,null,null,null,null,null,null,null,null,null,null,null,null,null,null,null,null,null,null,null,null,null,0,0,0,0,0,0,0,0,0,0,0,0,0,0,0,0,0,0,0,0,0,0,0,0,0,0,0,0,0,0,0,0,0,0,0,0,0,0,0,0,0,0,0,0,0,0,0,0,0,0,0,0,0,0,0,0,0,0,0,0,0,0,0,0,0,0,0,0,0,0,0,0,0,0,0,0,0,0,0,0,0,0,0,0,0,0,0,0,0,0,0]
["",null,null,null,null,"","",null,null,null,null,null,null,null,null,null,null,null,null,null,null,null,null,null,null,null,null,null,null,null,null,null,null,null,null,null,null,null,null,null,null,null,null,null,null,null,null,null,null,null,null,null,null,null,null,null,null,null,null,null,null,null,null,null,null,null,null,null,null,null,null,null,null,null,null,null,null,null,null,null,null,null,null,null,null,null,null,null,null,null,null,null,null,null,null,null,null,null,null,0,0,0,0,0,0,0,0,0,0,0,0,0,0,0,0,0,0,0,0,0,0,0,0,0,0,0,0,0,0,0,0,0,0,0,0,0,0,0,0,0,0,0,0,0,0,0,0,0,0,0,0,0,0,0,0,0,0,0,0,0,0,0,0,0,0,0,0,0,0,0,0,0,0,0,0,0,0,0,0,0,0,0,0,0,0,0,0,0,0,0]
["",null,null,null,null,"","",null,null,null,null,null,null,null,null,null,null,null,null,null,null,null,null,null,null,null,null,null,null,null,null,null,null,null,null,null,null,null,null,null,null,null,null,null,null,null,null,null,null,null,null,null,null,null,null,null,null,null,null,null,null,null,null,null,null,null,null,null,null,null,null,null,null,null,null,null,null,null,null,null,null,null,null,null,null,null,null,null,null,null,null,null,null,null,null,null,null,null,null,0,0,0,0,0,0,0,0,0,0,0,0,0,0,0,0,0,0,0,0,0,0,0,0,0,0,0,0,0,0,0,0,0,0,0,0,0,0,0,0,0,0,0,0,0,0,0,0,0,0,0,0,0,0,0,0,0,0,0,0,0,0,0,0,0,0,0,0,0,0,0,0,0,0,0,0,0,0,0,0,0,0,0,0,0,0,0,0,0,0,0]
["",null,null,null,null,"","",null,null,null,null,null,null,null,null,null,null,null,null,null,null,null,null,null,null,null,null,null,null,null,null,null,null,null,null,null,null,null,null,null,null,null,null,null,null,null,null,null,null,null,null,null,null,null,null,null,null,null,null,null,null,null,null,null,null,null,null,null,null,null,null,null,null,null,null,null,null,null,null,null,null,null,null,null,null,null,null,null,null,null,null,null,null,null,null,null,null,null,null,0,0,0,0,0,0,0,0,0,0,0,0,0,0,0,0,0,0,0,0,0,0,0,0,0,0,0,0,0,0,0,0,0,0,0,0,0,0,0,0,0,0,0,0,0,0,0,0,0,0,0,0,0,0,0,0,0,0,0,0,0,0,0,0,0,0,0,0,0,0,0,0,0,0,0,0,0,0,0,0,0,0,0,0,0,0,0,0,0,0,0]
["",null,null,null,null,"","",null,null,null,null,null,null,null,null,null,null,null,null,null,null,null,null,null,null,null,null,null,null,null,null,null,null,null,null,null,null,null,null,null,null,null,null,null,null,null,null,null,null,null,null,null,null,null,null,null,null,null,null,null,null,null,null,null,null,null,null,null,null,null,null,null,null,null,null,null,null,null,null,null,null,null,null,null,null,null,null,null,null,null,null,null,null,null,null,null,null,null,null,0,0,0,0,0,0,0,0,0,0,0,0,0,0,0,0,0,0,0,0,0,0,0,0,0,0,0,0,0,0,0,0,0,0,0,0,0,0,0,0,0,0,0,0,0,0,0,0,0,0,0,0,0,0,0,0,0,0,0,0,0,0,0,0,0,0,0,0,0,0,0,0,0,0,0,0,0,0,0,0,0,0,0,0,0,0,0,0,0,0,0]
["",null,null,null,null,"","",null,null,null,null,null,null,null,null,null,null,null,null,null,null,null,null,null,null,null,null,null,null,null,null,null,null,null,null,null,null,null,null,null,null,null,null,null,null,null,null,null,null,null,null,null,null,null,null,null,null,null,null,null,null,null,null,null,null,null,null,null,null,null,null,null,null,null,null,null,null,null,null,null,null,null,null,null,null,null,null,null,null,null,null,null,null,null,null,null,null,null,null,0,0,0,0,0,0,0,0,0,0,0,0,0,0,0,0,0,0,0,0,0,0,0,0,0,0,0,0,0,0,0,0,0,0,0,0,0,0,0,0,0,0,0,0,0,0,0,0,0,0,0,0,0,0,0,0,0,0,0,0,0,0,0,0,0,0,0,0,0,0,0,0,0,0,0,0,0,0,0,0,0,0,0,0,0,0,0,0,0,0,0]
["",null,null,null,null,"","",null,null,null,null,null,null,null,null,null,null,null,null,null,null,null,null,null,null,null,null,null,null,null,null,null,null,null,null,null,null,null,null,null,null,null,null,null,null,null,null,null,null,null,null,null,null,null,null,null,null,null,null,null,null,null,null,null,null,null,null,null,null,null,null,null,null,null,null,null,null,null,null,null,null,null,null,null,null,null,null,null,null,null,null,null,null,null,null,null,null,null,null,0,0,0,0,0,0,0,0,0,0,0,0,0,0,0,0,0,0,0,0,0,0,0,0,0,0,0,0,0,0,0,0,0,0,0,0,0,0,0,0,0,0,0,0,0,0,0,0,0,0,0,0,0,0,0,0,0,0,0,0,0,0,0,0,0,0,0,0,0,0,0,0,0,0,0,0,0,0,0,0,0,0,0,0,0,0,0,0,0,0,0]
["",null,null,null,null,"","",null,null,null,null,null,null,null,null,null,null,null,null,null,null,null,null,null,null,null,null,null,null,null,null,null,null,null,null,null,null,null,null,null,null,null,null,null,null,null,null,null,null,null,null,null,null,null,null,null,null,null,null,null,null,null,null,null,null,null,null,null,null,null,null,null,null,null,null,null,null,null,null,null,null,null,null,null,null,null,null,null,null,null,null,null,null,null,null,null,null,null,null,0,0,0,0,0,0,0,0,0,0,0,0,0,0,0,0,0,0,0,0,0,0,0,0,0,0,0,0,0,0,0,0,0,0,0,0,0,0,0,0,0,0,0,0,0,0,0,0,0,0,0,0,0,0,0,0,0,0,0,0,0,0,0,0,0,0,0,0,0,0,0,0,0,0,0,0,0,0,0,0,0,0,0,0,0,0,0,0,0,0,0]
["",null,null,null,null,"","",null,null,null,null,null,null,null,null,null,null,null,null,null,null,null,null,null,null,null,null,null,null,null,null,null,null,null,null,null,null,null,null,null,null,null,null,null,null,null,null,null,null,null,null,null,null,null,null,null,null,null,null,null,null,null,null,null,null,null,null,null,null,null,null,null,null,null,null,null,null,null,null,null,null,null,null,null,null,null,null,null,null,null,null,null,null,null,null,null,null,null,null,0,0,0,0,0,0,0,0,0,0,0,0,0,0,0,0,0,0,0,0,0,0,0,0,0,0,0,0,0,0,0,0,0,0,0,0,0,0,0,0,0,0,0,0,0,0,0,0,0,0,0,0,0,0,0,0,0,0,0,0,0,0,0,0,0,0,0,0,0,0,0,0,0,0,0,0,0,0,0,0,0,0,0,0,0,0,0,0,0,0,0]
["",null,null,null,null,"","",null,null,null,null,null,null,null,null,null,null,null,null,null,null,null,null,null,null,null,null,null,null,null,null,null,null,null,null,null,null,null,null,null,null,null,null,null,null,null,null,null,null,null,null,null,null,null,null,null,null,null,null,null,null,null,null,null,null,null,null,null,null,null,null,null,null,null,null,null,null,null,null,null,null,null,null,null,null,null,null,null,null,null,null,null,null,null,null,null,null,null,null,0,0,0,0,0,0,0,0,0,0,0,0,0,0,0,0,0,0,0,0,0,0,0,0,0,0,0,0,0,0,0,0,0,0,0,0,0,0,0,0,0,0,0,0,0,0,0,0,0,0,0,0,0,0,0,0,0,0,0,0,0,0,0,0,0,0,0,0,0,0,0,0,0,0,0,0,0,0,0,0,0,0,0,0,0,0,0,0,0,0,0]
["",null,null,null,null,"","",null,null,null,null,null,null,null,null,null,null,null,null,null,null,null,null,null,null,null,null,null,null,null,null,null,null,null,null,null,null,null,null,null,null,null,null,null,null,null,null,null,null,null,null,null,null,null,null,null,null,null,null,null,null,null,null,null,null,null,null,null,null,null,null,null,null,null,null,null,null,null,null,null,null,null,null,null,null,null,null,null,null,null,null,null,null,null,null,null,null,null,null,0,0,0,0,0,0,0,0,0,0,0,0,0,0,0,0,0,0,0,0,0,0,0,0,0,0,0,0,0,0,0,0,0,0,0,0,0,0,0,0,0,0,0,0,0,0,0,0,0,0,0,0,0,0,0,0,0,0,0,0,0,0,0,0,0,0,0,0,0,0,0,0,0,0,0,0,0,0,0,0,0,0,0,0,0,0,0,0,0,0,0]
["",null,null,null,null,"","",null,null,null,null,null,null,null,null,null,null,null,null,null,null,null,null,null,null,null,null,null,null,null,null,null,null,null,null,null,null,null,null,null,null,null,null,null,null,null,null,null,null,null,null,null,null,null,null,null,null,null,null,null,null,null,null,null,null,null,null,null,null,null,null,null,null,null,null,null,null,null,null,null,null,null,null,null,null,null,null,null,null,null,null,null,null,null,null,null,null,null,null,0,0,0,0,0,0,0,0,0,0,0,0,0,0,0,0,0,0,0,0,0,0,0,0,0,0,0,0,0,0,0,0,0,0,0,0,0,0,0,0,0,0,0,0,0,0,0,0,0,0,0,0,0,0,0,0,0,0,0,0,0,0,0,0,0,0,0,0,0,0,0,0,0,0,0,0,0,0,0,0,0,0,0,0,0,0,0,0,0,0,0]
["",null,null,null,null,"","",null,null,null,null,null,null,null,null,null,null,null,null,null,null,null,null,null,null,null,null,null,null,null,null,null,null,null,null,null,null,null,null,null,null,null,null,null,null,null,null,null,null,null,null,null,null,null,null,null,null,null,null,null,null,null,null,null,null,null,null,null,null,null,null,null,null,null,null,null,null,null,null,null,null,null,null,null,null,null,null,null,null,null,null,null,null,null,null,null,null,null,null,0,0,0,0,0,0,0,0,0,0,0,0,0,0,0,0,0,0,0,0,0,0,0,0,0,0,0,0,0,0,0,0,0,0,0,0,0,0,0,0,0,0,0,0,0,0,0,0,0,0,0,0,0,0,0,0,0,0,0,0,0,0,0,0,0,0,0,0,0,0,0,0,0,0,0,0,0,0,0,0,0,0,0,0,0,0,0,0,0,0,0]
["",null,null,null,null,"","",null,null,null,null,null,null,null,null,null,null,null,null,null,null,null,null,null,null,null,null,null,null,null,null,null,null,null,null,null,null,null,null,null,null,null,null,null,null,null,null,null,null,null,null,null,null,null,null,null,null,null,null,null,null,null,null,null,null,null,null,null,null,null,null,null,null,null,null,null,null,null,null,null,null,null,null,null,null,null,null,null,null,null,null,null,null,null,null,null,null,null,null,0,0,0,0,0,0,0,0,0,0,0,0,0,0,0,0,0,0,0,0,0,0,0,0,0,0,0,0,0,0,0,0,0,0,0,0,0,0,0,0,0,0,0,0,0,0,0,0,0,0,0,0,0,0,0,0,0,0,0,0,0,0,0,0,0,0,0,0,0,0,0,0,0,0,0,0,0,0,0,0,0,0,0,0,0,0,0,0,0,0,0]
["",null,null,null,null,"","",null,null,null,null,null,null,null,null,null,null,null,null,null,null,null,null,null,null,null,null,null,null,null,null,null,null,null,null,null,null,null,null,null,null,null,null,null,null,null,null,null,null,null,null,null,null,null,null,null,null,null,null,null,null,null,null,null,null,null,null,null,null,null,null,null,null,null,null,null,null,null,null,null,null,null,null,null,null,null,null,null,null,null,null,null,null,null,null,null,null,null,null,0,0,0,0,0,0,0,0,0,0,0,0,0,0,0,0,0,0,0,0,0,0,0,0,0,0,0,0,0,0,0,0,0,0,0,0,0,0,0,0,0,0,0,0,0,0,0,0,0,0,0,0,0,0,0,0,0,0,0,0,0,0,0,0,0,0,0,0,0,0,0,0,0,0,0,0,0,0,0,0,0,0,0,0,0,0,0,0,0,0,0]
["",null,null,null,null,"","",null,null,null,null,null,null,null,null,null,null,null,null,null,null,null,null,null,null,null,null,null,null,null,null,null,null,null,null,null,null,null,null,null,null,null,null,null,null,null,null,null,null,null,null,null,null,null,null,null,null,null,null,null,null,null,null,null,null,null,null,null,null,null,null,null,null,null,null,null,null,null,null,null,null,null,null,null,null,null,null,null,null,null,null,null,null,null,null,null,null,null,null,0,0,0,0,0,0,0,0,0,0,0,0,0,0,0,0,0,0,0,0,0,0,0,0,0,0,0,0,0,0,0,0,0,0,0,0,0,0,0,0,0,0,0,0,0,0,0,0,0,0,0,0,0,0,0,0,0,0,0,0,0,0,0,0,0,0,0,0,0,0,0,0,0,0,0,0,0,0,0,0,0,0,0,0,0,0,0,0,0,0,0]
["",null,null,null,null,"","",null,null,null,null,null,null,null,null,null,null,null,null,null,null,null,null,null,null,null,null,null,null,null,null,null,null,null,null,null,null,null,null,null,null,null,null,null,null,null,null,null,null,null,null,null,null,null,null,null,null,null,null,null,null,null,null,null,null,null,null,null,null,null,null,null,null,null,null,null,null,null,null,null,null,null,null,null,null,null,null,null,null,null,null,null,null,null,null,null,null,null,null,0,0,0,0,0,0,0,0,0,0,0,0,0,0,0,0,0,0,0,0,0,0,0,0,0,0,0,0,0,0,0,0,0,0,0,0,0,0,0,0,0,0,0,0,0,0,0,0,0,0,0,0,0,0,0,0,0,0,0,0,0,0,0,0,0,0,0,0,0,0,0,0,0,0,0,0,0,0,0,0,0,0,0,0,0,0,0,0,0,0,0]
["",null,null,null,null,"","",null,null,null,null,null,null,null,null,null,null,null,null,null,null,null,null,null,null,null,null,null,null,null,null,null,null,null,null,null,null,null,null,null,null,null,null,null,null,null,null,null,null,null,null,null,null,null,null,null,null,null,null,null,null,null,null,null,null,null,null,null,null,null,null,null,null,null,null,null,null,null,null,null,null,null,null,null,null,null,null,null,null,null,null,null,null,null,null,null,null,null,null,0,0,0,0,0,0,0,0,0,0,0,0,0,0,0,0,0,0,0,0,0,0,0,0,0,0,0,0,0,0,0,0,0,0,0,0,0,0,0,0,0,0,0,0,0,0,0,0,0,0,0,0,0,0,0,0,0,0,0,0,0,0,0,0,0,0,0,0,0,0,0,0,0,0,0,0,0,0,0,0,0,0,0,0,0,0,0,0,0,0,0]
["",null,null,null,null,"","",null,null,null,null,null,null,null,null,null,null,null,null,null,null,null,null,null,null,null,null,null,null,null,null,null,null,null,null,null,null,null,null,null,null,null,null,null,null,null,null,null,null,null,null,null,null,null,null,null,null,null,null,null,null,null,null,null,null,null,null,null,null,null,null,null,null,null,null,null,null,null,null,null,null,null,null,null,null,null,null,null,null,null,null,null,null,null,null,null,null,null,null,0,0,0,0,0,0,0,0,0,0,0,0,0,0,0,0,0,0,0,0,0,0,0,0,0,0,0,0,0,0,0,0,0,0,0,0,0,0,0,0,0,0,0,0,0,0,0,0,0,0,0,0,0,0,0,0,0,0,0,0,0,0,0,0,0,0,0,0,0,0,0,0,0,0,0,0,0,0,0,0,0,0,0,0,0,0,0,0,0,0,0]
["",null,null,null,null,"","",null,null,null,null,null,null,null,null,null,null,null,null,null,null,null,null,null,null,null,null,null,null,null,null,null,null,null,null,null,null,null,null,null,null,null,null,null,null,null,null,null,null,null,null,null,null,null,null,null,null,null,null,null,null,null,null,null,null,null,null,null,null,null,null,null,null,null,null,null,null,null,null,null,null,null,null,null,null,null,null,null,null,null,null,null,null,null,null,null,null,null,null,0,0,0,0,0,0,0,0,0,0,0,0,0,0,0,0,0,0,0,0,0,0,0,0,0,0,0,0,0,0,0,0,0,0,0,0,0,0,0,0,0,0,0,0,0,0,0,0,0,0,0,0,0,0,0,0,0,0,0,0,0,0,0,0,0,0,0,0,0,0,0,0,0,0,0,0,0,0,0,0,0,0,0,0,0,0,0,0,0,0,0]
["",null,null,null,null,"","",null,null,null,null,null,null,null,null,null,null,null,null,null,null,null,null,null,null,null,null,null,null,null,null,null,null,null,null,null,null,null,null,null,null,null,null,null,null,null,null,null,null,null,null,null,null,null,null,null,null,null,null,null,null,null,null,null,null,null,null,null,null,null,null,null,null,null,null,null,null,null,null,null,null,null,null,null,null,null,null,null,null,null,null,null,null,null,null,null,null,null,null,0,0,0,0,0,0,0,0,0,0,0,0,0,0,0,0,0,0,0,0,0,0,0,0,0,0,0,0,0,0,0,0,0,0,0,0,0,0,0,0,0,0,0,0,0,0,0,0,0,0,0,0,0,0,0,0,0,0,0,0,0,0,0,0,0,0,0,0,0,0,0,0,0,0,0,0,0,0,0,0,0,0,0,0,0,0,0,0,0,0,0]
["",null,null,null,null,"","",null,null,null,null,null,null,null,null,null,null,null,null,null,null,null,null,null,null,null,null,null,null,null,null,null,null,null,null,null,null,null,null,null,null,null,null,null,null,null,null,null,null,null,null,null,null,null,null,null,null,null,null,null,null,null,null,null,null,null,null,null,null,null,null,null,null,null,null,null,null,null,null,null,null,null,null,null,null,null,null,null,null,null,null,null,null,null,null,null,null,null,null,0,0,0,0,0,0,0,0,0,0,0,0,0,0,0,0,0,0,0,0,0,0,0,0,0,0,0,0,0,0,0,0,0,0,0,0,0,0,0,0,0,0,0,0,0,0,0,0,0,0,0,0,0,0,0,0,0,0,0,0,0,0,0,0,0,0,0,0,0,0,0,0,0,0,0,0,0,0,0,0,0,0,0,0,0,0,0,0,0,0,0]
["",null,null,null,null,"","",null,null,null,null,null,null,null,null,null,null,null,null,null,null,null,null,null,null,null,null,null,null,null,null,null,null,null,null,null,null,null,null,null,null,null,null,null,null,null,null,null,null,null,null,null,null,null,null,null,null,null,null,null,null,null,null,null,null,null,null,null,null,null,null,null,null,null,null,null,null,null,null,null,null,null,null,null,null,null,null,null,null,null,null,null,null,null,null,null,null,null,null,0,0,0,0,0,0,0,0,0,0,0,0,0,0,0,0,0,0,0,0,0,0,0,0,0,0,0,0,0,0,0,0,0,0,0,0,0,0,0,0,0,0,0,0,0,0,0,0,0,0,0,0,0,0,0,0,0,0,0,0,0,0,0,0,0,0,0,0,0,0,0,0,0,0,0,0,0,0,0,0,0,0,0,0,0,0,0,0,0,0,0]
["",null,null,null,null,"","",null,null,null,null,null,null,null,null,null,null,null,null,null,null,null,null,null,null,null,null,null,null,null,null,null,null,null,null,null,null,null,null,null,null,null,null,null,null,null,null,null,null,null,null,null,null,null,null,null,null,null,null,null,null,null,null,null,null,null,null,null,null,null,null,null,null,null,null,null,null,null,null,null,null,null,null,null,null,null,null,null,null,null,null,null,null,null,null,null,null,null,null,0,0,0,0,0,0,0,0,0,0,0,0,0,0,0,0,0,0,0,0,0,0,0,0,0,0,0,0,0,0,0,0,0,0,0,0,0,0,0,0,0,0,0,0,0,0,0,0,0,0,0,0,0,0,0,0,0,0,0,0,0,0,0,0,0,0,0,0,0,0,0,0,0,0,0,0,0,0,0,0,0,0,0,0,0,0,0,0,0,0,0]
["",null,null,null,null,"","",null,null,null,null,null,null,null,null,null,null,null,null,null,null,null,null,null,null,null,null,null,null,null,null,null,null,null,null,null,null,null,null,null,null,null,null,null,null,null,null,null,null,null,null,null,null,null,null,null,null,null,null,null,null,null,null,null,null,null,null,null,null,null,null,null,null,null,null,null,null,null,null,null,null,null,null,null,null,null,null,null,null,null,null,null,null,null,null,null,null,null,null,0,0,0,0,0,0,0,0,0,0,0,0,0,0,0,0,0,0,0,0,0,0,0,0,0,0,0,0,0,0,0,0,0,0,0,0,0,0,0,0,0,0,0,0,0,0,0,0,0,0,0,0,0,0,0,0,0,0,0,0,0,0,0,0,0,0,0,0,0,0,0,0,0,0,0,0,0,0,0,0,0,0,0,0,0,0,0,0,0,0,0]
["",null,null,null,null,"","",null,null,null,null,null,null,null,null,null,null,null,null,null,null,null,null,null,null,null,null,null,null,null,null,null,null,null,null,null,null,null,null,null,null,null,null,null,null,null,null,null,null,null,null,null,null,null,null,null,null,null,null,null,null,null,null,null,null,null,null,null,null,null,null,null,null,null,null,null,null,null,null,null,null,null,null,null,null,null,null,null,null,null,null,null,null,null,null,null,null,null,null,0,0,0,0,0,0,0,0,0,0,0,0,0,0,0,0,0,0,0,0,0,0,0,0,0,0,0,0,0,0,0,0,0,0,0,0,0,0,0,0,0,0,0,0,0,0,0,0,0,0,0,0,0,0,0,0,0,0,0,0,0,0,0,0,0,0,0,0,0,0,0,0,0,0,0,0,0,0,0,0,0,0,0,0,0,0,0,0,0,0,0]
["",null,null,null,null,"","",null,null,null,null,null,null,null,null,null,null,null,null,null,null,null,null,null,null,null,null,null,null,null,null,null,null,null,null,null,null,null,null,null,null,null,null,null,null,null,null,null,null,null,null,null,null,null,null,null,null,null,null,null,null,null,null,null,null,null,null,null,null,null,null,null,null,null,null,null,null,null,null,null,null,null,null,null,null,null,null,null,null,null,null,null,null,null,null,null,null,null,null,0,0,0,0,0,0,0,0,0,0,0,0,0,0,0,0,0,0,0,0,0,0,0,0,0,0,0,0,0,0,0,0,0,0,0,0,0,0,0,0,0,0,0,0,0,0,0,0,0,0,0,0,0,0,0,0,0,0,0,0,0,0,0,0,0,0,0,0,0,0,0,0,0,0,0,0,0,0,0,0,0,0,0,0,0,0,0,0,0,0,0]
["",null,null,null,null,"","",null,null,null,null,null,null,null,null,null,null,null,null,null,null,null,null,null,null,null,null,null,null,null,null,null,null,null,null,null,null,null,null,null,null,null,null,null,null,null,null,null,null,null,null,null,null,null,null,null,null,null,null,null,null,null,null,null,null,null,null,null,null,null,null,null,null,null,null,null,null,null,null,null,null,null,null,null,null,null,null,null,null,null,null,null,null,null,null,null,null,null,null,0,0,0,0,0,0,0,0,0,0,0,0,0,0,0,0,0,0,0,0,0,0,0,0,0,0,0,0,0,0,0,0,0,0,0,0,0,0,0,0,0,0,0,0,0,0,0,0,0,0,0,0,0,0,0,0,0,0,0,0,0,0,0,0,0,0,0,0,0,0,0,0,0,0,0,0,0,0,0,0,0,0,0,0,0,0,0,0,0,0,0]
["",null,null,null,null,"","",null,null,null,null,null,null,null,null,null,null,null,null,null,null,null,null,null,null,null,null,null,null,null,null,null,null,null,null,null,null,null,null,null,null,null,null,null,null,null,null,null,null,null,null,null,null,null,null,null,null,null,null,null,null,null,null,null,null,null,null,null,null,null,null,null,null,null,null,null,null,null,null,null,null,null,null,null,null,null,null,null,null,null,null,null,null,null,null,null,null,null,null,0,0,0,0,0,0,0,0,0,0,0,0,0,0,0,0,0,0,0,0,0,0,0,0,0,0,0,0,0,0,0,0,0,0,0,0,0,0,0,0,0,0,0,0,0,0,0,0,0,0,0,0,0,0,0,0,0,0,0,0,0,0,0,0,0,0,0,0,0,0,0,0,0,0,0,0,0,0,0,0,0,0,0,0,0,0,0,0,0,0,0]
["",null,null,null,null,"","",null,null,null,null,null,null,null,null,null,null,null,null,null,null,null,null,null,null,null,null,null,null,null,null,null,null,null,null,null,null,null,null,null,null,null,null,null,null,null,null,null,null,null,null,null,null,null,null,null,null,null,null,null,null,null,null,null,null,null,null,null,null,null,null,null,null,null,null,null,null,null,null,null,null,null,null,null,null,null,null,null,null,null,null,null,null,null,null,null,null,null,null,0,0,0,0,0,0,0,0,0,0,0,0,0,0,0,0,0,0,0,0,0,0,0,0,0,0,0,0,0,0,0,0,0,0,0,0,0,0,0,0,0,0,0,0,0,0,0,0,0,0,0,0,0,0,0,0,0,0,0,0,0,0,0,0,0,0,0,0,0,0,0,0,0,0,0,0,0,0,0,0,0,0,0,0,0,0,0,0,0,0,0]
["",null,null,null,null,"","",null,null,null,null,null,null,null,null,null,null,null,null,null,null,null,null,null,null,null,null,null,null,null,null,null,null,null,null,null,null,null,null,null,null,null,null,null,null,null,null,null,null,null,null,null,null,null,null,null,null,null,null,null,null,null,null,null,null,null,null,null,null,null,null,null,null,null,null,null,null,null,null,null,null,null,null,null,null,null,null,null,null,null,null,null,null,null,null,null,null,null,null,0,0,0,0,0,0,0,0,0,0,0,0,0,0,0,0,0,0,0,0,0,0,0,0,0,0,0,0,0,0,0,0,0,0,0,0,0,0,0,0,0,0,0,0,0,0,0,0,0,0,0,0,0,0,0,0,0,0,0,0,0,0,0,0,0,0,0,0,0,0,0,0,0,0,0,0,0,0,0,0,0,0,0,0,0,0,0,0,0,0,0]
["",null,null,null,null,"","",null,null,null,null,null,null,null,null,null,null,null,null,null,null,null,null,null,null,null,null,null,null,null,null,null,null,null,null,null,null,null,null,null,null,null,null,null,null,null,null,null,null,null,null,null,null,null,null,null,null,null,null,null,null,null,null,null,null,null,null,null,null,null,null,null,null,null,null,null,null,null,null,null,null,null,null,null,null,null,null,null,null,null,null,null,null,null,null,null,null,null,null,0,0,0,0,0,0,0,0,0,0,0,0,0,0,0,0,0,0,0,0,0,0,0,0,0,0,0,0,0,0,0,0,0,0,0,0,0,0,0,0,0,0,0,0,0,0,0,0,0,0,0,0,0,0,0,0,0,0,0,0,0,0,0,0,0,0,0,0,0,0,0,0,0,0,0,0,0,0,0,0,0,0,0,0,0,0,0,0,0,0,0]
["",null,null,null,null,"","",null,null,null,null,null,null,null,null,null,null,null,null,null,null,null,null,null,null,null,null,null,null,null,null,null,null,null,null,null,null,null,null,null,null,null,null,null,null,null,null,null,null,null,null,null,null,null,null,null,null,null,null,null,null,null,null,null,null,null,null,null,null,null,null,null,null,null,null,null,null,null,null,null,null,null,null,null,null,null,null,null,null,null,null,null,null,null,null,null,null,null,null,0,0,0,0,0,0,0,0,0,0,0,0,0,0,0,0,0,0,0,0,0,0,0,0,0,0,0,0,0,0,0,0,0,0,0,0,0,0,0,0,0,0,0,0,0,0,0,0,0,0,0,0,0,0,0,0,0,0,0,0,0,0,0,0,0,0,0,0,0,0,0,0,0,0,0,0,0,0,0,0,0,0,0,0,0,0,0,0,0,0,0]
["",null,null,null,null,"","",null,null,null,null,null,null,null,null,null,null,null,null,null,null,null,null,null,null,null,null,null,null,null,null,null,null,null,null,null,null,null,null,null,null,null,null,null,null,null,null,null,null,null,null,null,null,null,null,null,null,null,null,null,null,null,null,null,null,null,null,null,null,null,null,null,null,null,null,null,null,null,null,null,null,null,null,null,null,null,null,null,null,null,null,null,null,null,null,null,null,null,null,0,0,0,0,0,0,0,0,0,0,0,0,0,0,0,0,0,0,0,0,0,0,0,0,0,0,0,0,0,0,0,0,0,0,0,0,0,0,0,0,0,0,0,0,0,0,0,0,0,0,0,0,0,0,0,0,0,0,0,0,0,0,0,0,0,0,0,0,0,0,0,0,0,0,0,0,0,0,0,0,0,0,0,0,0,0,0,0,0,0,0]
["",null,null,null,null,"","",null,null,null,null,null,null,null,null,null,null,null,null,null,null,null,null,null,null,null,null,null,null,null,null,null,null,null,null,null,null,null,null,null,null,null,null,null,null,null,null,null,null,null,null,null,null,null,null,null,null,null,null,null,null,null,null,null,null,null,null,null,null,null,null,null,null,null,null,null,null,null,null,null,null,null,null,null,null,null,null,null,null,null,null,null,null,null,null,null,null,null,null,0,0,0,0,0,0,0,0,0,0,0,0,0,0,0,0,0,0,0,0,0,0,0,0,0,0,0,0,0,0,0,0,0,0,0,0,0,0,0,0,0,0,0,0,0,0,0,0,0,0,0,0,0,0,0,0,0,0,0,0,0,0,0,0,0,0,0,0,0,0,0,0,0,0,0,0,0,0,0,0,0,0,0,0,0,0,0,0,0,0,0]
["",null,null,null,null,"","",null,null,null,null,null,null,null,null,null,null,null,null,null,null,null,null,null,null,null,null,null,null,null,null,null,null,null,null,null,null,null,null,null,null,null,null,null,null,null,null,null,null,null,null,null,null,null,null,null,null,null,null,null,null,null,null,null,null,null,null,null,null,null,null,null,null,null,null,null,null,null,null,null,null,null,null,null,null,null,null,null,null,null,null,null,null,null,null,null,null,null,null,0,0,0,0,0,0,0,0,0,0,0,0,0,0,0,0,0,0,0,0,0,0,0,0,0,0,0,0,0,0,0,0,0,0,0,0,0,0,0,0,0,0,0,0,0,0,0,0,0,0,0,0,0,0,0,0,0,0,0,0,0,0,0,0,0,0,0,0,0,0,0,0,0,0,0,0,0,0,0,0,0,0,0,0,0,0,0,0,0,0,0]
["",null,null,null,null,"","",null,null,null,null,null,null,null,null,null,null,null,null,null,null,null,null,null,null,null,null,null,null,null,null,null,null,null,null,null,null,null,null,null,null,null,null,null,null,null,null,null,null,null,null,null,null,null,null,null,null,null,null,null,null,null,null,null,null,null,null,null,null,null,null,null,null,null,null,null,null,null,null,null,null,null,null,null,null,null,null,null,null,null,null,null,null,null,null,null,null,null,null,0,0,0,0,0,0,0,0,0,0,0,0,0,0,0,0,0,0,0,0,0,0,0,0,0,0,0,0,0,0,0,0,0,0,0,0,0,0,0,0,0,0,0,0,0,0,0,0,0,0,0,0,0,0,0,0,0,0,0,0,0,0,0,0,0,0,0,0,0,0,0,0,0,0,0,0,0,0,0,0,0,0,0,0,0,0,0,0,0,0,0]
["",null,null,null,null,"","",null,null,null,null,null,null,null,null,null,null,null,null,null,null,null,null,null,null,null,null,null,null,null,null,null,null,null,null,null,null,null,null,null,null,null,null,null,null,null,null,null,null,null,null,null,null,null,null,null,null,null,null,null,null,null,null,null,null,null,null,null,null,null,null,null,null,null,null,null,null,null,null,null,null,null,null,null,null,null,null,null,null,null,null,null,null,null,null,null,null,null,null,0,0,0,0,0,0,0,0,0,0,0,0,0,0,0,0,0,0,0,0,0,0,0,0,0,0,0,0,0,0,0,0,0,0,0,0,0,0,0,0,0,0,0,0,0,0,0,0,0,0,0,0,0,0,0,0,0,0,0,0,0,0,0,0,0,0,0,0,0,0,0,0,0,0,0,0,0,0,0,0,0,0,0,0,0,0,0,0,0,0,0]
["",null,null,null,null,"","",null,null,null,null,null,null,null,null,null,null,null,null,null,null,null,null,null,null,null,null,null,null,null,null,null,null,null,null,null,null,null,null,null,null,null,null,null,null,null,null,null,null,null,null,null,null,null,null,null,null,null,null,null,null,null,null,null,null,null,null,null,null,null,null,null,null,null,null,null,null,null,null,null,null,null,null,null,null,null,null,null,null,null,null,null,null,null,null,null,null,null,null,0,0,0,0,0,0,0,0,0,0,0,0,0,0,0,0,0,0,0,0,0,0,0,0,0,0,0,0,0,0,0,0,0,0,0,0,0,0,0,0,0,0,0,0,0,0,0,0,0,0,0,0,0,0,0,0,0,0,0,0,0,0,0,0,0,0,0,0,0,0,0,0,0,0,0,0,0,0,0,0,0,0,0,0,0,0,0,0,0,0,0]
["",null,null,null,null,"","",null,null,null,null,null,null,null,null,null,null,null,null,null,null,null,null,null,null,null,null,null,null,null,null,null,null,null,null,null,null,null,null,null,null,null,null,null,null,null,null,null,null,null,null,null,null,null,null,null,null,null,null,null,null,null,null,null,null,null,null,null,null,null,null,null,null,null,null,null,null,null,null,null,null,null,null,null,null,null,null,null,null,null,null,null,null,null,null,null,null,null,null,0,0,0,0,0,0,0,0,0,0,0,0,0,0,0,0,0,0,0,0,0,0,0,0,0,0,0,0,0,0,0,0,0,0,0,0,0,0,0,0,0,0,0,0,0,0,0,0,0,0,0,0,0,0,0,0,0,0,0,0,0,0,0,0,0,0,0,0,0,0,0,0,0,0,0,0,0,0,0,0,0,0,0,0,0,0,0,0,0,0,0]
["",null,null,null,null,"","",null,null,null,null,null,null,null,null,null,null,null,null,null,null,null,null,null,null,null,null,null,null,null,null,null,null,null,null,null,null,null,null,null,null,null,null,null,null,null,null,null,null,null,null,null,null,null,null,null,null,null,null,null,null,null,null,null,null,null,null,null,null,null,null,null,null,null,null,null,null,null,null,null,null,null,null,null,null,null,null,null,null,null,null,null,null,null,null,null,null,null,null,0,0,0,0,0,0,0,0,0,0,0,0,0,0,0,0,0,0,0,0,0,0,0,0,0,0,0,0,0,0,0,0,0,0,0,0,0,0,0,0,0,0,0,0,0,0,0,0,0,0,0,0,0,0,0,0,0,0,0,0,0,0,0,0,0,0,0,0,0,0,0,0,0,0,0,0,0,0,0,0,0,0,0,0,0,0,0,0,0,0,0]
["",null,null,null,null,"","",null,null,null,null,null,null,null,null,null,null,null,null,null,null,null,null,null,null,null,null,null,null,null,null,null,null,null,null,null,null,null,null,null,null,null,null,null,null,null,null,null,null,null,null,null,null,null,null,null,null,null,null,null,null,null,null,null,null,null,null,null,null,null,null,null,null,null,null,null,null,null,null,null,null,null,null,null,null,null,null,null,null,null,null,null,null,null,null,null,null,null,null,0,0,0,0,0,0,0,0,0,0,0,0,0,0,0,0,0,0,0,0,0,0,0,0,0,0,0,0,0,0,0,0,0,0,0,0,0,0,0,0,0,0,0,0,0,0,0,0,0,0,0,0,0,0,0,0,0,0,0,0,0,0,0,0,0,0,0,0,0,0,0,0,0,0,0,0,0,0,0,0,0,0,0,0,0,0,0,0,0,0,0]
["",null,null,null,null,"","",null,null,null,null,null,null,null,null,null,null,null,null,null,null,null,null,null,null,null,null,null,null,null,null,null,null,null,null,null,null,null,null,null,null,null,null,null,null,null,null,null,null,null,null,null,null,null,null,null,null,null,null,null,null,null,null,null,null,null,null,null,null,null,null,null,null,null,null,null,null,null,null,null,null,null,null,null,null,null,null,null,null,null,null,null,null,null,null,null,null,null,null,0,0,0,0,0,0,0,0,0,0,0,0,0,0,0,0,0,0,0,0,0,0,0,0,0,0,0,0,0,0,0,0,0,0,0,0,0,0,0,0,0,0,0,0,0,0,0,0,0,0,0,0,0,0,0,0,0,0,0,0,0,0,0,0,0,0,0,0,0,0,0,0,0,0,0,0,0,0,0,0,0,0,0,0,0,0,0,0,0,0,0]
["",null,null,null,null,"","",null,null,null,null,null,null,null,null,null,null,null,null,null,null,null,null,null,null,null,null,null,null,null,null,null,null,null,null,null,null,null,null,null,null,null,null,null,null,null,null,null,null,null,null,null,null,null,null,null,null,null,null,null,null,null,null,null,null,null,null,null,null,null,null,null,null,null,null,null,null,null,null,null,null,null,null,null,null,null,null,null,null,null,null,null,null,null,null,null,null,null,null,0,0,0,0,0,0,0,0,0,0,0,0,0,0,0,0,0,0,0,0,0,0,0,0,0,0,0,0,0,0,0,0,0,0,0,0,0,0,0,0,0,0,0,0,0,0,0,0,0,0,0,0,0,0,0,0,0,0,0,0,0,0,0,0,0,0,0,0,0,0,0,0,0,0,0,0,0,0,0,0,0,0,0,0,0,0,0,0,0,0,0]
["",null,null,null,null,"","",null,null,null,null,null,null,null,null,null,null,null,null,null,null,null,null,null,null,null,null,null,null,null,null,null,null,null,null,null,null,null,null,null,null,null,null,null,null,null,null,null,null,null,null,null,null,null,null,null,null,null,null,null,null,null,null,null,null,null,null,null,null,null,null,null,null,null,null,null,null,null,null,null,null,null,null,null,null,null,null,null,null,null,null,null,null,null,null,null,null,null,null,0,0,0,0,0,0,0,0,0,0,0,0,0,0,0,0,0,0,0,0,0,0,0,0,0,0,0,0,0,0,0,0,0,0,0,0,0,0,0,0,0,0,0,0,0,0,0,0,0,0,0,0,0,0,0,0,0,0,0,0,0,0,0,0,0,0,0,0,0,0,0,0,0,0,0,0,0,0,0,0,0,0,0,0,0,0,0,0,0,0,0]
["",null,null,null,null,"","",null,null,null,null,null,null,null,null,null,null,null,null,null,null,null,null,null,null,null,null,null,null,null,null,null,null,null,null,null,null,null,null,null,null,null,null,null,null,null,null,null,null,null,null,null,null,null,null,null,null,null,null,null,null,null,null,null,null,null,null,null,null,null,null,null,null,null,null,null,null,null,null,null,null,null,null,null,null,null,null,null,null,null,null,null,null,null,null,null,null,null,null,0,0,0,0,0,0,0,0,0,0,0,0,0,0,0,0,0,0,0,0,0,0,0,0,0,0,0,0,0,0,0,0,0,0,0,0,0,0,0,0,0,0,0,0,0,0,0,0,0,0,0,0,0,0,0,0,0,0,0,0,0,0,0,0,0,0,0,0,0,0,0,0,0,0,0,0,0,0,0,0,0,0,0,0,0,0,0,0,0,0,0]
["",null,null,null,null,"","",null,null,null,null,null,null,null,null,null,null,null,null,null,null,null,null,null,null,null,null,null,null,null,null,null,null,null,null,null,null,null,null,null,null,null,null,null,null,null,null,null,null,null,null,null,null,null,null,null,null,null,null,null,null,null,null,null,null,null,null,null,null,null,null,null,null,null,null,null,null,null,null,null,null,null,null,null,null,null,null,null,null,null,null,null,null,null,null,null,null,null,null,0,0,0,0,0,0,0,0,0,0,0,0,0,0,0,0,0,0,0,0,0,0,0,0,0,0,0,0,0,0,0,0,0,0,0,0,0,0,0,0,0,0,0,0,0,0,0,0,0,0,0,0,0,0,0,0,0,0,0,0,0,0,0,0,0,0,0,0,0,0,0,0,0,0,0,0,0,0,0,0,0,0,0,0,0,0,0,0,0,0,0]
["",null,null,null,null,"","",null,null,null,null,null,null,null,null,null,null,null,null,null,null,null,null,null,null,null,null,null,null,null,null,null,null,null,null,null,null,null,null,null,null,null,null,null,null,null,null,null,null,null,null,null,null,null,null,null,null,null,null,null,null,null,null,null,null,null,null,null,null,null,null,null,null,null,null,null,null,null,null,null,null,null,null,null,null,null,null,null,null,null,null,null,null,null,null,null,null,null,null,0,0,0,0,0,0,0,0,0,0,0,0,0,0,0,0,0,0,0,0,0,0,0,0,0,0,0,0,0,0,0,0,0,0,0,0,0,0,0,0,0,0,0,0,0,0,0,0,0,0,0,0,0,0,0,0,0,0,0,0,0,0,0,0,0,0,0,0,0,0,0,0,0,0,0,0,0,0,0,0,0,0,0,0,0,0,0,0,0,0,0]
["",null,null,null,null,"","",null,null,null,null,null,null,null,null,null,null,null,null,null,null,null,null,null,null,null,null,null,null,null,null,null,null,null,null,null,null,null,null,null,null,null,null,null,null,null,null,null,null,null,null,null,null,null,null,null,null,null,null,null,null,null,null,null,null,null,null,null,null,null,null,null,null,null,null,null,null,null,null,null,null,null,null,null,null,null,null,null,null,null,null,null,null,null,null,null,null,null,null,0,0,0,0,0,0,0,0,0,0,0,0,0,0,0,0,0,0,0,0,0,0,0,0,0,0,0,0,0,0,0,0,0,0,0,0,0,0,0,0,0,0,0,0,0,0,0,0,0,0,0,0,0,0,0,0,0,0,0,0,0,0,0,0,0,0,0,0,0,0,0,0,0,0,0,0,0,0,0,0,0,0,0,0,0,0,0,0,0,0,0]
["",null,null,null,null,"","",null,null,null,null,null,null,null,null,null,null,null,null,null,null,null,null,null,null,null,null,null,null,null,null,null,null,null,null,null,null,null,null,null,null,null,null,null,null,null,null,null,null,null,null,null,null,null,null,null,null,null,null,null,null,null,null,null,null,null,null,null,null,null,null,null,null,null,null,null,null,null,null,null,null,null,null,null,null,null,null,null,null,null,null,null,null,null,null,null,null,null,null,0,0,0,0,0,0,0,0,0,0,0,0,0,0,0,0,0,0,0,0,0,0,0,0,0,0,0,0,0,0,0,0,0,0,0,0,0,0,0,0,0,0,0,0,0,0,0,0,0,0,0,0,0,0,0,0,0,0,0,0,0,0,0,0,0,0,0,0,0,0,0,0,0,0,0,0,0,0,0,0,0,0,0,0,0,0,0,0,0,0,0]
["",null,null,null,null,"","",null,null,null,null,null,null,null,null,null,null,null,null,null,null,null,null,null,null,null,null,null,null,null,null,null,null,null,null,null,null,null,null,null,null,null,null,null,null,null,null,null,null,null,null,null,null,null,null,null,null,null,null,null,null,null,null,null,null,null,null,null,null,null,null,null,null,null,null,null,null,null,null,null,null,null,null,null,null,null,null,null,null,null,null,null,null,null,null,null,null,null,null,0,0,0,0,0,0,0,0,0,0,0,0,0,0,0,0,0,0,0,0,0,0,0,0,0,0,0,0,0,0,0,0,0,0,0,0,0,0,0,0,0,0,0,0,0,0,0,0,0,0,0,0,0,0,0,0,0,0,0,0,0,0,0,0,0,0,0,0,0,0,0,0,0,0,0,0,0,0,0,0,0,0,0,0,0,0,0,0,0,0,0]
["",null,null,null,null,"","",null,null,null,null,null,null,null,null,null,null,null,null,null,null,null,null,null,null,null,null,null,null,null,null,null,null,null,null,null,null,null,null,null,null,null,null,null,null,null,null,null,null,null,null,null,null,null,null,null,null,null,null,null,null,null,null,null,null,null,null,null,null,null,null,null,null,null,null,null,null,null,null,null,null,null,null,null,null,null,null,null,null,null,null,null,null,null,null,null,null,null,null,0,0,0,0,0,0,0,0,0,0,0,0,0,0,0,0,0,0,0,0,0,0,0,0,0,0,0,0,0,0,0,0,0,0,0,0,0,0,0,0,0,0,0,0,0,0,0,0,0,0,0,0,0,0,0,0,0,0,0,0,0,0,0,0,0,0,0,0,0,0,0,0,0,0,0,0,0,0,0,0,0,0,0,0,0,0,0,0,0,0,0]
["",null,null,null,null,"","",null,null,null,null,null,null,null,null,null,null,null,null,null,null,null,null,null,null,null,null,null,null,null,null,null,null,null,null,null,null,null,null,null,null,null,null,null,null,null,null,null,null,null,null,null,null,null,null,null,null,null,null,null,null,null,null,null,null,null,null,null,null,null,null,null,null,null,null,null,null,null,null,null,null,null,null,null,null,null,null,null,null,null,null,null,null,null,null,null,null,null,null,0,0,0,0,0,0,0,0,0,0,0,0,0,0,0,0,0,0,0,0,0,0,0,0,0,0,0,0,0,0,0,0,0,0,0,0,0,0,0,0,0,0,0,0,0,0,0,0,0,0,0,0,0,0,0,0,0,0,0,0,0,0,0,0,0,0,0,0,0,0,0,0,0,0,0,0,0,0,0,0,0,0,0,0,0,0,0,0,0,0,0]
["",null,null,null,null,"","",null,null,null,null,null,null,null,null,null,null,null,null,null,null,null,null,null,null,null,null,null,null,null,null,null,null,null,null,null,null,null,null,null,null,null,null,null,null,null,null,null,null,null,null,null,null,null,null,null,null,null,null,null,null,null,null,null,null,null,null,null,null,null,null,null,null,null,null,null,null,null,null,null,null,null,null,null,null,null,null,null,null,null,null,null,null,null,null,null,null,null,null,0,0,0,0,0,0,0,0,0,0,0,0,0,0,0,0,0,0,0,0,0,0,0,0,0,0,0,0,0,0,0,0,0,0,0,0,0,0,0,0,0,0,0,0,0,0,0,0,0,0,0,0,0,0,0,0,0,0,0,0,0,0,0,0,0,0,0,0,0,0,0,0,0,0,0,0,0,0,0,0,0,0,0,0,0,0,0,0,0,0,0]
["",null,null,null,null,"","",null,null,null,null,null,null,null,null,null,null,null,null,null,null,null,null,null,null,null,null,null,null,null,null,null,null,null,null,null,null,null,null,null,null,null,null,null,null,null,null,null,null,null,null,null,null,null,null,null,null,null,null,null,null,null,null,null,null,null,null,null,null,null,null,null,null,null,null,null,null,null,null,null,null,null,null,null,null,null,null,null,null,null,null,null,null,null,null,null,null,null,null,0,0,0,0,0,0,0,0,0,0,0,0,0,0,0,0,0,0,0,0,0,0,0,0,0,0,0,0,0,0,0,0,0,0,0,0,0,0,0,0,0,0,0,0,0,0,0,0,0,0,0,0,0,0,0,0,0,0,0,0,0,0,0,0,0,0,0,0,0,0,0,0,0,0,0,0,0,0,0,0,0,0,0,0,0,0,0,0,0,0,0]
["",null,null,null,null,"","",null,null,null,null,null,null,null,null,null,null,null,null,null,null,null,null,null,null,null,null,null,null,null,null,null,null,null,null,null,null,null,null,null,null,null,null,null,null,null,null,null,null,null,null,null,null,null,null,null,null,null,null,null,null,null,null,null,null,null,null,null,null,null,null,null,null,null,null,null,null,null,null,null,null,null,null,null,null,null,null,null,null,null,null,null,null,null,null,null,null,null,null,0,0,0,0,0,0,0,0,0,0,0,0,0,0,0,0,0,0,0,0,0,0,0,0,0,0,0,0,0,0,0,0,0,0,0,0,0,0,0,0,0,0,0,0,0,0,0,0,0,0,0,0,0,0,0,0,0,0,0,0,0,0,0,0,0,0,0,0,0,0,0,0,0,0,0,0,0,0,0,0,0,0,0,0,0,0,0,0,0,0,0]
["",null,null,null,null,"","",null,null,null,null,null,null,null,null,null,null,null,null,null,null,null,null,null,null,null,null,null,null,null,null,null,null,null,null,null,null,null,null,null,null,null,null,null,null,null,null,null,null,null,null,null,null,null,null,null,null,null,null,null,null,null,null,null,null,null,null,null,null,null,null,null,null,null,null,null,null,null,null,null,null,null,null,null,null,null,null,null,null,null,null,null,null,null,null,null,null,null,null,0,0,0,0,0,0,0,0,0,0,0,0,0,0,0,0,0,0,0,0,0,0,0,0,0,0,0,0,0,0,0,0,0,0,0,0,0,0,0,0,0,0,0,0,0,0,0,0,0,0,0,0,0,0,0,0,0,0,0,0,0,0,0,0,0,0,0,0,0,0,0,0,0,0,0,0,0,0,0,0,0,0,0,0,0,0,0,0,0,0,0]
["",null,null,null,null,"","",null,null,null,null,null,null,null,null,null,null,null,null,null,null,null,null,null,null,null,null,null,null,null,null,null,null,null,null,null,null,null,null,null,null,null,null,null,null,null,null,null,null,null,null,null,null,null,null,null,null,null,null,null,null,null,null,null,null,null,null,null,null,null,null,null,null,null,null,null,null,null,null,null,null,null,null,null,null,null,null,null,null,null,null,null,null,null,null,null,null,null,null,0,0,0,0,0,0,0,0,0,0,0,0,0,0,0,0,0,0,0,0,0,0,0,0,0,0,0,0,0,0,0,0,0,0,0,0,0,0,0,0,0,0,0,0,0,0,0,0,0,0,0,0,0,0,0,0,0,0,0,0,0,0,0,0,0,0,0,0,0,0,0,0,0,0,0,0,0,0,0,0,0,0,0,0,0,0,0,0,0,0,0]
["",null,null,null,null,"","",null,null,null,null,null,null,null,null,null,null,null,null,null,null,null,null,null,null,null,null,null,null,null,null,null,null,null,null,null,null,null,null,null,null,null,null,null,null,null,null,null,null,null,null,null,null,null,null,null,null,null,null,null,null,null,null,null,null,null,null,null,null,null,null,null,null,null,null,null,null,null,null,null,null,null,null,null,null,null,null,null,null,null,null,null,null,null,null,null,null,null,null,0,0,0,0,0,0,0,0,0,0,0,0,0,0,0,0,0,0,0,0,0,0,0,0,0,0,0,0,0,0,0,0,0,0,0,0,0,0,0,0,0,0,0,0,0,0,0,0,0,0,0,0,0,0,0,0,0,0,0,0,0,0,0,0,0,0,0,0,0,0,0,0,0,0,0,0,0,0,0,0,0,0,0,0,0,0,0,0,0,0,0]
["",null,null,null,null,"","",null,null,null,null,null,null,null,null,null,null,null,null,null,null,null,null,null,null,null,null,null,null,null,null,null,null,null,null,null,null,null,null,null,null,null,null,null,null,null,null,null,null,null,null,null,null,null,null,null,null,null,null,null,null,null,null,null,null,null,null,null,null,null,null,null,null,null,null,null,null,null,null,null,null,null,null,null,null,null,null,null,null,null,null,null,null,null,null,null,null,null,null,0,0,0,0,0,0,0,0,0,0,0,0,0,0,0,0,0,0,0,0,0,0,0,0,0,0,0,0,0,0,0,0,0,0,0,0,0,0,0,0,0,0,0,0,0,0,0,0,0,0,0,0,0,0,0,0,0,0,0,0,0,0,0,0,0,0,0,0,0,0,0,0,0,0,0,0,0,0,0,0,0,0,0,0,0,0,0,0,0,0,0]
["",null,null,null,null,"","",null,null,null,null,null,null,null,null,null,null,null,null,null,null,null,null,null,null,null,null,null,null,null,null,null,null,null,null,null,null,null,null,null,null,null,null,null,null,null,null,null,null,null,null,null,null,null,null,null,null,null,null,null,null,null,null,null,null,null,null,null,null,null,null,null,null,null,null,null,null,null,null,null,null,null,null,null,null,null,null,null,null,null,null,null,null,null,null,null,null,null,null,0,0,0,0,0,0,0,0,0,0,0,0,0,0,0,0,0,0,0,0,0,0,0,0,0,0,0,0,0,0,0,0,0,0,0,0,0,0,0,0,0,0,0,0,0,0,0,0,0,0,0,0,0,0,0,0,0,0,0,0,0,0,0,0,0,0,0,0,0,0,0,0,0,0,0,0,0,0,0,0,0,0,0,0,0,0,0,0,0,0,0]
["",null,null,null,null,"","",null,null,null,null,null,null,null,null,null,null,null,null,null,null,null,null,null,null,null,null,null,null,null,null,null,null,null,null,null,null,null,null,null,null,null,null,null,null,null,null,null,null,null,null,null,null,null,null,null,null,null,null,null,null,null,null,null,null,null,null,null,null,null,null,null,null,null,null,null,null,null,null,null,null,null,null,null,null,null,null,null,null,null,null,null,null,null,null,null,null,null,null,0,0,0,0,0,0,0,0,0,0,0,0,0,0,0,0,0,0,0,0,0,0,0,0,0,0,0,0,0,0,0,0,0,0,0,0,0,0,0,0,0,0,0,0,0,0,0,0,0,0,0,0,0,0,0,0,0,0,0,0,0,0,0,0,0,0,0,0,0,0,0,0,0,0,0,0,0,0,0,0,0,0,0,0,0,0,0,0,0,0,0]
["",null,null,null,null,"","",null,null,null,null,null,null,null,null,null,null,null,null,null,null,null,null,null,null,null,null,null,null,null,null,null,null,null,null,null,null,null,null,null,null,null,null,null,null,null,null,null,null,null,null,null,null,null,null,null,null,null,null,null,null,null,null,null,null,null,null,null,null,null,null,null,null,null,null,null,null,null,null,null,null,null,null,null,null,null,null,null,null,null,null,null,null,null,null,null,null,null,null,0,0,0,0,0,0,0,0,0,0,0,0,0,0,0,0,0,0,0,0,0,0,0,0,0,0,0,0,0,0,0,0,0,0,0,0,0,0,0,0,0,0,0,0,0,0,0,0,0,0,0,0,0,0,0,0,0,0,0,0,0,0,0,0,0,0,0,0,0,0,0,0,0,0,0,0,0,0,0,0,0,0,0,0,0,0,0,0,0,0,0]
["",null,null,null,null,"","",null,null,null,null,null,null,null,null,null,null,null,null,null,null,null,null,null,null,null,null,null,null,null,null,null,null,null,null,null,null,null,null,null,null,null,null,null,null,null,null,null,null,null,null,null,null,null,null,null,null,null,null,null,null,null,null,null,null,null,null,null,null,null,null,null,null,null,null,null,null,null,null,null,null,null,null,null,null,null,null,null,null,null,null,null,null,null,null,null,null,null,null,0,0,0,0,0,0,0,0,0,0,0,0,0,0,0,0,0,0,0,0,0,0,0,0,0,0,0,0,0,0,0,0,0,0,0,0,0,0,0,0,0,0,0,0,0,0,0,0,0,0,0,0,0,0,0,0,0,0,0,0,0,0,0,0,0,0,0,0,0,0,0,0,0,0,0,0,0,0,0,0,0,0,0,0,0,0,0,0,0,0,0]
["",null,null,null,null,"","",null,null,null,null,null,null,null,null,null,null,null,null,null,null,null,null,null,null,null,null,null,null,null,null,null,null,null,null,null,null,null,null,null,null,null,null,null,null,null,null,null,null,null,null,null,null,null,null,null,null,null,null,null,null,null,null,null,null,null,null,null,null,null,null,null,null,null,null,null,null,null,null,null,null,null,null,null,null,null,null,null,null,null,null,null,null,null,null,null,null,null,null,0,0,0,0,0,0,0,0,0,0,0,0,0,0,0,0,0,0,0,0,0,0,0,0,0,0,0,0,0,0,0,0,0,0,0,0,0,0,0,0,0,0,0,0,0,0,0,0,0,0,0,0,0,0,0,0,0,0,0,0,0,0,0,0,0,0,0,0,0,0,0,0,0,0,0,0,0,0,0,0,0,0,0,0,0,0,0,0,0,0,0]
["",null,null,null,null,"","",null,null,null,null,null,null,null,null,null,null,null,null,null,null,null,null,null,null,null,null,null,null,null,null,null,null,null,null,null,null,null,null,null,null,null,null,null,null,null,null,null,null,null,null,null,null,null,null,null,null,null,null,null,null,null,null,null,null,null,null,null,null,null,null,null,null,null,null,null,null,null,null,null,null,null,null,null,null,null,null,null,null,null,null,null,null,null,null,null,null,null,null,0,0,0,0,0,0,0,0,0,0,0,0,0,0,0,0,0,0,0,0,0,0,0,0,0,0,0,0,0,0,0,0,0,0,0,0,0,0,0,0,0,0,0,0,0,0,0,0,0,0,0,0,0,0,0,0,0,0,0,0,0,0,0,0,0,0,0,0,0,0,0,0,0,0,0,0,0,0,0,0,0,0,0,0,0,0,0,0,0,0,0]
["",null,null,null,null,"","",null,null,null,null,null,null,null,null,null,null,null,null,null,null,null,null,null,null,null,null,null,null,null,null,null,null,null,null,null,null,null,null,null,null,null,null,null,null,null,null,null,null,null,null,null,null,null,null,null,null,null,null,null,null,null,null,null,null,null,null,null,null,null,null,null,null,null,null,null,null,null,null,null,null,null,null,null,null,null,null,null,null,null,null,null,null,null,null,null,null,null,null,0,0,0,0,0,0,0,0,0,0,0,0,0,0,0,0,0,0,0,0,0,0,0,0,0,0,0,0,0,0,0,0,0,0,0,0,0,0,0,0,0,0,0,0,0,0,0,0,0,0,0,0,0,0,0,0,0,0,0,0,0,0,0,0,0,0,0,0,0,0,0,0,0,0,0,0,0,0,0,0,0,0,0,0,0,0,0,0,0,0,0]
["",null,null,null,null,"","",null,null,null,null,null,null,null,null,null,null,null,null,null,null,null,null,null,null,null,null,null,null,null,null,null,null,null,null,null,null,null,null,null,null,null,null,null,null,null,null,null,null,null,null,null,null,null,null,null,null,null,null,null,null,null,null,null,null,null,null,null,null,null,null,null,null,null,null,null,null,null,null,null,null,null,null,null,null,null,null,null,null,null,null,null,null,null,null,null,null,null,null,0,0,0,0,0,0,0,0,0,0,0,0,0,0,0,0,0,0,0,0,0,0,0,0,0,0,0,0,0,0,0,0,0,0,0,0,0,0,0,0,0,0,0,0,0,0,0,0,0,0,0,0,0,0,0,0,0,0,0,0,0,0,0,0,0,0,0,0,0,0,0,0,0,0,0,0,0,0,0,0,0,0,0,0,0,0,0,0,0,0,0]
["",null,null,null,null,"","",null,null,null,null,null,null,null,null,null,null,null,null,null,null,null,null,null,null,null,null,null,null,null,null,null,null,null,null,null,null,null,null,null,null,null,null,null,null,null,null,null,null,null,null,null,null,null,null,null,null,null,null,null,null,null,null,null,null,null,null,null,null,null,null,null,null,null,null,null,null,null,null,null,null,null,null,null,null,null,null,null,null,null,null,null,null,null,null,null,null,null,null,0,0,0,0,0,0,0,0,0,0,0,0,0,0,0,0,0,0,0,0,0,0,0,0,0,0,0,0,0,0,0,0,0,0,0,0,0,0,0,0,0,0,0,0,0,0,0,0,0,0,0,0,0,0,0,0,0,0,0,0,0,0,0,0,0,0,0,0,0,0,0,0,0,0,0,0,0,0,0,0,0,0,0,0,0,0,0,0,0,0,0]
["",null,null,null,null,"","",null,null,null,null,null,null,null,null,null,null,null,null,null,null,null,null,null,null,null,null,null,null,null,null,null,null,null,null,null,null,null,null,null,null,null,null,null,null,null,null,null,null,null,null,null,null,null,null,null,null,null,null,null,null,null,null,null,null,null,null,null,null,null,null,null,null,null,null,null,null,null,null,null,null,null,null,null,null,null,null,null,null,null,null,null,null,null,null,null,null,null,null,0,0,0,0,0,0,0,0,0,0,0,0,0,0,0,0,0,0,0,0,0,0,0,0,0,0,0,0,0,0,0,0,0,0,0,0,0,0,0,0,0,0,0,0,0,0,0,0,0,0,0,0,0,0,0,0,0,0,0,0,0,0,0,0,0,0,0,0,0,0,0,0,0,0,0,0,0,0,0,0,0,0,0,0,0,0,0,0,0,0,0]
["",null,null,null,null,"","",null,null,null,null,null,null,null,null,null,null,null,null,null,null,null,null,null,null,null,null,null,null,null,null,null,null,null,null,null,null,null,null,null,null,null,null,null,null,null,null,null,null,null,null,null,null,null,null,null,null,null,null,null,null,null,null,null,null,null,null,null,null,null,null,null,null,null,null,null,null,null,null,null,null,null,null,null,null,null,null,null,null,null,null,null,null,null,null,null,null,null,null,0,0,0,0,0,0,0,0,0,0,0,0,0,0,0,0,0,0,0,0,0,0,0,0,0,0,0,0,0,0,0,0,0,0,0,0,0,0,0,0,0,0,0,0,0,0,0,0,0,0,0,0,0,0,0,0,0,0,0,0,0,0,0,0,0,0,0,0,0,0,0,0,0,0,0,0,0,0,0,0,0,0,0,0,0,0,0,0,0,0,0]
["",null,null,null,null,"","",null,null,null,null,null,null,null,null,null,null,null,null,null,null,null,null,null,null,null,null,null,null,null,null,null,null,null,null,null,null,null,null,null,null,null,null,null,null,null,null,null,null,null,null,null,null,null,null,null,null,null,null,null,null,null,null,null,null,null,null,null,null,null,null,null,null,null,null,null,null,null,null,null,null,null,null,null,null,null,null,null,null,null,null,null,null,null,null,null,null,null,null,0,0,0,0,0,0,0,0,0,0,0,0,0,0,0,0,0,0,0,0,0,0,0,0,0,0,0,0,0,0,0,0,0,0,0,0,0,0,0,0,0,0,0,0,0,0,0,0,0,0,0,0,0,0,0,0,0,0,0,0,0,0,0,0,0,0,0,0,0,0,0,0,0,0,0,0,0,0,0,0,0,0,0,0,0,0,0,0,0,0,0]
["",null,null,null,null,"","",null,null,null,null,null,null,null,null,null,null,null,null,null,null,null,null,null,null,null,null,null,null,null,null,null,null,null,null,null,null,null,null,null,null,null,null,null,null,null,null,null,null,null,null,null,null,null,null,null,null,null,null,null,null,null,null,null,null,null,null,null,null,null,null,null,null,null,null,null,null,null,null,null,null,null,null,null,null,null,null,null,null,null,null,null,null,null,null,null,null,null,null,0,0,0,0,0,0,0,0,0,0,0,0,0,0,0,0,0,0,0,0,0,0,0,0,0,0,0,0,0,0,0,0,0,0,0,0,0,0,0,0,0,0,0,0,0,0,0,0,0,0,0,0,0,0,0,0,0,0,0,0,0,0,0,0,0,0,0,0,0,0,0,0,0,0,0,0,0,0,0,0,0,0,0,0,0,0,0,0,0,0,0]
["",null,null,null,null,"","",null,null,null,null,null,null,null,null,null,null,null,null,null,null,null,null,null,null,null,null,null,null,null,null,null,null,null,null,null,null,null,null,null,null,null,null,null,null,null,null,null,null,null,null,null,null,null,null,null,null,null,null,null,null,null,null,null,null,null,null,null,null,null,null,null,null,null,null,null,null,null,null,null,null,null,null,null,null,null,null,null,null,null,null,null,null,null,null,null,null,null,null,0,0,0,0,0,0,0,0,0,0,0,0,0,0,0,0,0,0,0,0,0,0,0,0,0,0,0,0,0,0,0,0,0,0,0,0,0,0,0,0,0,0,0,0,0,0,0,0,0,0,0,0,0,0,0,0,0,0,0,0,0,0,0,0,0,0,0,0,0,0,0,0,0,0,0,0,0,0,0,0,0,0,0,0,0,0,0,0,0,0,0]
["",null,null,null,null,"","",null,null,null,null,null,null,null,null,null,null,null,null,null,null,null,null,null,null,null,null,null,null,null,null,null,null,null,null,null,null,null,null,null,null,null,null,null,null,null,null,null,null,null,null,null,null,null,null,null,null,null,null,null,null,null,null,null,null,null,null,null,null,null,null,null,null,null,null,null,null,null,null,null,null,null,null,null,null,null,null,null,null,null,null,null,null,null,null,null,null,null,null,0,0,0,0,0,0,0,0,0,0,0,0,0,0,0,0,0,0,0,0,0,0,0,0,0,0,0,0,0,0,0,0,0,0,0,0,0,0,0,0,0,0,0,0,0,0,0,0,0,0,0,0,0,0,0,0,0,0,0,0,0,0,0,0,0,0,0,0,0,0,0,0,0,0,0,0,0,0,0,0,0,0,0,0,0,0,0,0,0,0,0]
["",null,null,null,null,"","",null,null,null,null,null,null,null,null,null,null,null,null,null,null,null,null,null,null,null,null,null,null,null,null,null,null,null,null,null,null,null,null,null,null,null,null,null,null,null,null,null,null,null,null,null,null,null,null,null,null,null,null,null,null,null,null,null,null,null,null,null,null,null,null,null,null,null,null,null,null,null,null,null,null,null,null,null,null,null,null,null,null,null,null,null,null,null,null,null,null,null,null,0,0,0,0,0,0,0,0,0,0,0,0,0,0,0,0,0,0,0,0,0,0,0,0,0,0,0,0,0,0,0,0,0,0,0,0,0,0,0,0,0,0,0,0,0,0,0,0,0,0,0,0,0,0,0,0,0,0,0,0,0,0,0,0,0,0,0,0,0,0,0,0,0,0,0,0,0,0,0,0,0,0,0,0,0,0,0,0,0,0,0]
["",null,null,null,null,"","",null,null,null,null,null,null,null,null,null,null,null,null,null,null,null,null,null,null,null,null,null,null,null,null,null,null,null,null,null,null,null,null,null,null,null,null,null,null,null,null,null,null,null,null,null,null,null,null,null,null,null,null,null,null,null,null,null,null,null,null,null,null,null,null,null,null,null,null,null,null,null,null,null,null,null,null,null,null,null,null,null,null,null,null,null,null,null,null,null,null,null,null,0,0,0,0,0,0,0,0,0,0,0,0,0,0,0,0,0,0,0,0,0,0,0,0,0,0,0,0,0,0,0,0,0,0,0,0,0,0,0,0,0,0,0,0,0,0,0,0,0,0,0,0,0,0,0,0,0,0,0,0,0,0,0,0,0,0,0,0,0,0,0,0,0,0,0,0,0,0,0,0,0,0,0,0,0,0,0,0,0,0,0]
["",null,null,null,null,"","",null,null,null,null,null,null,null,null,null,null,null,null,null,null,null,null,null,null,null,null,null,null,null,null,null,null,null,null,null,null,null,null,null,null,null,null,null,null,null,null,null,null,null,null,null,null,null,null,null,null,null,null,null,null,null,null,null,null,null,null,null,null,null,null,null,null,null,null,null,null,null,null,null,null,null,null,null,null,null,null,null,null,null,null,null,null,null,null,null,null,null,null,0,0,0,0,0,0,0,0,0,0,0,0,0,0,0,0,0,0,0,0,0,0,0,0,0,0,0,0,0,0,0,0,0,0,0,0,0,0,0,0,0,0,0,0,0,0,0,0,0,0,0,0,0,0,0,0,0,0,0,0,0,0,0,0,0,0,0,0,0,0,0,0,0,0,0,0,0,0,0,0,0,0,0,0,0,0,0,0,0,0,0]
["",null,null,null,null,"","",null,null,null,null,null,null,null,null,null,null,null,null,null,null,null,null,null,null,null,null,null,null,null,null,null,null,null,null,null,null,null,null,null,null,null,null,null,null,null,null,null,null,null,null,null,null,null,null,null,null,null,null,null,null,null,null,null,null,null,null,null,null,null,null,null,null,null,null,null,null,null,null,null,null,null,null,null,null,null,null,null,null,null,null,null,null,null,null,null,null,null,null,0,0,0,0,0,0,0,0,0,0,0,0,0,0,0,0,0,0,0,0,0,0,0,0,0,0,0,0,0,0,0,0,0,0,0,0,0,0,0,0,0,0,0,0,0,0,0,0,0,0,0,0,0,0,0,0,0,0,0,0,0,0,0,0,0,0,0,0,0,0,0,0,0,0,0,0,0,0,0,0,0,0,0,0,0,0,0,0,0,0,0]
["",null,null,null,null,"","",null,null,null,null,null,null,null,null,null,null,null,null,null,null,null,null,null,null,null,null,null,null,null,null,null,null,null,null,null,null,null,null,null,null,null,null,null,null,null,null,null,null,null,null,null,null,null,null,null,null,null,null,null,null,null,null,null,null,null,null,null,null,null,null,null,null,null,null,null,null,null,null,null,null,null,null,null,null,null,null,null,null,null,null,null,null,null,null,null,null,null,null,0,0,0,0,0,0,0,0,0,0,0,0,0,0,0,0,0,0,0,0,0,0,0,0,0,0,0,0,0,0,0,0,0,0,0,0,0,0,0,0,0,0,0,0,0,0,0,0,0,0,0,0,0,0,0,0,0,0,0,0,0,0,0,0,0,0,0,0,0,0,0,0,0,0,0,0,0,0,0,0,0,0,0,0,0,0,0,0,0,0,0]
["",null,null,null,null,"","",null,null,null,null,null,null,null,null,null,null,null,null,null,null,null,null,null,null,null,null,null,null,null,null,null,null,null,null,null,null,null,null,null,null,null,null,null,null,null,null,null,null,null,null,null,null,null,null,null,null,null,null,null,null,null,null,null,null,null,null,null,null,null,null,null,null,null,null,null,null,null,null,null,null,null,null,null,null,null,null,null,null,null,null,null,null,null,null,null,null,null,null,0,0,0,0,0,0,0,0,0,0,0,0,0,0,0,0,0,0,0,0,0,0,0,0,0,0,0,0,0,0,0,0,0,0,0,0,0,0,0,0,0,0,0,0,0,0,0,0,0,0,0,0,0,0,0,0,0,0,0,0,0,0,0,0,0,0,0,0,0,0,0,0,0,0,0,0,0,0,0,0,0,0,0,0,0,0,0,0,0,0,0]
["",null,null,null,null,"","",null,null,null,null,null,null,null,null,null,null,null,null,null,null,null,null,null,null,null,null,null,null,null,null,null,null,null,null,null,null,null,null,null,null,null,null,null,null,null,null,null,null,null,null,null,null,null,null,null,null,null,null,null,null,null,null,null,null,null,null,null,null,null,null,null,null,null,null,null,null,null,null,null,null,null,null,null,null,null,null,null,null,null,null,null,null,null,null,null,null,null,null,0,0,0,0,0,0,0,0,0,0,0,0,0,0,0,0,0,0,0,0,0,0,0,0,0,0,0,0,0,0,0,0,0,0,0,0,0,0,0,0,0,0,0,0,0,0,0,0,0,0,0,0,0,0,0,0,0,0,0,0,0,0,0,0,0,0,0,0,0,0,0,0,0,0,0,0,0,0,0,0,0,0,0,0,0,0,0,0,0,0,0]
["",null,null,null,null,"","",null,null,null,null,null,null,null,null,null,null,null,null,null,null,null,null,null,null,null,null,null,null,null,null,null,null,null,null,null,null,null,null,null,null,null,null,null,null,null,null,null,null,null,null,null,null,null,null,null,null,null,null,null,null,null,null,null,null,null,null,null,null,null,null,null,null,null,null,null,null,null,null,null,null,null,null,null,null,null,null,null,null,null,null,null,null,null,null,null,null,null,null,0,0,0,0,0,0,0,0,0,0,0,0,0,0,0,0,0,0,0,0,0,0,0,0,0,0,0,0,0,0,0,0,0,0,0,0,0,0,0,0,0,0,0,0,0,0,0,0,0,0,0,0,0,0,0,0,0,0,0,0,0,0,0,0,0,0,0,0,0,0,0,0,0,0,0,0,0,0,0,0,0,0,0,0,0,0,0,0,0,0,0]
["",null,null,null,null,"","",null,null,null,null,null,null,null,null,null,null,null,null,null,null,null,null,null,null,null,null,null,null,null,null,null,null,null,null,null,null,null,null,null,null,null,null,null,null,null,null,null,null,null,null,null,null,null,null,null,null,null,null,null,null,null,null,null,null,null,null,null,null,null,null,null,null,null,null,null,null,null,null,null,null,null,null,null,null,null,null,null,null,null,null,null,null,null,null,null,null,null,null,0,0,0,0,0,0,0,0,0,0,0,0,0,0,0,0,0,0,0,0,0,0,0,0,0,0,0,0,0,0,0,0,0,0,0,0,0,0,0,0,0,0,0,0,0,0,0,0,0,0,0,0,0,0,0,0,0,0,0,0,0,0,0,0,0,0,0,0,0,0,0,0,0,0,0,0,0,0,0,0,0,0,0,0,0,0,0,0,0,0,0]
["",null,null,null,null,"","",null,null,null,null,null,null,null,null,null,null,null,null,null,null,null,null,null,null,null,null,null,null,null,null,null,null,null,null,null,null,null,null,null,null,null,null,null,null,null,null,null,null,null,null,null,null,null,null,null,null,null,null,null,null,null,null,null,null,null,null,null,null,null,null,null,null,null,null,null,null,null,null,null,null,null,null,null,null,null,null,null,null,null,null,null,null,null,null,null,null,null,null,0,0,0,0,0,0,0,0,0,0,0,0,0,0,0,0,0,0,0,0,0,0,0,0,0,0,0,0,0,0,0,0,0,0,0,0,0,0,0,0,0,0,0,0,0,0,0,0,0,0,0,0,0,0,0,0,0,0,0,0,0,0,0,0,0,0,0,0,0,0,0,0,0,0,0,0,0,0,0,0,0,0,0,0,0,0,0,0,0,0,0]
["",null,null,null,null,"","",null,null,null,null,null,null,null,null,null,null,null,null,null,null,null,null,null,null,null,null,null,null,null,null,null,null,null,null,null,null,null,null,null,null,null,null,null,null,null,null,null,null,null,null,null,null,null,null,null,null,null,null,null,null,null,null,null,null,null,null,null,null,null,null,null,null,null,null,null,null,null,null,null,null,null,null,null,null,null,null,null,null,null,null,null,null,null,null,null,null,null,null,0,0,0,0,0,0,0,0,0,0,0,0,0,0,0,0,0,0,0,0,0,0,0,0,0,0,0,0,0,0,0,0,0,0,0,0,0,0,0,0,0,0,0,0,0,0,0,0,0,0,0,0,0,0,0,0,0,0,0,0,0,0,0,0,0,0,0,0,0,0,0,0,0,0,0,0,0,0,0,0,0,0,0,0,0,0,0,0,0,0,0]
["",null,null,null,null,"","",null,null,null,null,null,null,null,null,null,null,null,null,null,null,null,null,null,null,null,null,null,null,null,null,null,null,null,null,null,null,null,null,null,null,null,null,null,null,null,null,null,null,null,null,null,null,null,null,null,null,null,null,null,null,null,null,null,null,null,null,null,null,null,null,null,null,null,null,null,null,null,null,null,null,null,null,null,null,null,null,null,null,null,null,null,null,null,null,null,null,null,null,0,0,0,0,0,0,0,0,0,0,0,0,0,0,0,0,0,0,0,0,0,0,0,0,0,0,0,0,0,0,0,0,0,0,0,0,0,0,0,0,0,0,0,0,0,0,0,0,0,0,0,0,0,0,0,0,0,0,0,0,0,0,0,0,0,0,0,0,0,0,0,0,0,0,0,0,0,0,0,0,0,0,0,0,0,0,0,0,0,0,0]
["",null,null,null,null,"","",null,null,null,null,null,null,null,null,null,null,null,null,null,null,null,null,null,null,null,null,null,null,null,null,null,null,null,null,null,null,null,null,null,null,null,null,null,null,null,null,null,null,null,null,null,null,null,null,null,null,null,null,null,null,null,null,null,null,null,null,null,null,null,null,null,null,null,null,null,null,null,null,null,null,null,null,null,null,null,null,null,null,null,null,null,null,null,null,null,null,null,null,0,0,0,0,0,0,0,0,0,0,0,0,0,0,0,0,0,0,0,0,0,0,0,0,0,0,0,0,0,0,0,0,0,0,0,0,0,0,0,0,0,0,0,0,0,0,0,0,0,0,0,0,0,0,0,0,0,0,0,0,0,0,0,0,0,0,0,0,0,0,0,0,0,0,0,0,0,0,0,0,0,0,0,0,0,0,0,0,0,0,0]
["",null,null,null,null,"","",null,null,null,null,null,null,null,null,null,null,null,null,null,null,null,null,null,null,null,null,null,null,null,null,null,null,null,null,null,null,null,null,null,null,null,null,null,null,null,null,null,null,null,null,null,null,null,null,null,null,null,null,null,null,null,null,null,null,null,null,null,null,null,null,null,null,null,null,null,null,null,null,null,null,null,null,null,null,null,null,null,null,null,null,null,null,null,null,null,null,null,null,0,0,0,0,0,0,0,0,0,0,0,0,0,0,0,0,0,0,0,0,0,0,0,0,0,0,0,0,0,0,0,0,0,0,0,0,0,0,0,0,0,0,0,0,0,0,0,0,0,0,0,0,0,0,0,0,0,0,0,0,0,0,0,0,0,0,0,0,0,0,0,0,0,0,0,0,0,0,0,0,0,0,0,0,0,0,0,0,0,0,0]
["",null,null,null,null,"","",null,null,null,null,null,null,null,null,null,null,null,null,null,null,null,null,null,null,null,null,null,null,null,null,null,null,null,null,null,null,null,null,null,null,null,null,null,null,null,null,null,null,null,null,null,null,null,null,null,null,null,null,null,null,null,null,null,null,null,null,null,null,null,null,null,null,null,null,null,null,null,null,null,null,null,null,null,null,null,null,null,null,null,null,null,null,null,null,null,null,null,null,0,0,0,0,0,0,0,0,0,0,0,0,0,0,0,0,0,0,0,0,0,0,0,0,0,0,0,0,0,0,0,0,0,0,0,0,0,0,0,0,0,0,0,0,0,0,0,0,0,0,0,0,0,0,0,0,0,0,0,0,0,0,0,0,0,0,0,0,0,0,0,0,0,0,0,0,0,0,0,0,0,0,0,0,0,0,0,0,0,0,0]
["",null,null,null,null,"","",null,null,null,null,null,null,null,null,null,null,null,null,null,null,null,null,null,null,null,null,null,null,null,null,null,null,null,null,null,null,null,null,null,null,null,null,null,null,null,null,null,null,null,null,null,null,null,null,null,null,null,null,null,null,null,null,null,null,null,null,null,null,null,null,null,null,null,null,null,null,null,null,null,null,null,null,null,null,null,null,null,null,null,null,null,null,null,null,null,null,null,null,0,0,0,0,0,0,0,0,0,0,0,0,0,0,0,0,0,0,0,0,0,0,0,0,0,0,0,0,0,0,0,0,0,0,0,0,0,0,0,0,0,0,0,0,0,0,0,0,0,0,0,0,0,0,0,0,0,0,0,0,0,0,0,0,0,0,0,0,0,0,0,0,0,0,0,0,0,0,0,0,0,0,0,0,0,0,0,0,0,0,0]
["",null,null,null,null,"","",null,null,null,null,null,null,null,null,null,null,null,null,null,null,null,null,null,null,null,null,null,null,null,null,null,null,null,null,null,null,null,null,null,null,null,null,null,null,null,null,null,null,null,null,null,null,null,null,null,null,null,null,null,null,null,null,null,null,null,null,null,null,null,null,null,null,null,null,null,null,null,null,null,null,null,null,null,null,null,null,null,null,null,null,null,null,null,null,null,null,null,null,0,0,0,0,0,0,0,0,0,0,0,0,0,0,0,0,0,0,0,0,0,0,0,0,0,0,0,0,0,0,0,0,0,0,0,0,0,0,0,0,0,0,0,0,0,0,0,0,0,0,0,0,0,0,0,0,0,0,0,0,0,0,0,0,0,0,0,0,0,0,0,0,0,0,0,0,0,0,0,0,0,0,0,0,0,0,0,0,0,0,0]
["",null,null,null,null,"","",null,null,null,null,null,null,null,null,null,null,null,null,null,null,null,null,null,null,null,null,null,null,null,null,null,null,null,null,null,null,null,null,null,null,null,null,null,null,null,null,null,null,null,null,null,null,null,null,null,null,null,null,null,null,null,null,null,null,null,null,null,null,null,null,null,null,null,null,null,null,null,null,null,null,null,null,null,null,null,null,null,null,null,null,null,null,null,null,null,null,null,null,0,0,0,0,0,0,0,0,0,0,0,0,0,0,0,0,0,0,0,0,0,0,0,0,0,0,0,0,0,0,0,0,0,0,0,0,0,0,0,0,0,0,0,0,0,0,0,0,0,0,0,0,0,0,0,0,0,0,0,0,0,0,0,0,0,0,0,0,0,0,0,0,0,0,0,0,0,0,0,0,0,0,0,0,0,0,0,0,0,0,0]
["",null,null,null,null,"","",null,null,null,null,null,null,null,null,null,null,null,null,null,null,null,null,null,null,null,null,null,null,null,null,null,null,null,null,null,null,null,null,null,null,null,null,null,null,null,null,null,null,null,null,null,null,null,null,null,null,null,null,null,null,null,null,null,null,null,null,null,null,null,null,null,null,null,null,null,null,null,null,null,null,null,null,null,null,null,null,null,null,null,null,null,null,null,null,null,null,null,null,0,0,0,0,0,0,0,0,0,0,0,0,0,0,0,0,0,0,0,0,0,0,0,0,0,0,0,0,0,0,0,0,0,0,0,0,0,0,0,0,0,0,0,0,0,0,0,0,0,0,0,0,0,0,0,0,0,0,0,0,0,0,0,0,0,0,0,0,0,0,0,0,0,0,0,0,0,0,0,0,0,0,0,0,0,0,0,0,0,0,0]
["",null,null,null,null,"","",null,null,null,null,null,null,null,null,null,null,null,null,null,null,null,null,null,null,null,null,null,null,null,null,null,null,null,null,null,null,null,null,null,null,null,null,null,null,null,null,null,null,null,null,null,null,null,null,null,null,null,null,null,null,null,null,null,null,null,null,null,null,null,null,null,null,null,null,null,null,null,null,null,null,null,null,null,null,null,null,null,null,null,null,null,null,null,null,null,null,null,null,0,0,0,0,0,0,0,0,0,0,0,0,0,0,0,0,0,0,0,0,0,0,0,0,0,0,0,0,0,0,0,0,0,0,0,0,0,0,0,0,0,0,0,0,0,0,0,0,0,0,0,0,0,0,0,0,0,0,0,0,0,0,0,0,0,0,0,0,0,0,0,0,0,0,0,0,0,0,0,0,0,0,0,0,0,0,0,0,0,0,0]
["",null,null,null,null,"","",null,null,null,null,null,null,null,null,null,null,null,null,null,null,null,null,null,null,null,null,null,null,null,null,null,null,null,null,null,null,null,null,null,null,null,null,null,null,null,null,null,null,null,null,null,null,null,null,null,null,null,null,null,null,null,null,null,null,null,null,null,null,null,null,null,null,null,null,null,null,null,null,null,null,null,null,null,null,null,null,null,null,null,null,null,null,null,null,null,null,null,null,0,0,0,0,0,0,0,0,0,0,0,0,0,0,0,0,0,0,0,0,0,0,0,0,0,0,0,0,0,0,0,0,0,0,0,0,0,0,0,0,0,0,0,0,0,0,0,0,0,0,0,0,0,0,0,0,0,0,0,0,0,0,0,0,0,0,0,0,0,0,0,0,0,0,0,0,0,0,0,0,0,0,0,0,0,0,0,0,0,0,0]
["",null,null,null,null,"","",null,null,null,null,null,null,null,null,null,null,null,null,null,null,null,null,null,null,null,null,null,null,null,null,null,null,null,null,null,null,null,null,null,null,null,null,null,null,null,null,null,null,null,null,null,null,null,null,null,null,null,null,null,null,null,null,null,null,null,null,null,null,null,null,null,null,null,null,null,null,null,null,null,null,null,null,null,null,null,null,null,null,null,null,null,null,null,null,null,null,null,null,0,0,0,0,0,0,0,0,0,0,0,0,0,0,0,0,0,0,0,0,0,0,0,0,0,0,0,0,0,0,0,0,0,0,0,0,0,0,0,0,0,0,0,0,0,0,0,0,0,0,0,0,0,0,0,0,0,0,0,0,0,0,0,0,0,0,0,0,0,0,0,0,0,0,0,0,0,0,0,0,0,0,0,0,0,0,0,0,0,0,0]
["",null,null,null,null,"","",null,null,null,null,null,null,null,null,null,null,null,null,null,null,null,null,null,null,null,null,null,null,null,null,null,null,null,null,null,null,null,null,null,null,null,null,null,null,null,null,null,null,null,null,null,null,null,null,null,null,null,null,null,null,null,null,null,null,null,null,null,null,null,null,null,null,null,null,null,null,null,null,null,null,null,null,null,null,null,null,null,null,null,null,null,null,null,null,null,null,null,null,0,0,0,0,0,0,0,0,0,0,0,0,0,0,0,0,0,0,0,0,0,0,0,0,0,0,0,0,0,0,0,0,0,0,0,0,0,0,0,0,0,0,0,0,0,0,0,0,0,0,0,0,0,0,0,0,0,0,0,0,0,0,0,0,0,0,0,0,0,0,0,0,0,0,0,0,0,0,0,0,0,0,0,0,0,0,0,0,0,0,0]
["",null,null,null,null,"","",null,null,null,null,null,null,null,null,null,null,null,null,null,null,null,null,null,null,null,null,null,null,null,null,null,null,null,null,null,null,null,null,null,null,null,null,null,null,null,null,null,null,null,null,null,null,null,null,null,null,null,null,null,null,null,null,null,null,null,null,null,null,null,null,null,null,null,null,null,null,null,null,null,null,null,null,null,null,null,null,null,null,null,null,null,null,null,null,null,null,null,null,0,0,0,0,0,0,0,0,0,0,0,0,0,0,0,0,0,0,0,0,0,0,0,0,0,0,0,0,0,0,0,0,0,0,0,0,0,0,0,0,0,0,0,0,0,0,0,0,0,0,0,0,0,0,0,0,0,0,0,0,0,0,0,0,0,0,0,0,0,0,0,0,0,0,0,0,0,0,0,0,0,0,0,0,0,0,0,0,0,0,0]
["",null,null,null,null,"","",null,null,null,null,null,null,null,null,null,null,null,null,null,null,null,null,null,null,null,null,null,null,null,null,null,null,null,null,null,null,null,null,null,null,null,null,null,null,null,null,null,null,null,null,null,null,null,null,null,null,null,null,null,null,null,null,null,null,null,null,null,null,null,null,null,null,null,null,null,null,null,null,null,null,null,null,null,null,null,null,null,null,null,null,null,null,null,null,null,null,null,null,0,0,0,0,0,0,0,0,0,0,0,0,0,0,0,0,0,0,0,0,0,0,0,0,0,0,0,0,0,0,0,0,0,0,0,0,0,0,0,0,0,0,0,0,0,0,0,0,0,0,0,0,0,0,0,0,0,0,0,0,0,0,0,0,0,0,0,0,0,0,0,0,0,0,0,0,0,0,0,0,0,0,0,0,0,0,0,0,0,0,0]
["",null,null,null,null,"","",null,null,null,null,null,null,null,null,null,null,null,null,null,null,null,null,null,null,null,null,null,null,null,null,null,null,null,null,null,null,null,null,null,null,null,null,null,null,null,null,null,null,null,null,null,null,null,null,null,null,null,null,null,null,null,null,null,null,null,null,null,null,null,null,null,null,null,null,null,null,null,null,null,null,null,null,null,null,null,null,null,null,null,null,null,null,null,null,null,null,null,null,0,0,0,0,0,0,0,0,0,0,0,0,0,0,0,0,0,0,0,0,0,0,0,0,0,0,0,0,0,0,0,0,0,0,0,0,0,0,0,0,0,0,0,0,0,0,0,0,0,0,0,0,0,0,0,0,0,0,0,0,0,0,0,0,0,0,0,0,0,0,0,0,0,0,0,0,0,0,0,0,0,0,0,0,0,0,0,0,0,0,0]
["",null,null,null,null,"","",null,null,null,null,null,null,null,null,null,null,null,null,null,null,null,null,null,null,null,null,null,null,null,null,null,null,null,null,null,null,null,null,null,null,null,null,null,null,null,null,null,null,null,null,null,null,null,null,null,null,null,null,null,null,null,null,null,null,null,null,null,null,null,null,null,null,null,null,null,null,null,null,null,null,null,null,null,null,null,null,null,null,null,null,null,null,null,null,null,null,null,null,0,0,0,0,0,0,0,0,0,0,0,0,0,0,0,0,0,0,0,0,0,0,0,0,0,0,0,0,0,0,0,0,0,0,0,0,0,0,0,0,0,0,0,0,0,0,0,0,0,0,0,0,0,0,0,0,0,0,0,0,0,0,0,0,0,0,0,0,0,0,0,0,0,0,0,0,0,0,0,0,0,0,0,0,0,0,0,0,0,0,0]
["",null,null,null,null,"","",null,null,null,null,null,null,null,null,null,null,null,null,null,null,null,null,null,null,null,null,null,null,null,null,null,null,null,null,null,null,null,null,null,null,null,null,null,null,null,null,null,null,null,null,null,null,null,null,null,null,null,null,null,null,null,null,null,null,null,null,null,null,null,null,null,null,null,null,null,null,null,null,null,null,null,null,null,null,null,null,null,null,null,null,null,null,null,null,null,null,null,null,0,0,0,0,0,0,0,0,0,0,0,0,0,0,0,0,0,0,0,0,0,0,0,0,0,0,0,0,0,0,0,0,0,0,0,0,0,0,0,0,0,0,0,0,0,0,0,0,0,0,0,0,0,0,0,0,0,0,0,0,0,0,0,0,0,0,0,0,0,0,0,0,0,0,0,0,0,0,0,0,0,0,0,0,0,0,0,0,0,0,0]
["",null,null,null,null,"","",null,null,null,null,null,null,null,null,null,null,null,null,null,null,null,null,null,null,null,null,null,null,null,null,null,null,null,null,null,null,null,null,null,null,null,null,null,null,null,null,null,null,null,null,null,null,null,null,null,null,null,null,null,null,null,null,null,null,null,null,null,null,null,null,null,null,null,null,null,null,null,null,null,null,null,null,null,null,null,null,null,null,null,null,null,null,null,null,null,null,null,null,0,0,0,0,0,0,0,0,0,0,0,0,0,0,0,0,0,0,0,0,0,0,0,0,0,0,0,0,0,0,0,0,0,0,0,0,0,0,0,0,0,0,0,0,0,0,0,0,0,0,0,0,0,0,0,0,0,0,0,0,0,0,0,0,0,0,0,0,0,0,0,0,0,0,0,0,0,0,0,0,0,0,0,0,0,0,0,0,0,0,0]
["",null,null,null,null,"","",null,null,null,null,null,null,null,null,null,null,null,null,null,null,null,null,null,null,null,null,null,null,null,null,null,null,null,null,null,null,null,null,null,null,null,null,null,null,null,null,null,null,null,null,null,null,null,null,null,null,null,null,null,null,null,null,null,null,null,null,null,null,null,null,null,null,null,null,null,null,null,null,null,null,null,null,null,null,null,null,null,null,null,null,null,null,null,null,null,null,null,null,0,0,0,0,0,0,0,0,0,0,0,0,0,0,0,0,0,0,0,0,0,0,0,0,0,0,0,0,0,0,0,0,0,0,0,0,0,0,0,0,0,0,0,0,0,0,0,0,0,0,0,0,0,0,0,0,0,0,0,0,0,0,0,0,0,0,0,0,0,0,0,0,0,0,0,0,0,0,0,0,0,0,0,0,0,0,0,0,0,0,0]
["",null,null,null,null,"","",null,null,null,null,null,null,null,null,null,null,null,null,null,null,null,null,null,null,null,null,null,null,null,null,null,null,null,null,null,null,null,null,null,null,null,null,null,null,null,null,null,null,null,null,null,null,null,null,null,null,null,null,null,null,null,null,null,null,null,null,null,null,null,null,null,null,null,null,null,null,null,null,null,null,null,null,null,null,null,null,null,null,null,null,null,null,null,null,null,null,null,null,0,0,0,0,0,0,0,0,0,0,0,0,0,0,0,0,0,0,0,0,0,0,0,0,0,0,0,0,0,0,0,0,0,0,0,0,0,0,0,0,0,0,0,0,0,0,0,0,0,0,0,0,0,0,0,0,0,0,0,0,0,0,0,0,0,0,0,0,0,0,0,0,0,0,0,0,0,0,0,0,0,0,0,0,0,0,0,0,0,0,0]
["",null,null,null,null,"","",null,null,null,null,null,null,null,null,null,null,null,null,null,null,null,null,null,null,null,null,null,null,null,null,null,null,null,null,null,null,null,null,null,null,null,null,null,null,null,null,null,null,null,null,null,null,null,null,null,null,null,null,null,null,null,null,null,null,null,null,null,null,null,null,null,null,null,null,null,null,null,null,null,null,null,null,null,null,null,null,null,null,null,null,null,null,null,null,null,null,null,null,0,0,0,0,0,0,0,0,0,0,0,0,0,0,0,0,0,0,0,0,0,0,0,0,0,0,0,0,0,0,0,0,0,0,0,0,0,0,0,0,0,0,0,0,0,0,0,0,0,0,0,0,0,0,0,0,0,0,0,0,0,0,0,0,0,0,0,0,0,0,0,0,0,0,0,0,0,0,0,0,0,0,0,0,0,0,0,0,0,0,0]
["",null,null,null,null,"","",null,null,null,null,null,null,null,null,null,null,null,null,null,null,null,null,null,null,null,null,null,null,null,null,null,null,null,null,null,null,null,null,null,null,null,null,null,null,null,null,null,null,null,null,null,null,null,null,null,null,null,null,null,null,null,null,null,null,null,null,null,null,null,null,null,null,null,null,null,null,null,null,null,null,null,null,null,null,null,null,null,null,null,null,null,null,null,null,null,null,null,null,0,0,0,0,0,0,0,0,0,0,0,0,0,0,0,0,0,0,0,0,0,0,0,0,0,0,0,0,0,0,0,0,0,0,0,0,0,0,0,0,0,0,0,0,0,0,0,0,0,0,0,0,0,0,0,0,0,0,0,0,0,0,0,0,0,0,0,0,0,0,0,0,0,0,0,0,0,0,0,0,0,0,0,0,0,0,0,0,0,0,0]
["",null,null,null,null,"","",null,null,null,null,null,null,null,null,null,null,null,null,null,null,null,null,null,null,null,null,null,null,null,null,null,null,null,null,null,null,null,null,null,null,null,null,null,null,null,null,null,null,null,null,null,null,null,null,null,null,null,null,null,null,null,null,null,null,null,null,null,null,null,null,null,null,null,null,null,null,null,null,null,null,null,null,null,null,null,null,null,null,null,null,null,null,null,null,null,null,null,null,0,0,0,0,0,0,0,0,0,0,0,0,0,0,0,0,0,0,0,0,0,0,0,0,0,0,0,0,0,0,0,0,0,0,0,0,0,0,0,0,0,0,0,0,0,0,0,0,0,0,0,0,0,0,0,0,0,0,0,0,0,0,0,0,0,0,0,0,0,0,0,0,0,0,0,0,0,0,0,0,0,0,0,0,0,0,0,0,0,0,0]
["",null,null,null,null,"","",null,null,null,null,null,null,null,null,null,null,null,null,null,null,null,null,null,null,null,null,null,null,null,null,null,null,null,null,null,null,null,null,null,null,null,null,null,null,null,null,null,null,null,null,null,null,null,null,null,null,null,null,null,null,null,null,null,null,null,null,null,null,null,null,null,null,null,null,null,null,null,null,null,null,null,null,null,null,null,null,null,null,null,null,null,null,null,null,null,null,null,null,0,0,0,0,0,0,0,0,0,0,0,0,0,0,0,0,0,0,0,0,0,0,0,0,0,0,0,0,0,0,0,0,0,0,0,0,0,0,0,0,0,0,0,0,0,0,0,0,0,0,0,0,0,0,0,0,0,0,0,0,0,0,0,0,0,0,0,0,0,0,0,0,0,0,0,0,0,0,0,0,0,0,0,0,0,0,0,0,0,0,0]
["",null,null,null,null,"","",null,null,null,null,null,null,null,null,null,null,null,null,null,null,null,null,null,null,null,null,null,null,null,null,null,null,null,null,null,null,null,null,null,null,null,null,null,null,null,null,null,null,null,null,null,null,null,null,null,null,null,null,null,null,null,null,null,null,null,null,null,null,null,null,null,null,null,null,null,null,null,null,null,null,null,null,null,null,null,null,null,null,null,null,null,null,null,null,null,null,null,null,0,0,0,0,0,0,0,0,0,0,0,0,0,0,0,0,0,0,0,0,0,0,0,0,0,0,0,0,0,0,0,0,0,0,0,0,0,0,0,0,0,0,0,0,0,0,0,0,0,0,0,0,0,0,0,0,0,0,0,0,0,0,0,0,0,0,0,0,0,0,0,0,0,0,0,0,0,0,0,0,0,0,0,0,0,0,0,0,0,0,0]
["",null,null,null,null,"","",null,null,null,null,null,null,null,null,null,null,null,null,null,null,null,null,null,null,null,null,null,null,null,null,null,null,null,null,null,null,null,null,null,null,null,null,null,null,null,null,null,null,null,null,null,null,null,null,null,null,null,null,null,null,null,null,null,null,null,null,null,null,null,null,null,null,null,null,null,null,null,null,null,null,null,null,null,null,null,null,null,null,null,null,null,null,null,null,null,null,null,null,0,0,0,0,0,0,0,0,0,0,0,0,0,0,0,0,0,0,0,0,0,0,0,0,0,0,0,0,0,0,0,0,0,0,0,0,0,0,0,0,0,0,0,0,0,0,0,0,0,0,0,0,0,0,0,0,0,0,0,0,0,0,0,0,0,0,0,0,0,0,0,0,0,0,0,0,0,0,0,0,0,0,0,0,0,0,0,0,0,0,0]
["",null,null,null,null,"","",null,null,null,null,null,null,null,null,null,null,null,null,null,null,null,null,null,null,null,null,null,null,null,null,null,null,null,null,null,null,null,null,null,null,null,null,null,null,null,null,null,null,null,null,null,null,null,null,null,null,null,null,null,null,null,null,null,null,null,null,null,null,null,null,null,null,null,null,null,null,null,null,null,null,null,null,null,null,null,null,null,null,null,null,null,null,null,null,null,null,null,null,0,0,0,0,0,0,0,0,0,0,0,0,0,0,0,0,0,0,0,0,0,0,0,0,0,0,0,0,0,0,0,0,0,0,0,0,0,0,0,0,0,0,0,0,0,0,0,0,0,0,0,0,0,0,0,0,0,0,0,0,0,0,0,0,0,0,0,0,0,0,0,0,0,0,0,0,0,0,0,0,0,0,0,0,0,0,0,0,0,0,0]
["",null,null,null,null,"","",null,null,null,null,null,null,null,null,null,null,null,null,null,null,null,null,null,null,null,null,null,null,null,null,null,null,null,null,null,null,null,null,null,null,null,null,null,null,null,null,null,null,null,null,null,null,null,null,null,null,null,null,null,null,null,null,null,null,null,null,null,null,null,null,null,null,null,null,null,null,null,null,null,null,null,null,null,null,null,null,null,null,null,null,null,null,null,null,null,null,null,null,0,0,0,0,0,0,0,0,0,0,0,0,0,0,0,0,0,0,0,0,0,0,0,0,0,0,0,0,0,0,0,0,0,0,0,0,0,0,0,0,0,0,0,0,0,0,0,0,0,0,0,0,0,0,0,0,0,0,0,0,0,0,0,0,0,0,0,0,0,0,0,0,0,0,0,0,0,0,0,0,0,0,0,0,0,0,0,0,0,0,0]
["",null,null,null,null,"","",null,null,null,null,null,null,null,null,null,null,null,null,null,null,null,null,null,null,null,null,null,null,null,null,null,null,null,null,null,null,null,null,null,null,null,null,null,null,null,null,null,null,null,null,null,null,null,null,null,null,null,null,null,null,null,null,null,null,null,null,null,null,null,null,null,null,null,null,null,null,null,null,null,null,null,null,null,null,null,null,null,null,null,null,null,null,null,null,null,null,null,null,0,0,0,0,0,0,0,0,0,0,0,0,0,0,0,0,0,0,0,0,0,0,0,0,0,0,0,0,0,0,0,0,0,0,0,0,0,0,0,0,0,0,0,0,0,0,0,0,0,0,0,0,0,0,0,0,0,0,0,0,0,0,0,0,0,0,0,0,0,0,0,0,0,0,0,0,0,0,0,0,0,0,0,0,0,0,0,0,0,0,0]
["",null,null,null,null,"","",null,null,null,null,null,null,null,null,null,null,null,null,null,null,null,null,null,null,null,null,null,null,null,null,null,null,null,null,null,null,null,null,null,null,null,null,null,null,null,null,null,null,null,null,null,null,null,null,null,null,null,null,null,null,null,null,null,null,null,null,null,null,null,null,null,null,null,null,null,null,null,null,null,null,null,null,null,null,null,null,null,null,null,null,null,null,null,null,null,null,null,null,0,0,0,0,0,0,0,0,0,0,0,0,0,0,0,0,0,0,0,0,0,0,0,0,0,0,0,0,0,0,0,0,0,0,0,0,0,0,0,0,0,0,0,0,0,0,0,0,0,0,0,0,0,0,0,0,0,0,0,0,0,0,0,0,0,0,0,0,0,0,0,0,0,0,0,0,0,0,0,0,0,0,0,0,0,0,0,0,0,0,0]
["",null,null,null,null,"","",null,null,null,null,null,null,null,null,null,null,null,null,null,null,null,null,null,null,null,null,null,null,null,null,null,null,null,null,null,null,null,null,null,null,null,null,null,null,null,null,null,null,null,null,null,null,null,null,null,null,null,null,null,null,null,null,null,null,null,null,null,null,null,null,null,null,null,null,null,null,null,null,null,null,null,null,null,null,null,null,null,null,null,null,null,null,null,null,null,null,null,null,0,0,0,0,0,0,0,0,0,0,0,0,0,0,0,0,0,0,0,0,0,0,0,0,0,0,0,0,0,0,0,0,0,0,0,0,0,0,0,0,0,0,0,0,0,0,0,0,0,0,0,0,0,0,0,0,0,0,0,0,0,0,0,0,0,0,0,0,0,0,0,0,0,0,0,0,0,0,0,0,0,0,0,0,0,0,0,0,0,0,0]
["",null,null,null,null,"","",null,null,null,null,null,null,null,null,null,null,null,null,null,null,null,null,null,null,null,null,null,null,null,null,null,null,null,null,null,null,null,null,null,null,null,null,null,null,null,null,null,null,null,null,null,null,null,null,null,null,null,null,null,null,null,null,null,null,null,null,null,null,null,null,null,null,null,null,null,null,null,null,null,null,null,null,null,null,null,null,null,null,null,null,null,null,null,null,null,null,null,null,0,0,0,0,0,0,0,0,0,0,0,0,0,0,0,0,0,0,0,0,0,0,0,0,0,0,0,0,0,0,0,0,0,0,0,0,0,0,0,0,0,0,0,0,0,0,0,0,0,0,0,0,0,0,0,0,0,0,0,0,0,0,0,0,0,0,0,0,0,0,0,0,0,0,0,0,0,0,0,0,0,0,0,0,0,0,0,0,0,0,0]
["",null,null,null,null,"","",null,null,null,null,null,null,null,null,null,null,null,null,null,null,null,null,null,null,null,null,null,null,null,null,null,null,null,null,null,null,null,null,null,null,null,null,null,null,null,null,null,null,null,null,null,null,null,null,null,null,null,null,null,null,null,null,null,null,null,null,null,null,null,null,null,null,null,null,null,null,null,null,null,null,null,null,null,null,null,null,null,null,null,null,null,null,null,null,null,null,null,null,0,0,0,0,0,0,0,0,0,0,0,0,0,0,0,0,0,0,0,0,0,0,0,0,0,0,0,0,0,0,0,0,0,0,0,0,0,0,0,0,0,0,0,0,0,0,0,0,0,0,0,0,0,0,0,0,0,0,0,0,0,0,0,0,0,0,0,0,0,0,0,0,0,0,0,0,0,0,0,0,0,0,0,0,0,0,0,0,0,0,0]
["",null,null,null,null,"","",null,null,null,null,null,null,null,null,null,null,null,null,null,null,null,null,null,null,null,null,null,null,null,null,null,null,null,null,null,null,null,null,null,null,null,null,null,null,null,null,null,null,null,null,null,null,null,null,null,null,null,null,null,null,null,null,null,null,null,null,null,null,null,null,null,null,null,null,null,null,null,null,null,null,null,null,null,null,null,null,null,null,null,null,null,null,null,null,null,null,null,null,0,0,0,0,0,0,0,0,0,0,0,0,0,0,0,0,0,0,0,0,0,0,0,0,0,0,0,0,0,0,0,0,0,0,0,0,0,0,0,0,0,0,0,0,0,0,0,0,0,0,0,0,0,0,0,0,0,0,0,0,0,0,0,0,0,0,0,0,0,0,0,0,0,0,0,0,0,0,0,0,0,0,0,0,0,0,0,0,0,0,0]
["",null,null,null,null,"","",null,null,null,null,null,null,null,null,null,null,null,null,null,null,null,null,null,null,null,null,null,null,null,null,null,null,null,null,null,null,null,null,null,null,null,null,null,null,null,null,null,null,null,null,null,null,null,null,null,null,null,null,null,null,null,null,null,null,null,null,null,null,null,null,null,null,null,null,null,null,null,null,null,null,null,null,null,null,null,null,null,null,null,null,null,null,null,null,null,null,null,null,0,0,0,0,0,0,0,0,0,0,0,0,0,0,0,0,0,0,0,0,0,0,0,0,0,0,0,0,0,0,0,0,0,0,0,0,0,0,0,0,0,0,0,0,0,0,0,0,0,0,0,0,0,0,0,0,0,0,0,0,0,0,0,0,0,0,0,0,0,0,0,0,0,0,0,0,0,0,0,0,0,0,0,0,0,0,0,0,0,0,0]
["",null,null,null,null,"","",null,null,null,null,null,null,null,null,null,null,null,null,null,null,null,null,null,null,null,null,null,null,null,null,null,null,null,null,null,null,null,null,null,null,null,null,null,null,null,null,null,null,null,null,null,null,null,null,null,null,null,null,null,null,null,null,null,null,null,null,null,null,null,null,null,null,null,null,null,null,null,null,null,null,null,null,null,null,null,null,null,null,null,null,null,null,null,null,null,null,null,null,0,0,0,0,0,0,0,0,0,0,0,0,0,0,0,0,0,0,0,0,0,0,0,0,0,0,0,0,0,0,0,0,0,0,0,0,0,0,0,0,0,0,0,0,0,0,0,0,0,0,0,0,0,0,0,0,0,0,0,0,0,0,0,0,0,0,0,0,0,0,0,0,0,0,0,0,0,0,0,0,0,0,0,0,0,0,0,0,0,0,0]

{"sheet":"2014 scenario - output","index":1,"n_rows":126,"n_cols":43,"rows_kept":126,"cut":false,"hidden":false,"merged":[]}
[null,null,null,"Replacement expenditure forecast ($,000)",null,null,null,null,null,null,null,null,null,null,null,null,null,null,null,null,null,null,null,"Replacement quantity forecast (#)"]
[null,null,null,1,2,3,4,5,6,7,8,9,10,11,12,13,14,15,16,17,18,19,20,1,2,3,4,5,6,7,8,9,10,11,12,13,14,15,16,17,18,19,20]
[]
[]
["ID","Asset group",null,2015,{"$f":"IFERROR(IF($D5=\"\",\"\",D5+1),\"\")","v":2016},{"$f":"IFERROR(IF($D5=\"\",\"\",E5+1),\"\")","v":2017},2018,2019,2020,2021,2022,2023,2024,2025,2026,2027,2028,2029,2030,2031,2032,2033,2034,{"$f":"IFERROR(IF(D5=\"\",\"\",D5),\"\")","v":2015},{"$f":"IFERROR(IF(E5=\"\",\"\",E5),\"\")","v":2016},2017,2018,2019,2020,2021,2022,2023,2024,2025,2026,2027,2028,2029,2030,2031,2032,2033,2034]
[2,"POLES",null,{"$f":"IFERROR(IF($A6=\"\",\"\",SUMIFS(D$16:D$126,$A$16:$A$126,$A6)),\"\")","v":2861.4517829785041},2950.1084608687365,3057.1099212068111,3186.7440836817664,3342.3759176898266,3526.2483115971213,3739.3710119926345,3981.4993006776313,4251.1934724912044,4545.942305313728,{"$f":"IFERROR(IF($A6=\"\",\"\",SUMIFS(N$16:N$126,$A$16:$A$126,$A6)),\"\")","v":4862.3296484916391},5196.2230123380232,5542.9657480227406,5897.5587685438049,6254.8225793544698,6609.5349011309081,6956.5430866350034,7290.8538121538386,7607.7050642698732,7902.6269455939764,{"$f":"IFERROR(IF($A6=\"\",\"\",SUMIFS(X$16:X$126,$A$16:$A$126,$A6)),\"\")","v":2861.4517829785041},2950.1084608687365,3057.1099212068111,3186.7440836817664,3342.3759176898266,3526.2483115971213,3739.3710119926345,3981.4993006776313,4251.1934724912044,4545.942305313728,{"$f":"IFERROR(IF($A6=\"\",\"\",SUMIFS(AH$16:AH$126,$A$16:$A$126,$A6)),\"\")","v":4862.3296484916391},5196.2230123380232,5542.9657480227406,5897.5587685438049,6254.8225793544698,6609.5349011309081,6956.5430866350034,7290.8538121538386,7607.7050642698732,7902.6269455939764]
[null,null,null,"","","","","","","","","","","","","","","","","","","","","","","","","","","","","","","","","","","","","","","",""]
[null,null,null,"","","","","","","","","","","","","","","","","","","","","","","","","","","","","","","","","","","","","","","",""]
[null,null,null,"","","","","","","","","","","","","","","","","","","","","","","","","","","","","","","","","","","","","","","",""]
[null,null,null,"","","","","","","","","","","","","","","","","","","","","","","","","","","","","","","","","","","","","","","",""]
[null,null,null,"","","","","","","","","","","","","","","","","","","","","","","","","","","","","","","","","","","","","","","",""]
[null,null,null,"","","","","","","","","","","","","","","","","","","","","","","","","","","","","","","","","","","","","","","",""]
[null,null,"Total",{"$f":"IFERROR(SUM(D$6:D$12),\"\")","v":2861.4517829785041},2950.1084608687365,3057.1099212068111,3186.7440836817664,3342.3759176898266,3526.2483115971213,3739.3710119926345,3981.4993006776313,4251.1934724912044,4545.942305313728,4862.3296484916391,5196.2230123380232,5542.9657480227406,5897.5587685438049,6254.8225793544698,6609.5349011309081,6956.5430866350034,7290.8538121538386,7607.7050642698732,7902.6269455939764]
[]
["ID","Asset group","Asset category"]
[{"$f":"IFERROR('2014 scenario - input'!A6,\"\")","v":2},{"$f":"IFERROR('2014 scenario - input'!B6,\"\")","v":"POLES"},{"$f":"IFERROR('2014 scenario - input'!C6,\"\")","v":"˂ = 1 kv ; wood"},{"$f":"IFERROR(repcalc('2014 scenario - input'!$CV6:$GH6,'2014 scenario - input'!$G6,'2014 scenario - input'!$E6,'2014 scenario - input'!$F6,20,TRUE,TRUE),\"\")","v":752.54707319267982},756.84092337933384,763.41460048365877,773.63687845102163,788.78357880912472,809.98253834910656,838.16758806182872,874.04293142050005,918.05846084567611,970.3958504258427,1030.9647600125627,1099.4081883341667,1175.1158918997314,1257.2447879782403,1344.7453188842198,1436.3928104015217,1530.8228651780355,1626.5697723163432,1722.1067934911121,1815.8870330156381,{"$f":"IFERROR(IF(OR(D16=\"\",'2014 scenario - input'!$D6=\"\"),\"\",D16/'2014 scenario - input'!$D6),\"\")","v":752.54707319267982},{"$f":"IFERROR(IF(OR(E16=\"\",'2014 scenario - input'!$D6=\"\"),\"\",E16/'2014 scenario - input'!$D6),\"\")","v":756.84092337933384},{"$f":"IFERROR(IF(OR(F16=\"\",'2014 scenario - input'!$D6=\"\"),\"\",F16/'2014 scenario - input'!$D6),\"\")","v":763.41460048365877},{"$f":"IFERROR(IF(OR(G16=\"\",'2014 scenario - input'!$D6=\"\"),\"\",G16/'2014 scenario - input'!$D6),\"\")","v":773.63687845102163},{"$f":"IFERROR(IF(OR(H16=\"\",'2014 scenario - input'!$D6=\"\"),\"\",H16/'2014 scenario - input'!$D6),\"\")","v":788.78357880912472},{"$f":"IFERROR(IF(OR(I16=\"\",'2014 scenario - input'!$D6=\"\"),\"\",I16/'2014 scenario - input'!$D6),\"\")","v":809.98253834910656},{"$f":"IFERROR(IF(OR(J16=\"\",'2014 scenario - input'!$D6=\"\"),\"\",J16/'2014 scenario - input'!$D6),\"\")","v":838.16758806182872},{"$f":"IFERROR(IF(OR(K16=\"\",'2014 scenario - input'!$D6=\"\"),\"\",K16/'2014 scenario - input'!$D6),\"\")","v":874.04293142050005},{"$f":"IFERROR(IF(OR(L16=\"\",'2014 scenario - input'!$D6=\"\"),\"\",L16/'2014 scenario - input'!$D6),\"\")","v":918.05846084567611},{"$f":"IFERROR(IF(OR(M16=\"\",'2014 scenario - input'!$D6=\"\"),\"\",M16/'2014 scenario - input'!$D6),\"\")","v":970.3958504258427},{"$f":"IFERROR(IF(OR(N16=\"\",'2014 scenario - input'!$D6=\"\"),\"\",N16/'2014 scenario - input'!$D6),\"\")","v":1030.9647600125627},{"$f":"IFERROR(IF(OR(O16=\"\",'2014 scenario - input'!$D6=\"\"),\"\",O16/'2014 scenario - input'!$D6),\"\")","v":1099.4081883341667},{"$f":"IFERROR(IF(OR(P16=\"\",'2014 scenario - input'!$D6=\"\"),\"\",P16/'2014 scenario - input'!$D6),\"\")","v":1175.1158918997314},{"$f":"IFERROR(IF(OR(Q16=\"\",'2014 scenario - input'!$D6=\"\"),\"\",Q16/'2014 scenario - input'!$D6),\"\")","v":1257.2447879782403},{"$f":"IFERROR(IF(OR(R16=\"\",'2014 scenario - input'!$D6=\"\"),\"\",R16/'2014 scenario - input'!$D6),\"\")","v":1344.7453188842198},{"$f":"IFERROR(IF(OR(S16=\"\",'2014 scenario - input'!$D6=\"\"),\"\",S16/'2014 scenario - input'!$D6),\"\")","v":1436.3928104015217},{"$f":"IFERROR(IF(OR(T16=\"\",'2014 scenario - input'!$D6=\"\"),\"\",T16/'2014 scenario - input'!$D6),\"\")","v":1530.8228651780355},{"$f":"IFERROR(IF(OR(U16=\"\",'2014 scenario - input'!$D6=\"\"),\"\",U16/'2014 scenario - input'!$D6),\"\")","v":1626.5697723163432},{"$f":"IFERROR(IF(OR(V16=\"\",'2014 scenario - input'!$D6=\"\"),\"\",V16/'2014 scenario - input'!$D6),\"\")","v":1722.1067934911121},{"$f":"IFERROR(IF(OR(W16=\"\",'2014 scenario - input'!$D6=\"\"),\"\",W16/'2014 scenario - input'!$D6),\"\")","v":1815.8870330156381}]
[{"$f":"IFERROR('2014 scenario - input'!A7,\"\")","v":2},{"$f":"IFERROR('2014 scenario - input'!B7,\"\")","v":"POLES"},{"$f":"IFERROR('2014 scenario - input'!C7,\"\")","v":"˃ 11 kv & < = 22 kv ; wood"},{"$f":"IFERROR(repcalc('2014 scenario - input'!$CV7:$GH7,'2014 scenario - input'!$G7,'2014 scenario - input'!$E7,'2014 scenario - input'!$F7,20,TRUE,TRUE),\"\")","v":1837.3256152525189},1876.6779131625633,1927.1033359860103,1992.2065922513277,2075.1488858869766,2178.4634598732564,2303.9006405462874,2452.3097351393062,2623.563127164306,2816.5260011944533,3029.0733261260525,3258.1539663974386,3499.8999635738764,3749.7770360362883,4002.7701446739156,4253.5956314062441,4496.9291356561016,4727.6365149118883,4940.9936830848355,5132.8809752897823,{"$f":"IFERROR(IF(OR(D17=\"\",'2014 scenario - input'!$D7=\"\"),\"\",D17/'2014 scenario - input'!$D7),\"\")","v":1837.3256152525189},{"$f":"IFERROR(IF(OR(E17=\"\",'2014 scenario - input'!$D7=\"\"),\"\",E17/'2014 scenario - input'!$D7),\"\")","v":1876.6779131625633},{"$f":"IFERROR(IF(OR(F17=\"\",'2014 scenario - input'!$D7=\"\"),\"\",F17/'2014 scenario - input'!$D7),\"\")","v":1927.1033359860103},{"$f":"IFERROR(IF(OR(G17=\"\",'2014 scenario - input'!$D7=\"\"),\"\",G17/'2014 scenario - input'!$D7),\"\")","v":1992.2065922513277},{"$f":"IFERROR(IF(OR(H17=\"\",'2014 scenario - input'!$D7=\"\"),\"\",H17/'2014 scenario - input'!$D7),\"\")","v":2075.1488858869766},{"$f":"IFERROR(IF(OR(I17=\"\",'2014 scenario - input'!$D7=\"\"),\"\",I17/'2014 scenario - input'!$D7),\"\")","v":2178.4634598732564},{"$f":"IFERROR(IF(OR(J17=\"\",'2014 scenario - input'!$D7=\"\"),\"\",J17/'2014 scenario - input'!$D7),\"\")","v":2303.9006405462874},{"$f":"IFERROR(IF(OR(K17=\"\",'2014 scenario - input'!$D7=\"\"),\"\",K17/'2014 scenario - input'!$D7),\"\")","v":2452.3097351393062},{"$f":"IFERROR(IF(OR(L17=\"\",'2014 scenario - input'!$D7=\"\"),\"\",L17/'2014 scenario - input'!$D7),\"\")","v":2623.563127164306},{"$f":"IFERROR(IF(OR(M17=\"\",'2014 scenario - input'!$D7=\"\"),\"\",M17/'2014 scenario - input'!$D7),\"\")","v":2816.5260011944533},{"$f":"IFERROR(IF(OR(N17=\"\",'2014 scenario - input'!$D7=\"\"),\"\",N17/'2014 scenario - input'!$D7),\"\")","v":3029.0733261260525},{"$f":"IFERROR(IF(OR(O17=\"\",'2014 scenario - input'!$D7=\"\"),\"\",O17/'2014 scenario - input'!$D7),\"\")","v":3258.1539663974386},{"$f":"IFERROR(IF(OR(P17=\"\",'2014 scenario - input'!$D7=\"\"),\"\",P17/'2014 scenario - input'!$D7),\"\")","v":3499.8999635738764},{"$f":"IFERROR(IF(OR(Q17=\"\",'2014 scenario - input'!$D7=\"\"),\"\",Q17/'2014 scenario - input'!$D7),\"\")","v":3749.7770360362883},{"$f":"IFERROR(IF(OR(R17=\"\",'2014 scenario - input'!$D7=\"\"),\"\",R17/'2014 scenario - input'!$D7),\"\")","v":4002.7701446739156},{"$f":"IFERROR(IF(OR(S17=\"\",'2014 scenario - input'!$D7=\"\"),\"\",S17/'2014 scenario - input'!$D7),\"\")","v":4253.5956314062441},{"$f":"IFERROR(IF(OR(T17=\"\",'2014 scenario - input'!$D7=\"\"),\"\",T17/'2014 scenario - input'!$D7),\"\")","v":4496.9291356561016},{"$f":"IFERROR(IF(OR(U17=\"\",'2014 scenario - input'!$D7=\"\"),\"\",U17/'2014 scenario - input'!$D7),\"\")","v":4727.6365149118883},{"$f":"IFERROR(IF(OR(V17=\"\",'2014 scenario - input'!$D7=\"\"),\"\",V17/'2014 scenario - input'!$D7),\"\")","v":4940.9936830848355},{"$f":"IFERROR(IF(OR(W17=\"\",'2014 scenario - input'!$D7=\"\"),\"\",W17/'2014 scenario - input'!$D7),\"\")","v":5132.8809752897823}]
[{"$f":"IFERROR('2014 scenario - input'!A8,\"\")","v":2},{"$f":"IFERROR('2014 scenario - input'!B8,\"\")","v":"POLES"},{"$f":"IFERROR('2014 scenario - input'!C8,\"\")","v":"> 1 kv & < = 11 kv ; wood"},{"$f":"IFERROR(repcalc('2014 scenario - input'!$CV8:$GH8,'2014 scenario - input'!$G8,'2014 scenario - input'!$E8,'2014 scenario - input'!$F8,20,TRUE,TRUE),\"\")","v":8.057207524136583},8.1118639517476261,8.2441901477601522,8.4544769937201512,8.7384158318391325,9.0876134565538909,9.4903233764688508,9.9323263262625261,10.397890430059109,10.870744011801547,11.335000615601224,11.775985131466058,12.180920942970495,12.539449845801389,12.843968454938789,13.089776415065062,13.275042558408112,13.400604884948587,13.469628570656679,13.487152858773833,{"$f":"IFERROR(IF(OR(D18=\"\",'2014 scenario - input'!$D8=\"\"),\"\",D18/'2014 scenario - input'!$D8),\"\")","v":8.057207524136583},{"$f":"IFERROR(IF(OR(E18=\"\",'2014 scenario - input'!$D8=\"\"),\"\",E18/'2014 scenario - input'!$D8),\"\")","v":8.1118639517476261},{"$f":"IFERROR(IF(OR(F18=\"\",'2014 scenario - input'!$D8=\"\"),\"\",F18/'2014 scenario - input'!$D8),\"\")","v":8.2441901477601522},{"$f":"IFERROR(IF(OR(G18=\"\",'2014 scenario - input'!$D8=\"\"),\"\",G18/'2014 scenario - input'!$D8),\"\")","v":8.4544769937201512},{"$f":"IFERROR(IF(OR(H18=\"\",'2014 scenario - input'!$D8=\"\"),\"\",H18/'2014 scenario - input'!$D8),\"\")","v":8.7384158318391325},{"$f":"IFERROR(IF(OR(I18=\"\",'2014 scenario - input'!$D8=\"\"),\"\",I18/'2014 scenario - input'!$D8),\"\")","v":9.0876134565538909},{"$f":"IFERROR(IF(OR(J18=\"\",'2014 scenario - input'!$D8=\"\"),\"\",J18/'2014 scenario - input'!$D8),\"\")","v":9.4903233764688508},{"$f":"IFERROR(IF(OR(K18=\"\",'2014 scenario - input'!$D8=\"\"),\"\",K18/'2014 scenario - input'!$D8),\"\")","v":9.9323263262625261},{"$f":"IFERROR(IF(OR(L18=\"\",'2014 scenario - input'!$D8=\"\"),\"\",L18/'2014 scenario - input'!$D8),\"\")","v":10.397890430059109},{"$f":"IFERROR(IF(OR(M18=\"\",'2014 scenario - input'!$D8=\"\"),\"\",M18/'2014 scenario - input'!$D8),\"\")","v":10.870744011801547},{"$f":"IFERROR(IF(OR(N18=\"\",'2014 scenario - input'!$D8=\"\"),\"\",N18/'2014 scenario - input'!$D8),\"\")","v":11.335000615601224},{"$f":"IFERROR(IF(OR(O18=\"\",'2014 scenario - input'!$D8=\"\"),\"\",O18/'2014 scenario - input'!$D8),\"\")","v":11.775985131466058},{"$f":"IFERROR(IF(OR(P18=\"\",'2014 scenario - input'!$D8=\"\"),\"\",P18/'2014 scenario - input'!$D8),\"\")","v":12.180920942970495},{"$f":"IFERROR(IF(OR(Q18=\"\",'2014 scenario - input'!$D8=\"\"),\"\",Q18/'2014 scenario - input'!$D8),\"\")","v":12.539449845801389},{"$f":"IFERROR(IF(OR(R18=\"\",'2014 scenario - input'!$D8=\"\"),\"\",R18/'2014 scenario - input'!$D8),\"\")","v":12.843968454938789},{"$f":"IFERROR(IF(OR(S18=\"\",'2014 scenario - input'!$D8=\"\"),\"\",S18/'2014 scenario - input'!$D8),\"\")","v":13.089776415065062},{"$f":"IFERROR(IF(OR(T18=\"\",'2014 scenario - input'!$D8=\"\"),\"\",T18/'2014 scenario - input'!$D8),\"\")","v":13.275042558408112},{"$f":"IFERROR(IF(OR(U18=\"\",'2014 scenario - input'!$D8=\"\"),\"\",U18/'2014 scenario - input'!$D8),\"\")","v":13.400604884948587},{"$f":"IFERROR(IF(OR(V18=\"\",'2014 scenario - input'!$D8=\"\"),\"\",V18/'2014 scenario - input'!$D8),\"\")","v":13.469628570656679},{"$f":"IFERROR(IF(OR(W18=\"\",'2014 scenario - input'!$D8=\"\"),\"\",W18/'2014 scenario - input'!$D8),\"\")","v":13.487152858773833}]
[{"$f":"IFERROR('2014 scenario - input'!A9,\"\")","v":2},{"$f":"IFERROR('2014 scenario - input'!B9,\"\")","v":"POLES"},{"$f":"IFERROR('2014 scenario - input'!C9,\"\")","v":"> 22 kv & < = 66 kv ; wood"},{"$f":"IFERROR(repcalc('2014 scenario - input'!$CV9:$GH9,'2014 scenario - input'!$G9,'2014 scenario - input'!$E9,'2014 scenario - input'!$F9,20,TRUE,TRUE),\"\")","v":81.498621242625262},84.920413917058198,88.311285382063588,91.774134454139968,95.428251479405603,99.403488050746546,103.83346973961775,108.84829409774912,114.5671926425708,121.09162623878294,128.49923052502629,136.83893957485816,146.127503890837,156.34749765775564,167.44679479423041,179.3393967804553,191.90742692944789,205.00407037357905,218.45723610362515,232.0737417970536,{"$f":"IFERROR(IF(OR(D19=\"\",'2014 scenario - input'!$D9=\"\"),\"\",D19/'2014 scenario - input'!$D9),\"\")","v":81.498621242625262},{"$f":"IFERROR(IF(OR(E19=\"\",'2014 scenario - input'!$D9=\"\"),\"\",E19/'2014 scenario - input'!$D9),\"\")","v":84.920413917058198},{"$f":"IFERROR(IF(OR(F19=\"\",'2014 scenario - input'!$D9=\"\"),\"\",F19/'2014 scenario - input'!$D9),\"\")","v":88.311285382063588},{"$f":"IFERROR(IF(OR(G19=\"\",'2014 scenario - input'!$D9=\"\"),\"\",G19/'2014 scenario - input'!$D9),\"\")","v":91.774134454139968},{"$f":"IFERROR(IF(OR(H19=\"\",'2014 scenario - input'!$D9=\"\"),\"\",H19/'2014 scenario - input'!$D9),\"\")","v":95.428251479405603},{"$f":"IFERROR(IF(OR(I19=\"\",'2014 scenario - input'!$D9=\"\"),\"\",I19/'2014 scenario - input'!$D9),\"\")","v":99.403488050746546},{"$f":"IFERROR(IF(OR(J19=\"\",'2014 scenario - input'!$D9=\"\"),\"\",J19/'2014 scenario - input'!$D9),\"\")","v":103.83346973961775},{"$f":"IFERROR(IF(OR(K19=\"\",'2014 scenario - input'!$D9=\"\"),\"\",K19/'2014 scenario - input'!$D9),\"\")","v":108.84829409774912},{"$f":"IFERROR(IF(OR(L19=\"\",'2014 scenario - input'!$D9=\"\"),\"\",L19/'2014 scenario - input'!$D9),\"\")","v":114.5671926425708},{"$f":"IFERROR(IF(OR(M19=\"\",'2014 scenario - input'!$D9=\"\"),\"\",M19/'2014 scenario - input'!$D9),\"\")","v":121.09162623878294},{"$f":"IFERROR(IF(OR(N19=\"\",'2014 scenario - input'!$D9=\"\"),\"\",N19/'2014 scenario - input'!$D9),\"\")","v":128.49923052502629},{"$f":"IFERROR(IF(OR(O19=\"\",'2014 scenario - input'!$D9=\"\"),\"\",O19/'2014 scenario - input'!$D9),\"\")","v":136.83893957485816},{"$f":"IFERROR(IF(OR(P19=\"\",'2014 scenario - input'!$D9=\"\"),\"\",P19/'2014 scenario - input'!$D9),\"\")","v":146.127503890837},{"$f":"IFERROR(IF(OR(Q19=\"\",'2014 scenario - input'!$D9=\"\"),\"\",Q19/'2014 scenario - input'!$D9),\"\")","v":156.34749765775564},{"$f":"IFERROR(IF(OR(R19=\"\",'2014 scenario - input'!$D9=\"\"),\"\",R19/'2014 scenario - input'!$D9),\"\")","v":167.44679479423041},{"$f":"IFERROR(IF(OR(S19=\"\",'2014 scenario - input'!$D9=\"\"),\"\",S19/'2014 scenario - input'!$D9),\"\")","v":179.3393967804553},{"$f":"IFERROR(IF(OR(T19=\"\",'2014 scenario - input'!$D9=\"\"),\"\",T19/'2014 scenario - input'!$D9),\"\")","v":191.90742692944789},{"$f":"IFERROR(IF(OR(U19=\"\",'2014 scenario - input'!$D9=\"\"),\"\",U19/'2014 scenario - input'!$D9),\"\")","v":205.00407037357905},{"$f":"IFERROR(IF(OR(V19=\"\",'2014 scenario - input'!$D9=\"\"),\"\",V19/'2014 scenario - input'!$D9),\"\")","v":218.45723610362515},{"$f":"IFERROR(IF(OR(W19=\"\",'2014 scenario - input'!$D9=\"\"),\"\",W19/'2014 scenario - input'!$D9),\"\")","v":232.0737417970536}]
[{"$f":"IFERROR('2014 scenario - input'!A10,\"\")","v":2},{"$f":"IFERROR('2014 scenario - input'!B10,\"\")","v":"POLES"},{"$f":"IFERROR('2014 scenario - input'!C10,\"\")","v":"staking of a wooden pole"},{"$f":"IFERROR(repcalc('2014 scenario - input'!$CV10:$GH10,'2014 scenario - input'!$G10,'2014 scenario - input'!$E10,'2014 scenario - input'!$F10,20,TRUE,TRUE),\"\")","v":182.02326576654349},223.55734645803358,270.03650920731866,320.67200153155682,374.27678568248058,429.3112118674581,483.9789902684322,536.36601369381299,584.60680140859176,627.05808344284765,662.45733121239653,690.04593290009382,709.64146771532558,721.64999702571947,727.01635254716484,727.11728612762249,723.60861631301077,718.24284966707944,712.67772301964317,708.29804263272877,{"$f":"IFERROR(IF(OR(D20=\"\",'2014 scenario - input'!$D10=\"\"),\"\",D20/'2014 scenario - input'!$D10),\"\")","v":182.02326576654349},{"$f":"IFERROR(IF(OR(E20=\"\",'2014 scenario - input'!$D10=\"\"),\"\",E20/'2014 scenario - input'!$D10),\"\")","v":223.55734645803358},{"$f":"IFERROR(IF(OR(F20=\"\",'2014 scenario - input'!$D10=\"\"),\"\",F20/'2014 scenario - input'!$D10),\"\")","v":270.03650920731866},{"$f":"IFERROR(IF(OR(G20=\"\",'2014 scenario - input'!$D10=\"\"),\"\",G20/'2014 scenario - input'!$D10),\"\")","v":320.67200153155682},{"$f":"IFERROR(IF(OR(H20=\"\",'2014 scenario - input'!$D10=\"\"),\"\",H20/'2014 scenario - input'!$D10),\"\")","v":374.27678568248058},{"$f":"IFERROR(IF(OR(I20=\"\",'2014 scenario - input'!$D10=\"\"),\"\",I20/'2014 scenario - input'!$D10),\"\")","v":429.3112118674581},{"$f":"IFERROR(IF(OR(J20=\"\",'2014 scenario - input'!$D10=\"\"),\"\",J20/'2014 scenario - input'!$D10),\"\")","v":483.9789902684322},{"$f":"IFERROR(IF(OR(K20=\"\",'2014 scenario - input'!$D10=\"\"),\"\",K20/'2014 scenario - input'!$D10),\"\")","v":536.36601369381299},{"$f":"IFERROR(IF(OR(L20=\"\",'2014 scenario - input'!$D10=\"\"),\"\",L20/'2014 scenario - input'!$D10),\"\")","v":584.60680140859176},{"$f":"IFERROR(IF(OR(M20=\"\",'2014 scenario - input'!$D10=\"\"),\"\",M20/'2014 scenario - input'!$D10),\"\")","v":627.05808344284765},{"$f":"IFERROR(IF(OR(N20=\"\",'2014 scenario - input'!$D10=\"\"),\"\",N20/'2014 scenario - input'!$D10),\"\")","v":662.45733121239653},{"$f":"IFERROR(IF(OR(O20=\"\",'2014 scenario - input'!$D10=\"\"),\"\",O20/'2014 scenario - input'!$D10),\"\")","v":690.04593290009382},{"$f":"IFERROR(IF(OR(P20=\"\",'2014 scenario - input'!$D10=\"\"),\"\",P20/'2014 scenario - input'!$D10),\"\")","v":709.64146771532558},{"$f":"IFERROR(IF(OR(Q20=\"\",'2014 scenario - input'!$D10=\"\"),\"\",Q20/'2014 scenario - input'!$D10),\"\")","v":721.64999702571947},{"$f":"IFERROR(IF(OR(R20=\"\",'2014 scenario - input'!$D10=\"\"),\"\",R20/'2014 scenario - input'!$D10),\"\")","v":727.01635254716484},{"$f":"IFERROR(IF(OR(S20=\"\",'2014 scenario - input'!$D10=\"\"),\"\",S20/'2014 scenario - input'!$D10),\"\")","v":727.11728612762249},{"$f":"IFERROR(IF(OR(T20=\"\",'2014 scenario - input'!$D10=\"\"),\"\",T20/'2014 scenario - input'!$D10),\"\")","v":723.60861631301077},{"$f":"IFERROR(IF(OR(U20=\"\",'2014 scenario - input'!$D10=\"\"),\"\",U20/'2014 scenario - input'!$D10),\"\")","v":718.24284966707944},{"$f":"IFERROR(IF(OR(V20=\"\",'2014 scenario - input'!$D10=\"\"),\"\",V20/'2014 scenario - input'!$D10),\"\")","v":712.67772301964317},{"$f":"IFERROR(IF(OR(W20=\"\",'2014 scenario - input'!$D10=\"\"),\"\",W20/'2014 scenario - input'!$D10),\"\")","v":708.29804263272877}]
[{"$f":"IFERROR('2014 scenario - input'!A11,\"\")","v":""},{"$f":"IFERROR('2014 scenario - input'!B11,\"\")","v":0},{"$f":"IFERROR('2014 scenario - input'!C11,\"\")","v":0},{"$f":"IFERROR(repcalc('2014 scenario - input'!$CV11:$GH11,'2014 scenario - input'!$G11,'2014 scenario - input'!$E11,'2014 scenario - input'!$F11,20,TRUE,TRUE),\"\")","v":0},0,0,0,0,0,0,0,0,0,0,0,0,0,0,0,0,0,0,0,{"$f":"IFERROR(IF(OR(D21=\"\",'2014 scenario - input'!$D11=\"\"),\"\",D21/'2014 scenario - input'!$D11),\"\")","v":""},{"$f":"IFERROR(IF(OR(E21=\"\",'2014 scenario - input'!$D11=\"\"),\"\",E21/'2014 scenario - input'!$D11),\"\")","v":""},{"$f":"IFERROR(IF(OR(F21=\"\",'2014 scenario - input'!$D11=\"\"),\"\",F21/'2014 scenario - input'!$D11),\"\")","v":""},{"$f":"IFERROR(IF(OR(G21=\"\",'2014 scenario - input'!$D11=\"\"),\"\",G21/'2014 scenario - input'!$D11),\"\")","v":""},{"$f":"IFERROR(IF(OR(H21=\"\",'2014 scenario - input'!$D11=\"\"),\"\",H21/'2014 scenario - input'!$D11),\"\")","v":""},{"$f":"IFERROR(IF(OR(I21=\"\",'2014 scenario - input'!$D11=\"\"),\"\",I21/'2014 scenario - input'!$D11),\"\")","v":""},{"$f":"IFERROR(IF(OR(J21=\"\",'2014 scenario - input'!$D11=\"\"),\"\",J21/'2014 scenario - input'!$D11),\"\")","v":""},{"$f":"IFERROR(IF(OR(K21=\"\",'2014 scenario - input'!$D11=\"\"),\"\",K21/'2014 scenario - input'!$D11),\"\")","v":""},{"$f":"IFERROR(IF(OR(L21=\"\",'2014 scenario - input'!$D11=\"\"),\"\",L21/'2014 scenario - input'!$D11),\"\")","v":""},{"$f":"IFERROR(IF(OR(M21=\"\",'2014 scenario - input'!$D11=\"\"),\"\",M21/'2014 scenario - input'!$D11),\"\")","v":""},{"$f":"IFERROR(IF(OR(N21=\"\",'2014 scenario - input'!$D11=\"\"),\"\",N21/'2014 scenario - input'!$D11),\"\")","v":""},{"$f":"IFERROR(IF(OR(O21=\"\",'2014 scenario - input'!$D11=\"\"),\"\",O21/'2014 scenario - input'!$D11),\"\")","v":""},{"$f":"IFERROR(IF(OR(P21=\"\",'2014 scenario - input'!$D11=\"\"),\"\",P21/'2014 scenario - input'!$D11),\"\")","v":""},{"$f":"IFERROR(IF(OR(Q21=\"\",'2014 scenario - input'!$D11=\"\"),\"\",Q21/'2014 scenario - input'!$D11),\"\")","v":""},{"$f":"IFERROR(IF(OR(R21=\"\",'2014 scenario - input'!$D11=\"\"),\"\",R21/'2014 scenario - input'!$D11),\"\")","v":""},{"$f":"IFERROR(IF(OR(S21=\"\",'2014 scenario - input'!$D11=\"\"),\"\",S21/'2014 scenario - input'!$D11),\"\")","v":""},{"$f":"IFERROR(IF(OR(T21=\"\",'2014 scenario - input'!$D11=\"\"),\"\",T21/'2014 scenario - input'!$D11),\"\")","v":""},{"$f":"IFERROR(IF(OR(U21=\"\",'2014 scenario - input'!$D11=\"\"),\"\",U21/'2014 scenario - input'!$D11),\"\")","v":""},{"$f":"IFERROR(IF(OR(V21=\"\",'2014 scenario - input'!$D11=\"\"),\"\",V21/'2014 scenario - input'!$D11),\"\")","v":""},{"$f":"IFERROR(IF(OR(W21=\"\",'2014 scenario - input'!$D11=\"\"),\"\",W21/'2014 scenario - input'!$D11),\"\")","v":""}]
[{"$f":"IFERROR('2014 scenario - input'!A12,\"\")","v":""},{"$f":"IFERROR('2014 scenario - input'!B12,\"\")","v":0},{"$f":"IFERROR('2014 scenario - input'!C12,\"\")","v":0},{"$f":"IFERROR(repcalc('2014 scenario - input'!$CV12:$GH12,'2014 scenario - input'!$G12,'2014 scenario - input'!$E12,'2014 scenario - input'!$F12,20,TRUE,TRUE),\"\")","v":0},0,0,0,0,0,0,0,0,0,0,0,0,0,0,0,0,0,0,0,{"$f":"IFERROR(IF(OR(D22=\"\",'2014 scenario - input'!$D12=\"\"),\"\",D22/'2014 scenario - input'!$D12),\"\")","v":""},{"$f":"IFERROR(IF(OR(E22=\"\",'2014 scenario - input'!$D12=\"\"),\"\",E22/'2014 scenario - input'!$D12),\"\")","v":""},{"$f":"IFERROR(IF(OR(F22=\"\",'2014 scenario - input'!$D12=\"\"),\"\",F22/'2014 scenario - input'!$D12),\"\")","v":""},{"$f":"IFERROR(IF(OR(G22=\"\",'2014 scenario - input'!$D12=\"\"),\"\",G22/'2014 scenario - input'!$D12),\"\")","v":""},{"$f":"IFERROR(IF(OR(H22=\"\",'2014 scenario - input'!$D12=\"\"),\"\",H22/'2014 scenario - input'!$D12),\"\")","v":""},{"$f":"IFERROR(IF(OR(I22=\"\",'2014 scenario - input'!$D12=\"\"),\"\",I22/'2014 scenario - input'!$D12),\"\")","v":""},{"$f":"IFERROR(IF(OR(J22=\"\",'2014 scenario - input'!$D12=\"\"),\"\",J22/'2014 scenario - input'!$D12),\"\")","v":""},{"$f":"IFERROR(IF(OR(K22=\"\",'2014 scenario - input'!$D12=\"\"),\"\",K22/'2014 scenario - input'!$D12),\"\")","v":""},{"$f":"IFERROR(IF(OR(L22=\"\",'2014 scenario - input'!$D12=\"\"),\"\",L22/'2014 scenario - input'!$D12),\"\")","v":""},{"$f":"IFERROR(IF(OR(M22=\"\",'2014 scenario - input'!$D12=\"\"),\"\",M22/'2014 scenario - input'!$D12),\"\")","v":""},{"$f":"IFERROR(IF(OR(N22=\"\",'2014 scenario - input'!$D12=\"\"),\"\",N22/'2014 scenario - input'!$D12),\"\")","v":""},{"$f":"IFERROR(IF(OR(O22=\"\",'2014 scenario - input'!$D12=\"\"),\"\",O22/'2014 scenario - input'!$D12),\"\")","v":""},{"$f":"IFERROR(IF(OR(P22=\"\",'2014 scenario - input'!$D12=\"\"),\"\",P22/'2014 scenario - input'!$D12),\"\")","v":""},{"$f":"IFERROR(IF(OR(Q22=\"\",'2014 scenario - input'!$D12=\"\"),\"\",Q22/'2014 scenario - input'!$D12),\"\")","v":""},{"$f":"IFERROR(IF(OR(R22=\"\",'2014 scenario - input'!$D12=\"\"),\"\",R22/'2014 scenario - input'!$D12),\"\")","v":""},{"$f":"IFERROR(IF(OR(S22=\"\",'2014 scenario - input'!$D12=\"\"),\"\",S22/'2014 scenario - input'!$D12),\"\")","v":""},{"$f":"IFERROR(IF(OR(T22=\"\",'2014 scenario - input'!$D12=\"\"),\"\",T22/'2014 scenario - input'!$D12),\"\")","v":""},{"$f":"IFERROR(IF(OR(U22=\"\",'2014 scenario - input'!$D12=\"\"),\"\",U22/'2014 scenario - input'!$D12),\"\")","v":""},{"$f":"IFERROR(IF(OR(V22=\"\",'2014 scenario - input'!$D12=\"\"),\"\",V22/'2014 scenario - input'!$D12),\"\")","v":""},{"$f":"IFERROR(IF(OR(W22=\"\",'2014 scenario - input'!$D12=\"\"),\"\",W22/'2014 scenario - input'!$D12),\"\")","v":""}]
[{"$f":"IFERROR('2014 scenario - input'!A13,\"\")","v":""},{"$f":"IFERROR('2014 scenario - input'!B13,\"\")","v":0},{"$f":"IFERROR('2014 scenario - input'!C13,\"\")","v":0},{"$f":"IFERROR(repcalc('2014 scenario - input'!$CV13:$GH13,'2014 scenario - input'!$G13,'2014 scenario - input'!$E13,'2014 scenario - input'!$F13,20,TRUE,TRUE),\"\")","v":""},"","","","","","","","","","","","","","","","","","","",{"$f":"IFERROR(IF(OR(D23=\"\",'2014 scenario - input'!$D13=\"\"),\"\",D23/'2014 scenario - input'!$D13),\"\")","v":""},{"$f":"IFERROR(IF(OR(E23=\"\",'2014 scenario - input'!$D13=\"\"),\"\",E23/'2014 scenario - input'!$D13),\"\")","v":""},{"$f":"IFERROR(IF(OR(F23=\"\",'2014 scenario - input'!$D13=\"\"),\"\",F23/'2014 scenario - input'!$D13),\"\")","v":""},{"$f":"IFERROR(IF(OR(G23=\"\",'2014 scenario - input'!$D13=\"\"),\"\",G23/'2014 scenario - input'!$D13),\"\")","v":""},{"$f":"IFERROR(IF(OR(H23=\"\",'2014 scenario - input'!$D13=\"\"),\"\",H23/'2014 scenario - input'!$D13),\"\")","v":""},{"$f":"IFERROR(IF(OR(I23=\"\",'2014 scenario - input'!$D13=\"\"),\"\",I23/'2014 scenario - input'!$D13),\"\")","v":""},{"$f":"IFERROR(IF(OR(J23=\"\",'2014 scenario - input'!$D13=\"\"),\"\",J23/'2014 scenario - input'!$D13),\"\")","v":""},{"$f":"IFERROR(IF(OR(K23=\"\",'2014 scenario - input'!$D13=\"\"),\"\",K23/'2014 scenario - input'!$D13),\"\")","v":""},{"$f":"IFERROR(IF(OR(L23=\"\",'2014 scenario - input'!$D13=\"\"),\"\",L23/'2014 scenario - input'!$D13),\"\")","v":""},{"$f":"IFERROR(IF(OR(M23=\"\",'2014 scenario - input'!$D13=\"\"),\"\",M23/'2014 scenario - input'!$D13),\"\")","v":""},{"$f":"IFERROR(IF(OR(N23=\"\",'2014 scenario - input'!$D13=\"\"),\"\",N23/'2014 scenario - input'!$D13),\"\")","v":""},{"$f":"IFERROR(IF(OR(O23=\"\",'2014 scenario - input'!$D13=\"\"),\"\",O23/'2014 scenario - input'!$D13),\"\")","v":""},{"$f":"IFERROR(IF(OR(P23=\"\",'2014 scenario - input'!$D13=\"\"),\"\",P23/'2014 scenario - input'!$D13),\"\")","v":""},{"$f":"IFERROR(IF(OR(Q23=\"\",'2014 scenario - input'!$D13=\"\"),\"\",Q23/'2014 scenario - input'!$D13),\"\")","v":""},{"$f":"IFERROR(IF(OR(R23=\"\",'2014 scenario - input'!$D13=\"\"),\"\",R23/'2014 scenario - input'!$D13),\"\")","v":""},{"$f":"IFERROR(IF(OR(S23=\"\",'2014 scenario - input'!$D13=\"\"),\"\",S23/'2014 scenario - input'!$D13),\"\")","v":""},{"$f":"IFERROR(IF(OR(T23=\"\",'2014 scenario - input'!$D13=\"\"),\"\",T23/'2014 scenario - input'!$D13),\"\")","v":""},{"$f":"IFERROR(IF(OR(U23=\"\",'2014 scenario - input'!$D13=\"\"),\"\",U23/'2014 scenario - input'!$D13),\"\")","v":""},{"$f":"IFERROR(IF(OR(V23=\"\",'2014 scenario - input'!$D13=\"\"),\"\",V23/'2014 scenario - input'!$D13),\"\")","v":""},{"$f":"IFERROR(IF(OR(W23=\"\",'2014 scenario - input'!$D13=\"\"),\"\",W23/'2014 scenario - input'!$D13),\"\")","v":""}]
[{"$f":"IFERROR('2014 scenario - input'!A14,\"\")","v":""},{"$f":"IFERROR('2014 scenario - input'!B14,\"\")","v":0},{"$f":"IFERROR('2014 scenario - input'!C14,\"\")","v":0},{"$f":"IFERROR(repcalc('2014 scenario - input'!$CV14:$GH14,'2014 scenario - input'!$G14,'2014 scenario - input'!$E14,'2014 scenario - input'!$F14,20,TRUE,TRUE),\"\")","v":""},"","","","","","","","","","","","","","","","","","","",{"$f":"IFERROR(IF(OR(D24=\"\",'2014 scenario - input'!$D14=\"\"),\"\",D24/'2014 scenario - input'!$D14),\"\")","v":""},{"$f":"IFERROR(IF(OR(E24=\"\",'2014 scenario - input'!$D14=\"\"),\"\",E24/'2014 scenario - input'!$D14),\"\")","v":""},{"$f":"IFERROR(IF(OR(F24=\"\",'2014 scenario - input'!$D14=\"\"),\"\",F24/'2014 scenario - input'!$D14),\"\")","v":""},{"$f":"IFERROR(IF(OR(G24=\"\",'2014 scenario - input'!$D14=\"\"),\"\",G24/'2014 scenario - input'!$D14),\"\")","v":""},{"$f":"IFERROR(IF(OR(H24=\"\",'2014 scenario - input'!$D14=\"\"),\"\",H24/'2014 scenario - input'!$D14),\"\")","v":""},{"$f":"IFERROR(IF(OR(I24=\"\",'2014 scenario - input'!$D14=\"\"),\"\",I24/'2014 scenario - input'!$D14),\"\")","v":""},{"$f":"IFERROR(IF(OR(J24=\"\",'2014 scenario - input'!$D14=\"\"),\"\",J24/'2014 scenario - input'!$D14),\"\")","v":""},{"$f":"IFERROR(IF(OR(K24=\"\",'2014 scenario - input'!$D14=\"\"),\"\",K24/'2014 scenario - input'!$D14),\"\")","v":""},{"$f":"IFERROR(IF(OR(L24=\"\",'2014 scenario - input'!$D14=\"\"),\"\",L24/'2014 scenario - input'!$D14),\"\")","v":""},{"$f":"IFERROR(IF(OR(M24=\"\",'2014 scenario - input'!$D14=\"\"),\"\",M24/'2014 scenario - input'!$D14),\"\")","v":""},{"$f":"IFERROR(IF(OR(N24=\"\",'2014 scenario - input'!$D14=\"\"),\"\",N24/'2014 scenario - input'!$D14),\"\")","v":""},{"$f":"IFERROR(IF(OR(O24=\"\",'2014 scenario - input'!$D14=\"\"),\"\",O24/'2014 scenario - input'!$D14),\"\")","v":""},{"$f":"IFERROR(IF(OR(P24=\"\",'2014 scenario - input'!$D14=\"\"),\"\",P24/'2014 scenario - input'!$D14),\"\")","v":""},{"$f":"IFERROR(IF(OR(Q24=\"\",'2014 scenario - input'!$D14=\"\"),\"\",Q24/'2014 scenario - input'!$D14),\"\")","v":""},{"$f":"IFERROR(IF(OR(R24=\"\",'2014 scenario - input'!$D14=\"\"),\"\",R24/'2014 scenario - input'!$D14),\"\")","v":""},{"$f":"IFERROR(IF(OR(S24=\"\",'2014 scenario - input'!$D14=\"\"),\"\",S24/'2014 scenario - input'!$D14),\"\")","v":""},{"$f":"IFERROR(IF(OR(T24=\"\",'2014 scenario - input'!$D14=\"\"),\"\",T24/'2014 scenario - input'!$D14),\"\")","v":""},{"$f":"IFERROR(IF(OR(U24=\"\",'2014 scenario - input'!$D14=\"\"),\"\",U24/'2014 scenario - input'!$D14),\"\")","v":""},{"$f":"IFERROR(IF(OR(V24=\"\",'2014 scenario - input'!$D14=\"\"),\"\",V24/'2014 scenario - input'!$D14),\"\")","v":""},{"$f":"IFERROR(IF(OR(W24=\"\",'2014 scenario - input'!$D14=\"\"),\"\",W24/'2014 scenario - input'!$D14),\"\")","v":""}]
[{"$f":"IFERROR('2014 scenario - input'!A15,\"\")","v":""},{"$f":"IFERROR('2014 scenario - input'!B15,\"\")","v":0},{"$f":"IFERROR('2014 scenario - input'!C15,\"\")","v":0},{"$f":"IFERROR(repcalc('2014 scenario - input'!$CV15:$GH15,'2014 scenario - input'!$G15,'2014 scenario - input'!$E15,'2014 scenario - input'!$F15,20,TRUE,TRUE),\"\")","v":""},"","","","","","","","","","","","","","","","","","","",{"$f":"IFERROR(IF(OR(D25=\"\",'2014 scenario - input'!$D15=\"\"),\"\",D25/'2014 scenario - input'!$D15),\"\")","v":""},{"$f":"IFERROR(IF(OR(E25=\"\",'2014 scenario - input'!$D15=\"\"),\"\",E25/'2014 scenario - input'!$D15),\"\")","v":""},{"$f":"IFERROR(IF(OR(F25=\"\",'2014 scenario - input'!$D15=\"\"),\"\",F25/'2014 scenario - input'!$D15),\"\")","v":""},{"$f":"IFERROR(IF(OR(G25=\"\",'2014 scenario - input'!$D15=\"\"),\"\",G25/'2014 scenario - input'!$D15),\"\")","v":""},{"$f":"IFERROR(IF(OR(H25=\"\",'2014 scenario - input'!$D15=\"\"),\"\",H25/'2014 scenario - input'!$D15),\"\")","v":""},{"$f":"IFERROR(IF(OR(I25=\"\",'2014 scenario - input'!$D15=\"\"),\"\",I25/'2014 scenario - input'!$D15),\"\")","v":""},{"$f":"IFERROR(IF(OR(J25=\"\",'2014 scenario - input'!$D15=\"\"),\"\",J25/'2014 scenario - input'!$D15),\"\")","v":""},{"$f":"IFERROR(IF(OR(K25=\"\",'2014 scenario - input'!$D15=\"\"),\"\",K25/'2014 scenario - input'!$D15),\"\")","v":""},{"$f":"IFERROR(IF(OR(L25=\"\",'2014 scenario - input'!$D15=\"\"),\"\",L25/'2014 scenario - input'!$D15),\"\")","v":""},{"$f":"IFERROR(IF(OR(M25=\"\",'2014 scenario - input'!$D15=\"\"),\"\",M25/'2014 scenario - input'!$D15),\"\")","v":""},{"$f":"IFERROR(IF(OR(N25=\"\",'2014 scenario - input'!$D15=\"\"),\"\",N25/'2014 scenario - input'!$D15),\"\")","v":""},{"$f":"IFERROR(IF(OR(O25=\"\",'2014 scenario - input'!$D15=\"\"),\"\",O25/'2014 scenario - input'!$D15),\"\")","v":""},{"$f":"IFERROR(IF(OR(P25=\"\",'2014 scenario - input'!$D15=\"\"),\"\",P25/'2014 scenario - input'!$D15),\"\")","v":""},{"$f":"IFERROR(IF(OR(Q25=\"\",'2014 scenario - input'!$D15=\"\"),\"\",Q25/'2014 scenario - input'!$D15),\"\")","v":""},{"$f":"IFERROR(IF(OR(R25=\"\",'2014 scenario - input'!$D15=\"\"),\"\",R25/'2014 scenario - input'!$D15),\"\")","v":""},{"$f":"IFERROR(IF(OR(S25=\"\",'2014 scenario - input'!$D15=\"\"),\"\",S25/'2014 scenario - input'!$D15),\"\")","v":""},{"$f":"IFERROR(IF(OR(T25=\"\",'2014 scenario - input'!$D15=\"\"),\"\",T25/'2014 scenario - input'!$D15),\"\")","v":""},{"$f":"IFERROR(IF(OR(U25=\"\",'2014 scenario - input'!$D15=\"\"),\"\",U25/'2014 scenario - input'!$D15),\"\")","v":""},{"$f":"IFERROR(IF(OR(V25=\"\",'2014 scenario - input'!$D15=\"\"),\"\",V25/'2014 scenario - input'!$D15),\"\")","v":""},{"$f":"IFERROR(IF(OR(W25=\"\",'2014 scenario - input'!$D15=\"\"),\"\",W25/'2014 scenario - input'!$D15),\"\")","v":""}]
[{"$f":"IFERROR('2014 scenario - input'!A16,\"\")","v":""},{"$f":"IFERROR('2014 scenario - input'!B16,\"\")","v":0},{"$f":"IFERROR('2014 scenario - input'!C16,\"\")","v":0},{"$f":"IFERROR(repcalc('2014 scenario - input'!$CV16:$GH16,'2014 scenario - input'!$G16,'2014 scenario - input'!$E16,'2014 scenario - input'!$F16,20,TRUE,TRUE),\"\")","v":""},"","","","","","","","","","","","","","","","","","","",{"$f":"IFERROR(IF(OR(D26=\"\",'2014 scenario - input'!$D16=\"\"),\"\",D26/'2014 scenario - input'!$D16),\"\")","v":""},{"$f":"IFERROR(IF(OR(E26=\"\",'2014 scenario - input'!$D16=\"\"),\"\",E26/'2014 scenario - input'!$D16),\"\")","v":""},{"$f":"IFERROR(IF(OR(F26=\"\",'2014 scenario - input'!$D16=\"\"),\"\",F26/'2014 scenario - input'!$D16),\"\")","v":""},{"$f":"IFERROR(IF(OR(G26=\"\",'2014 scenario - input'!$D16=\"\"),\"\",G26/'2014 scenario - input'!$D16),\"\")","v":""},{"$f":"IFERROR(IF(OR(H26=\"\",'2014 scenario - input'!$D16=\"\"),\"\",H26/'2014 scenario - input'!$D16),\"\")","v":""},{"$f":"IFERROR(IF(OR(I26=\"\",'2014 scenario - input'!$D16=\"\"),\"\",I26/'2014 scenario - input'!$D16),\"\")","v":""},{"$f":"IFERROR(IF(OR(J26=\"\",'2014 scenario - input'!$D16=\"\"),\"\",J26/'2014 scenario - input'!$D16),\"\")","v":""},{"$f":"IFERROR(IF(OR(K26=\"\",'2014 scenario - input'!$D16=\"\"),\"\",K26/'2014 scenario - input'!$D16),\"\")","v":""},{"$f":"IFERROR(IF(OR(L26=\"\",'2014 scenario - input'!$D16=\"\"),\"\",L26/'2014 scenario - input'!$D16),\"\")","v":""},{"$f":"IFERROR(IF(OR(M26=\"\",'2014 scenario - input'!$D16=\"\"),\"\",M26/'2014 scenario - input'!$D16),\"\")","v":""},{"$f":"IFERROR(IF(OR(N26=\"\",'2014 scenario - input'!$D16=\"\"),\"\",N26/'2014 scenario - input'!$D16),\"\")","v":""},{"$f":"IFERROR(IF(OR(O26=\"\",'2014 scenario - input'!$D16=\"\"),\"\",O26/'2014 scenario - input'!$D16),\"\")","v":""},{"$f":"IFERROR(IF(OR(P26=\"\",'2014 scenario - input'!$D16=\"\"),\"\",P26/'2014 scenario - input'!$D16),\"\")","v":""},{"$f":"IFERROR(IF(OR(Q26=\"\",'2014 scenario - input'!$D16=\"\"),\"\",Q26/'2014 scenario - input'!$D16),\"\")","v":""},{"$f":"IFERROR(IF(OR(R26=\"\",'2014 scenario - input'!$D16=\"\"),\"\",R26/'2014 scenario - input'!$D16),\"\")","v":""},{"$f":"IFERROR(IF(OR(S26=\"\",'2014 scenario - input'!$D16=\"\"),\"\",S26/'2014 scenario - input'!$D16),\"\")","v":""},{"$f":"IFERROR(IF(OR(T26=\"\",'2014 scenario - input'!$D16=\"\"),\"\",T26/'2014 scenario - input'!$D16),\"\")","v":""},{"$f":"IFERROR(IF(OR(U26=\"\",'2014 scenario - input'!$D16=\"\"),\"\",U26/'2014 scenario - input'!$D16),\"\")","v":""},{"$f":"IFERROR(IF(OR(V26=\"\",'2014 scenario - input'!$D16=\"\"),\"\",V26/'2014 scenario - input'!$D16),\"\")","v":""},{"$f":"IFERROR(IF(OR(W26=\"\",'2014 scenario - input'!$D16=\"\"),\"\",W26/'2014 scenario - input'!$D16),\"\")","v":""}]
[{"$f":"IFERROR('2014 scenario - input'!A17,\"\")","v":""},{"$f":"IFERROR('2014 scenario - input'!B17,\"\")","v":0},{"$f":"IFERROR('2014 scenario - input'!C17,\"\")","v":0},{"$f":"IFERROR(repcalc('2014 scenario - input'!$CV17:$GH17,'2014 scenario - input'!$G17,'2014 scenario - input'!$E17,'2014 scenario - input'!$F17,20,TRUE,TRUE),\"\")","v":""},"","","","","","","","","","","","","","","","","","","",{"$f":"IFERROR(IF(OR(D27=\"\",'2014 scenario - input'!$D17=\"\"),\"\",D27/'2014 scenario - input'!$D17),\"\")","v":""},{"$f":"IFERROR(IF(OR(E27=\"\",'2014 scenario - input'!$D17=\"\"),\"\",E27/'2014 scenario - input'!$D17),\"\")","v":""},{"$f":"IFERROR(IF(OR(F27=\"\",'2014 scenario - input'!$D17=\"\"),\"\",F27/'2014 scenario - input'!$D17),\"\")","v":""},{"$f":"IFERROR(IF(OR(G27=\"\",'2014 scenario - input'!$D17=\"\"),\"\",G27/'2014 scenario - input'!$D17),\"\")","v":""},{"$f":"IFERROR(IF(OR(H27=\"\",'2014 scenario - input'!$D17=\"\"),\"\",H27/'2014 scenario - input'!$D17),\"\")","v":""},{"$f":"IFERROR(IF(OR(I27=\"\",'2014 scenario - input'!$D17=\"\"),\"\",I27/'2014 scenario - input'!$D17),\"\")","v":""},{"$f":"IFERROR(IF(OR(J27=\"\",'2014 scenario - input'!$D17=\"\"),\"\",J27/'2014 scenario - input'!$D17),\"\")","v":""},{"$f":"IFERROR(IF(OR(K27=\"\",'2014 scenario - input'!$D17=\"\"),\"\",K27/'2014 scenario - input'!$D17),\"\")","v":""},{"$f":"IFERROR(IF(OR(L27=\"\",'2014 scenario - input'!$D17=\"\"),\"\",L27/'2014 scenario - input'!$D17),\"\")","v":""},{"$f":"IFERROR(IF(OR(M27=\"\",'2014 scenario - input'!$D17=\"\"),\"\",M27/'2014 scenario - input'!$D17),\"\")","v":""},{"$f":"IFERROR(IF(OR(N27=\"\",'2014 scenario - input'!$D17=\"\"),\"\",N27/'2014 scenario - input'!$D17),\"\")","v":""},{"$f":"IFERROR(IF(OR(O27=\"\",'2014 scenario - input'!$D17=\"\"),\"\",O27/'2014 scenario - input'!$D17),\"\")","v":""},{"$f":"IFERROR(IF(OR(P27=\"\",'2014 scenario - input'!$D17=\"\"),\"\",P27/'2014 scenario - input'!$D17),\"\")","v":""},{"$f":"IFERROR(IF(OR(Q27=\"\",'2014 scenario - input'!$D17=\"\"),\"\",Q27/'2014 scenario - input'!$D17),\"\")","v":""},{"$f":"IFERROR(IF(OR(R27=\"\",'2014 scenario - input'!$D17=\"\"),\"\",R27/'2014 scenario - input'!$D17),\"\")","v":""},{"$f":"IFERROR(IF(OR(S27=\"\",'2014 scenario - input'!$D17=\"\"),\"\",S27/'2014 scenario - input'!$D17),\"\")","v":""},{"$f":"IFERROR(IF(OR(T27=\"\",'2014 scenario - input'!$D17=\"\"),\"\",T27/'2014 scenario - input'!$D17),\"\")","v":""},{"$f":"IFERROR(IF(OR(U27=\"\",'2014 scenario - input'!$D17=\"\"),\"\",U27/'2014 scenario - input'!$D17),\"\")","v":""},{"$f":"IFERROR(IF(OR(V27=\"\",'2014 scenario - input'!$D17=\"\"),\"\",V27/'2014 scenario - input'!$D17),\"\")","v":""},{"$f":"IFERROR(IF(OR(W27=\"\",'2014 scenario - input'!$D17=\"\"),\"\",W27/'2014 scenario - input'!$D17),\"\")","v":""}]
[{"$f":"IFERROR('2014 scenario - input'!A18,\"\")","v":""},{"$f":"IFERROR('2014 scenario - input'!B18,\"\")","v":0},{"$f":"IFERROR('2014 scenario - input'!C18,\"\")","v":0},{"$f":"IFERROR(repcalc('2014 scenario - input'!$CV18:$GH18,'2014 scenario - input'!$G18,'2014 scenario - input'!$E18,'2014 scenario - input'!$F18,20,TRUE,TRUE),\"\")","v":""},"","","","","","","","","","","","","","","","","","","",{"$f":"IFERROR(IF(OR(D28=\"\",'2014 scenario - input'!$D18=\"\"),\"\",D28/'2014 scenario - input'!$D18),\"\")","v":""},{"$f":"IFERROR(IF(OR(E28=\"\",'2014 scenario - input'!$D18=\"\"),\"\",E28/'2014 scenario - input'!$D18),\"\")","v":""},{"$f":"IFERROR(IF(OR(F28=\"\",'2014 scenario - input'!$D18=\"\"),\"\",F28/'2014 scenario - input'!$D18),\"\")","v":""},{"$f":"IFERROR(IF(OR(G28=\"\",'2014 scenario - input'!$D18=\"\"),\"\",G28/'2014 scenario - input'!$D18),\"\")","v":""},{"$f":"IFERROR(IF(OR(H28=\"\",'2014 scenario - input'!$D18=\"\"),\"\",H28/'2014 scenario - input'!$D18),\"\")","v":""},{"$f":"IFERROR(IF(OR(I28=\"\",'2014 scenario - input'!$D18=\"\"),\"\",I28/'2014 scenario - input'!$D18),\"\")","v":""},{"$f":"IFERROR(IF(OR(J28=\"\",'2014 scenario - input'!$D18=\"\"),\"\",J28/'2014 scenario - input'!$D18),\"\")","v":""},{"$f":"IFERROR(IF(OR(K28=\"\",'2014 scenario - input'!$D18=\"\"),\"\",K28/'2014 scenario - input'!$D18),\"\")","v":""},{"$f":"IFERROR(IF(OR(L28=\"\",'2014 scenario - input'!$D18=\"\"),\"\",L28/'2014 scenario - input'!$D18),\"\")","v":""},{"$f":"IFERROR(IF(OR(M28=\"\",'2014 scenario - input'!$D18=\"\"),\"\",M28/'2014 scenario - input'!$D18),\"\")","v":""},{"$f":"IFERROR(IF(OR(N28=\"\",'2014 scenario - input'!$D18=\"\"),\"\",N28/'2014 scenario - input'!$D18),\"\")","v":""},{"$f":"IFERROR(IF(OR(O28=\"\",'2014 scenario - input'!$D18=\"\"),\"\",O28/'2014 scenario - input'!$D18),\"\")","v":""},{"$f":"IFERROR(IF(OR(P28=\"\",'2014 scenario - input'!$D18=\"\"),\"\",P28/'2014 scenario - input'!$D18),\"\")","v":""},{"$f":"IFERROR(IF(OR(Q28=\"\",'2014 scenario - input'!$D18=\"\"),\"\",Q28/'2014 scenario - input'!$D18),\"\")","v":""},{"$f":"IFERROR(IF(OR(R28=\"\",'2014 scenario - input'!$D18=\"\"),\"\",R28/'2014 scenario - input'!$D18),\"\")","v":""},{"$f":"IFERROR(IF(OR(S28=\"\",'2014 scenario - input'!$D18=\"\"),\"\",S28/'2014 scenario - input'!$D18),\"\")","v":""},{"$f":"IFERROR(IF(OR(T28=\"\",'2014 scenario - input'!$D18=\"\"),\"\",T28/'2014 scenario - input'!$D18),\"\")","v":""},{"$f":"IFERROR(IF(OR(U28=\"\",'2014 scenario - input'!$D18=\"\"),\"\",U28/'2014 scenario - input'!$D18),\"\")","v":""},{"$f":"IFERROR(IF(OR(V28=\"\",'2014 scenario - input'!$D18=\"\"),\"\",V28/'2014 scenario - input'!$D18),\"\")","v":""},{"$f":"IFERROR(IF(OR(W28=\"\",'2014 scenario - input'!$D18=\"\"),\"\",W28/'2014 scenario - input'!$D18),\"\")","v":""}]
[{"$f":"IFERROR('2014 scenario - input'!A19,\"\")","v":""},{"$f":"IFERROR('2014 scenario - input'!B19,\"\")","v":0},{"$f":"IFERROR('2014 scenario - input'!C19,\"\")","v":0},{"$f":"IFERROR(repcalc('2014 scenario - input'!$CV19:$GH19,'2014 scenario - input'!$G19,'2014 scenario - input'!$E19,'2014 scenario - input'!$F19,20,TRUE,TRUE),\"\")","v":""},"","","","","","","","","","","","","","","","","","","",{"$f":"IFERROR(IF(OR(D29=\"\",'2014 scenario - input'!$D19=\"\"),\"\",D29/'2014 scenario - input'!$D19),\"\")","v":""},{"$f":"IFERROR(IF(OR(E29=\"\",'2014 scenario - input'!$D19=\"\"),\"\",E29/'2014 scenario - input'!$D19),\"\")","v":""},{"$f":"IFERROR(IF(OR(F29=\"\",'2014 scenario - input'!$D19=\"\"),\"\",F29/'2014 scenario - input'!$D19),\"\")","v":""},{"$f":"IFERROR(IF(OR(G29=\"\",'2014 scenario - input'!$D19=\"\"),\"\",G29/'2014 scenario - input'!$D19),\"\")","v":""},{"$f":"IFERROR(IF(OR(H29=\"\",'2014 scenario - input'!$D19=\"\"),\"\",H29/'2014 scenario - input'!$D19),\"\")","v":""},{"$f":"IFERROR(IF(OR(I29=\"\",'2014 scenario - input'!$D19=\"\"),\"\",I29/'2014 scenario - input'!$D19),\"\")","v":""},{"$f":"IFERROR(IF(OR(J29=\"\",'2014 scenario - input'!$D19=\"\"),\"\",J29/'2014 scenario - input'!$D19),\"\")","v":""},{"$f":"IFERROR(IF(OR(K29=\"\",'2014 scenario - input'!$D19=\"\"),\"\",K29/'2014 scenario - input'!$D19),\"\")","v":""},{"$f":"IFERROR(IF(OR(L29=\"\",'2014 scenario - input'!$D19=\"\"),\"\",L29/'2014 scenario - input'!$D19),\"\")","v":""},{"$f":"IFERROR(IF(OR(M29=\"\",'2014 scenario - input'!$D19=\"\"),\"\",M29/'2014 scenario - input'!$D19),\"\")","v":""},{"$f":"IFERROR(IF(OR(N29=\"\",'2014 scenario - input'!$D19=\"\"),\"\",N29/'2014 scenario - input'!$D19),\"\")","v":""},{"$f":"IFERROR(IF(OR(O29=\"\",'2014 scenario - input'!$D19=\"\"),\"\",O29/'2014 scenario - input'!$D19),\"\")","v":""},{"$f":"IFERROR(IF(OR(P29=\"\",'2014 scenario - input'!$D19=\"\"),\"\",P29/'2014 scenario - input'!$D19),\"\")","v":""},{"$f":"IFERROR(IF(OR(Q29=\"\",'2014 scenario - input'!$D19=\"\"),\"\",Q29/'2014 scenario - input'!$D19),\"\")","v":""},{"$f":"IFERROR(IF(OR(R29=\"\",'2014 scenario - input'!$D19=\"\"),\"\",R29/'2014 scenario - input'!$D19),\"\")","v":""},{"$f":"IFERROR(IF(OR(S29=\"\",'2014 scenario - input'!$D19=\"\"),\"\",S29/'2014 scenario - input'!$D19),\"\")","v":""},{"$f":"IFERROR(IF(OR(T29=\"\",'2014 scenario - input'!$D19=\"\"),\"\",T29/'2014 scenario - input'!$D19),\"\")","v":""},{"$f":"IFERROR(IF(OR(U29=\"\",'2014 scenario - input'!$D19=\"\"),\"\",U29/'2014 scenario - input'!$D19),\"\")","v":""},{"$f":"IFERROR(IF(OR(V29=\"\",'2014 scenario - input'!$D19=\"\"),\"\",V29/'2014 scenario - input'!$D19),\"\")","v":""},{"$f":"IFERROR(IF(OR(W29=\"\",'2014 scenario - input'!$D19=\"\"),\"\",W29/'2014 scenario - input'!$D19),\"\")","v":""}]
[{"$f":"IFERROR('2014 scenario - input'!A20,\"\")","v":""},{"$f":"IFERROR('2014 scenario - input'!B20,\"\")","v":0},{"$f":"IFERROR('2014 scenario - input'!C20,\"\")","v":0},{"$f":"IFERROR(repcalc('2014 scenario - input'!$CV20:$GH20,'2014 scenario - input'!$G20,'2014 scenario - input'!$E20,'2014 scenario - input'!$F20,20,TRUE,TRUE),\"\")","v":""},"","","","","","","","","","","","","","","","","","","",{"$f":"IFERROR(IF(OR(D30=\"\",'2014 scenario - input'!$D20=\"\"),\"\",D30/'2014 scenario - input'!$D20),\"\")","v":""},{"$f":"IFERROR(IF(OR(E30=\"\",'2014 scenario - input'!$D20=\"\"),\"\",E30/'2014 scenario - input'!$D20),\"\")","v":""},{"$f":"IFERROR(IF(OR(F30=\"\",'2014 scenario - input'!$D20=\"\"),\"\",F30/'2014 scenario - input'!$D20),\"\")","v":""},{"$f":"IFERROR(IF(OR(G30=\"\",'2014 scenario - input'!$D20=\"\"),\"\",G30/'2014 scenario - input'!$D20),\"\")","v":""},{"$f":"IFERROR(IF(OR(H30=\"\",'2014 scenario - input'!$D20=\"\"),\"\",H30/'2014 scenario - input'!$D20),\"\")","v":""},{"$f":"IFERROR(IF(OR(I30=\"\",'2014 scenario - input'!$D20=\"\"),\"\",I30/'2014 scenario - input'!$D20),\"\")","v":""},{"$f":"IFERROR(IF(OR(J30=\"\",'2014 scenario - input'!$D20=\"\"),\"\",J30/'2014 scenario - input'!$D20),\"\")","v":""},{"$f":"IFERROR(IF(OR(K30=\"\",'2014 scenario - input'!$D20=\"\"),\"\",K30/'2014 scenario - input'!$D20),\"\")","v":""},{"$f":"IFERROR(IF(OR(L30=\"\",'2014 scenario - input'!$D20=\"\"),\"\",L30/'2014 scenario - input'!$D20),\"\")","v":""},{"$f":"IFERROR(IF(OR(M30=\"\",'2014 scenario - input'!$D20=\"\"),\"\",M30/'2014 scenario - input'!$D20),\"\")","v":""},{"$f":"IFERROR(IF(OR(N30=\"\",'2014 scenario - input'!$D20=\"\"),\"\",N30/'2014 scenario - input'!$D20),\"\")","v":""},{"$f":"IFERROR(IF(OR(O30=\"\",'2014 scenario - input'!$D20=\"\"),\"\",O30/'2014 scenario - input'!$D20),\"\")","v":""},{"$f":"IFERROR(IF(OR(P30=\"\",'2014 scenario - input'!$D20=\"\"),\"\",P30/'2014 scenario - input'!$D20),\"\")","v":""},{"$f":"IFERROR(IF(OR(Q30=\"\",'2014 scenario - input'!$D20=\"\"),\"\",Q30/'2014 scenario - input'!$D20),\"\")","v":""},{"$f":"IFERROR(IF(OR(R30=\"\",'2014 scenario - input'!$D20=\"\"),\"\",R30/'2014 scenario - input'!$D20),\"\")","v":""},{"$f":"IFERROR(IF(OR(S30=\"\",'2014 scenario - input'!$D20=\"\"),\"\",S30/'2014 scenario - input'!$D20),\"\")","v":""},{"$f":"IFERROR(IF(OR(T30=\"\",'2014 scenario - input'!$D20=\"\"),\"\",T30/'2014 scenario - input'!$D20),\"\")","v":""},{"$f":"IFERROR(IF(OR(U30=\"\",'2014 scenario - input'!$D20=\"\"),\"\",U30/'2014 scenario - input'!$D20),\"\")","v":""},{"$f":"IFERROR(IF(OR(V30=\"\",'2014 scenario - input'!$D20=\"\"),\"\",V30/'2014 scenario - input'!$D20),\"\")","v":""},{"$f":"IFERROR(IF(OR(W30=\"\",'2014 scenario - input'!$D20=\"\"),\"\",W30/'2014 scenario - input'!$D20),\"\")","v":""}]
[{"$f":"IFERROR('2014 scenario - input'!A21,\"\")","v":""},{"$f":"IFERROR('2014 scenario - input'!B21,\"\")","v":0},{"$f":"IFERROR('2014 scenario - input'!C21,\"\")","v":0},{"$f":"IFERROR(repcalc('2014 scenario - input'!$CV21:$GH21,'2014 scenario - input'!$G21,'2014 scenario - input'!$E21,'2014 scenario - input'!$F21,20,TRUE,TRUE),\"\")","v":""},"","","","","","","","","","","","","","","","","","","",{"$f":"IFERROR(IF(OR(D31=\"\",'2014 scenario - input'!$D21=\"\"),\"\",D31/'2014 scenario - input'!$D21),\"\")","v":""},{"$f":"IFERROR(IF(OR(E31=\"\",'2014 scenario - input'!$D21=\"\"),\"\",E31/'2014 scenario - input'!$D21),\"\")","v":""},{"$f":"IFERROR(IF(OR(F31=\"\",'2014 scenario - input'!$D21=\"\"),\"\",F31/'2014 scenario - input'!$D21),\"\")","v":""},{"$f":"IFERROR(IF(OR(G31=\"\",'2014 scenario - input'!$D21=\"\"),\"\",G31/'2014 scenario - input'!$D21),\"\")","v":""},{"$f":"IFERROR(IF(OR(H31=\"\",'2014 scenario - input'!$D21=\"\"),\"\",H31/'2014 scenario - input'!$D21),\"\")","v":""},{"$f":"IFERROR(IF(OR(I31=\"\",'2014 scenario - input'!$D21=\"\"),\"\",I31/'2014 scenario - input'!$D21),\"\")","v":""},{"$f":"IFERROR(IF(OR(J31=\"\",'2014 scenario - input'!$D21=\"\"),\"\",J31/'2014 scenario - input'!$D21),\"\")","v":""},{"$f":"IFERROR(IF(OR(K31=\"\",'2014 scenario - input'!$D21=\"\"),\"\",K31/'2014 scenario - input'!$D21),\"\")","v":""},{"$f":"IFERROR(IF(OR(L31=\"\",'2014 scenario - input'!$D21=\"\"),\"\",L31/'2014 scenario - input'!$D21),\"\")","v":""},{"$f":"IFERROR(IF(OR(M31=\"\",'2014 scenario - input'!$D21=\"\"),\"\",M31/'2014 scenario - input'!$D21),\"\")","v":""},{"$f":"IFERROR(IF(OR(N31=\"\",'2014 scenario - input'!$D21=\"\"),\"\",N31/'2014 scenario - input'!$D21),\"\")","v":""},{"$f":"IFERROR(IF(OR(O31=\"\",'2014 scenario - input'!$D21=\"\"),\"\",O31/'2014 scenario - input'!$D21),\"\")","v":""},{"$f":"IFERROR(IF(OR(P31=\"\",'2014 scenario - input'!$D21=\"\"),\"\",P31/'2014 scenario - input'!$D21),\"\")","v":""},{"$f":"IFERROR(IF(OR(Q31=\"\",'2014 scenario - input'!$D21=\"\"),\"\",Q31/'2014 scenario - input'!$D21),\"\")","v":""},{"$f":"IFERROR(IF(OR(R31=\"\",'2014 scenario - input'!$D21=\"\"),\"\",R31/'2014 scenario - input'!$D21),\"\")","v":""},{"$f":"IFERROR(IF(OR(S31=\"\",'2014 scenario - input'!$D21=\"\"),\"\",S31/'2014 scenario - input'!$D21),\"\")","v":""},{"$f":"IFERROR(IF(OR(T31=\"\",'2014 scenario - input'!$D21=\"\"),\"\",T31/'2014 scenario - input'!$D21),\"\")","v":""},{"$f":"IFERROR(IF(OR(U31=\"\",'2014 scenario - input'!$D21=\"\"),\"\",U31/'2014 scenario - input'!$D21),\"\")","v":""},{"$f":"IFERROR(IF(OR(V31=\"\",'2014 scenario - input'!$D21=\"\"),\"\",V31/'2014 scenario - input'!$D21),\"\")","v":""},{"$f":"IFERROR(IF(OR(W31=\"\",'2014 scenario - input'!$D21=\"\"),\"\",W31/'2014 scenario - input'!$D21),\"\")","v":""}]
[{"$f":"IFERROR('2014 scenario - input'!A22,\"\")","v":""},{"$f":"IFERROR('2014 scenario - input'!B22,\"\")","v":0},{"$f":"IFERROR('2014 scenario - input'!C22,\"\")","v":0},{"$f":"IFERROR(repcalc('2014 scenario - input'!$CV22:$GH22,'2014 scenario - input'!$G22,'2014 scenario - input'!$E22,'2014 scenario - input'!$F22,20,TRUE,TRUE),\"\")","v":""},"","","","","","","","","","","","","","","","","","","",{"$f":"IFERROR(IF(OR(D32=\"\",'2014 scenario - input'!$D22=\"\"),\"\",D32/'2014 scenario - input'!$D22),\"\")","v":""},{"$f":"IFERROR(IF(OR(E32=\"\",'2014 scenario - input'!$D22=\"\"),\"\",E32/'2014 scenario - input'!$D22),\"\")","v":""},{"$f":"IFERROR(IF(OR(F32=\"\",'2014 scenario - input'!$D22=\"\"),\"\",F32/'2014 scenario - input'!$D22),\"\")","v":""},{"$f":"IFERROR(IF(OR(G32=\"\",'2014 scenario - input'!$D22=\"\"),\"\",G32/'2014 scenario - input'!$D22),\"\")","v":""},{"$f":"IFERROR(IF(OR(H32=\"\",'2014 scenario - input'!$D22=\"\"),\"\",H32/'2014 scenario - input'!$D22),\"\")","v":""},{"$f":"IFERROR(IF(OR(I32=\"\",'2014 scenario - input'!$D22=\"\"),\"\",I32/'2014 scenario - input'!$D22),\"\")","v":""},{"$f":"IFERROR(IF(OR(J32=\"\",'2014 scenario - input'!$D22=\"\"),\"\",J32/'2014 scenario - input'!$D22),\"\")","v":""},{"$f":"IFERROR(IF(OR(K32=\"\",'2014 scenario - input'!$D22=\"\"),\"\",K32/'2014 scenario - input'!$D22),\"\")","v":""},{"$f":"IFERROR(IF(OR(L32=\"\",'2014 scenario - input'!$D22=\"\"),\"\",L32/'2014 scenario - input'!$D22),\"\")","v":""},{"$f":"IFERROR(IF(OR(M32=\"\",'2014 scenario - input'!$D22=\"\"),\"\",M32/'2014 scenario - input'!$D22),\"\")","v":""},{"$f":"IFERROR(IF(OR(N32=\"\",'2014 scenario - input'!$D22=\"\"),\"\",N32/'2014 scenario - input'!$D22),\"\")","v":""},{"$f":"IFERROR(IF(OR(O32=\"\",'2014 scenario - input'!$D22=\"\"),\"\",O32/'2014 scenario - input'!$D22),\"\")","v":""},{"$f":"IFERROR(IF(OR(P32=\"\",'2014 scenario - input'!$D22=\"\"),\"\",P32/'2014 scenario - input'!$D22),\"\")","v":""},{"$f":"IFERROR(IF(OR(Q32=\"\",'2014 scenario - input'!$D22=\"\"),\"\",Q32/'2014 scenario - input'!$D22),\"\")","v":""},{"$f":"IFERROR(IF(OR(R32=\"\",'2014 scenario - input'!$D22=\"\"),\"\",R32/'2014 scenario - input'!$D22),\"\")","v":""},{"$f":"IFERROR(IF(OR(S32=\"\",'2014 scenario - input'!$D22=\"\"),\"\",S32/'2014 scenario - input'!$D22),\"\")","v":""},{"$f":"IFERROR(IF(OR(T32=\"\",'2014 scenario - input'!$D22=\"\"),\"\",T32/'2014 scenario - input'!$D22),\"\")","v":""},{"$f":"IFERROR(IF(OR(U32=\"\",'2014 scenario - input'!$D22=\"\"),\"\",U32/'2014 scenario - input'!$D22),\"\")","v":""},{"$f":"IFERROR(IF(OR(V32=\"\",'2014 scenario - input'!$D22=\"\"),\"\",V32/'2014 scenario - input'!$D22),\"\")","v":""},{"$f":"IFERROR(IF(OR(W32=\"\",'2014 scenario - input'!$D22=\"\"),\"\",W32/'2014 scenario - input'!$D22),\"\")","v":""}]
[{"$f":"IFERROR('2014 scenario - input'!A23,\"\")","v":""},{"$f":"IFERROR('2014 scenario - input'!B23,\"\")","v":0},{"$f":"IFERROR('2014 scenario - input'!C23,\"\")","v":0},{"$f":"IFERROR(repcalc('2014 scenario - input'!$CV23:$GH23,'2014 scenario - input'!$G23,'2014 scenario - input'!$E23,'2014 scenario - input'!$F23,20,TRUE,TRUE),\"\")","v":""},"","","","","","","","","","","","","","","","","","","",{"$f":"IFERROR(IF(OR(D33=\"\",'2014 scenario - input'!$D23=\"\"),\"\",D33/'2014 scenario - input'!$D23),\"\")","v":""},{"$f":"IFERROR(IF(OR(E33=\"\",'2014 scenario - input'!$D23=\"\"),\"\",E33/'2014 scenario - input'!$D23),\"\")","v":""},{"$f":"IFERROR(IF(OR(F33=\"\",'2014 scenario - input'!$D23=\"\"),\"\",F33/'2014 scenario - input'!$D23),\"\")","v":""},{"$f":"IFERROR(IF(OR(G33=\"\",'2014 scenario - input'!$D23=\"\"),\"\",G33/'2014 scenario - input'!$D23),\"\")","v":""},{"$f":"IFERROR(IF(OR(H33=\"\",'2014 scenario - input'!$D23=\"\"),\"\",H33/'2014 scenario - input'!$D23),\"\")","v":""},{"$f":"IFERROR(IF(OR(I33=\"\",'2014 scenario - input'!$D23=\"\"),\"\",I33/'2014 scenario - input'!$D23),\"\")","v":""},{"$f":"IFERROR(IF(OR(J33=\"\",'2014 scenario - input'!$D23=\"\"),\"\",J33/'2014 scenario - input'!$D23),\"\")","v":""},{"$f":"IFERROR(IF(OR(K33=\"\",'2014 scenario - input'!$D23=\"\"),\"\",K33/'2014 scenario - input'!$D23),\"\")","v":""},{"$f":"IFERROR(IF(OR(L33=\"\",'2014 scenario - input'!$D23=\"\"),\"\",L33/'2014 scenario - input'!$D23),\"\")","v":""},{"$f":"IFERROR(IF(OR(M33=\"\",'2014 scenario - input'!$D23=\"\"),\"\",M33/'2014 scenario - input'!$D23),\"\")","v":""},{"$f":"IFERROR(IF(OR(N33=\"\",'2014 scenario - input'!$D23=\"\"),\"\",N33/'2014 scenario - input'!$D23),\"\")","v":""},{"$f":"IFERROR(IF(OR(O33=\"\",'2014 scenario - input'!$D23=\"\"),\"\",O33/'2014 scenario - input'!$D23),\"\")","v":""},{"$f":"IFERROR(IF(OR(P33=\"\",'2014 scenario - input'!$D23=\"\"),\"\",P33/'2014 scenario - input'!$D23),\"\")","v":""},{"$f":"IFERROR(IF(OR(Q33=\"\",'2014 scenario - input'!$D23=\"\"),\"\",Q33/'2014 scenario - input'!$D23),\"\")","v":""},{"$f":"IFERROR(IF(OR(R33=\"\",'2014 scenario - input'!$D23=\"\"),\"\",R33/'2014 scenario - input'!$D23),\"\")","v":""},{"$f":"IFERROR(IF(OR(S33=\"\",'2014 scenario - input'!$D23=\"\"),\"\",S33/'2014 scenario - input'!$D23),\"\")","v":""},{"$f":"IFERROR(IF(OR(T33=\"\",'2014 scenario - input'!$D23=\"\"),\"\",T33/'2014 scenario - input'!$D23),\"\")","v":""},{"$f":"IFERROR(IF(OR(U33=\"\",'2014 scenario - input'!$D23=\"\"),\"\",U33/'2014 scenario - input'!$D23),\"\")","v":""},{"$f":"IFERROR(IF(OR(V33=\"\",'2014 scenario - input'!$D23=\"\"),\"\",V33/'2014 scenario - input'!$D23),\"\")","v":""},{"$f":"IFERROR(IF(OR(W33=\"\",'2014 scenario - input'!$D23=\"\"),\"\",W33/'2014 scenario - input'!$D23),\"\")","v":""}]
[{"$f":"IFERROR('2014 scenario - input'!A24,\"\")","v":""},{"$f":"IFERROR('2014 scenario - input'!B24,\"\")","v":0},{"$f":"IFERROR('2014 scenario - input'!C24,\"\")","v":0},{"$f":"IFERROR(repcalc('2014 scenario - input'!$CV24:$GH24,'2014 scenario - input'!$G24,'2014 scenario - input'!$E24,'2014 scenario - input'!$F24,20,TRUE,TRUE),\"\")","v":""},"","","","","","","","","","","","","","","","","","","",{"$f":"IFERROR(IF(OR(D34=\"\",'2014 scenario - input'!$D24=\"\"),\"\",D34/'2014 scenario - input'!$D24),\"\")","v":""},{"$f":"IFERROR(IF(OR(E34=\"\",'2014 scenario - input'!$D24=\"\"),\"\",E34/'2014 scenario - input'!$D24),\"\")","v":""},{"$f":"IFERROR(IF(OR(F34=\"\",'2014 scenario - input'!$D24=\"\"),\"\",F34/'2014 scenario - input'!$D24),\"\")","v":""},{"$f":"IFERROR(IF(OR(G34=\"\",'2014 scenario - input'!$D24=\"\"),\"\",G34/'2014 scenario - input'!$D24),\"\")","v":""},{"$f":"IFERROR(IF(OR(H34=\"\",'2014 scenario - input'!$D24=\"\"),\"\",H34/'2014 scenario - input'!$D24),\"\")","v":""},{"$f":"IFERROR(IF(OR(I34=\"\",'2014 scenario - input'!$D24=\"\"),\"\",I34/'2014 scenario - input'!$D24),\"\")","v":""},{"$f":"IFERROR(IF(OR(J34=\"\",'2014 scenario - input'!$D24=\"\"),\"\",J34/'2014 scenario - input'!$D24),\"\")","v":""},{"$f":"IFERROR(IF(OR(K34=\"\",'2014 scenario - input'!$D24=\"\"),\"\",K34/'2014 scenario - input'!$D24),\"\")","v":""},{"$f":"IFERROR(IF(OR(L34=\"\",'2014 scenario - input'!$D24=\"\"),\"\",L34/'2014 scenario - input'!$D24),\"\")","v":""},{"$f":"IFERROR(IF(OR(M34=\"\",'2014 scenario - input'!$D24=\"\"),\"\",M34/'2014 scenario - input'!$D24),\"\")","v":""},{"$f":"IFERROR(IF(OR(N34=\"\",'2014 scenario - input'!$D24=\"\"),\"\",N34/'2014 scenario - input'!$D24),\"\")","v":""},{"$f":"IFERROR(IF(OR(O34=\"\",'2014 scenario - input'!$D24=\"\"),\"\",O34/'2014 scenario - input'!$D24),\"\")","v":""},{"$f":"IFERROR(IF(OR(P34=\"\",'2014 scenario - input'!$D24=\"\"),\"\",P34/'2014 scenario - input'!$D24),\"\")","v":""},{"$f":"IFERROR(IF(OR(Q34=\"\",'2014 scenario - input'!$D24=\"\"),\"\",Q34/'2014 scenario - input'!$D24),\"\")","v":""},{"$f":"IFERROR(IF(OR(R34=\"\",'2014 scenario - input'!$D24=\"\"),\"\",R34/'2014 scenario - input'!$D24),\"\")","v":""},{"$f":"IFERROR(IF(OR(S34=\"\",'2014 scenario - input'!$D24=\"\"),\"\",S34/'2014 scenario - input'!$D24),\"\")","v":""},{"$f":"IFERROR(IF(OR(T34=\"\",'2014 scenario - input'!$D24=\"\"),\"\",T34/'2014 scenario - input'!$D24),\"\")","v":""},{"$f":"IFERROR(IF(OR(U34=\"\",'2014 scenario - input'!$D24=\"\"),\"\",U34/'2014 scenario - input'!$D24),\"\")","v":""},{"$f":"IFERROR(IF(OR(V34=\"\",'2014 scenario - input'!$D24=\"\"),\"\",V34/'2014 scenario - input'!$D24),\"\")","v":""},{"$f":"IFERROR(IF(OR(W34=\"\",'2014 scenario - input'!$D24=\"\"),\"\",W34/'2014 scenario - input'!$D24),\"\")","v":""}]
[{"$f":"IFERROR('2014 scenario - input'!A25,\"\")","v":""},{"$f":"IFERROR('2014 scenario - input'!B25,\"\")","v":0},{"$f":"IFERROR('2014 scenario - input'!C25,\"\")","v":0},{"$f":"IFERROR(repcalc('2014 scenario - input'!$CV25:$GH25,'2014 scenario - input'!$G25,'2014 scenario - input'!$E25,'2014 scenario - input'!$F25,20,TRUE,TRUE),\"\")","v":""},"","","","","","","","","","","","","","","","","","","",{"$f":"IFERROR(IF(OR(D35=\"\",'2014 scenario - input'!$D25=\"\"),\"\",D35/'2014 scenario - input'!$D25),\"\")","v":""},{"$f":"IFERROR(IF(OR(E35=\"\",'2014 scenario - input'!$D25=\"\"),\"\",E35/'2014 scenario - input'!$D25),\"\")","v":""},{"$f":"IFERROR(IF(OR(F35=\"\",'2014 scenario - input'!$D25=\"\"),\"\",F35/'2014 scenario - input'!$D25),\"\")","v":""},{"$f":"IFERROR(IF(OR(G35=\"\",'2014 scenario - input'!$D25=\"\"),\"\",G35/'2014 scenario - input'!$D25),\"\")","v":""},{"$f":"IFERROR(IF(OR(H35=\"\",'2014 scenario - input'!$D25=\"\"),\"\",H35/'2014 scenario - input'!$D25),\"\")","v":""},{"$f":"IFERROR(IF(OR(I35=\"\",'2014 scenario - input'!$D25=\"\"),\"\",I35/'2014 scenario - input'!$D25),\"\")","v":""},{"$f":"IFERROR(IF(OR(J35=\"\",'2014 scenario - input'!$D25=\"\"),\"\",J35/'2014 scenario - input'!$D25),\"\")","v":""},{"$f":"IFERROR(IF(OR(K35=\"\",'2014 scenario - input'!$D25=\"\"),\"\",K35/'2014 scenario - input'!$D25),\"\")","v":""},{"$f":"IFERROR(IF(OR(L35=\"\",'2014 scenario - input'!$D25=\"\"),\"\",L35/'2014 scenario - input'!$D25),\"\")","v":""},{"$f":"IFERROR(IF(OR(M35=\"\",'2014 scenario - input'!$D25=\"\"),\"\",M35/'2014 scenario - input'!$D25),\"\")","v":""},{"$f":"IFERROR(IF(OR(N35=\"\",'2014 scenario - input'!$D25=\"\"),\"\",N35/'2014 scenario - input'!$D25),\"\")","v":""},{"$f":"IFERROR(IF(OR(O35=\"\",'2014 scenario - input'!$D25=\"\"),\"\",O35/'2014 scenario - input'!$D25),\"\")","v":""},{"$f":"IFERROR(IF(OR(P35=\"\",'2014 scenario - input'!$D25=\"\"),\"\",P35/'2014 scenario - input'!$D25),\"\")","v":""},{"$f":"IFERROR(IF(OR(Q35=\"\",'2014 scenario - input'!$D25=\"\"),\"\",Q35/'2014 scenario - input'!$D25),\"\")","v":""},{"$f":"IFERROR(IF(OR(R35=\"\",'2014 scenario - input'!$D25=\"\"),\"\",R35/'2014 scenario - input'!$D25),\"\")","v":""},{"$f":"IFERROR(IF(OR(S35=\"\",'2014 scenario - input'!$D25=\"\"),\"\",S35/'2014 scenario - input'!$D25),\"\")","v":""},{"$f":"IFERROR(IF(OR(T35=\"\",'2014 scenario - input'!$D25=\"\"),\"\",T35/'2014 scenario - input'!$D25),\"\")","v":""},{"$f":"IFERROR(IF(OR(U35=\"\",'2014 scenario - input'!$D25=\"\"),\"\",U35/'2014 scenario - input'!$D25),\"\")","v":""},{"$f":"IFERROR(IF(OR(V35=\"\",'2014 scenario - input'!$D25=\"\"),\"\",V35/'2014 scenario - input'!$D25),\"\")","v":""},{"$f":"IFERROR(IF(OR(W35=\"\",'2014 scenario - input'!$D25=\"\"),\"\",W35/'2014 scenario - input'!$D25),\"\")","v":""}]
[{"$f":"IFERROR('2014 scenario - input'!A26,\"\")","v":""},{"$f":"IFERROR('2014 scenario - input'!B26,\"\")","v":0},{"$f":"IFERROR('2014 scenario - input'!C26,\"\")","v":0},{"$f":"IFERROR(repcalc('2014 scenario - input'!$CV26:$GH26,'2014 scenario - input'!$G26,'2014 scenario - input'!$E26,'2014 scenario - input'!$F26,20,TRUE,TRUE),\"\")","v":""},"","","","","","","","","","","","","","","","","","","",{"$f":"IFERROR(IF(OR(D36=\"\",'2014 scenario - input'!$D26=\"\"),\"\",D36/'2014 scenario - input'!$D26),\"\")","v":""},{"$f":"IFERROR(IF(OR(E36=\"\",'2014 scenario - input'!$D26=\"\"),\"\",E36/'2014 scenario - input'!$D26),\"\")","v":""},{"$f":"IFERROR(IF(OR(F36=\"\",'2014 scenario - input'!$D26=\"\"),\"\",F36/'2014 scenario - input'!$D26),\"\")","v":""},{"$f":"IFERROR(IF(OR(G36=\"\",'2014 scenario - input'!$D26=\"\"),\"\",G36/'2014 scenario - input'!$D26),\"\")","v":""},{"$f":"IFERROR(IF(OR(H36=\"\",'2014 scenario - input'!$D26=\"\"),\"\",H36/'2014 scenario - input'!$D26),\"\")","v":""},{"$f":"IFERROR(IF(OR(I36=\"\",'2014 scenario - input'!$D26=\"\"),\"\",I36/'2014 scenario - input'!$D26),\"\")","v":""},{"$f":"IFERROR(IF(OR(J36=\"\",'2014 scenario - input'!$D26=\"\"),\"\",J36/'2014 scenario - input'!$D26),\"\")","v":""},{"$f":"IFERROR(IF(OR(K36=\"\",'2014 scenario - input'!$D26=\"\"),\"\",K36/'2014 scenario - input'!$D26),\"\")","v":""},{"$f":"IFERROR(IF(OR(L36=\"\",'2014 scenario - input'!$D26=\"\"),\"\",L36/'2014 scenario - input'!$D26),\"\")","v":""},{"$f":"IFERROR(IF(OR(M36=\"\",'2014 scenario - input'!$D26=\"\"),\"\",M36/'2014 scenario - input'!$D26),\"\")","v":""},{"$f":"IFERROR(IF(OR(N36=\"\",'2014 scenario - input'!$D26=\"\"),\"\",N36/'2014 scenario - input'!$D26),\"\")","v":""},{"$f":"IFERROR(IF(OR(O36=\"\",'2014 scenario - input'!$D26=\"\"),\"\",O36/'2014 scenario - input'!$D26),\"\")","v":""},{"$f":"IFERROR(IF(OR(P36=\"\",'2014 scenario - input'!$D26=\"\"),\"\",P36/'2014 scenario - input'!$D26),\"\")","v":""},{"$f":"IFERROR(IF(OR(Q36=\"\",'2014 scenario - input'!$D26=\"\"),\"\",Q36/'2014 scenario - input'!$D26),\"\")","v":""},{"$f":"IFERROR(IF(OR(R36=\"\",'2014 scenario - input'!$D26=\"\"),\"\",R36/'2014 scenario - input'!$D26),\"\")","v":""},{"$f":"IFERROR(IF(OR(S36=\"\",'2014 scenario - input'!$D26=\"\"),\"\",S36/'2014 scenario - input'!$D26),\"\")","v":""},{"$f":"IFERROR(IF(OR(T36=\"\",'2014 scenario - input'!$D26=\"\"),\"\",T36/'2014 scenario - input'!$D26),\"\")","v":""},{"$f":"IFERROR(IF(OR(U36=\"\",'2014 scenario - input'!$D26=\"\"),\"\",U36/'2014 scenario - input'!$D26),\"\")","v":""},{"$f":"IFERROR(IF(OR(V36=\"\",'2014 scenario - input'!$D26=\"\"),\"\",V36/'2014 scenario - input'!$D26),\"\")","v":""},{"$f":"IFERROR(IF(OR(W36=\"\",'2014 scenario - input'!$D26=\"\"),\"\",W36/'2014 scenario - input'!$D26),\"\")","v":""}]
[{"$f":"IFERROR('2014 scenario - input'!A27,\"\")","v":""},{"$f":"IFERROR('2014 scenario - input'!B27,\"\")","v":0},{"$f":"IFERROR('2014 scenario - input'!C27,\"\")","v":0},{"$f":"IFERROR(repcalc('2014 scenario - input'!$CV27:$GH27,'2014 scenario - input'!$G27,'2014 scenario - input'!$E27,'2014 scenario - input'!$F27,20,TRUE,TRUE),\"\")","v":""},"","","","","","","","","","","","","","","","","","","",{"$f":"IFERROR(IF(OR(D37=\"\",'2014 scenario - input'!$D27=\"\"),\"\",D37/'2014 scenario - input'!$D27),\"\")","v":""},{"$f":"IFERROR(IF(OR(E37=\"\",'2014 scenario - input'!$D27=\"\"),\"\",E37/'2014 scenario - input'!$D27),\"\")","v":""},{"$f":"IFERROR(IF(OR(F37=\"\",'2014 scenario - input'!$D27=\"\"),\"\",F37/'2014 scenario - input'!$D27),\"\")","v":""},{"$f":"IFERROR(IF(OR(G37=\"\",'2014 scenario - input'!$D27=\"\"),\"\",G37/'2014 scenario - input'!$D27),\"\")","v":""},{"$f":"IFERROR(IF(OR(H37=\"\",'2014 scenario - input'!$D27=\"\"),\"\",H37/'2014 scenario - input'!$D27),\"\")","v":""},{"$f":"IFERROR(IF(OR(I37=\"\",'2014 scenario - input'!$D27=\"\"),\"\",I37/'2014 scenario - input'!$D27),\"\")","v":""},{"$f":"IFERROR(IF(OR(J37=\"\",'2014 scenario - input'!$D27=\"\"),\"\",J37/'2014 scenario - input'!$D27),\"\")","v":""},{"$f":"IFERROR(IF(OR(K37=\"\",'2014 scenario - input'!$D27=\"\"),\"\",K37/'2014 scenario - input'!$D27),\"\")","v":""},{"$f":"IFERROR(IF(OR(L37=\"\",'2014 scenario - input'!$D27=\"\"),\"\",L37/'2014 scenario - input'!$D27),\"\")","v":""},{"$f":"IFERROR(IF(OR(M37=\"\",'2014 scenario - input'!$D27=\"\"),\"\",M37/'2014 scenario - input'!$D27),\"\")","v":""},{"$f":"IFERROR(IF(OR(N37=\"\",'2014 scenario - input'!$D27=\"\"),\"\",N37/'2014 scenario - input'!$D27),\"\")","v":""},{"$f":"IFERROR(IF(OR(O37=\"\",'2014 scenario - input'!$D27=\"\"),\"\",O37/'2014 scenario - input'!$D27),\"\")","v":""},{"$f":"IFERROR(IF(OR(P37=\"\",'2014 scenario - input'!$D27=\"\"),\"\",P37/'2014 scenario - input'!$D27),\"\")","v":""},{"$f":"IFERROR(IF(OR(Q37=\"\",'2014 scenario - input'!$D27=\"\"),\"\",Q37/'2014 scenario - input'!$D27),\"\")","v":""},{"$f":"IFERROR(IF(OR(R37=\"\",'2014 scenario - input'!$D27=\"\"),\"\",R37/'2014 scenario - input'!$D27),\"\")","v":""},{"$f":"IFERROR(IF(OR(S37=\"\",'2014 scenario - input'!$D27=\"\"),\"\",S37/'2014 scenario - input'!$D27),\"\")","v":""},{"$f":"IFERROR(IF(OR(T37=\"\",'2014 scenario - input'!$D27=\"\"),\"\",T37/'2014 scenario - input'!$D27),\"\")","v":""},{"$f":"IFERROR(IF(OR(U37=\"\",'2014 scenario - input'!$D27=\"\"),\"\",U37/'2014 scenario - input'!$D27),\"\")","v":""},{"$f":"IFERROR(IF(OR(V37=\"\",'2014 scenario - input'!$D27=\"\"),\"\",V37/'2014 scenario - input'!$D27),\"\")","v":""},{"$f":"IFERROR(IF(OR(W37=\"\",'2014 scenario - input'!$D27=\"\"),\"\",W37/'2014 scenario - input'!$D27),\"\")","v":""}]
[{"$f":"IFERROR('2014 scenario - input'!A28,\"\")","v":""},{"$f":"IFERROR('2014 scenario - input'!B28,\"\")","v":0},{"$f":"IFERROR('2014 scenario - input'!C28,\"\")","v":0},{"$f":"IFERROR(repcalc('2014 scenario - input'!$CV28:$GH28,'2014 scenario - input'!$G28,'2014 scenario - input'!$E28,'2014 scenario - input'!$F28,20,TRUE,TRUE),\"\")","v":""},"","","","","","","","","","","","","","","","","","","",{"$f":"IFERROR(IF(OR(D38=\"\",'2014 scenario - input'!$D28=\"\"),\"\",D38/'2014 scenario - input'!$D28),\"\")","v":""},{"$f":"IFERROR(IF(OR(E38=\"\",'2014 scenario - input'!$D28=\"\"),\"\",E38/'2014 scenario - input'!$D28),\"\")","v":""},{"$f":"IFERROR(IF(OR(F38=\"\",'2014 scenario - input'!$D28=\"\"),\"\",F38/'2014 scenario - input'!$D28),\"\")","v":""},{"$f":"IFERROR(IF(OR(G38=\"\",'2014 scenario - input'!$D28=\"\"),\"\",G38/'2014 scenario - input'!$D28),\"\")","v":""},{"$f":"IFERROR(IF(OR(H38=\"\",'2014 scenario - input'!$D28=\"\"),\"\",H38/'2014 scenario - input'!$D28),\"\")","v":""},{"$f":"IFERROR(IF(OR(I38=\"\",'2014 scenario - input'!$D28=\"\"),\"\",I38/'2014 scenario - input'!$D28),\"\")","v":""},{"$f":"IFERROR(IF(OR(J38=\"\",'2014 scenario - input'!$D28=\"\"),\"\",J38/'2014 scenario - input'!$D28),\"\")","v":""},{"$f":"IFERROR(IF(OR(K38=\"\",'2014 scenario - input'!$D28=\"\"),\"\",K38/'2014 scenario - input'!$D28),\"\")","v":""},{"$f":"IFERROR(IF(OR(L38=\"\",'2014 scenario - input'!$D28=\"\"),\"\",L38/'2014 scenario - input'!$D28),\"\")","v":""},{"$f":"IFERROR(IF(OR(M38=\"\",'2014 scenario - input'!$D28=\"\"),\"\",M38/'2014 scenario - input'!$D28),\"\")","v":""},{"$f":"IFERROR(IF(OR(N38=\"\",'2014 scenario - input'!$D28=\"\"),\"\",N38/'2014 scenario - input'!$D28),\"\")","v":""},{"$f":"IFERROR(IF(OR(O38=\"\",'2014 scenario - input'!$D28=\"\"),\"\",O38/'2014 scenario - input'!$D28),\"\")","v":""},{"$f":"IFERROR(IF(OR(P38=\"\",'2014 scenario - input'!$D28=\"\"),\"\",P38/'2014 scenario - input'!$D28),\"\")","v":""},{"$f":"IFERROR(IF(OR(Q38=\"\",'2014 scenario - input'!$D28=\"\"),\"\",Q38/'2014 scenario - input'!$D28),\"\")","v":""},{"$f":"IFERROR(IF(OR(R38=\"\",'2014 scenario - input'!$D28=\"\"),\"\",R38/'2014 scenario - input'!$D28),\"\")","v":""},{"$f":"IFERROR(IF(OR(S38=\"\",'2014 scenario - input'!$D28=\"\"),\"\",S38/'2014 scenario - input'!$D28),\"\")","v":""},{"$f":"IFERROR(IF(OR(T38=\"\",'2014 scenario - input'!$D28=\"\"),\"\",T38/'2014 scenario - input'!$D28),\"\")","v":""},{"$f":"IFERROR(IF(OR(U38=\"\",'2014 scenario - input'!$D28=\"\"),\"\",U38/'2014 scenario - input'!$D28),\"\")","v":""},{"$f":"IFERROR(IF(OR(V38=\"\",'2014 scenario - input'!$D28=\"\"),\"\",V38/'2014 scenario - input'!$D28),\"\")","v":""},{"$f":"IFERROR(IF(OR(W38=\"\",'2014 scenario - input'!$D28=\"\"),\"\",W38/'2014 scenario - input'!$D28),\"\")","v":""}]
[{"$f":"IFERROR('2014 scenario - input'!A29,\"\")","v":""},{"$f":"IFERROR('2014 scenario - input'!B29,\"\")","v":0},{"$f":"IFERROR('2014 scenario - input'!C29,\"\")","v":0},{"$f":"IFERROR(repcalc('2014 scenario - input'!$CV29:$GH29,'2014 scenario - input'!$G29,'2014 scenario - input'!$E29,'2014 scenario - input'!$F29,20,TRUE,TRUE),\"\")","v":""},"","","","","","","","","","","","","","","","","","","",{"$f":"IFERROR(IF(OR(D39=\"\",'2014 scenario - input'!$D29=\"\"),\"\",D39/'2014 scenario - input'!$D29),\"\")","v":""},{"$f":"IFERROR(IF(OR(E39=\"\",'2014 scenario - input'!$D29=\"\"),\"\",E39/'2014 scenario - input'!$D29),\"\")","v":""},{"$f":"IFERROR(IF(OR(F39=\"\",'2014 scenario - input'!$D29=\"\"),\"\",F39/'2014 scenario - input'!$D29),\"\")","v":""},{"$f":"IFERROR(IF(OR(G39=\"\",'2014 scenario - input'!$D29=\"\"),\"\",G39/'2014 scenario - input'!$D29),\"\")","v":""},{"$f":"IFERROR(IF(OR(H39=\"\",'2014 scenario - input'!$D29=\"\"),\"\",H39/'2014 scenario - input'!$D29),\"\")","v":""},{"$f":"IFERROR(IF(OR(I39=\"\",'2014 scenario - input'!$D29=\"\"),\"\",I39/'2014 scenario - input'!$D29),\"\")","v":""},{"$f":"IFERROR(IF(OR(J39=\"\",'2014 scenario - input'!$D29=\"\"),\"\",J39/'2014 scenario - input'!$D29),\"\")","v":""},{"$f":"IFERROR(IF(OR(K39=\"\",'2014 scenario - input'!$D29=\"\"),\"\",K39/'2014 scenario - input'!$D29),\"\")","v":""},{"$f":"IFERROR(IF(OR(L39=\"\",'2014 scenario - input'!$D29=\"\"),\"\",L39/'2014 scenario - input'!$D29),\"\")","v":""},{"$f":"IFERROR(IF(OR(M39=\"\",'2014 scenario - input'!$D29=\"\"),\"\",M39/'2014 scenario - input'!$D29),\"\")","v":""},{"$f":"IFERROR(IF(OR(N39=\"\",'2014 scenario - input'!$D29=\"\"),\"\",N39/'2014 scenario - input'!$D29),\"\")","v":""},{"$f":"IFERROR(IF(OR(O39=\"\",'2014 scenario - input'!$D29=\"\"),\"\",O39/'2014 scenario - input'!$D29),\"\")","v":""},{"$f":"IFERROR(IF(OR(P39=\"\",'2014 scenario - input'!$D29=\"\"),\"\",P39/'2014 scenario - input'!$D29),\"\")","v":""},{"$f":"IFERROR(IF(OR(Q39=\"\",'2014 scenario - input'!$D29=\"\"),\"\",Q39/'2014 scenario - input'!$D29),\"\")","v":""},{"$f":"IFERROR(IF(OR(R39=\"\",'2014 scenario - input'!$D29=\"\"),\"\",R39/'2014 scenario - input'!$D29),\"\")","v":""},{"$f":"IFERROR(IF(OR(S39=\"\",'2014 scenario - input'!$D29=\"\"),\"\",S39/'2014 scenario - input'!$D29),\"\")","v":""},{"$f":"IFERROR(IF(OR(T39=\"\",'2014 scenario - input'!$D29=\"\"),\"\",T39/'2014 scenario - input'!$D29),\"\")","v":""},{"$f":"IFERROR(IF(OR(U39=\"\",'2014 scenario - input'!$D29=\"\"),\"\",U39/'2014 scenario - input'!$D29),\"\")","v":""},{"$f":"IFERROR(IF(OR(V39=\"\",'2014 scenario - input'!$D29=\"\"),\"\",V39/'2014 scenario - input'!$D29),\"\")","v":""},{"$f":"IFERROR(IF(OR(W39=\"\",'2014 scenario - input'!$D29=\"\"),\"\",W39/'2014 scenario - input'!$D29),\"\")","v":""}]
[{"$f":"IFERROR('2014 scenario - input'!A30,\"\")","v":""},{"$f":"IFERROR('2014 scenario - input'!B30,\"\")","v":0},{"$f":"IFERROR('2014 scenario - input'!C30,\"\")","v":0},{"$f":"IFERROR(repcalc('2014 scenario - input'!$CV30:$GH30,'2014 scenario - input'!$G30,'2014 scenario - input'!$E30,'2014 scenario - input'!$F30,20,TRUE,TRUE),\"\")","v":""},"","","","","","","","","","","","","","","","","","","",{"$f":"IFERROR(IF(OR(D40=\"\",'2014 scenario - input'!$D30=\"\"),\"\",D40/'2014 scenario - input'!$D30),\"\")","v":""},{"$f":"IFERROR(IF(OR(E40=\"\",'2014 scenario - input'!$D30=\"\"),\"\",E40/'2014 scenario - input'!$D30),\"\")","v":""},{"$f":"IFERROR(IF(OR(F40=\"\",'2014 scenario - input'!$D30=\"\"),\"\",F40/'2014 scenario - input'!$D30),\"\")","v":""},{"$f":"IFERROR(IF(OR(G40=\"\",'2014 scenario - input'!$D30=\"\"),\"\",G40/'2014 scenario - input'!$D30),\"\")","v":""},{"$f":"IFERROR(IF(OR(H40=\"\",'2014 scenario - input'!$D30=\"\"),\"\",H40/'2014 scenario - input'!$D30),\"\")","v":""},{"$f":"IFERROR(IF(OR(I40=\"\",'2014 scenario - input'!$D30=\"\"),\"\",I40/'2014 scenario - input'!$D30),\"\")","v":""},{"$f":"IFERROR(IF(OR(J40=\"\",'2014 scenario - input'!$D30=\"\"),\"\",J40/'2014 scenario - input'!$D30),\"\")","v":""},{"$f":"IFERROR(IF(OR(K40=\"\",'2014 scenario - input'!$D30=\"\"),\"\",K40/'2014 scenario - input'!$D30),\"\")","v":""},{"$f":"IFERROR(IF(OR(L40=\"\",'2014 scenario - input'!$D30=\"\"),\"\",L40/'2014 scenario - input'!$D30),\"\")","v":""},{"$f":"IFERROR(IF(OR(M40=\"\",'2014 scenario - input'!$D30=\"\"),\"\",M40/'2014 scenario - input'!$D30),\"\")","v":""},{"$f":"IFERROR(IF(OR(N40=\"\",'2014 scenario - input'!$D30=\"\"),\"\",N40/'2014 scenario - input'!$D30),\"\")","v":""},{"$f":"IFERROR(IF(OR(O40=\"\",'2014 scenario - input'!$D30=\"\"),\"\",O40/'2014 scenario - input'!$D30),\"\")","v":""},{"$f":"IFERROR(IF(OR(P40=\"\",'2014 scenario - input'!$D30=\"\"),\"\",P40/'2014 scenario - input'!$D30),\"\")","v":""},{"$f":"IFERROR(IF(OR(Q40=\"\",'2014 scenario - input'!$D30=\"\"),\"\",Q40/'2014 scenario - input'!$D30),\"\")","v":""},{"$f":"IFERROR(IF(OR(R40=\"\",'2014 scenario - input'!$D30=\"\"),\"\",R40/'2014 scenario - input'!$D30),\"\")","v":""},{"$f":"IFERROR(IF(OR(S40=\"\",'2014 scenario - input'!$D30=\"\"),\"\",S40/'2014 scenario - input'!$D30),\"\")","v":""},{"$f":"IFERROR(IF(OR(T40=\"\",'2014 scenario - input'!$D30=\"\"),\"\",T40/'2014 scenario - input'!$D30),\"\")","v":""},{"$f":"IFERROR(IF(OR(U40=\"\",'2014 scenario - input'!$D30=\"\"),\"\",U40/'2014 scenario - input'!$D30),\"\")","v":""},{"$f":"IFERROR(IF(OR(V40=\"\",'2014 scenario - input'!$D30=\"\"),\"\",V40/'2014 scenario - input'!$D30),\"\")","v":""},{"$f":"IFERROR(IF(OR(W40=\"\",'2014 scenario - input'!$D30=\"\"),\"\",W40/'2014 scenario - input'!$D30),\"\")","v":""}]
[{"$f":"IFERROR('2014 scenario - input'!A31,\"\")","v":""},{"$f":"IFERROR('2014 scenario - input'!B31,\"\")","v":0},{"$f":"IFERROR('2014 scenario - input'!C31,\"\")","v":0},{"$f":"IFERROR(repcalc('2014 scenario - input'!$CV31:$GH31,'2014 scenario - input'!$G31,'2014 scenario - input'!$E31,'2014 scenario - input'!$F31,20,TRUE,TRUE),\"\")","v":""},"","","","","","","","","","","","","","","","","","","",{"$f":"IFERROR(IF(OR(D41=\"\",'2014 scenario - input'!$D31=\"\"),\"\",D41/'2014 scenario - input'!$D31),\"\")","v":""},{"$f":"IFERROR(IF(OR(E41=\"\",'2014 scenario - input'!$D31=\"\"),\"\",E41/'2014 scenario - input'!$D31),\"\")","v":""},{"$f":"IFERROR(IF(OR(F41=\"\",'2014 scenario - input'!$D31=\"\"),\"\",F41/'2014 scenario - input'!$D31),\"\")","v":""},{"$f":"IFERROR(IF(OR(G41=\"\",'2014 scenario - input'!$D31=\"\"),\"\",G41/'2014 scenario - input'!$D31),\"\")","v":""},{"$f":"IFERROR(IF(OR(H41=\"\",'2014 scenario - input'!$D31=\"\"),\"\",H41/'2014 scenario - input'!$D31),\"\")","v":""},{"$f":"IFERROR(IF(OR(I41=\"\",'2014 scenario - input'!$D31=\"\"),\"\",I41/'2014 scenario - input'!$D31),\"\")","v":""},{"$f":"IFERROR(IF(OR(J41=\"\",'2014 scenario - input'!$D31=\"\"),\"\",J41/'2014 scenario - input'!$D31),\"\")","v":""},{"$f":"IFERROR(IF(OR(K41=\"\",'2014 scenario - input'!$D31=\"\"),\"\",K41/'2014 scenario - input'!$D31),\"\")","v":""},{"$f":"IFERROR(IF(OR(L41=\"\",'2014 scenario - input'!$D31=\"\"),\"\",L41/'2014 scenario - input'!$D31),\"\")","v":""},{"$f":"IFERROR(IF(OR(M41=\"\",'2014 scenario - input'!$D31=\"\"),\"\",M41/'2014 scenario - input'!$D31),\"\")","v":""},{"$f":"IFERROR(IF(OR(N41=\"\",'2014 scenario - input'!$D31=\"\"),\"\",N41/'2014 scenario - input'!$D31),\"\")","v":""},{"$f":"IFERROR(IF(OR(O41=\"\",'2014 scenario - input'!$D31=\"\"),\"\",O41/'2014 scenario - input'!$D31),\"\")","v":""},{"$f":"IFERROR(IF(OR(P41=\"\",'2014 scenario - input'!$D31=\"\"),\"\",P41/'2014 scenario - input'!$D31),\"\")","v":""},{"$f":"IFERROR(IF(OR(Q41=\"\",'2014 scenario - input'!$D31=\"\"),\"\",Q41/'2014 scenario - input'!$D31),\"\")","v":""},{"$f":"IFERROR(IF(OR(R41=\"\",'2014 scenario - input'!$D31=\"\"),\"\",R41/'2014 scenario - input'!$D31),\"\")","v":""},{"$f":"IFERROR(IF(OR(S41=\"\",'2014 scenario - input'!$D31=\"\"),\"\",S41/'2014 scenario - input'!$D31),\"\")","v":""},{"$f":"IFERROR(IF(OR(T41=\"\",'2014 scenario - input'!$D31=\"\"),\"\",T41/'2014 scenario - input'!$D31),\"\")","v":""},{"$f":"IFERROR(IF(OR(U41=\"\",'2014 scenario - input'!$D31=\"\"),\"\",U41/'2014 scenario - input'!$D31),\"\")","v":""},{"$f":"IFERROR(IF(OR(V41=\"\",'2014 scenario - input'!$D31=\"\"),\"\",V41/'2014 scenario - input'!$D31),\"\")","v":""},{"$f":"IFERROR(IF(OR(W41=\"\",'2014 scenario - input'!$D31=\"\"),\"\",W41/'2014 scenario - input'!$D31),\"\")","v":""}]
[{"$f":"IFERROR('2014 scenario - input'!A32,\"\")","v":""},{"$f":"IFERROR('2014 scenario - input'!B32,\"\")","v":0},{"$f":"IFERROR('2014 scenario - input'!C32,\"\")","v":0},{"$f":"IFERROR(repcalc('2014 scenario - input'!$CV32:$GH32,'2014 scenario - input'!$G32,'2014 scenario - input'!$E32,'2014 scenario - input'!$F32,20,TRUE,TRUE),\"\")","v":""},"","","","","","","","","","","","","","","","","","","",{"$f":"IFERROR(IF(OR(D42=\"\",'2014 scenario - input'!$D32=\"\"),\"\",D42/'2014 scenario - input'!$D32),\"\")","v":""},{"$f":"IFERROR(IF(OR(E42=\"\",'2014 scenario - input'!$D32=\"\"),\"\",E42/'2014 scenario - input'!$D32),\"\")","v":""},{"$f":"IFERROR(IF(OR(F42=\"\",'2014 scenario - input'!$D32=\"\"),\"\",F42/'2014 scenario - input'!$D32),\"\")","v":""},{"$f":"IFERROR(IF(OR(G42=\"\",'2014 scenario - input'!$D32=\"\"),\"\",G42/'2014 scenario - input'!$D32),\"\")","v":""},{"$f":"IFERROR(IF(OR(H42=\"\",'2014 scenario - input'!$D32=\"\"),\"\",H42/'2014 scenario - input'!$D32),\"\")","v":""},{"$f":"IFERROR(IF(OR(I42=\"\",'2014 scenario - input'!$D32=\"\"),\"\",I42/'2014 scenario - input'!$D32),\"\")","v":""},{"$f":"IFERROR(IF(OR(J42=\"\",'2014 scenario - input'!$D32=\"\"),\"\",J42/'2014 scenario - input'!$D32),\"\")","v":""},{"$f":"IFERROR(IF(OR(K42=\"\",'2014 scenario - input'!$D32=\"\"),\"\",K42/'2014 scenario - input'!$D32),\"\")","v":""},{"$f":"IFERROR(IF(OR(L42=\"\",'2014 scenario - input'!$D32=\"\"),\"\",L42/'2014 scenario - input'!$D32),\"\")","v":""},{"$f":"IFERROR(IF(OR(M42=\"\",'2014 scenario - input'!$D32=\"\"),\"\",M42/'2014 scenario - input'!$D32),\"\")","v":""},{"$f":"IFERROR(IF(OR(N42=\"\",'2014 scenario - input'!$D32=\"\"),\"\",N42/'2014 scenario - input'!$D32),\"\")","v":""},{"$f":"IFERROR(IF(OR(O42=\"\",'2014 scenario - input'!$D32=\"\"),\"\",O42/'2014 scenario - input'!$D32),\"\")","v":""},{"$f":"IFERROR(IF(OR(P42=\"\",'2014 scenario - input'!$D32=\"\"),\"\",P42/'2014 scenario - input'!$D32),\"\")","v":""},{"$f":"IFERROR(IF(OR(Q42=\"\",'2014 scenario - input'!$D32=\"\"),\"\",Q42/'2014 scenario - input'!$D32),\"\")","v":""},{"$f":"IFERROR(IF(OR(R42=\"\",'2014 scenario - input'!$D32=\"\"),\"\",R42/'2014 scenario - input'!$D32),\"\")","v":""},{"$f":"IFERROR(IF(OR(S42=\"\",'2014 scenario - input'!$D32=\"\"),\"\",S42/'2014 scenario - input'!$D32),\"\")","v":""},{"$f":"IFERROR(IF(OR(T42=\"\",'2014 scenario - input'!$D32=\"\"),\"\",T42/'2014 scenario - input'!$D32),\"\")","v":""},{"$f":"IFERROR(IF(OR(U42=\"\",'2014 scenario - input'!$D32=\"\"),\"\",U42/'2014 scenario - input'!$D32),\"\")","v":""},{"$f":"IFERROR(IF(OR(V42=\"\",'2014 scenario - input'!$D32=\"\"),\"\",V42/'2014 scenario - input'!$D32),\"\")","v":""},{"$f":"IFERROR(IF(OR(W42=\"\",'2014 scenario - input'!$D32=\"\"),\"\",W42/'2014 scenario - input'!$D32),\"\")","v":""}]
[{"$f":"IFERROR('2014 scenario - input'!A33,\"\")","v":""},{"$f":"IFERROR('2014 scenario - input'!B33,\"\")","v":0},{"$f":"IFERROR('2014 scenario - input'!C33,\"\")","v":0},{"$f":"IFERROR(repcalc('2014 scenario - input'!$CV33:$GH33,'2014 scenario - input'!$G33,'2014 scenario - input'!$E33,'2014 scenario - input'!$F33,20,TRUE,TRUE),\"\")","v":""},"","","","","","","","","","","","","","","","","","","",{"$f":"IFERROR(IF(OR(D43=\"\",'2014 scenario - input'!$D33=\"\"),\"\",D43/'2014 scenario - input'!$D33),\"\")","v":""},{"$f":"IFERROR(IF(OR(E43=\"\",'2014 scenario - input'!$D33=\"\"),\"\",E43/'2014 scenario - input'!$D33),\"\")","v":""},{"$f":"IFERROR(IF(OR(F43=\"\",'2014 scenario - input'!$D33=\"\"),\"\",F43/'2014 scenario - input'!$D33),\"\")","v":""},{"$f":"IFERROR(IF(OR(G43=\"\",'2014 scenario - input'!$D33=\"\"),\"\",G43/'2014 scenario - input'!$D33),\"\")","v":""},{"$f":"IFERROR(IF(OR(H43=\"\",'2014 scenario - input'!$D33=\"\"),\"\",H43/'2014 scenario - input'!$D33),\"\")","v":""},{"$f":"IFERROR(IF(OR(I43=\"\",'2014 scenario - input'!$D33=\"\"),\"\",I43/'2014 scenario - input'!$D33),\"\")","v":""},{"$f":"IFERROR(IF(OR(J43=\"\",'2014 scenario - input'!$D33=\"\"),\"\",J43/'2014 scenario - input'!$D33),\"\")","v":""},{"$f":"IFERROR(IF(OR(K43=\"\",'2014 scenario - input'!$D33=\"\"),\"\",K43/'2014 scenario - input'!$D33),\"\")","v":""},{"$f":"IFERROR(IF(OR(L43=\"\",'2014 scenario - input'!$D33=\"\"),\"\",L43/'2014 scenario - input'!$D33),\"\")","v":""},{"$f":"IFERROR(IF(OR(M43=\"\",'2014 scenario - input'!$D33=\"\"),\"\",M43/'2014 scenario - input'!$D33),\"\")","v":""},{"$f":"IFERROR(IF(OR(N43=\"\",'2014 scenario - input'!$D33=\"\"),\"\",N43/'2014 scenario - input'!$D33),\"\")","v":""},{"$f":"IFERROR(IF(OR(O43=\"\",'2014 scenario - input'!$D33=\"\"),\"\",O43/'2014 scenario - input'!$D33),\"\")","v":""},{"$f":"IFERROR(IF(OR(P43=\"\",'2014 scenario - input'!$D33=\"\"),\"\",P43/'2014 scenario - input'!$D33),\"\")","v":""},{"$f":"IFERROR(IF(OR(Q43=\"\",'2014 scenario - input'!$D33=\"\"),\"\",Q43/'2014 scenario - input'!$D33),\"\")","v":""},{"$f":"IFERROR(IF(OR(R43=\"\",'2014 scenario - input'!$D33=\"\"),\"\",R43/'2014 scenario - input'!$D33),\"\")","v":""},{"$f":"IFERROR(IF(OR(S43=\"\",'2014 scenario - input'!$D33=\"\"),\"\",S43/'2014 scenario - input'!$D33),\"\")","v":""},{"$f":"IFERROR(IF(OR(T43=\"\",'2014 scenario - input'!$D33=\"\"),\"\",T43/'2014 scenario - input'!$D33),\"\")","v":""},{"$f":"IFERROR(IF(OR(U43=\"\",'2014 scenario - input'!$D33=\"\"),\"\",U43/'2014 scenario - input'!$D33),\"\")","v":""},{"$f":"IFERROR(IF(OR(V43=\"\",'2014 scenario - input'!$D33=\"\"),\"\",V43/'2014 scenario - input'!$D33),\"\")","v":""},{"$f":"IFERROR(IF(OR(W43=\"\",'2014 scenario - input'!$D33=\"\"),\"\",W43/'2014 scenario - input'!$D33),\"\")","v":""}]
[{"$f":"IFERROR('2014 scenario - input'!A34,\"\")","v":""},{"$f":"IFERROR('2014 scenario - input'!B34,\"\")","v":0},{"$f":"IFERROR('2014 scenario - input'!C34,\"\")","v":0},{"$f":"IFERROR(repcalc('2014 scenario - input'!$CV34:$GH34,'2014 scenario - input'!$G34,'2014 scenario - input'!$E34,'2014 scenario - input'!$F34,20,TRUE,TRUE),\"\")","v":""},"","","","","","","","","","","","","","","","","","","",{"$f":"IFERROR(IF(OR(D44=\"\",'2014 scenario - input'!$D34=\"\"),\"\",D44/'2014 scenario - input'!$D34),\"\")","v":""},{"$f":"IFERROR(IF(OR(E44=\"\",'2014 scenario - input'!$D34=\"\"),\"\",E44/'2014 scenario - input'!$D34),\"\")","v":""},{"$f":"IFERROR(IF(OR(F44=\"\",'2014 scenario - input'!$D34=\"\"),\"\",F44/'2014 scenario - input'!$D34),\"\")","v":""},{"$f":"IFERROR(IF(OR(G44=\"\",'2014 scenario - input'!$D34=\"\"),\"\",G44/'2014 scenario - input'!$D34),\"\")","v":""},{"$f":"IFERROR(IF(OR(H44=\"\",'2014 scenario - input'!$D34=\"\"),\"\",H44/'2014 scenario - input'!$D34),\"\")","v":""},{"$f":"IFERROR(IF(OR(I44=\"\",'2014 scenario - input'!$D34=\"\"),\"\",I44/'2014 scenario - input'!$D34),\"\")","v":""},{"$f":"IFERROR(IF(OR(J44=\"\",'2014 scenario - input'!$D34=\"\"),\"\",J44/'2014 scenario - input'!$D34),\"\")","v":""},{"$f":"IFERROR(IF(OR(K44=\"\",'2014 scenario - input'!$D34=\"\"),\"\",K44/'2014 scenario - input'!$D34),\"\")","v":""},{"$f":"IFERROR(IF(OR(L44=\"\",'2014 scenario - input'!$D34=\"\"),\"\",L44/'2014 scenario - input'!$D34),\"\")","v":""},{"$f":"IFERROR(IF(OR(M44=\"\",'2014 scenario - input'!$D34=\"\"),\"\",M44/'2014 scenario - input'!$D34),\"\")","v":""},{"$f":"IFERROR(IF(OR(N44=\"\",'2014 scenario - input'!$D34=\"\"),\"\",N44/'2014 scenario - input'!$D34),\"\")","v":""},{"$f":"IFERROR(IF(OR(O44=\"\",'2014 scenario - input'!$D34=\"\"),\"\",O44/'2014 scenario - input'!$D34),\"\")","v":""},{"$f":"IFERROR(IF(OR(P44=\"\",'2014 scenario - input'!$D34=\"\"),\"\",P44/'2014 scenario - input'!$D34),\"\")","v":""},{"$f":"IFERROR(IF(OR(Q44=\"\",'2014 scenario - input'!$D34=\"\"),\"\",Q44/'2014 scenario - input'!$D34),\"\")","v":""},{"$f":"IFERROR(IF(OR(R44=\"\",'2014 scenario - input'!$D34=\"\"),\"\",R44/'2014 scenario - input'!$D34),\"\")","v":""},{"$f":"IFERROR(IF(OR(S44=\"\",'2014 scenario - input'!$D34=\"\"),\"\",S44/'2014 scenario - input'!$D34),\"\")","v":""},{"$f":"IFERROR(IF(OR(T44=\"\",'2014 scenario - input'!$D34=\"\"),\"\",T44/'2014 scenario - input'!$D34),\"\")","v":""},{"$f":"IFERROR(IF(OR(U44=\"\",'2014 scenario - input'!$D34=\"\"),\"\",U44/'2014 scenario - input'!$D34),\"\")","v":""},{"$f":"IFERROR(IF(OR(V44=\"\",'2014 scenario - input'!$D34=\"\"),\"\",V44/'2014 scenario - input'!$D34),\"\")","v":""},{"$f":"IFERROR(IF(OR(W44=\"\",'2014 scenario - input'!$D34=\"\"),\"\",W44/'2014 scenario - input'!$D34),\"\")","v":""}]
[{"$f":"IFERROR('2014 scenario - input'!A35,\"\")","v":""},{"$f":"IFERROR('2014 scenario - input'!B35,\"\")","v":0},{"$f":"IFERROR('2014 scenario - input'!C35,\"\")","v":0},{"$f":"IFERROR(repcalc('2014 scenario - input'!$CV35:$GH35,'2014 scenario - input'!$G35,'2014 scenario - input'!$E35,'2014 scenario - input'!$F35,20,TRUE,TRUE),\"\")","v":""},"","","","","","","","","","","","","","","","","","","",{"$f":"IFERROR(IF(OR(D45=\"\",'2014 scenario - input'!$D35=\"\"),\"\",D45/'2014 scenario - input'!$D35),\"\")","v":""},{"$f":"IFERROR(IF(OR(E45=\"\",'2014 scenario - input'!$D35=\"\"),\"\",E45/'2014 scenario - input'!$D35),\"\")","v":""},{"$f":"IFERROR(IF(OR(F45=\"\",'2014 scenario - input'!$D35=\"\"),\"\",F45/'2014 scenario - input'!$D35),\"\")","v":""},{"$f":"IFERROR(IF(OR(G45=\"\",'2014 scenario - input'!$D35=\"\"),\"\",G45/'2014 scenario - input'!$D35),\"\")","v":""},{"$f":"IFERROR(IF(OR(H45=\"\",'2014 scenario - input'!$D35=\"\"),\"\",H45/'2014 scenario - input'!$D35),\"\")","v":""},{"$f":"IFERROR(IF(OR(I45=\"\",'2014 scenario - input'!$D35=\"\"),\"\",I45/'2014 scenario - input'!$D35),\"\")","v":""},{"$f":"IFERROR(IF(OR(J45=\"\",'2014 scenario - input'!$D35=\"\"),\"\",J45/'2014 scenario - input'!$D35),\"\")","v":""},{"$f":"IFERROR(IF(OR(K45=\"\",'2014 scenario - input'!$D35=\"\"),\"\",K45/'2014 scenario - input'!$D35),\"\")","v":""},{"$f":"IFERROR(IF(OR(L45=\"\",'2014 scenario - input'!$D35=\"\"),\"\",L45/'2014 scenario - input'!$D35),\"\")","v":""},{"$f":"IFERROR(IF(OR(M45=\"\",'2014 scenario - input'!$D35=\"\"),\"\",M45/'2014 scenario - input'!$D35),\"\")","v":""},{"$f":"IFERROR(IF(OR(N45=\"\",'2014 scenario - input'!$D35=\"\"),\"\",N45/'2014 scenario - input'!$D35),\"\")","v":""},{"$f":"IFERROR(IF(OR(O45=\"\",'2014 scenario - input'!$D35=\"\"),\"\",O45/'2014 scenario - input'!$D35),\"\")","v":""},{"$f":"IFERROR(IF(OR(P45=\"\",'2014 scenario - input'!$D35=\"\"),\"\",P45/'2014 scenario - input'!$D35),\"\")","v":""},{"$f":"IFERROR(IF(OR(Q45=\"\",'2014 scenario - input'!$D35=\"\"),\"\",Q45/'2014 scenario - input'!$D35),\"\")","v":""},{"$f":"IFERROR(IF(OR(R45=\"\",'2014 scenario - input'!$D35=\"\"),\"\",R45/'2014 scenario - input'!$D35),\"\")","v":""},{"$f":"IFERROR(IF(OR(S45=\"\",'2014 scenario - input'!$D35=\"\"),\"\",S45/'2014 scenario - input'!$D35),\"\")","v":""},{"$f":"IFERROR(IF(OR(T45=\"\",'2014 scenario - input'!$D35=\"\"),\"\",T45/'2014 scenario - input'!$D35),\"\")","v":""},{"$f":"IFERROR(IF(OR(U45=\"\",'2014 scenario - input'!$D35=\"\"),\"\",U45/'2014 scenario - input'!$D35),\"\")","v":""},{"$f":"IFERROR(IF(OR(V45=\"\",'2014 scenario - input'!$D35=\"\"),\"\",V45/'2014 scenario - input'!$D35),\"\")","v":""},{"$f":"IFERROR(IF(OR(W45=\"\",'2014 scenario - input'!$D35=\"\"),\"\",W45/'2014 scenario - input'!$D35),\"\")","v":""}]
[{"$f":"IFERROR('2014 scenario - input'!A36,\"\")","v":""},{"$f":"IFERROR('2014 scenario - input'!B36,\"\")","v":0},{"$f":"IFERROR('2014 scenario - input'!C36,\"\")","v":0},{"$f":"IFERROR(repcalc('2014 scenario - input'!$CV36:$GH36,'2014 scenario - input'!$G36,'2014 scenario - input'!$E36,'2014 scenario - input'!$F36,20,TRUE,TRUE),\"\")","v":""},"","","","","","","","","","","","","","","","","","","",{"$f":"IFERROR(IF(OR(D46=\"\",'2014 scenario - input'!$D36=\"\"),\"\",D46/'2014 scenario - input'!$D36),\"\")","v":""},{"$f":"IFERROR(IF(OR(E46=\"\",'2014 scenario - input'!$D36=\"\"),\"\",E46/'2014 scenario - input'!$D36),\"\")","v":""},{"$f":"IFERROR(IF(OR(F46=\"\",'2014 scenario - input'!$D36=\"\"),\"\",F46/'2014 scenario - input'!$D36),\"\")","v":""},{"$f":"IFERROR(IF(OR(G46=\"\",'2014 scenario - input'!$D36=\"\"),\"\",G46/'2014 scenario - input'!$D36),\"\")","v":""},{"$f":"IFERROR(IF(OR(H46=\"\",'2014 scenario - input'!$D36=\"\"),\"\",H46/'2014 scenario - input'!$D36),\"\")","v":""},{"$f":"IFERROR(IF(OR(I46=\"\",'2014 scenario - input'!$D36=\"\"),\"\",I46/'2014 scenario - input'!$D36),\"\")","v":""},{"$f":"IFERROR(IF(OR(J46=\"\",'2014 scenario - input'!$D36=\"\"),\"\",J46/'2014 scenario - input'!$D36),\"\")","v":""},{"$f":"IFERROR(IF(OR(K46=\"\",'2014 scenario - input'!$D36=\"\"),\"\",K46/'2014 scenario - input'!$D36),\"\")","v":""},{"$f":"IFERROR(IF(OR(L46=\"\",'2014 scenario - input'!$D36=\"\"),\"\",L46/'2014 scenario - input'!$D36),\"\")","v":""},{"$f":"IFERROR(IF(OR(M46=\"\",'2014 scenario - input'!$D36=\"\"),\"\",M46/'2014 scenario - input'!$D36),\"\")","v":""},{"$f":"IFERROR(IF(OR(N46=\"\",'2014 scenario - input'!$D36=\"\"),\"\",N46/'2014 scenario - input'!$D36),\"\")","v":""},{"$f":"IFERROR(IF(OR(O46=\"\",'2014 scenario - input'!$D36=\"\"),\"\",O46/'2014 scenario - input'!$D36),\"\")","v":""},{"$f":"IFERROR(IF(OR(P46=\"\",'2014 scenario - input'!$D36=\"\"),\"\",P46/'2014 scenario - input'!$D36),\"\")","v":""},{"$f":"IFERROR(IF(OR(Q46=\"\",'2014 scenario - input'!$D36=\"\"),\"\",Q46/'2014 scenario - input'!$D36),\"\")","v":""},{"$f":"IFERROR(IF(OR(R46=\"\",'2014 scenario - input'!$D36=\"\"),\"\",R46/'2014 scenario - input'!$D36),\"\")","v":""},{"$f":"IFERROR(IF(OR(S46=\"\",'2014 scenario - input'!$D36=\"\"),\"\",S46/'2014 scenario - input'!$D36),\"\")","v":""},{"$f":"IFERROR(IF(OR(T46=\"\",'2014 scenario - input'!$D36=\"\"),\"\",T46/'2014 scenario - input'!$D36),\"\")","v":""},{"$f":"IFERROR(IF(OR(U46=\"\",'2014 scenario - input'!$D36=\"\"),\"\",U46/'2014 scenario - input'!$D36),\"\")","v":""},{"$f":"IFERROR(IF(OR(V46=\"\",'2014 scenario - input'!$D36=\"\"),\"\",V46/'2014 scenario - input'!$D36),\"\")","v":""},{"$f":"IFERROR(IF(OR(W46=\"\",'2014 scenario - input'!$D36=\"\"),\"\",W46/'2014 scenario - input'!$D36),\"\")","v":""}]
[{"$f":"IFERROR('2014 scenario - input'!A37,\"\")","v":""},{"$f":"IFERROR('2014 scenario - input'!B37,\"\")","v":0},{"$f":"IFERROR('2014 scenario - input'!C37,\"\")","v":0},{"$f":"IFERROR(repcalc('2014 scenario - input'!$CV37:$GH37,'2014 scenario - input'!$G37,'2014 scenario - input'!$E37,'2014 scenario - input'!$F37,20,TRUE,TRUE),\"\")","v":""},"","","","","","","","","","","","","","","","","","","",{"$f":"IFERROR(IF(OR(D47=\"\",'2014 scenario - input'!$D37=\"\"),\"\",D47/'2014 scenario - input'!$D37),\"\")","v":""},{"$f":"IFERROR(IF(OR(E47=\"\",'2014 scenario - input'!$D37=\"\"),\"\",E47/'2014 scenario - input'!$D37),\"\")","v":""},{"$f":"IFERROR(IF(OR(F47=\"\",'2014 scenario - input'!$D37=\"\"),\"\",F47/'2014 scenario - input'!$D37),\"\")","v":""},{"$f":"IFERROR(IF(OR(G47=\"\",'2014 scenario - input'!$D37=\"\"),\"\",G47/'2014 scenario - input'!$D37),\"\")","v":""},{"$f":"IFERROR(IF(OR(H47=\"\",'2014 scenario - input'!$D37=\"\"),\"\",H47/'2014 scenario - input'!$D37),\"\")","v":""},{"$f":"IFERROR(IF(OR(I47=\"\",'2014 scenario - input'!$D37=\"\"),\"\",I47/'2014 scenario - input'!$D37),\"\")","v":""},{"$f":"IFERROR(IF(OR(J47=\"\",'2014 scenario - input'!$D37=\"\"),\"\",J47/'2014 scenario - input'!$D37),\"\")","v":""},{"$f":"IFERROR(IF(OR(K47=\"\",'2014 scenario - input'!$D37=\"\"),\"\",K47/'2014 scenario - input'!$D37),\"\")","v":""},{"$f":"IFERROR(IF(OR(L47=\"\",'2014 scenario - input'!$D37=\"\"),\"\",L47/'2014 scenario - input'!$D37),\"\")","v":""},{"$f":"IFERROR(IF(OR(M47=\"\",'2014 scenario - input'!$D37=\"\"),\"\",M47/'2014 scenario - input'!$D37),\"\")","v":""},{"$f":"IFERROR(IF(OR(N47=\"\",'2014 scenario - input'!$D37=\"\"),\"\",N47/'2014 scenario - input'!$D37),\"\")","v":""},{"$f":"IFERROR(IF(OR(O47=\"\",'2014 scenario - input'!$D37=\"\"),\"\",O47/'2014 scenario - input'!$D37),\"\")","v":""},{"$f":"IFERROR(IF(OR(P47=\"\",'2014 scenario - input'!$D37=\"\"),\"\",P47/'2014 scenario - input'!$D37),\"\")","v":""},{"$f":"IFERROR(IF(OR(Q47=\"\",'2014 scenario - input'!$D37=\"\"),\"\",Q47/'2014 scenario - input'!$D37),\"\")","v":""},{"$f":"IFERROR(IF(OR(R47=\"\",'2014 scenario - input'!$D37=\"\"),\"\",R47/'2014 scenario - input'!$D37),\"\")","v":""},{"$f":"IFERROR(IF(OR(S47=\"\",'2014 scenario - input'!$D37=\"\"),\"\",S47/'2014 scenario - input'!$D37),\"\")","v":""},{"$f":"IFERROR(IF(OR(T47=\"\",'2014 scenario - input'!$D37=\"\"),\"\",T47/'2014 scenario - input'!$D37),\"\")","v":""},{"$f":"IFERROR(IF(OR(U47=\"\",'2014 scenario - input'!$D37=\"\"),\"\",U47/'2014 scenario - input'!$D37),\"\")","v":""},{"$f":"IFERROR(IF(OR(V47=\"\",'2014 scenario - input'!$D37=\"\"),\"\",V47/'2014 scenario - input'!$D37),\"\")","v":""},{"$f":"IFERROR(IF(OR(W47=\"\",'2014 scenario - input'!$D37=\"\"),\"\",W47/'2014 scenario - input'!$D37),\"\")","v":""}]
[{"$f":"IFERROR('2014 scenario - input'!A38,\"\")","v":""},{"$f":"IFERROR('2014 scenario - input'!B38,\"\")","v":0},{"$f":"IFERROR('2014 scenario - input'!C38,\"\")","v":0},{"$f":"IFERROR(repcalc('2014 scenario - input'!$CV38:$GH38,'2014 scenario - input'!$G38,'2014 scenario - input'!$E38,'2014 scenario - input'!$F38,20,TRUE,TRUE),\"\")","v":""},"","","","","","","","","","","","","","","","","","","",{"$f":"IFERROR(IF(OR(D48=\"\",'2014 scenario - input'!$D38=\"\"),\"\",D48/'2014 scenario - input'!$D38),\"\")","v":""},{"$f":"IFERROR(IF(OR(E48=\"\",'2014 scenario - input'!$D38=\"\"),\"\",E48/'2014 scenario - input'!$D38),\"\")","v":""},{"$f":"IFERROR(IF(OR(F48=\"\",'2014 scenario - input'!$D38=\"\"),\"\",F48/'2014 scenario - input'!$D38),\"\")","v":""},{"$f":"IFERROR(IF(OR(G48=\"\",'2014 scenario - input'!$D38=\"\"),\"\",G48/'2014 scenario - input'!$D38),\"\")","v":""},{"$f":"IFERROR(IF(OR(H48=\"\",'2014 scenario - input'!$D38=\"\"),\"\",H48/'2014 scenario - input'!$D38),\"\")","v":""},{"$f":"IFERROR(IF(OR(I48=\"\",'2014 scenario - input'!$D38=\"\"),\"\",I48/'2014 scenario - input'!$D38),\"\")","v":""},{"$f":"IFERROR(IF(OR(J48=\"\",'2014 scenario - input'!$D38=\"\"),\"\",J48/'2014 scenario - input'!$D38),\"\")","v":""},{"$f":"IFERROR(IF(OR(K48=\"\",'2014 scenario - input'!$D38=\"\"),\"\",K48/'2014 scenario - input'!$D38),\"\")","v":""},{"$f":"IFERROR(IF(OR(L48=\"\",'2014 scenario - input'!$D38=\"\"),\"\",L48/'2014 scenario - input'!$D38),\"\")","v":""},{"$f":"IFERROR(IF(OR(M48=\"\",'2014 scenario - input'!$D38=\"\"),\"\",M48/'2014 scenario - input'!$D38),\"\")","v":""},{"$f":"IFERROR(IF(OR(N48=\"\",'2014 scenario - input'!$D38=\"\"),\"\",N48/'2014 scenario - input'!$D38),\"\")","v":""},{"$f":"IFERROR(IF(OR(O48=\"\",'2014 scenario - input'!$D38=\"\"),\"\",O48/'2014 scenario - input'!$D38),\"\")","v":""},{"$f":"IFERROR(IF(OR(P48=\"\",'2014 scenario - input'!$D38=\"\"),\"\",P48/'2014 scenario - input'!$D38),\"\")","v":""},{"$f":"IFERROR(IF(OR(Q48=\"\",'2014 scenario - input'!$D38=\"\"),\"\",Q48/'2014 scenario - input'!$D38),\"\")","v":""},{"$f":"IFERROR(IF(OR(R48=\"\",'2014 scenario - input'!$D38=\"\"),\"\",R48/'2014 scenario - input'!$D38),\"\")","v":""},{"$f":"IFERROR(IF(OR(S48=\"\",'2014 scenario - input'!$D38=\"\"),\"\",S48/'2014 scenario - input'!$D38),\"\")","v":""},{"$f":"IFERROR(IF(OR(T48=\"\",'2014 scenario - input'!$D38=\"\"),\"\",T48/'2014 scenario - input'!$D38),\"\")","v":""},{"$f":"IFERROR(IF(OR(U48=\"\",'2014 scenario - input'!$D38=\"\"),\"\",U48/'2014 scenario - input'!$D38),\"\")","v":""},{"$f":"IFERROR(IF(OR(V48=\"\",'2014 scenario - input'!$D38=\"\"),\"\",V48/'2014 scenario - input'!$D38),\"\")","v":""},{"$f":"IFERROR(IF(OR(W48=\"\",'2014 scenario - input'!$D38=\"\"),\"\",W48/'2014 scenario - input'!$D38),\"\")","v":""}]
[{"$f":"IFERROR('2014 scenario - input'!A39,\"\")","v":""},{"$f":"IFERROR('2014 scenario - input'!B39,\"\")","v":0},{"$f":"IFERROR('2014 scenario - input'!C39,\"\")","v":0},{"$f":"IFERROR(repcalc('2014 scenario - input'!$CV39:$GH39,'2014 scenario - input'!$G39,'2014 scenario - input'!$E39,'2014 scenario - input'!$F39,20,TRUE,TRUE),\"\")","v":""},"","","","","","","","","","","","","","","","","","","",{"$f":"IFERROR(IF(OR(D49=\"\",'2014 scenario - input'!$D39=\"\"),\"\",D49/'2014 scenario - input'!$D39),\"\")","v":""},{"$f":"IFERROR(IF(OR(E49=\"\",'2014 scenario - input'!$D39=\"\"),\"\",E49/'2014 scenario - input'!$D39),\"\")","v":""},{"$f":"IFERROR(IF(OR(F49=\"\",'2014 scenario - input'!$D39=\"\"),\"\",F49/'2014 scenario - input'!$D39),\"\")","v":""},{"$f":"IFERROR(IF(OR(G49=\"\",'2014 scenario - input'!$D39=\"\"),\"\",G49/'2014 scenario - input'!$D39),\"\")","v":""},{"$f":"IFERROR(IF(OR(H49=\"\",'2014 scenario - input'!$D39=\"\"),\"\",H49/'2014 scenario - input'!$D39),\"\")","v":""},{"$f":"IFERROR(IF(OR(I49=\"\",'2014 scenario - input'!$D39=\"\"),\"\",I49/'2014 scenario - input'!$D39),\"\")","v":""},{"$f":"IFERROR(IF(OR(J49=\"\",'2014 scenario - input'!$D39=\"\"),\"\",J49/'2014 scenario - input'!$D39),\"\")","v":""},{"$f":"IFERROR(IF(OR(K49=\"\",'2014 scenario - input'!$D39=\"\"),\"\",K49/'2014 scenario - input'!$D39),\"\")","v":""},{"$f":"IFERROR(IF(OR(L49=\"\",'2014 scenario - input'!$D39=\"\"),\"\",L49/'2014 scenario - input'!$D39),\"\")","v":""},{"$f":"IFERROR(IF(OR(M49=\"\",'2014 scenario - input'!$D39=\"\"),\"\",M49/'2014 scenario - input'!$D39),\"\")","v":""},{"$f":"IFERROR(IF(OR(N49=\"\",'2014 scenario - input'!$D39=\"\"),\"\",N49/'2014 scenario - input'!$D39),\"\")","v":""},{"$f":"IFERROR(IF(OR(O49=\"\",'2014 scenario - input'!$D39=\"\"),\"\",O49/'2014 scenario - input'!$D39),\"\")","v":""},{"$f":"IFERROR(IF(OR(P49=\"\",'2014 scenario - input'!$D39=\"\"),\"\",P49/'2014 scenario - input'!$D39),\"\")","v":""},{"$f":"IFERROR(IF(OR(Q49=\"\",'2014 scenario - input'!$D39=\"\"),\"\",Q49/'2014 scenario - input'!$D39),\"\")","v":""},{"$f":"IFERROR(IF(OR(R49=\"\",'2014 scenario - input'!$D39=\"\"),\"\",R49/'2014 scenario - input'!$D39),\"\")","v":""},{"$f":"IFERROR(IF(OR(S49=\"\",'2014 scenario - input'!$D39=\"\"),\"\",S49/'2014 scenario - input'!$D39),\"\")","v":""},{"$f":"IFERROR(IF(OR(T49=\"\",'2014 scenario - input'!$D39=\"\"),\"\",T49/'2014 scenario - input'!$D39),\"\")","v":""},{"$f":"IFERROR(IF(OR(U49=\"\",'2014 scenario - input'!$D39=\"\"),\"\",U49/'2014 scenario - input'!$D39),\"\")","v":""},{"$f":"IFERROR(IF(OR(V49=\"\",'2014 scenario - input'!$D39=\"\"),\"\",V49/'2014 scenario - input'!$D39),\"\")","v":""},{"$f":"IFERROR(IF(OR(W49=\"\",'2014 scenario - input'!$D39=\"\"),\"\",W49/'2014 scenario - input'!$D39),\"\")","v":""}]
[{"$f":"IFERROR('2014 scenario - input'!A40,\"\")","v":""},{"$f":"IFERROR('2014 scenario - input'!B40,\"\")","v":0},{"$f":"IFERROR('2014 scenario - input'!C40,\"\")","v":0},{"$f":"IFERROR(repcalc('2014 scenario - input'!$CV40:$GH40,'2014 scenario - input'!$G40,'2014 scenario - input'!$E40,'2014 scenario - input'!$F40,20,TRUE,TRUE),\"\")","v":""},"","","","","","","","","","","","","","","","","","","",{"$f":"IFERROR(IF(OR(D50=\"\",'2014 scenario - input'!$D40=\"\"),\"\",D50/'2014 scenario - input'!$D40),\"\")","v":""},{"$f":"IFERROR(IF(OR(E50=\"\",'2014 scenario - input'!$D40=\"\"),\"\",E50/'2014 scenario - input'!$D40),\"\")","v":""},{"$f":"IFERROR(IF(OR(F50=\"\",'2014 scenario - input'!$D40=\"\"),\"\",F50/'2014 scenario - input'!$D40),\"\")","v":""},{"$f":"IFERROR(IF(OR(G50=\"\",'2014 scenario - input'!$D40=\"\"),\"\",G50/'2014 scenario - input'!$D40),\"\")","v":""},{"$f":"IFERROR(IF(OR(H50=\"\",'2014 scenario - input'!$D40=\"\"),\"\",H50/'2014 scenario - input'!$D40),\"\")","v":""},{"$f":"IFERROR(IF(OR(I50=\"\",'2014 scenario - input'!$D40=\"\"),\"\",I50/'2014 scenario - input'!$D40),\"\")","v":""},{"$f":"IFERROR(IF(OR(J50=\"\",'2014 scenario - input'!$D40=\"\"),\"\",J50/'2014 scenario - input'!$D40),\"\")","v":""},{"$f":"IFERROR(IF(OR(K50=\"\",'2014 scenario - input'!$D40=\"\"),\"\",K50/'2014 scenario - input'!$D40),\"\")","v":""},{"$f":"IFERROR(IF(OR(L50=\"\",'2014 scenario - input'!$D40=\"\"),\"\",L50/'2014 scenario - input'!$D40),\"\")","v":""},{"$f":"IFERROR(IF(OR(M50=\"\",'2014 scenario - input'!$D40=\"\"),\"\",M50/'2014 scenario - input'!$D40),\"\")","v":""},{"$f":"IFERROR(IF(OR(N50=\"\",'2014 scenario - input'!$D40=\"\"),\"\",N50/'2014 scenario - input'!$D40),\"\")","v":""},{"$f":"IFERROR(IF(OR(O50=\"\",'2014 scenario - input'!$D40=\"\"),\"\",O50/'2014 scenario - input'!$D40),\"\")","v":""},{"$f":"IFERROR(IF(OR(P50=\"\",'2014 scenario - input'!$D40=\"\"),\"\",P50/'2014 scenario - input'!$D40),\"\")","v":""},{"$f":"IFERROR(IF(OR(Q50=\"\",'2014 scenario - input'!$D40=\"\"),\"\",Q50/'2014 scenario - input'!$D40),\"\")","v":""},{"$f":"IFERROR(IF(OR(R50=\"\",'2014 scenario - input'!$D40=\"\"),\"\",R50/'2014 scenario - input'!$D40),\"\")","v":""},{"$f":"IFERROR(IF(OR(S50=\"\",'2014 scenario - input'!$D40=\"\"),\"\",S50/'2014 scenario - input'!$D40),\"\")","v":""},{"$f":"IFERROR(IF(OR(T50=\"\",'2014 scenario - input'!$D40=\"\"),\"\",T50/'2014 scenario - input'!$D40),\"\")","v":""},{"$f":"IFERROR(IF(OR(U50=\"\",'2014 scenario - input'!$D40=\"\"),\"\",U50/'2014 scenario - input'!$D40),\"\")","v":""},{"$f":"IFERROR(IF(OR(V50=\"\",'2014 scenario - input'!$D40=\"\"),\"\",V50/'2014 scenario - input'!$D40),\"\")","v":""},{"$f":"IFERROR(IF(OR(W50=\"\",'2014 scenario - input'!$D40=\"\"),\"\",W50/'2014 scenario - input'!$D40),\"\")","v":""}]
[{"$f":"IFERROR('2014 scenario - input'!A41,\"\")","v":""},{"$f":"IFERROR('2014 scenario - input'!B41,\"\")","v":0},{"$f":"IFERROR('2014 scenario - input'!C41,\"\")","v":0},{"$f":"IFERROR(repcalc('2014 scenario - input'!$CV41:$GH41,'2014 scenario - input'!$G41,'2014 scenario - input'!$E41,'2014 scenario - input'!$F41,20,TRUE,TRUE),\"\")","v":""},"","","","","","","","","","","","","","","","","","","",{"$f":"IFERROR(IF(OR(D51=\"\",'2014 scenario - input'!$D41=\"\"),\"\",D51/'2014 scenario - input'!$D41),\"\")","v":""},{"$f":"IFERROR(IF(OR(E51=\"\",'2014 scenario - input'!$D41=\"\"),\"\",E51/'2014 scenario - input'!$D41),\"\")","v":""},{"$f":"IFERROR(IF(OR(F51=\"\",'2014 scenario - input'!$D41=\"\"),\"\",F51/'2014 scenario - input'!$D41),\"\")","v":""},{"$f":"IFERROR(IF(OR(G51=\"\",'2014 scenario - input'!$D41=\"\"),\"\",G51/'2014 scenario - input'!$D41),\"\")","v":""},{"$f":"IFERROR(IF(OR(H51=\"\",'2014 scenario - input'!$D41=\"\"),\"\",H51/'2014 scenario - input'!$D41),\"\")","v":""},{"$f":"IFERROR(IF(OR(I51=\"\",'2014 scenario - input'!$D41=\"\"),\"\",I51/'2014 scenario - input'!$D41),\"\")","v":""},{"$f":"IFERROR(IF(OR(J51=\"\",'2014 scenario - input'!$D41=\"\"),\"\",J51/'2014 scenario - input'!$D41),\"\")","v":""},{"$f":"IFERROR(IF(OR(K51=\"\",'2014 scenario - input'!$D41=\"\"),\"\",K51/'2014 scenario - input'!$D41),\"\")","v":""},{"$f":"IFERROR(IF(OR(L51=\"\",'2014 scenario - input'!$D41=\"\"),\"\",L51/'2014 scenario - input'!$D41),\"\")","v":""},{"$f":"IFERROR(IF(OR(M51=\"\",'2014 scenario - input'!$D41=\"\"),\"\",M51/'2014 scenario - input'!$D41),\"\")","v":""},{"$f":"IFERROR(IF(OR(N51=\"\",'2014 scenario - input'!$D41=\"\"),\"\",N51/'2014 scenario - input'!$D41),\"\")","v":""},{"$f":"IFERROR(IF(OR(O51=\"\",'2014 scenario - input'!$D41=\"\"),\"\",O51/'2014 scenario - input'!$D41),\"\")","v":""},{"$f":"IFERROR(IF(OR(P51=\"\",'2014 scenario - input'!$D41=\"\"),\"\",P51/'2014 scenario - input'!$D41),\"\")","v":""},{"$f":"IFERROR(IF(OR(Q51=\"\",'2014 scenario - input'!$D41=\"\"),\"\",Q51/'2014 scenario - input'!$D41),\"\")","v":""},{"$f":"IFERROR(IF(OR(R51=\"\",'2014 scenario - input'!$D41=\"\"),\"\",R51/'2014 scenario - input'!$D41),\"\")","v":""},{"$f":"IFERROR(IF(OR(S51=\"\",'2014 scenario - input'!$D41=\"\"),\"\",S51/'2014 scenario - input'!$D41),\"\")","v":""},{"$f":"IFERROR(IF(OR(T51=\"\",'2014 scenario - input'!$D41=\"\"),\"\",T51/'2014 scenario - input'!$D41),\"\")","v":""},{"$f":"IFERROR(IF(OR(U51=\"\",'2014 scenario - input'!$D41=\"\"),\"\",U51/'2014 scenario - input'!$D41),\"\")","v":""},{"$f":"IFERROR(IF(OR(V51=\"\",'2014 scenario - input'!$D41=\"\"),\"\",V51/'2014 scenario - input'!$D41),\"\")","v":""},{"$f":"IFERROR(IF(OR(W51=\"\",'2014 scenario - input'!$D41=\"\"),\"\",W51/'2014 scenario - input'!$D41),\"\")","v":""}]
[{"$f":"IFERROR('2014 scenario - input'!A42,\"\")","v":""},{"$f":"IFERROR('2014 scenario - input'!B42,\"\")","v":0},{"$f":"IFERROR('2014 scenario - input'!C42,\"\")","v":0},{"$f":"IFERROR(repcalc('2014 scenario - input'!$CV42:$GH42,'2014 scenario - input'!$G42,'2014 scenario - input'!$E42,'2014 scenario - input'!$F42,20,TRUE,TRUE),\"\")","v":""},"","","","","","","","","","","","","","","","","","","",{"$f":"IFERROR(IF(OR(D52=\"\",'2014 scenario - input'!$D42=\"\"),\"\",D52/'2014 scenario - input'!$D42),\"\")","v":""},{"$f":"IFERROR(IF(OR(E52=\"\",'2014 scenario - input'!$D42=\"\"),\"\",E52/'2014 scenario - input'!$D42),\"\")","v":""},{"$f":"IFERROR(IF(OR(F52=\"\",'2014 scenario - input'!$D42=\"\"),\"\",F52/'2014 scenario - input'!$D42),\"\")","v":""},{"$f":"IFERROR(IF(OR(G52=\"\",'2014 scenario - input'!$D42=\"\"),\"\",G52/'2014 scenario - input'!$D42),\"\")","v":""},{"$f":"IFERROR(IF(OR(H52=\"\",'2014 scenario - input'!$D42=\"\"),\"\",H52/'2014 scenario - input'!$D42),\"\")","v":""},{"$f":"IFERROR(IF(OR(I52=\"\",'2014 scenario - input'!$D42=\"\"),\"\",I52/'2014 scenario - input'!$D42),\"\")","v":""},{"$f":"IFERROR(IF(OR(J52=\"\",'2014 scenario - input'!$D42=\"\"),\"\",J52/'2014 scenario - input'!$D42),\"\")","v":""},{"$f":"IFERROR(IF(OR(K52=\"\",'2014 scenario - input'!$D42=\"\"),\"\",K52/'2014 scenario - input'!$D42),\"\")","v":""},{"$f":"IFERROR(IF(OR(L52=\"\",'2014 scenario - input'!$D42=\"\"),\"\",L52/'2014 scenario - input'!$D42),\"\")","v":""},{"$f":"IFERROR(IF(OR(M52=\"\",'2014 scenario - input'!$D42=\"\"),\"\",M52/'2014 scenario - input'!$D42),\"\")","v":""},{"$f":"IFERROR(IF(OR(N52=\"\",'2014 scenario - input'!$D42=\"\"),\"\",N52/'2014 scenario - input'!$D42),\"\")","v":""},{"$f":"IFERROR(IF(OR(O52=\"\",'2014 scenario - input'!$D42=\"\"),\"\",O52/'2014 scenario - input'!$D42),\"\")","v":""},{"$f":"IFERROR(IF(OR(P52=\"\",'2014 scenario - input'!$D42=\"\"),\"\",P52/'2014 scenario - input'!$D42),\"\")","v":""},{"$f":"IFERROR(IF(OR(Q52=\"\",'2014 scenario - input'!$D42=\"\"),\"\",Q52/'2014 scenario - input'!$D42),\"\")","v":""},{"$f":"IFERROR(IF(OR(R52=\"\",'2014 scenario - input'!$D42=\"\"),\"\",R52/'2014 scenario - input'!$D42),\"\")","v":""},{"$f":"IFERROR(IF(OR(S52=\"\",'2014 scenario - input'!$D42=\"\"),\"\",S52/'2014 scenario - input'!$D42),\"\")","v":""},{"$f":"IFERROR(IF(OR(T52=\"\",'2014 scenario - input'!$D42=\"\"),\"\",T52/'2014 scenario - input'!$D42),\"\")","v":""},{"$f":"IFERROR(IF(OR(U52=\"\",'2014 scenario - input'!$D42=\"\"),\"\",U52/'2014 scenario - input'!$D42),\"\")","v":""},{"$f":"IFERROR(IF(OR(V52=\"\",'2014 scenario - input'!$D42=\"\"),\"\",V52/'2014 scenario - input'!$D42),\"\")","v":""},{"$f":"IFERROR(IF(OR(W52=\"\",'2014 scenario - input'!$D42=\"\"),\"\",W52/'2014 scenario - input'!$D42),\"\")","v":""}]
[{"$f":"IFERROR('2014 scenario - input'!A43,\"\")","v":""},{"$f":"IFERROR('2014 scenario - input'!B43,\"\")","v":0},{"$f":"IFERROR('2014 scenario - input'!C43,\"\")","v":0},{"$f":"IFERROR(repcalc('2014 scenario - input'!$CV43:$GH43,'2014 scenario - input'!$G43,'2014 scenario - input'!$E43,'2014 scenario - input'!$F43,20,TRUE,TRUE),\"\")","v":""},"","","","","","","","","","","","","","","","","","","",{"$f":"IFERROR(IF(OR(D53=\"\",'2014 scenario - input'!$D43=\"\"),\"\",D53/'2014 scenario - input'!$D43),\"\")","v":""},{"$f":"IFERROR(IF(OR(E53=\"\",'2014 scenario - input'!$D43=\"\"),\"\",E53/'2014 scenario - input'!$D43),\"\")","v":""},{"$f":"IFERROR(IF(OR(F53=\"\",'2014 scenario - input'!$D43=\"\"),\"\",F53/'2014 scenario - input'!$D43),\"\")","v":""},{"$f":"IFERROR(IF(OR(G53=\"\",'2014 scenario - input'!$D43=\"\"),\"\",G53/'2014 scenario - input'!$D43),\"\")","v":""},{"$f":"IFERROR(IF(OR(H53=\"\",'2014 scenario - input'!$D43=\"\"),\"\",H53/'2014 scenario - input'!$D43),\"\")","v":""},{"$f":"IFERROR(IF(OR(I53=\"\",'2014 scenario - input'!$D43=\"\"),\"\",I53/'2014 scenario - input'!$D43),\"\")","v":""},{"$f":"IFERROR(IF(OR(J53=\"\",'2014 scenario - input'!$D43=\"\"),\"\",J53/'2014 scenario - input'!$D43),\"\")","v":""},{"$f":"IFERROR(IF(OR(K53=\"\",'2014 scenario - input'!$D43=\"\"),\"\",K53/'2014 scenario - input'!$D43),\"\")","v":""},{"$f":"IFERROR(IF(OR(L53=\"\",'2014 scenario - input'!$D43=\"\"),\"\",L53/'2014 scenario - input'!$D43),\"\")","v":""},{"$f":"IFERROR(IF(OR(M53=\"\",'2014 scenario - input'!$D43=\"\"),\"\",M53/'2014 scenario - input'!$D43),\"\")","v":""},{"$f":"IFERROR(IF(OR(N53=\"\",'2014 scenario - input'!$D43=\"\"),\"\",N53/'2014 scenario - input'!$D43),\"\")","v":""},{"$f":"IFERROR(IF(OR(O53=\"\",'2014 scenario - input'!$D43=\"\"),\"\",O53/'2014 scenario - input'!$D43),\"\")","v":""},{"$f":"IFERROR(IF(OR(P53=\"\",'2014 scenario - input'!$D43=\"\"),\"\",P53/'2014 scenario - input'!$D43),\"\")","v":""},{"$f":"IFERROR(IF(OR(Q53=\"\",'2014 scenario - input'!$D43=\"\"),\"\",Q53/'2014 scenario - input'!$D43),\"\")","v":""},{"$f":"IFERROR(IF(OR(R53=\"\",'2014 scenario - input'!$D43=\"\"),\"\",R53/'2014 scenario - input'!$D43),\"\")","v":""},{"$f":"IFERROR(IF(OR(S53=\"\",'2014 scenario - input'!$D43=\"\"),\"\",S53/'2014 scenario - input'!$D43),\"\")","v":""},{"$f":"IFERROR(IF(OR(T53=\"\",'2014 scenario - input'!$D43=\"\"),\"\",T53/'2014 scenario - input'!$D43),\"\")","v":""},{"$f":"IFERROR(IF(OR(U53=\"\",'2014 scenario - input'!$D43=\"\"),\"\",U53/'2014 scenario - input'!$D43),\"\")","v":""},{"$f":"IFERROR(IF(OR(V53=\"\",'2014 scenario - input'!$D43=\"\"),\"\",V53/'2014 scenario - input'!$D43),\"\")","v":""},{"$f":"IFERROR(IF(OR(W53=\"\",'2014 scenario - input'!$D43=\"\"),\"\",W53/'2014 scenario - input'!$D43),\"\")","v":""}]
[{"$f":"IFERROR('2014 scenario - input'!A44,\"\")","v":""},{"$f":"IFERROR('2014 scenario - input'!B44,\"\")","v":0},{"$f":"IFERROR('2014 scenario - input'!C44,\"\")","v":0},{"$f":"IFERROR(repcalc('2014 scenario - input'!$CV44:$GH44,'2014 scenario - input'!$G44,'2014 scenario - input'!$E44,'2014 scenario - input'!$F44,20,TRUE,TRUE),\"\")","v":""},"","","","","","","","","","","","","","","","","","","",{"$f":"IFERROR(IF(OR(D54=\"\",'2014 scenario - input'!$D44=\"\"),\"\",D54/'2014 scenario - input'!$D44),\"\")","v":""},{"$f":"IFERROR(IF(OR(E54=\"\",'2014 scenario - input'!$D44=\"\"),\"\",E54/'2014 scenario - input'!$D44),\"\")","v":""},{"$f":"IFERROR(IF(OR(F54=\"\",'2014 scenario - input'!$D44=\"\"),\"\",F54/'2014 scenario - input'!$D44),\"\")","v":""},{"$f":"IFERROR(IF(OR(G54=\"\",'2014 scenario - input'!$D44=\"\"),\"\",G54/'2014 scenario - input'!$D44),\"\")","v":""},{"$f":"IFERROR(IF(OR(H54=\"\",'2014 scenario - input'!$D44=\"\"),\"\",H54/'2014 scenario - input'!$D44),\"\")","v":""},{"$f":"IFERROR(IF(OR(I54=\"\",'2014 scenario - input'!$D44=\"\"),\"\",I54/'2014 scenario - input'!$D44),\"\")","v":""},{"$f":"IFERROR(IF(OR(J54=\"\",'2014 scenario - input'!$D44=\"\"),\"\",J54/'2014 scenario - input'!$D44),\"\")","v":""},{"$f":"IFERROR(IF(OR(K54=\"\",'2014 scenario - input'!$D44=\"\"),\"\",K54/'2014 scenario - input'!$D44),\"\")","v":""},{"$f":"IFERROR(IF(OR(L54=\"\",'2014 scenario - input'!$D44=\"\"),\"\",L54/'2014 scenario - input'!$D44),\"\")","v":""},{"$f":"IFERROR(IF(OR(M54=\"\",'2014 scenario - input'!$D44=\"\"),\"\",M54/'2014 scenario - input'!$D44),\"\")","v":""},{"$f":"IFERROR(IF(OR(N54=\"\",'2014 scenario - input'!$D44=\"\"),\"\",N54/'2014 scenario - input'!$D44),\"\")","v":""},{"$f":"IFERROR(IF(OR(O54=\"\",'2014 scenario - input'!$D44=\"\"),\"\",O54/'2014 scenario - input'!$D44),\"\")","v":""},{"$f":"IFERROR(IF(OR(P54=\"\",'2014 scenario - input'!$D44=\"\"),\"\",P54/'2014 scenario - input'!$D44),\"\")","v":""},{"$f":"IFERROR(IF(OR(Q54=\"\",'2014 scenario - input'!$D44=\"\"),\"\",Q54/'2014 scenario - input'!$D44),\"\")","v":""},{"$f":"IFERROR(IF(OR(R54=\"\",'2014 scenario - input'!$D44=\"\"),\"\",R54/'2014 scenario - input'!$D44),\"\")","v":""},{"$f":"IFERROR(IF(OR(S54=\"\",'2014 scenario - input'!$D44=\"\"),\"\",S54/'2014 scenario - input'!$D44),\"\")","v":""},{"$f":"IFERROR(IF(OR(T54=\"\",'2014 scenario - input'!$D44=\"\"),\"\",T54/'2014 scenario - input'!$D44),\"\")","v":""},{"$f":"IFERROR(IF(OR(U54=\"\",'2014 scenario - input'!$D44=\"\"),\"\",U54/'2014 scenario - input'!$D44),\"\")","v":""},{"$f":"IFERROR(IF(OR(V54=\"\",'2014 scenario - input'!$D44=\"\"),\"\",V54/'2014 scenario - input'!$D44),\"\")","v":""},{"$f":"IFERROR(IF(OR(W54=\"\",'2014 scenario - input'!$D44=\"\"),\"\",W54/'2014 scenario - input'!$D44),\"\")","v":""}]
[{"$f":"IFERROR('2014 scenario - input'!A45,\"\")","v":""},{"$f":"IFERROR('2014 scenario - input'!B45,\"\")","v":0},{"$f":"IFERROR('2014 scenario - input'!C45,\"\")","v":0},{"$f":"IFERROR(repcalc('2014 scenario - input'!$CV45:$GH45,'2014 scenario - input'!$G45,'2014 scenario - input'!$E45,'2014 scenario - input'!$F45,20,TRUE,TRUE),\"\")","v":""},"","","","","","","","","","","","","","","","","","","",{"$f":"IFERROR(IF(OR(D55=\"\",'2014 scenario - input'!$D45=\"\"),\"\",D55/'2014 scenario - input'!$D45),\"\")","v":""},{"$f":"IFERROR(IF(OR(E55=\"\",'2014 scenario - input'!$D45=\"\"),\"\",E55/'2014 scenario - input'!$D45),\"\")","v":""},{"$f":"IFERROR(IF(OR(F55=\"\",'2014 scenario - input'!$D45=\"\"),\"\",F55/'2014 scenario - input'!$D45),\"\")","v":""},{"$f":"IFERROR(IF(OR(G55=\"\",'2014 scenario - input'!$D45=\"\"),\"\",G55/'2014 scenario - input'!$D45),\"\")","v":""},{"$f":"IFERROR(IF(OR(H55=\"\",'2014 scenario - input'!$D45=\"\"),\"\",H55/'2014 scenario - input'!$D45),\"\")","v":""},{"$f":"IFERROR(IF(OR(I55=\"\",'2014 scenario - input'!$D45=\"\"),\"\",I55/'2014 scenario - input'!$D45),\"\")","v":""},{"$f":"IFERROR(IF(OR(J55=\"\",'2014 scenario - input'!$D45=\"\"),\"\",J55/'2014 scenario - input'!$D45),\"\")","v":""},{"$f":"IFERROR(IF(OR(K55=\"\",'2014 scenario - input'!$D45=\"\"),\"\",K55/'2014 scenario - input'!$D45),\"\")","v":""},{"$f":"IFERROR(IF(OR(L55=\"\",'2014 scenario - input'!$D45=\"\"),\"\",L55/'2014 scenario - input'!$D45),\"\")","v":""},{"$f":"IFERROR(IF(OR(M55=\"\",'2014 scenario - input'!$D45=\"\"),\"\",M55/'2014 scenario - input'!$D45),\"\")","v":""},{"$f":"IFERROR(IF(OR(N55=\"\",'2014 scenario - input'!$D45=\"\"),\"\",N55/'2014 scenario - input'!$D45),\"\")","v":""},{"$f":"IFERROR(IF(OR(O55=\"\",'2014 scenario - input'!$D45=\"\"),\"\",O55/'2014 scenario - input'!$D45),\"\")","v":""},{"$f":"IFERROR(IF(OR(P55=\"\",'2014 scenario - input'!$D45=\"\"),\"\",P55/'2014 scenario - input'!$D45),\"\")","v":""},{"$f":"IFERROR(IF(OR(Q55=\"\",'2014 scenario - input'!$D45=\"\"),\"\",Q55/'2014 scenario - input'!$D45),\"\")","v":""},{"$f":"IFERROR(IF(OR(R55=\"\",'2014 scenario - input'!$D45=\"\"),\"\",R55/'2014 scenario - input'!$D45),\"\")","v":""},{"$f":"IFERROR(IF(OR(S55=\"\",'2014 scenario - input'!$D45=\"\"),\"\",S55/'2014 scenario - input'!$D45),\"\")","v":""},{"$f":"IFERROR(IF(OR(T55=\"\",'2014 scenario - input'!$D45=\"\"),\"\",T55/'2014 scenario - input'!$D45),\"\")","v":""},{"$f":"IFERROR(IF(OR(U55=\"\",'2014 scenario - input'!$D45=\"\"),\"\",U55/'2014 scenario - input'!$D45),\"\")","v":""},{"$f":"IFERROR(IF(OR(V55=\"\",'2014 scenario - input'!$D45=\"\"),\"\",V55/'2014 scenario - input'!$D45),\"\")","v":""},{"$f":"IFERROR(IF(OR(W55=\"\",'2014 scenario - input'!$D45=\"\"),\"\",W55/'2014 scenario - input'!$D45),\"\")","v":""}]
[{"$f":"IFERROR('2014 scenario - input'!A46,\"\")","v":""},{"$f":"IFERROR('2014 scenario - input'!B46,\"\")","v":0},{"$f":"IFERROR('2014 scenario - input'!C46,\"\")","v":0},{"$f":"IFERROR(repcalc('2014 scenario - input'!$CV46:$GH46,'2014 scenario - input'!$G46,'2014 scenario - input'!$E46,'2014 scenario - input'!$F46,20,TRUE,TRUE),\"\")","v":""},"","","","","","","","","","","","","","","","","","","",{"$f":"IFERROR(IF(OR(D56=\"\",'2014 scenario - input'!$D46=\"\"),\"\",D56/'2014 scenario - input'!$D46),\"\")","v":""},{"$f":"IFERROR(IF(OR(E56=\"\",'2014 scenario - input'!$D46=\"\"),\"\",E56/'2014 scenario - input'!$D46),\"\")","v":""},{"$f":"IFERROR(IF(OR(F56=\"\",'2014 scenario - input'!$D46=\"\"),\"\",F56/'2014 scenario - input'!$D46),\"\")","v":""},{"$f":"IFERROR(IF(OR(G56=\"\",'2014 scenario - input'!$D46=\"\"),\"\",G56/'2014 scenario - input'!$D46),\"\")","v":""},{"$f":"IFERROR(IF(OR(H56=\"\",'2014 scenario - input'!$D46=\"\"),\"\",H56/'2014 scenario - input'!$D46),\"\")","v":""},{"$f":"IFERROR(IF(OR(I56=\"\",'2014 scenario - input'!$D46=\"\"),\"\",I56/'2014 scenario - input'!$D46),\"\")","v":""},{"$f":"IFERROR(IF(OR(J56=\"\",'2014 scenario - input'!$D46=\"\"),\"\",J56/'2014 scenario - input'!$D46),\"\")","v":""},{"$f":"IFERROR(IF(OR(K56=\"\",'2014 scenario - input'!$D46=\"\"),\"\",K56/'2014 scenario - input'!$D46),\"\")","v":""},{"$f":"IFERROR(IF(OR(L56=\"\",'2014 scenario - input'!$D46=\"\"),\"\",L56/'2014 scenario - input'!$D46),\"\")","v":""},{"$f":"IFERROR(IF(OR(M56=\"\",'2014 scenario - input'!$D46=\"\"),\"\",M56/'2014 scenario - input'!$D46),\"\")","v":""},{"$f":"IFERROR(IF(OR(N56=\"\",'2014 scenario - input'!$D46=\"\"),\"\",N56/'2014 scenario - input'!$D46),\"\")","v":""},{"$f":"IFERROR(IF(OR(O56=\"\",'2014 scenario - input'!$D46=\"\"),\"\",O56/'2014 scenario - input'!$D46),\"\")","v":""},{"$f":"IFERROR(IF(OR(P56=\"\",'2014 scenario - input'!$D46=\"\"),\"\",P56/'2014 scenario - input'!$D46),\"\")","v":""},{"$f":"IFERROR(IF(OR(Q56=\"\",'2014 scenario - input'!$D46=\"\"),\"\",Q56/'2014 scenario - input'!$D46),\"\")","v":""},{"$f":"IFERROR(IF(OR(R56=\"\",'2014 scenario - input'!$D46=\"\"),\"\",R56/'2014 scenario - input'!$D46),\"\")","v":""},{"$f":"IFERROR(IF(OR(S56=\"\",'2014 scenario - input'!$D46=\"\"),\"\",S56/'2014 scenario - input'!$D46),\"\")","v":""},{"$f":"IFERROR(IF(OR(T56=\"\",'2014 scenario - input'!$D46=\"\"),\"\",T56/'2014 scenario - input'!$D46),\"\")","v":""},{"$f":"IFERROR(IF(OR(U56=\"\",'2014 scenario - input'!$D46=\"\"),\"\",U56/'2014 scenario - input'!$D46),\"\")","v":""},{"$f":"IFERROR(IF(OR(V56=\"\",'2014 scenario - input'!$D46=\"\"),\"\",V56/'2014 scenario - input'!$D46),\"\")","v":""},{"$f":"IFERROR(IF(OR(W56=\"\",'2014 scenario - input'!$D46=\"\"),\"\",W56/'2014 scenario - input'!$D46),\"\")","v":""}]
[{"$f":"IFERROR('2014 scenario - input'!A47,\"\")","v":""},{"$f":"IFERROR('2014 scenario - input'!B47,\"\")","v":0},{"$f":"IFERROR('2014 scenario - input'!C47,\"\")","v":0},{"$f":"IFERROR(repcalc('2014 scenario - input'!$CV47:$GH47,'2014 scenario - input'!$G47,'2014 scenario - input'!$E47,'2014 scenario - input'!$F47,20,TRUE,TRUE),\"\")","v":""},"","","","","","","","","","","","","","","","","","","",{"$f":"IFERROR(IF(OR(D57=\"\",'2014 scenario - input'!$D47=\"\"),\"\",D57/'2014 scenario - input'!$D47),\"\")","v":""},{"$f":"IFERROR(IF(OR(E57=\"\",'2014 scenario - input'!$D47=\"\"),\"\",E57/'2014 scenario - input'!$D47),\"\")","v":""},{"$f":"IFERROR(IF(OR(F57=\"\",'2014 scenario - input'!$D47=\"\"),\"\",F57/'2014 scenario - input'!$D47),\"\")","v":""},{"$f":"IFERROR(IF(OR(G57=\"\",'2014 scenario - input'!$D47=\"\"),\"\",G57/'2014 scenario - input'!$D47),\"\")","v":""},{"$f":"IFERROR(IF(OR(H57=\"\",'2014 scenario - input'!$D47=\"\"),\"\",H57/'2014 scenario - input'!$D47),\"\")","v":""},{"$f":"IFERROR(IF(OR(I57=\"\",'2014 scenario - input'!$D47=\"\"),\"\",I57/'2014 scenario - input'!$D47),\"\")","v":""},{"$f":"IFERROR(IF(OR(J57=\"\",'2014 scenario - input'!$D47=\"\"),\"\",J57/'2014 scenario - input'!$D47),\"\")","v":""},{"$f":"IFERROR(IF(OR(K57=\"\",'2014 scenario - input'!$D47=\"\"),\"\",K57/'2014 scenario - input'!$D47),\"\")","v":""},{"$f":"IFERROR(IF(OR(L57=\"\",'2014 scenario - input'!$D47=\"\"),\"\",L57/'2014 scenario - input'!$D47),\"\")","v":""},{"$f":"IFERROR(IF(OR(M57=\"\",'2014 scenario - input'!$D47=\"\"),\"\",M57/'2014 scenario - input'!$D47),\"\")","v":""},{"$f":"IFERROR(IF(OR(N57=\"\",'2014 scenario - input'!$D47=\"\"),\"\",N57/'2014 scenario - input'!$D47),\"\")","v":""},{"$f":"IFERROR(IF(OR(O57=\"\",'2014 scenario - input'!$D47=\"\"),\"\",O57/'2014 scenario - input'!$D47),\"\")","v":""},{"$f":"IFERROR(IF(OR(P57=\"\",'2014 scenario - input'!$D47=\"\"),\"\",P57/'2014 scenario - input'!$D47),\"\")","v":""},{"$f":"IFERROR(IF(OR(Q57=\"\",'2014 scenario - input'!$D47=\"\"),\"\",Q57/'2014 scenario - input'!$D47),\"\")","v":""},{"$f":"IFERROR(IF(OR(R57=\"\",'2014 scenario - input'!$D47=\"\"),\"\",R57/'2014 scenario - input'!$D47),\"\")","v":""},{"$f":"IFERROR(IF(OR(S57=\"\",'2014 scenario - input'!$D47=\"\"),\"\",S57/'2014 scenario - input'!$D47),\"\")","v":""},{"$f":"IFERROR(IF(OR(T57=\"\",'2014 scenario - input'!$D47=\"\"),\"\",T57/'2014 scenario - input'!$D47),\"\")","v":""},{"$f":"IFERROR(IF(OR(U57=\"\",'2014 scenario - input'!$D47=\"\"),\"\",U57/'2014 scenario - input'!$D47),\"\")","v":""},{"$f":"IFERROR(IF(OR(V57=\"\",'2014 scenario - input'!$D47=\"\"),\"\",V57/'2014 scenario - input'!$D47),\"\")","v":""},{"$f":"IFERROR(IF(OR(W57=\"\",'2014 scenario - input'!$D47=\"\"),\"\",W57/'2014 scenario - input'!$D47),\"\")","v":""}]
[{"$f":"IFERROR('2014 scenario - input'!A48,\"\")","v":""},{"$f":"IFERROR('2014 scenario - input'!B48,\"\")","v":0},{"$f":"IFERROR('2014 scenario - input'!C48,\"\")","v":0},{"$f":"IFERROR(repcalc('2014 scenario - input'!$CV48:$GH48,'2014 scenario - input'!$G48,'2014 scenario - input'!$E48,'2014 scenario - input'!$F48,20,TRUE,TRUE),\"\")","v":""},"","","","","","","","","","","","","","","","","","","",{"$f":"IFERROR(IF(OR(D58=\"\",'2014 scenario - input'!$D48=\"\"),\"\",D58/'2014 scenario - input'!$D48),\"\")","v":""},{"$f":"IFERROR(IF(OR(E58=\"\",'2014 scenario - input'!$D48=\"\"),\"\",E58/'2014 scenario - input'!$D48),\"\")","v":""},{"$f":"IFERROR(IF(OR(F58=\"\",'2014 scenario - input'!$D48=\"\"),\"\",F58/'2014 scenario - input'!$D48),\"\")","v":""},{"$f":"IFERROR(IF(OR(G58=\"\",'2014 scenario - input'!$D48=\"\"),\"\",G58/'2014 scenario - input'!$D48),\"\")","v":""},{"$f":"IFERROR(IF(OR(H58=\"\",'2014 scenario - input'!$D48=\"\"),\"\",H58/'2014 scenario - input'!$D48),\"\")","v":""},{"$f":"IFERROR(IF(OR(I58=\"\",'2014 scenario - input'!$D48=\"\"),\"\",I58/'2014 scenario - input'!$D48),\"\")","v":""},{"$f":"IFERROR(IF(OR(J58=\"\",'2014 scenario - input'!$D48=\"\"),\"\",J58/'2014 scenario - input'!$D48),\"\")","v":""},{"$f":"IFERROR(IF(OR(K58=\"\",'2014 scenario - input'!$D48=\"\"),\"\",K58/'2014 scenario - input'!$D48),\"\")","v":""},{"$f":"IFERROR(IF(OR(L58=\"\",'2014 scenario - input'!$D48=\"\"),\"\",L58/'2014 scenario - input'!$D48),\"\")","v":""},{"$f":"IFERROR(IF(OR(M58=\"\",'2014 scenario - input'!$D48=\"\"),\"\",M58/'2014 scenario - input'!$D48),\"\")","v":""},{"$f":"IFERROR(IF(OR(N58=\"\",'2014 scenario - input'!$D48=\"\"),\"\",N58/'2014 scenario - input'!$D48),\"\")","v":""},{"$f":"IFERROR(IF(OR(O58=\"\",'2014 scenario - input'!$D48=\"\"),\"\",O58/'2014 scenario - input'!$D48),\"\")","v":""},{"$f":"IFERROR(IF(OR(P58=\"\",'2014 scenario - input'!$D48=\"\"),\"\",P58/'2014 scenario - input'!$D48),\"\")","v":""},{"$f":"IFERROR(IF(OR(Q58=\"\",'2014 scenario - input'!$D48=\"\"),\"\",Q58/'2014 scenario - input'!$D48),\"\")","v":""},{"$f":"IFERROR(IF(OR(R58=\"\",'2014 scenario - input'!$D48=\"\"),\"\",R58/'2014 scenario - input'!$D48),\"\")","v":""},{"$f":"IFERROR(IF(OR(S58=\"\",'2014 scenario - input'!$D48=\"\"),\"\",S58/'2014 scenario - input'!$D48),\"\")","v":""},{"$f":"IFERROR(IF(OR(T58=\"\",'2014 scenario - input'!$D48=\"\"),\"\",T58/'2014 scenario - input'!$D48),\"\")","v":""},{"$f":"IFERROR(IF(OR(U58=\"\",'2014 scenario - input'!$D48=\"\"),\"\",U58/'2014 scenario - input'!$D48),\"\")","v":""},{"$f":"IFERROR(IF(OR(V58=\"\",'2014 scenario - input'!$D48=\"\"),\"\",V58/'2014 scenario - input'!$D48),\"\")","v":""},{"$f":"IFERROR(IF(OR(W58=\"\",'2014 scenario - input'!$D48=\"\"),\"\",W58/'2014 scenario - input'!$D48),\"\")","v":""}]
[{"$f":"IFERROR('2014 scenario - input'!A49,\"\")","v":""},{"$f":"IFERROR('2014 scenario - input'!B49,\"\")","v":0},{"$f":"IFERROR('2014 scenario - input'!C49,\"\")","v":0},{"$f":"IFERROR(repcalc('2014 scenario - input'!$CV49:$GH49,'2014 scenario - input'!$G49,'2014 scenario - input'!$E49,'2014 scenario - input'!$F49,20,TRUE,TRUE),\"\")","v":""},"","","","","","","","","","","","","","","","","","","",{"$f":"IFERROR(IF(OR(D59=\"\",'2014 scenario - input'!$D49=\"\"),\"\",D59/'2014 scenario - input'!$D49),\"\")","v":""},{"$f":"IFERROR(IF(OR(E59=\"\",'2014 scenario - input'!$D49=\"\"),\"\",E59/'2014 scenario - input'!$D49),\"\")","v":""},{"$f":"IFERROR(IF(OR(F59=\"\",'2014 scenario - input'!$D49=\"\"),\"\",F59/'2014 scenario - input'!$D49),\"\")","v":""},{"$f":"IFERROR(IF(OR(G59=\"\",'2014 scenario - input'!$D49=\"\"),\"\",G59/'2014 scenario - input'!$D49),\"\")","v":""},{"$f":"IFERROR(IF(OR(H59=\"\",'2014 scenario - input'!$D49=\"\"),\"\",H59/'2014 scenario - input'!$D49),\"\")","v":""},{"$f":"IFERROR(IF(OR(I59=\"\",'2014 scenario - input'!$D49=\"\"),\"\",I59/'2014 scenario - input'!$D49),\"\")","v":""},{"$f":"IFERROR(IF(OR(J59=\"\",'2014 scenario - input'!$D49=\"\"),\"\",J59/'2014 scenario - input'!$D49),\"\")","v":""},{"$f":"IFERROR(IF(OR(K59=\"\",'2014 scenario - input'!$D49=\"\"),\"\",K59/'2014 scenario - input'!$D49),\"\")","v":""},{"$f":"IFERROR(IF(OR(L59=\"\",'2014 scenario - input'!$D49=\"\"),\"\",L59/'2014 scenario - input'!$D49),\"\")","v":""},{"$f":"IFERROR(IF(OR(M59=\"\",'2014 scenario - input'!$D49=\"\"),\"\",M59/'2014 scenario - input'!$D49),\"\")","v":""},{"$f":"IFERROR(IF(OR(N59=\"\",'2014 scenario - input'!$D49=\"\"),\"\",N59/'2014 scenario - input'!$D49),\"\")","v":""},{"$f":"IFERROR(IF(OR(O59=\"\",'2014 scenario - input'!$D49=\"\"),\"\",O59/'2014 scenario - input'!$D49),\"\")","v":""},{"$f":"IFERROR(IF(OR(P59=\"\",'2014 scenario - input'!$D49=\"\"),\"\",P59/'2014 scenario - input'!$D49),\"\")","v":""},{"$f":"IFERROR(IF(OR(Q59=\"\",'2014 scenario - input'!$D49=\"\"),\"\",Q59/'2014 scenario - input'!$D49),\"\")","v":""},{"$f":"IFERROR(IF(OR(R59=\"\",'2014 scenario - input'!$D49=\"\"),\"\",R59/'2014 scenario - input'!$D49),\"\")","v":""},{"$f":"IFERROR(IF(OR(S59=\"\",'2014 scenario - input'!$D49=\"\"),\"\",S59/'2014 scenario - input'!$D49),\"\")","v":""},{"$f":"IFERROR(IF(OR(T59=\"\",'2014 scenario - input'!$D49=\"\"),\"\",T59/'2014 scenario - input'!$D49),\"\")","v":""},{"$f":"IFERROR(IF(OR(U59=\"\",'2014 scenario - input'!$D49=\"\"),\"\",U59/'2014 scenario - input'!$D49),\"\")","v":""},{"$f":"IFERROR(IF(OR(V59=\"\",'2014 scenario - input'!$D49=\"\"),\"\",V59/'2014 scenario - input'!$D49),\"\")","v":""},{"$f":"IFERROR(IF(OR(W59=\"\",'2014 scenario - input'!$D49=\"\"),\"\",W59/'2014 scenario - input'!$D49),\"\")","v":""}]
[{"$f":"IFERROR('2014 scenario - input'!A50,\"\")","v":""},{"$f":"IFERROR('2014 scenario - input'!B50,\"\")","v":0},{"$f":"IFERROR('2014 scenario - input'!C50,\"\")","v":0},{"$f":"IFERROR(repcalc('2014 scenario - input'!$CV50:$GH50,'2014 scenario - input'!$G50,'2014 scenario - input'!$E50,'2014 scenario - input'!$F50,20,TRUE,TRUE),\"\")","v":""},"","","","","","","","","","","","","","","","","","","",{"$f":"IFERROR(IF(OR(D60=\"\",'2014 scenario - input'!$D50=\"\"),\"\",D60/'2014 scenario - input'!$D50),\"\")","v":""},{"$f":"IFERROR(IF(OR(E60=\"\",'2014 scenario - input'!$D50=\"\"),\"\",E60/'2014 scenario - input'!$D50),\"\")","v":""},{"$f":"IFERROR(IF(OR(F60=\"\",'2014 scenario - input'!$D50=\"\"),\"\",F60/'2014 scenario - input'!$D50),\"\")","v":""},{"$f":"IFERROR(IF(OR(G60=\"\",'2014 scenario - input'!$D50=\"\"),\"\",G60/'2014 scenario - input'!$D50),\"\")","v":""},{"$f":"IFERROR(IF(OR(H60=\"\",'2014 scenario - input'!$D50=\"\"),\"\",H60/'2014 scenario - input'!$D50),\"\")","v":""},{"$f":"IFERROR(IF(OR(I60=\"\",'2014 scenario - input'!$D50=\"\"),\"\",I60/'2014 scenario - input'!$D50),\"\")","v":""},{"$f":"IFERROR(IF(OR(J60=\"\",'2014 scenario - input'!$D50=\"\"),\"\",J60/'2014 scenario - input'!$D50),\"\")","v":""},{"$f":"IFERROR(IF(OR(K60=\"\",'2014 scenario - input'!$D50=\"\"),\"\",K60/'2014 scenario - input'!$D50),\"\")","v":""},{"$f":"IFERROR(IF(OR(L60=\"\",'2014 scenario - input'!$D50=\"\"),\"\",L60/'2014 scenario - input'!$D50),\"\")","v":""},{"$f":"IFERROR(IF(OR(M60=\"\",'2014 scenario - input'!$D50=\"\"),\"\",M60/'2014 scenario - input'!$D50),\"\")","v":""},{"$f":"IFERROR(IF(OR(N60=\"\",'2014 scenario - input'!$D50=\"\"),\"\",N60/'2014 scenario - input'!$D50),\"\")","v":""},{"$f":"IFERROR(IF(OR(O60=\"\",'2014 scenario - input'!$D50=\"\"),\"\",O60/'2014 scenario - input'!$D50),\"\")","v":""},{"$f":"IFERROR(IF(OR(P60=\"\",'2014 scenario - input'!$D50=\"\"),\"\",P60/'2014 scenario - input'!$D50),\"\")","v":""},{"$f":"IFERROR(IF(OR(Q60=\"\",'2014 scenario - input'!$D50=\"\"),\"\",Q60/'2014 scenario - input'!$D50),\"\")","v":""},{"$f":"IFERROR(IF(OR(R60=\"\",'2014 scenario - input'!$D50=\"\"),\"\",R60/'2014 scenario - input'!$D50),\"\")","v":""},{"$f":"IFERROR(IF(OR(S60=\"\",'2014 scenario - input'!$D50=\"\"),\"\",S60/'2014 scenario - input'!$D50),\"\")","v":""},{"$f":"IFERROR(IF(OR(T60=\"\",'2014 scenario - input'!$D50=\"\"),\"\",T60/'2014 scenario - input'!$D50),\"\")","v":""},{"$f":"IFERROR(IF(OR(U60=\"\",'2014 scenario - input'!$D50=\"\"),\"\",U60/'2014 scenario - input'!$D50),\"\")","v":""},{"$f":"IFERROR(IF(OR(V60=\"\",'2014 scenario - input'!$D50=\"\"),\"\",V60/'2014 scenario - input'!$D50),\"\")","v":""},{"$f":"IFERROR(IF(OR(W60=\"\",'2014 scenario - input'!$D50=\"\"),\"\",W60/'2014 scenario - input'!$D50),\"\")","v":""}]
[{"$f":"IFERROR('2014 scenario - input'!A51,\"\")","v":""},{"$f":"IFERROR('2014 scenario - input'!B51,\"\")","v":0},{"$f":"IFERROR('2014 scenario - input'!C51,\"\")","v":0},{"$f":"IFERROR(repcalc('2014 scenario - input'!$CV51:$GH51,'2014 scenario - input'!$G51,'2014 scenario - input'!$E51,'2014 scenario - input'!$F51,20,TRUE,TRUE),\"\")","v":""},"","","","","","","","","","","","","","","","","","","",{"$f":"IFERROR(IF(OR(D61=\"\",'2014 scenario - input'!$D51=\"\"),\"\",D61/'2014 scenario - input'!$D51),\"\")","v":""},{"$f":"IFERROR(IF(OR(E61=\"\",'2014 scenario - input'!$D51=\"\"),\"\",E61/'2014 scenario - input'!$D51),\"\")","v":""},{"$f":"IFERROR(IF(OR(F61=\"\",'2014 scenario - input'!$D51=\"\"),\"\",F61/'2014 scenario - input'!$D51),\"\")","v":""},{"$f":"IFERROR(IF(OR(G61=\"\",'2014 scenario - input'!$D51=\"\"),\"\",G61/'2014 scenario - input'!$D51),\"\")","v":""},{"$f":"IFERROR(IF(OR(H61=\"\",'2014 scenario - input'!$D51=\"\"),\"\",H61/'2014 scenario - input'!$D51),\"\")","v":""},{"$f":"IFERROR(IF(OR(I61=\"\",'2014 scenario - input'!$D51=\"\"),\"\",I61/'2014 scenario - input'!$D51),\"\")","v":""},{"$f":"IFERROR(IF(OR(J61=\"\",'2014 scenario - input'!$D51=\"\"),\"\",J61/'2014 scenario - input'!$D51),\"\")","v":""},{"$f":"IFERROR(IF(OR(K61=\"\",'2014 scenario - input'!$D51=\"\"),\"\",K61/'2014 scenario - input'!$D51),\"\")","v":""},{"$f":"IFERROR(IF(OR(L61=\"\",'2014 scenario - input'!$D51=\"\"),\"\",L61/'2014 scenario - input'!$D51),\"\")","v":""},{"$f":"IFERROR(IF(OR(M61=\"\",'2014 scenario - input'!$D51=\"\"),\"\",M61/'2014 scenario - input'!$D51),\"\")","v":""},{"$f":"IFERROR(IF(OR(N61=\"\",'2014 scenario - input'!$D51=\"\"),\"\",N61/'2014 scenario - input'!$D51),\"\")","v":""},{"$f":"IFERROR(IF(OR(O61=\"\",'2014 scenario - input'!$D51=\"\"),\"\",O61/'2014 scenario - input'!$D51),\"\")","v":""},{"$f":"IFERROR(IF(OR(P61=\"\",'2014 scenario - input'!$D51=\"\"),\"\",P61/'2014 scenario - input'!$D51),\"\")","v":""},{"$f":"IFERROR(IF(OR(Q61=\"\",'2014 scenario - input'!$D51=\"\"),\"\",Q61/'2014 scenario - input'!$D51),\"\")","v":""},{"$f":"IFERROR(IF(OR(R61=\"\",'2014 scenario - input'!$D51=\"\"),\"\",R61/'2014 scenario - input'!$D51),\"\")","v":""},{"$f":"IFERROR(IF(OR(S61=\"\",'2014 scenario - input'!$D51=\"\"),\"\",S61/'2014 scenario - input'!$D51),\"\")","v":""},{"$f":"IFERROR(IF(OR(T61=\"\",'2014 scenario - input'!$D51=\"\"),\"\",T61/'2014 scenario - input'!$D51),\"\")","v":""},{"$f":"IFERROR(IF(OR(U61=\"\",'2014 scenario - input'!$D51=\"\"),\"\",U61/'2014 scenario - input'!$D51),\"\")","v":""},{"$f":"IFERROR(IF(OR(V61=\"\",'2014 scenario - input'!$D51=\"\"),\"\",V61/'2014 scenario - input'!$D51),\"\")","v":""},{"$f":"IFERROR(IF(OR(W61=\"\",'2014 scenario - input'!$D51=\"\"),\"\",W61/'2014 scenario - input'!$D51),\"\")","v":""}]
[{"$f":"IFERROR('2014 scenario - input'!A52,\"\")","v":""},{"$f":"IFERROR('2014 scenario - input'!B52,\"\")","v":0},{"$f":"IFERROR('2014 scenario - input'!C52,\"\")","v":0},{"$f":"IFERROR(repcalc('2014 scenario - input'!$CV52:$GH52,'2014 scenario - input'!$G52,'2014 scenario - input'!$E52,'2014 scenario - input'!$F52,20,TRUE,TRUE),\"\")","v":""},"","","","","","","","","","","","","","","","","","","",{"$f":"IFERROR(IF(OR(D62=\"\",'2014 scenario - input'!$D52=\"\"),\"\",D62/'2014 scenario - input'!$D52),\"\")","v":""},{"$f":"IFERROR(IF(OR(E62=\"\",'2014 scenario - input'!$D52=\"\"),\"\",E62/'2014 scenario - input'!$D52),\"\")","v":""},{"$f":"IFERROR(IF(OR(F62=\"\",'2014 scenario - input'!$D52=\"\"),\"\",F62/'2014 scenario - input'!$D52),\"\")","v":""},{"$f":"IFERROR(IF(OR(G62=\"\",'2014 scenario - input'!$D52=\"\"),\"\",G62/'2014 scenario - input'!$D52),\"\")","v":""},{"$f":"IFERROR(IF(OR(H62=\"\",'2014 scenario - input'!$D52=\"\"),\"\",H62/'2014 scenario - input'!$D52),\"\")","v":""},{"$f":"IFERROR(IF(OR(I62=\"\",'2014 scenario - input'!$D52=\"\"),\"\",I62/'2014 scenario - input'!$D52),\"\")","v":""},{"$f":"IFERROR(IF(OR(J62=\"\",'2014 scenario - input'!$D52=\"\"),\"\",J62/'2014 scenario - input'!$D52),\"\")","v":""},{"$f":"IFERROR(IF(OR(K62=\"\",'2014 scenario - input'!$D52=\"\"),\"\",K62/'2014 scenario - input'!$D52),\"\")","v":""},{"$f":"IFERROR(IF(OR(L62=\"\",'2014 scenario - input'!$D52=\"\"),\"\",L62/'2014 scenario - input'!$D52),\"\")","v":""},{"$f":"IFERROR(IF(OR(M62=\"\",'2014 scenario - input'!$D52=\"\"),\"\",M62/'2014 scenario - input'!$D52),\"\")","v":""},{"$f":"IFERROR(IF(OR(N62=\"\",'2014 scenario - input'!$D52=\"\"),\"\",N62/'2014 scenario - input'!$D52),\"\")","v":""},{"$f":"IFERROR(IF(OR(O62=\"\",'2014 scenario - input'!$D52=\"\"),\"\",O62/'2014 scenario - input'!$D52),\"\")","v":""},{"$f":"IFERROR(IF(OR(P62=\"\",'2014 scenario - input'!$D52=\"\"),\"\",P62/'2014 scenario - input'!$D52),\"\")","v":""},{"$f":"IFERROR(IF(OR(Q62=\"\",'2014 scenario - input'!$D52=\"\"),\"\",Q62/'2014 scenario - input'!$D52),\"\")","v":""},{"$f":"IFERROR(IF(OR(R62=\"\",'2014 scenario - input'!$D52=\"\"),\"\",R62/'2014 scenario - input'!$D52),\"\")","v":""},{"$f":"IFERROR(IF(OR(S62=\"\",'2014 scenario - input'!$D52=\"\"),\"\",S62/'2014 scenario - input'!$D52),\"\")","v":""},{"$f":"IFERROR(IF(OR(T62=\"\",'2014 scenario - input'!$D52=\"\"),\"\",T62/'2014 scenario - input'!$D52),\"\")","v":""},{"$f":"IFERROR(IF(OR(U62=\"\",'2014 scenario - input'!$D52=\"\"),\"\",U62/'2014 scenario - input'!$D52),\"\")","v":""},{"$f":"IFERROR(IF(OR(V62=\"\",'2014 scenario - input'!$D52=\"\"),\"\",V62/'2014 scenario - input'!$D52),\"\")","v":""},{"$f":"IFERROR(IF(OR(W62=\"\",'2014 scenario - input'!$D52=\"\"),\"\",W62/'2014 scenario - input'!$D52),\"\")","v":""}]
[{"$f":"IFERROR('2014 scenario - input'!A53,\"\")","v":""},{"$f":"IFERROR('2014 scenario - input'!B53,\"\")","v":0},{"$f":"IFERROR('2014 scenario - input'!C53,\"\")","v":0},{"$f":"IFERROR(repcalc('2014 scenario - input'!$CV53:$GH53,'2014 scenario - input'!$G53,'2014 scenario - input'!$E53,'2014 scenario - input'!$F53,20,TRUE,TRUE),\"\")","v":""},"","","","","","","","","","","","","","","","","","","",{"$f":"IFERROR(IF(OR(D63=\"\",'2014 scenario - input'!$D53=\"\"),\"\",D63/'2014 scenario - input'!$D53),\"\")","v":""},{"$f":"IFERROR(IF(OR(E63=\"\",'2014 scenario - input'!$D53=\"\"),\"\",E63/'2014 scenario - input'!$D53),\"\")","v":""},{"$f":"IFERROR(IF(OR(F63=\"\",'2014 scenario - input'!$D53=\"\"),\"\",F63/'2014 scenario - input'!$D53),\"\")","v":""},{"$f":"IFERROR(IF(OR(G63=\"\",'2014 scenario - input'!$D53=\"\"),\"\",G63/'2014 scenario - input'!$D53),\"\")","v":""},{"$f":"IFERROR(IF(OR(H63=\"\",'2014 scenario - input'!$D53=\"\"),\"\",H63/'2014 scenario - input'!$D53),\"\")","v":""},{"$f":"IFERROR(IF(OR(I63=\"\",'2014 scenario - input'!$D53=\"\"),\"\",I63/'2014 scenario - input'!$D53),\"\")","v":""},{"$f":"IFERROR(IF(OR(J63=\"\",'2014 scenario - input'!$D53=\"\"),\"\",J63/'2014 scenario - input'!$D53),\"\")","v":""},{"$f":"IFERROR(IF(OR(K63=\"\",'2014 scenario - input'!$D53=\"\"),\"\",K63/'2014 scenario - input'!$D53),\"\")","v":""},{"$f":"IFERROR(IF(OR(L63=\"\",'2014 scenario - input'!$D53=\"\"),\"\",L63/'2014 scenario - input'!$D53),\"\")","v":""},{"$f":"IFERROR(IF(OR(M63=\"\",'2014 scenario - input'!$D53=\"\"),\"\",M63/'2014 scenario - input'!$D53),\"\")","v":""},{"$f":"IFERROR(IF(OR(N63=\"\",'2014 scenario - input'!$D53=\"\"),\"\",N63/'2014 scenario - input'!$D53),\"\")","v":""},{"$f":"IFERROR(IF(OR(O63=\"\",'2014 scenario - input'!$D53=\"\"),\"\",O63/'2014 scenario - input'!$D53),\"\")","v":""},{"$f":"IFERROR(IF(OR(P63=\"\",'2014 scenario - input'!$D53=\"\"),\"\",P63/'2014 scenario - input'!$D53),\"\")","v":""},{"$f":"IFERROR(IF(OR(Q63=\"\",'2014 scenario - input'!$D53=\"\"),\"\",Q63/'2014 scenario - input'!$D53),\"\")","v":""},{"$f":"IFERROR(IF(OR(R63=\"\",'2014 scenario - input'!$D53=\"\"),\"\",R63/'2014 scenario - input'!$D53),\"\")","v":""},{"$f":"IFERROR(IF(OR(S63=\"\",'2014 scenario - input'!$D53=\"\"),\"\",S63/'2014 scenario - input'!$D53),\"\")","v":""},{"$f":"IFERROR(IF(OR(T63=\"\",'2014 scenario - input'!$D53=\"\"),\"\",T63/'2014 scenario - input'!$D53),\"\")","v":""},{"$f":"IFERROR(IF(OR(U63=\"\",'2014 scenario - input'!$D53=\"\"),\"\",U63/'2014 scenario - input'!$D53),\"\")","v":""},{"$f":"IFERROR(IF(OR(V63=\"\",'2014 scenario - input'!$D53=\"\"),\"\",V63/'2014 scenario - input'!$D53),\"\")","v":""},{"$f":"IFERROR(IF(OR(W63=\"\",'2014 scenario - input'!$D53=\"\"),\"\",W63/'2014 scenario - input'!$D53),\"\")","v":""}]
[{"$f":"IFERROR('2014 scenario - input'!A54,\"\")","v":""},{"$f":"IFERROR('2014 scenario - input'!B54,\"\")","v":0},{"$f":"IFERROR('2014 scenario - input'!C54,\"\")","v":0},{"$f":"IFERROR(repcalc('2014 scenario - input'!$CV54:$GH54,'2014 scenario - input'!$G54,'2014 scenario - input'!$E54,'2014 scenario - input'!$F54,20,TRUE,TRUE),\"\")","v":""},"","","","","","","","","","","","","","","","","","","",{"$f":"IFERROR(IF(OR(D64=\"\",'2014 scenario - input'!$D54=\"\"),\"\",D64/'2014 scenario - input'!$D54),\"\")","v":""},{"$f":"IFERROR(IF(OR(E64=\"\",'2014 scenario - input'!$D54=\"\"),\"\",E64/'2014 scenario - input'!$D54),\"\")","v":""},{"$f":"IFERROR(IF(OR(F64=\"\",'2014 scenario - input'!$D54=\"\"),\"\",F64/'2014 scenario - input'!$D54),\"\")","v":""},{"$f":"IFERROR(IF(OR(G64=\"\",'2014 scenario - input'!$D54=\"\"),\"\",G64/'2014 scenario - input'!$D54),\"\")","v":""},{"$f":"IFERROR(IF(OR(H64=\"\",'2014 scenario - input'!$D54=\"\"),\"\",H64/'2014 scenario - input'!$D54),\"\")","v":""},{"$f":"IFERROR(IF(OR(I64=\"\",'2014 scenario - input'!$D54=\"\"),\"\",I64/'2014 scenario - input'!$D54),\"\")","v":""},{"$f":"IFERROR(IF(OR(J64=\"\",'2014 scenario - input'!$D54=\"\"),\"\",J64/'2014 scenario - input'!$D54),\"\")","v":""},{"$f":"IFERROR(IF(OR(K64=\"\",'2014 scenario - input'!$D54=\"\"),\"\",K64/'2014 scenario - input'!$D54),\"\")","v":""},{"$f":"IFERROR(IF(OR(L64=\"\",'2014 scenario - input'!$D54=\"\"),\"\",L64/'2014 scenario - input'!$D54),\"\")","v":""},{"$f":"IFERROR(IF(OR(M64=\"\",'2014 scenario - input'!$D54=\"\"),\"\",M64/'2014 scenario - input'!$D54),\"\")","v":""},{"$f":"IFERROR(IF(OR(N64=\"\",'2014 scenario - input'!$D54=\"\"),\"\",N64/'2014 scenario - input'!$D54),\"\")","v":""},{"$f":"IFERROR(IF(OR(O64=\"\",'2014 scenario - input'!$D54=\"\"),\"\",O64/'2014 scenario - input'!$D54),\"\")","v":""},{"$f":"IFERROR(IF(OR(P64=\"\",'2014 scenario - input'!$D54=\"\"),\"\",P64/'2014 scenario - input'!$D54),\"\")","v":""},{"$f":"IFERROR(IF(OR(Q64=\"\",'2014 scenario - input'!$D54=\"\"),\"\",Q64/'2014 scenario - input'!$D54),\"\")","v":""},{"$f":"IFERROR(IF(OR(R64=\"\",'2014 scenario - input'!$D54=\"\"),\"\",R64/'2014 scenario - input'!$D54),\"\")","v":""},{"$f":"IFERROR(IF(OR(S64=\"\",'2014 scenario - input'!$D54=\"\"),\"\",S64/'2014 scenario - input'!$D54),\"\")","v":""},{"$f":"IFERROR(IF(OR(T64=\"\",'2014 scenario - input'!$D54=\"\"),\"\",T64/'2014 scenario - input'!$D54),\"\")","v":""},{"$f":"IFERROR(IF(OR(U64=\"\",'2014 scenario - input'!$D54=\"\"),\"\",U64/'2014 scenario - input'!$D54),\"\")","v":""},{"$f":"IFERROR(IF(OR(V64=\"\",'2014 scenario - input'!$D54=\"\"),\"\",V64/'2014 scenario - input'!$D54),\"\")","v":""},{"$f":"IFERROR(IF(OR(W64=\"\",'2014 scenario - input'!$D54=\"\"),\"\",W64/'2014 scenario - input'!$D54),\"\")","v":""}]
[{"$f":"IFERROR('2014 scenario - input'!A55,\"\")","v":""},{"$f":"IFERROR('2014 scenario - input'!B55,\"\")","v":0},{"$f":"IFERROR('2014 scenario - input'!C55,\"\")","v":0},{"$f":"IFERROR(repcalc('2014 scenario - input'!$CV55:$GH55,'2014 scenario - input'!$G55,'2014 scenario - input'!$E55,'2014 scenario - input'!$F55,20,TRUE,TRUE),\"\")","v":""},"","","","","","","","","","","","","","","","","","","",{"$f":"IFERROR(IF(OR(D65=\"\",'2014 scenario - input'!$D55=\"\"),\"\",D65/'2014 scenario - input'!$D55),\"\")","v":""},{"$f":"IFERROR(IF(OR(E65=\"\",'2014 scenario - input'!$D55=\"\"),\"\",E65/'2014 scenario - input'!$D55),\"\")","v":""},{"$f":"IFERROR(IF(OR(F65=\"\",'2014 scenario - input'!$D55=\"\"),\"\",F65/'2014 scenario - input'!$D55),\"\")","v":""},{"$f":"IFERROR(IF(OR(G65=\"\",'2014 scenario - input'!$D55=\"\"),\"\",G65/'2014 scenario - input'!$D55),\"\")","v":""},{"$f":"IFERROR(IF(OR(H65=\"\",'2014 scenario - input'!$D55=\"\"),\"\",H65/'2014 scenario - input'!$D55),\"\")","v":""},{"$f":"IFERROR(IF(OR(I65=\"\",'2014 scenario - input'!$D55=\"\"),\"\",I65/'2014 scenario - input'!$D55),\"\")","v":""},{"$f":"IFERROR(IF(OR(J65=\"\",'2014 scenario - input'!$D55=\"\"),\"\",J65/'2014 scenario - input'!$D55),\"\")","v":""},{"$f":"IFERROR(IF(OR(K65=\"\",'2014 scenario - input'!$D55=\"\"),\"\",K65/'2014 scenario - input'!$D55),\"\")","v":""},{"$f":"IFERROR(IF(OR(L65=\"\",'2014 scenario - input'!$D55=\"\"),\"\",L65/'2014 scenario - input'!$D55),\"\")","v":""},{"$f":"IFERROR(IF(OR(M65=\"\",'2014 scenario - input'!$D55=\"\"),\"\",M65/'2014 scenario - input'!$D55),\"\")","v":""},{"$f":"IFERROR(IF(OR(N65=\"\",'2014 scenario - input'!$D55=\"\"),\"\",N65/'2014 scenario - input'!$D55),\"\")","v":""},{"$f":"IFERROR(IF(OR(O65=\"\",'2014 scenario - input'!$D55=\"\"),\"\",O65/'2014 scenario - input'!$D55),\"\")","v":""},{"$f":"IFERROR(IF(OR(P65=\"\",'2014 scenario - input'!$D55=\"\"),\"\",P65/'2014 scenario - input'!$D55),\"\")","v":""},{"$f":"IFERROR(IF(OR(Q65=\"\",'2014 scenario - input'!$D55=\"\"),\"\",Q65/'2014 scenario - input'!$D55),\"\")","v":""},{"$f":"IFERROR(IF(OR(R65=\"\",'2014 scenario - input'!$D55=\"\"),\"\",R65/'2014 scenario - input'!$D55),\"\")","v":""},{"$f":"IFERROR(IF(OR(S65=\"\",'2014 scenario - input'!$D55=\"\"),\"\",S65/'2014 scenario - input'!$D55),\"\")","v":""},{"$f":"IFERROR(IF(OR(T65=\"\",'2014 scenario - input'!$D55=\"\"),\"\",T65/'2014 scenario - input'!$D55),\"\")","v":""},{"$f":"IFERROR(IF(OR(U65=\"\",'2014 scenario - input'!$D55=\"\"),\"\",U65/'2014 scenario - input'!$D55),\"\")","v":""},{"$f":"IFERROR(IF(OR(V65=\"\",'2014 scenario - input'!$D55=\"\"),\"\",V65/'2014 scenario - input'!$D55),\"\")","v":""},{"$f":"IFERROR(IF(OR(W65=\"\",'2014 scenario - input'!$D55=\"\"),\"\",W65/'2014 scenario - input'!$D55),\"\")","v":""}]
[{"$f":"IFERROR('2014 scenario - input'!A56,\"\")","v":""},{"$f":"IFERROR('2014 scenario - input'!B56,\"\")","v":0},{"$f":"IFERROR('2014 scenario - input'!C56,\"\")","v":0},{"$f":"IFERROR(repcalc('2014 scenario - input'!$CV56:$GH56,'2014 scenario - input'!$G56,'2014 scenario - input'!$E56,'2014 scenario - input'!$F56,20,TRUE,TRUE),\"\")","v":""},"","","","","","","","","","","","","","","","","","","",{"$f":"IFERROR(IF(OR(D66=\"\",'2014 scenario - input'!$D56=\"\"),\"\",D66/'2014 scenario - input'!$D56),\"\")","v":""},{"$f":"IFERROR(IF(OR(E66=\"\",'2014 scenario - input'!$D56=\"\"),\"\",E66/'2014 scenario - input'!$D56),\"\")","v":""},{"$f":"IFERROR(IF(OR(F66=\"\",'2014 scenario - input'!$D56=\"\"),\"\",F66/'2014 scenario - input'!$D56),\"\")","v":""},{"$f":"IFERROR(IF(OR(G66=\"\",'2014 scenario - input'!$D56=\"\"),\"\",G66/'2014 scenario - input'!$D56),\"\")","v":""},{"$f":"IFERROR(IF(OR(H66=\"\",'2014 scenario - input'!$D56=\"\"),\"\",H66/'2014 scenario - input'!$D56),\"\")","v":""},{"$f":"IFERROR(IF(OR(I66=\"\",'2014 scenario - input'!$D56=\"\"),\"\",I66/'2014 scenario - input'!$D56),\"\")","v":""},{"$f":"IFERROR(IF(OR(J66=\"\",'2014 scenario - input'!$D56=\"\"),\"\",J66/'2014 scenario - input'!$D56),\"\")","v":""},{"$f":"IFERROR(IF(OR(K66=\"\",'2014 scenario - input'!$D56=\"\"),\"\",K66/'2014 scenario - input'!$D56),\"\")","v":""},{"$f":"IFERROR(IF(OR(L66=\"\",'2014 scenario - input'!$D56=\"\"),\"\",L66/'2014 scenario - input'!$D56),\"\")","v":""},{"$f":"IFERROR(IF(OR(M66=\"\",'2014 scenario - input'!$D56=\"\"),\"\",M66/'2014 scenario - input'!$D56),\"\")","v":""},{"$f":"IFERROR(IF(OR(N66=\"\",'2014 scenario - input'!$D56=\"\"),\"\",N66/'2014 scenario - input'!$D56),\"\")","v":""},{"$f":"IFERROR(IF(OR(O66=\"\",'2014 scenario - input'!$D56=\"\"),\"\",O66/'2014 scenario - input'!$D56),\"\")","v":""},{"$f":"IFERROR(IF(OR(P66=\"\",'2014 scenario - input'!$D56=\"\"),\"\",P66/'2014 scenario - input'!$D56),\"\")","v":""},{"$f":"IFERROR(IF(OR(Q66=\"\",'2014 scenario - input'!$D56=\"\"),\"\",Q66/'2014 scenario - input'!$D56),\"\")","v":""},{"$f":"IFERROR(IF(OR(R66=\"\",'2014 scenario - input'!$D56=\"\"),\"\",R66/'2014 scenario - input'!$D56),\"\")","v":""},{"$f":"IFERROR(IF(OR(S66=\"\",'2014 scenario - input'!$D56=\"\"),\"\",S66/'2014 scenario - input'!$D56),\"\")","v":""},{"$f":"IFERROR(IF(OR(T66=\"\",'2014 scenario - input'!$D56=\"\"),\"\",T66/'2014 scenario - input'!$D56),\"\")","v":""},{"$f":"IFERROR(IF(OR(U66=\"\",'2014 scenario - input'!$D56=\"\"),\"\",U66/'2014 scenario - input'!$D56),\"\")","v":""},{"$f":"IFERROR(IF(OR(V66=\"\",'2014 scenario - input'!$D56=\"\"),\"\",V66/'2014 scenario - input'!$D56),\"\")","v":""},{"$f":"IFERROR(IF(OR(W66=\"\",'2014 scenario - input'!$D56=\"\"),\"\",W66/'2014 scenario - input'!$D56),\"\")","v":""}]
[{"$f":"IFERROR('2014 scenario - input'!A57,\"\")","v":""},{"$f":"IFERROR('2014 scenario - input'!B57,\"\")","v":0},{"$f":"IFERROR('2014 scenario - input'!C57,\"\")","v":0},{"$f":"IFERROR(repcalc('2014 scenario - input'!$CV57:$GH57,'2014 scenario - input'!$G57,'2014 scenario - input'!$E57,'2014 scenario - input'!$F57,20,TRUE,TRUE),\"\")","v":""},"","","","","","","","","","","","","","","","","","","",{"$f":"IFERROR(IF(OR(D67=\"\",'2014 scenario - input'!$D57=\"\"),\"\",D67/'2014 scenario - input'!$D57),\"\")","v":""},{"$f":"IFERROR(IF(OR(E67=\"\",'2014 scenario - input'!$D57=\"\"),\"\",E67/'2014 scenario - input'!$D57),\"\")","v":""},{"$f":"IFERROR(IF(OR(F67=\"\",'2014 scenario - input'!$D57=\"\"),\"\",F67/'2014 scenario - input'!$D57),\"\")","v":""},{"$f":"IFERROR(IF(OR(G67=\"\",'2014 scenario - input'!$D57=\"\"),\"\",G67/'2014 scenario - input'!$D57),\"\")","v":""},{"$f":"IFERROR(IF(OR(H67=\"\",'2014 scenario - input'!$D57=\"\"),\"\",H67/'2014 scenario - input'!$D57),\"\")","v":""},{"$f":"IFERROR(IF(OR(I67=\"\",'2014 scenario - input'!$D57=\"\"),\"\",I67/'2014 scenario - input'!$D57),\"\")","v":""},{"$f":"IFERROR(IF(OR(J67=\"\",'2014 scenario - input'!$D57=\"\"),\"\",J67/'2014 scenario - input'!$D57),\"\")","v":""},{"$f":"IFERROR(IF(OR(K67=\"\",'2014 scenario - input'!$D57=\"\"),\"\",K67/'2014 scenario - input'!$D57),\"\")","v":""},{"$f":"IFERROR(IF(OR(L67=\"\",'2014 scenario - input'!$D57=\"\"),\"\",L67/'2014 scenario - input'!$D57),\"\")","v":""},{"$f":"IFERROR(IF(OR(M67=\"\",'2014 scenario - input'!$D57=\"\"),\"\",M67/'2014 scenario - input'!$D57),\"\")","v":""},{"$f":"IFERROR(IF(OR(N67=\"\",'2014 scenario - input'!$D57=\"\"),\"\",N67/'2014 scenario - input'!$D57),\"\")","v":""},{"$f":"IFERROR(IF(OR(O67=\"\",'2014 scenario - input'!$D57=\"\"),\"\",O67/'2014 scenario - input'!$D57),\"\")","v":""},{"$f":"IFERROR(IF(OR(P67=\"\",'2014 scenario - input'!$D57=\"\"),\"\",P67/'2014 scenario - input'!$D57),\"\")","v":""},{"$f":"IFERROR(IF(OR(Q67=\"\",'2014 scenario - input'!$D57=\"\"),\"\",Q67/'2014 scenario - input'!$D57),\"\")","v":""},{"$f":"IFERROR(IF(OR(R67=\"\",'2014 scenario - input'!$D57=\"\"),\"\",R67/'2014 scenario - input'!$D57),\"\")","v":""},{"$f":"IFERROR(IF(OR(S67=\"\",'2014 scenario - input'!$D57=\"\"),\"\",S67/'2014 scenario - input'!$D57),\"\")","v":""},{"$f":"IFERROR(IF(OR(T67=\"\",'2014 scenario - input'!$D57=\"\"),\"\",T67/'2014 scenario - input'!$D57),\"\")","v":""},{"$f":"IFERROR(IF(OR(U67=\"\",'2014 scenario - input'!$D57=\"\"),\"\",U67/'2014 scenario - input'!$D57),\"\")","v":""},{"$f":"IFERROR(IF(OR(V67=\"\",'2014 scenario - input'!$D57=\"\"),\"\",V67/'2014 scenario - input'!$D57),\"\")","v":""},{"$f":"IFERROR(IF(OR(W67=\"\",'2014 scenario - input'!$D57=\"\"),\"\",W67/'2014 scenario - input'!$D57),\"\")","v":""}]
[{"$f":"IFERROR('2014 scenario - input'!A58,\"\")","v":""},{"$f":"IFERROR('2014 scenario - input'!B58,\"\")","v":0},{"$f":"IFERROR('2014 scenario - input'!C58,\"\")","v":0},{"$f":"IFERROR(repcalc('2014 scenario - input'!$CV58:$GH58,'2014 scenario - input'!$G58,'2014 scenario - input'!$E58,'2014 scenario - input'!$F58,20,TRUE,TRUE),\"\")","v":""},"","","","","","","","","","","","","","","","","","","",{"$f":"IFERROR(IF(OR(D68=\"\",'2014 scenario - input'!$D58=\"\"),\"\",D68/'2014 scenario - input'!$D58),\"\")","v":""},{"$f":"IFERROR(IF(OR(E68=\"\",'2014 scenario - input'!$D58=\"\"),\"\",E68/'2014 scenario - input'!$D58),\"\")","v":""},{"$f":"IFERROR(IF(OR(F68=\"\",'2014 scenario - input'!$D58=\"\"),\"\",F68/'2014 scenario - input'!$D58),\"\")","v":""},{"$f":"IFERROR(IF(OR(G68=\"\",'2014 scenario - input'!$D58=\"\"),\"\",G68/'2014 scenario - input'!$D58),\"\")","v":""},{"$f":"IFERROR(IF(OR(H68=\"\",'2014 scenario - input'!$D58=\"\"),\"\",H68/'2014 scenario - input'!$D58),\"\")","v":""},{"$f":"IFERROR(IF(OR(I68=\"\",'2014 scenario - input'!$D58=\"\"),\"\",I68/'2014 scenario - input'!$D58),\"\")","v":""},{"$f":"IFERROR(IF(OR(J68=\"\",'2014 scenario - input'!$D58=\"\"),\"\",J68/'2014 scenario - input'!$D58),\"\")","v":""},{"$f":"IFERROR(IF(OR(K68=\"\",'2014 scenario - input'!$D58=\"\"),\"\",K68/'2014 scenario - input'!$D58),\"\")","v":""},{"$f":"IFERROR(IF(OR(L68=\"\",'2014 scenario - input'!$D58=\"\"),\"\",L68/'2014 scenario - input'!$D58),\"\")","v":""},{"$f":"IFERROR(IF(OR(M68=\"\",'2014 scenario - input'!$D58=\"\"),\"\",M68/'2014 scenario - input'!$D58),\"\")","v":""},{"$f":"IFERROR(IF(OR(N68=\"\",'2014 scenario - input'!$D58=\"\"),\"\",N68/'2014 scenario - input'!$D58),\"\")","v":""},{"$f":"IFERROR(IF(OR(O68=\"\",'2014 scenario - input'!$D58=\"\"),\"\",O68/'2014 scenario - input'!$D58),\"\")","v":""},{"$f":"IFERROR(IF(OR(P68=\"\",'2014 scenario - input'!$D58=\"\"),\"\",P68/'2014 scenario - input'!$D58),\"\")","v":""},{"$f":"IFERROR(IF(OR(Q68=\"\",'2014 scenario - input'!$D58=\"\"),\"\",Q68/'2014 scenario - input'!$D58),\"\")","v":""},{"$f":"IFERROR(IF(OR(R68=\"\",'2014 scenario - input'!$D58=\"\"),\"\",R68/'2014 scenario - input'!$D58),\"\")","v":""},{"$f":"IFERROR(IF(OR(S68=\"\",'2014 scenario - input'!$D58=\"\"),\"\",S68/'2014 scenario - input'!$D58),\"\")","v":""},{"$f":"IFERROR(IF(OR(T68=\"\",'2014 scenario - input'!$D58=\"\"),\"\",T68/'2014 scenario - input'!$D58),\"\")","v":""},{"$f":"IFERROR(IF(OR(U68=\"\",'2014 scenario - input'!$D58=\"\"),\"\",U68/'2014 scenario - input'!$D58),\"\")","v":""},{"$f":"IFERROR(IF(OR(V68=\"\",'2014 scenario - input'!$D58=\"\"),\"\",V68/'2014 scenario - input'!$D58),\"\")","v":""},{"$f":"IFERROR(IF(OR(W68=\"\",'2014 scenario - input'!$D58=\"\"),\"\",W68/'2014 scenario - input'!$D58),\"\")","v":""}]
[{"$f":"IFERROR('2014 scenario - input'!A59,\"\")","v":""},{"$f":"IFERROR('2014 scenario - input'!B59,\"\")","v":0},{"$f":"IFERROR('2014 scenario - input'!C59,\"\")","v":0},{"$f":"IFERROR(repcalc('2014 scenario - input'!$CV59:$GH59,'2014 scenario - input'!$G59,'2014 scenario - input'!$E59,'2014 scenario - input'!$F59,20,TRUE,TRUE),\"\")","v":""},"","","","","","","","","","","","","","","","","","","",{"$f":"IFERROR(IF(OR(D69=\"\",'2014 scenario - input'!$D59=\"\"),\"\",D69/'2014 scenario - input'!$D59),\"\")","v":""},{"$f":"IFERROR(IF(OR(E69=\"\",'2014 scenario - input'!$D59=\"\"),\"\",E69/'2014 scenario - input'!$D59),\"\")","v":""},{"$f":"IFERROR(IF(OR(F69=\"\",'2014 scenario - input'!$D59=\"\"),\"\",F69/'2014 scenario - input'!$D59),\"\")","v":""},{"$f":"IFERROR(IF(OR(G69=\"\",'2014 scenario - input'!$D59=\"\"),\"\",G69/'2014 scenario - input'!$D59),\"\")","v":""},{"$f":"IFERROR(IF(OR(H69=\"\",'2014 scenario - input'!$D59=\"\"),\"\",H69/'2014 scenario - input'!$D59),\"\")","v":""},{"$f":"IFERROR(IF(OR(I69=\"\",'2014 scenario - input'!$D59=\"\"),\"\",I69/'2014 scenario - input'!$D59),\"\")","v":""},{"$f":"IFERROR(IF(OR(J69=\"\",'2014 scenario - input'!$D59=\"\"),\"\",J69/'2014 scenario - input'!$D59),\"\")","v":""},{"$f":"IFERROR(IF(OR(K69=\"\",'2014 scenario - input'!$D59=\"\"),\"\",K69/'2014 scenario - input'!$D59),\"\")","v":""},{"$f":"IFERROR(IF(OR(L69=\"\",'2014 scenario - input'!$D59=\"\"),\"\",L69/'2014 scenario - input'!$D59),\"\")","v":""},{"$f":"IFERROR(IF(OR(M69=\"\",'2014 scenario - input'!$D59=\"\"),\"\",M69/'2014 scenario - input'!$D59),\"\")","v":""},{"$f":"IFERROR(IF(OR(N69=\"\",'2014 scenario - input'!$D59=\"\"),\"\",N69/'2014 scenario - input'!$D59),\"\")","v":""},{"$f":"IFERROR(IF(OR(O69=\"\",'2014 scenario - input'!$D59=\"\"),\"\",O69/'2014 scenario - input'!$D59),\"\")","v":""},{"$f":"IFERROR(IF(OR(P69=\"\",'2014 scenario - input'!$D59=\"\"),\"\",P69/'2014 scenario - input'!$D59),\"\")","v":""},{"$f":"IFERROR(IF(OR(Q69=\"\",'2014 scenario - input'!$D59=\"\"),\"\",Q69/'2014 scenario - input'!$D59),\"\")","v":""},{"$f":"IFERROR(IF(OR(R69=\"\",'2014 scenario - input'!$D59=\"\"),\"\",R69/'2014 scenario - input'!$D59),\"\")","v":""},{"$f":"IFERROR(IF(OR(S69=\"\",'2014 scenario - input'!$D59=\"\"),\"\",S69/'2014 scenario - input'!$D59),\"\")","v":""},{"$f":"IFERROR(IF(OR(T69=\"\",'2014 scenario - input'!$D59=\"\"),\"\",T69/'2014 scenario - input'!$D59),\"\")","v":""},{"$f":"IFERROR(IF(OR(U69=\"\",'2014 scenario - input'!$D59=\"\"),\"\",U69/'2014 scenario - input'!$D59),\"\")","v":""},{"$f":"IFERROR(IF(OR(V69=\"\",'2014 scenario - input'!$D59=\"\"),\"\",V69/'2014 scenario - input'!$D59),\"\")","v":""},{"$f":"IFERROR(IF(OR(W69=\"\",'2014 scenario - input'!$D59=\"\"),\"\",W69/'2014 scenario - input'!$D59),\"\")","v":""}]
[{"$f":"IFERROR('2014 scenario - input'!A60,\"\")","v":""},{"$f":"IFERROR('2014 scenario - input'!B60,\"\")","v":0},{"$f":"IFERROR('2014 scenario - input'!C60,\"\")","v":0},{"$f":"IFERROR(repcalc('2014 scenario - input'!$CV60:$GH60,'2014 scenario - input'!$G60,'2014 scenario - input'!$E60,'2014 scenario - input'!$F60,20,TRUE,TRUE),\"\")","v":""},"","","","","","","","","","","","","","","","","","","",{"$f":"IFERROR(IF(OR(D70=\"\",'2014 scenario - input'!$D60=\"\"),\"\",D70/'2014 scenario - input'!$D60),\"\")","v":""},{"$f":"IFERROR(IF(OR(E70=\"\",'2014 scenario - input'!$D60=\"\"),\"\",E70/'2014 scenario - input'!$D60),\"\")","v":""},{"$f":"IFERROR(IF(OR(F70=\"\",'2014 scenario - input'!$D60=\"\"),\"\",F70/'2014 scenario - input'!$D60),\"\")","v":""},{"$f":"IFERROR(IF(OR(G70=\"\",'2014 scenario - input'!$D60=\"\"),\"\",G70/'2014 scenario - input'!$D60),\"\")","v":""},{"$f":"IFERROR(IF(OR(H70=\"\",'2014 scenario - input'!$D60=\"\"),\"\",H70/'2014 scenario - input'!$D60),\"\")","v":""},{"$f":"IFERROR(IF(OR(I70=\"\",'2014 scenario - input'!$D60=\"\"),\"\",I70/'2014 scenario - input'!$D60),\"\")","v":""},{"$f":"IFERROR(IF(OR(J70=\"\",'2014 scenario - input'!$D60=\"\"),\"\",J70/'2014 scenario - input'!$D60),\"\")","v":""},{"$f":"IFERROR(IF(OR(K70=\"\",'2014 scenario - input'!$D60=\"\"),\"\",K70/'2014 scenario - input'!$D60),\"\")","v":""},{"$f":"IFERROR(IF(OR(L70=\"\",'2014 scenario - input'!$D60=\"\"),\"\",L70/'2014 scenario - input'!$D60),\"\")","v":""},{"$f":"IFERROR(IF(OR(M70=\"\",'2014 scenario - input'!$D60=\"\"),\"\",M70/'2014 scenario - input'!$D60),\"\")","v":""},{"$f":"IFERROR(IF(OR(N70=\"\",'2014 scenario - input'!$D60=\"\"),\"\",N70/'2014 scenario - input'!$D60),\"\")","v":""},{"$f":"IFERROR(IF(OR(O70=\"\",'2014 scenario - input'!$D60=\"\"),\"\",O70/'2014 scenario - input'!$D60),\"\")","v":""},{"$f":"IFERROR(IF(OR(P70=\"\",'2014 scenario - input'!$D60=\"\"),\"\",P70/'2014 scenario - input'!$D60),\"\")","v":""},{"$f":"IFERROR(IF(OR(Q70=\"\",'2014 scenario - input'!$D60=\"\"),\"\",Q70/'2014 scenario - input'!$D60),\"\")","v":""},{"$f":"IFERROR(IF(OR(R70=\"\",'2014 scenario - input'!$D60=\"\"),\"\",R70/'2014 scenario - input'!$D60),\"\")","v":""},{"$f":"IFERROR(IF(OR(S70=\"\",'2014 scenario - input'!$D60=\"\"),\"\",S70/'2014 scenario - input'!$D60),\"\")","v":""},{"$f":"IFERROR(IF(OR(T70=\"\",'2014 scenario - input'!$D60=\"\"),\"\",T70/'2014 scenario - input'!$D60),\"\")","v":""},{"$f":"IFERROR(IF(OR(U70=\"\",'2014 scenario - input'!$D60=\"\"),\"\",U70/'2014 scenario - input'!$D60),\"\")","v":""},{"$f":"IFERROR(IF(OR(V70=\"\",'2014 scenario - input'!$D60=\"\"),\"\",V70/'2014 scenario - input'!$D60),\"\")","v":""},{"$f":"IFERROR(IF(OR(W70=\"\",'2014 scenario - input'!$D60=\"\"),\"\",W70/'2014 scenario - input'!$D60),\"\")","v":""}]
[{"$f":"IFERROR('2014 scenario - input'!A61,\"\")","v":""},{"$f":"IFERROR('2014 scenario - input'!B61,\"\")","v":0},{"$f":"IFERROR('2014 scenario - input'!C61,\"\")","v":0},{"$f":"IFERROR(repcalc('2014 scenario - input'!$CV61:$GH61,'2014 scenario - input'!$G61,'2014 scenario - input'!$E61,'2014 scenario - input'!$F61,20,TRUE,TRUE),\"\")","v":""},"","","","","","","","","","","","","","","","","","","",{"$f":"IFERROR(IF(OR(D71=\"\",'2014 scenario - input'!$D61=\"\"),\"\",D71/'2014 scenario - input'!$D61),\"\")","v":""},{"$f":"IFERROR(IF(OR(E71=\"\",'2014 scenario - input'!$D61=\"\"),\"\",E71/'2014 scenario - input'!$D61),\"\")","v":""},{"$f":"IFERROR(IF(OR(F71=\"\",'2014 scenario - input'!$D61=\"\"),\"\",F71/'2014 scenario - input'!$D61),\"\")","v":""},{"$f":"IFERROR(IF(OR(G71=\"\",'2014 scenario - input'!$D61=\"\"),\"\",G71/'2014 scenario - input'!$D61),\"\")","v":""},{"$f":"IFERROR(IF(OR(H71=\"\",'2014 scenario - input'!$D61=\"\"),\"\",H71/'2014 scenario - input'!$D61),\"\")","v":""},{"$f":"IFERROR(IF(OR(I71=\"\",'2014 scenario - input'!$D61=\"\"),\"\",I71/'2014 scenario - input'!$D61),\"\")","v":""},{"$f":"IFERROR(IF(OR(J71=\"\",'2014 scenario - input'!$D61=\"\"),\"\",J71/'2014 scenario - input'!$D61),\"\")","v":""},{"$f":"IFERROR(IF(OR(K71=\"\",'2014 scenario - input'!$D61=\"\"),\"\",K71/'2014 scenario - input'!$D61),\"\")","v":""},{"$f":"IFERROR(IF(OR(L71=\"\",'2014 scenario - input'!$D61=\"\"),\"\",L71/'2014 scenario - input'!$D61),\"\")","v":""},{"$f":"IFERROR(IF(OR(M71=\"\",'2014 scenario - input'!$D61=\"\"),\"\",M71/'2014 scenario - input'!$D61),\"\")","v":""},{"$f":"IFERROR(IF(OR(N71=\"\",'2014 scenario - input'!$D61=\"\"),\"\",N71/'2014 scenario - input'!$D61),\"\")","v":""},{"$f":"IFERROR(IF(OR(O71=\"\",'2014 scenario - input'!$D61=\"\"),\"\",O71/'2014 scenario - input'!$D61),\"\")","v":""},{"$f":"IFERROR(IF(OR(P71=\"\",'2014 scenario - input'!$D61=\"\"),\"\",P71/'2014 scenario - input'!$D61),\"\")","v":""},{"$f":"IFERROR(IF(OR(Q71=\"\",'2014 scenario - input'!$D61=\"\"),\"\",Q71/'2014 scenario - input'!$D61),\"\")","v":""},{"$f":"IFERROR(IF(OR(R71=\"\",'2014 scenario - input'!$D61=\"\"),\"\",R71/'2014 scenario - input'!$D61),\"\")","v":""},{"$f":"IFERROR(IF(OR(S71=\"\",'2014 scenario - input'!$D61=\"\"),\"\",S71/'2014 scenario - input'!$D61),\"\")","v":""},{"$f":"IFERROR(IF(OR(T71=\"\",'2014 scenario - input'!$D61=\"\"),\"\",T71/'2014 scenario - input'!$D61),\"\")","v":""},{"$f":"IFERROR(IF(OR(U71=\"\",'2014 scenario - input'!$D61=\"\"),\"\",U71/'2014 scenario - input'!$D61),\"\")","v":""},{"$f":"IFERROR(IF(OR(V71=\"\",'2014 scenario - input'!$D61=\"\"),\"\",V71/'2014 scenario - input'!$D61),\"\")","v":""},{"$f":"IFERROR(IF(OR(W71=\"\",'2014 scenario - input'!$D61=\"\"),\"\",W71/'2014 scenario - input'!$D61),\"\")","v":""}]
[{"$f":"IFERROR('2014 scenario - input'!A62,\"\")","v":""},{"$f":"IFERROR('2014 scenario - input'!B62,\"\")","v":0},{"$f":"IFERROR('2014 scenario - input'!C62,\"\")","v":0},{"$f":"IFERROR(repcalc('2014 scenario - input'!$CV62:$GH62,'2014 scenario - input'!$G62,'2014 scenario - input'!$E62,'2014 scenario - input'!$F62,20,TRUE,TRUE),\"\")","v":""},"","","","","","","","","","","","","","","","","","","",{"$f":"IFERROR(IF(OR(D72=\"\",'2014 scenario - input'!$D62=\"\"),\"\",D72/'2014 scenario - input'!$D62),\"\")","v":""},{"$f":"IFERROR(IF(OR(E72=\"\",'2014 scenario - input'!$D62=\"\"),\"\",E72/'2014 scenario - input'!$D62),\"\")","v":""},{"$f":"IFERROR(IF(OR(F72=\"\",'2014 scenario - input'!$D62=\"\"),\"\",F72/'2014 scenario - input'!$D62),\"\")","v":""},{"$f":"IFERROR(IF(OR(G72=\"\",'2014 scenario - input'!$D62=\"\"),\"\",G72/'2014 scenario - input'!$D62),\"\")","v":""},{"$f":"IFERROR(IF(OR(H72=\"\",'2014 scenario - input'!$D62=\"\"),\"\",H72/'2014 scenario - input'!$D62),\"\")","v":""},{"$f":"IFERROR(IF(OR(I72=\"\",'2014 scenario - input'!$D62=\"\"),\"\",I72/'2014 scenario - input'!$D62),\"\")","v":""},{"$f":"IFERROR(IF(OR(J72=\"\",'2014 scenario - input'!$D62=\"\"),\"\",J72/'2014 scenario - input'!$D62),\"\")","v":""},{"$f":"IFERROR(IF(OR(K72=\"\",'2014 scenario - input'!$D62=\"\"),\"\",K72/'2014 scenario - input'!$D62),\"\")","v":""},{"$f":"IFERROR(IF(OR(L72=\"\",'2014 scenario - input'!$D62=\"\"),\"\",L72/'2014 scenario - input'!$D62),\"\")","v":""},{"$f":"IFERROR(IF(OR(M72=\"\",'2014 scenario - input'!$D62=\"\"),\"\",M72/'2014 scenario - input'!$D62),\"\")","v":""},{"$f":"IFERROR(IF(OR(N72=\"\",'2014 scenario - input'!$D62=\"\"),\"\",N72/'2014 scenario - input'!$D62),\"\")","v":""},{"$f":"IFERROR(IF(OR(O72=\"\",'2014 scenario - input'!$D62=\"\"),\"\",O72/'2014 scenario - input'!$D62),\"\")","v":""},{"$f":"IFERROR(IF(OR(P72=\"\",'2014 scenario - input'!$D62=\"\"),\"\",P72/'2014 scenario - input'!$D62),\"\")","v":""},{"$f":"IFERROR(IF(OR(Q72=\"\",'2014 scenario - input'!$D62=\"\"),\"\",Q72/'2014 scenario - input'!$D62),\"\")","v":""},{"$f":"IFERROR(IF(OR(R72=\"\",'2014 scenario - input'!$D62=\"\"),\"\",R72/'2014 scenario - input'!$D62),\"\")","v":""},{"$f":"IFERROR(IF(OR(S72=\"\",'2014 scenario - input'!$D62=\"\"),\"\",S72/'2014 scenario - input'!$D62),\"\")","v":""},{"$f":"IFERROR(IF(OR(T72=\"\",'2014 scenario - input'!$D62=\"\"),\"\",T72/'2014 scenario - input'!$D62),\"\")","v":""},{"$f":"IFERROR(IF(OR(U72=\"\",'2014 scenario - input'!$D62=\"\"),\"\",U72/'2014 scenario - input'!$D62),\"\")","v":""},{"$f":"IFERROR(IF(OR(V72=\"\",'2014 scenario - input'!$D62=\"\"),\"\",V72/'2014 scenario - input'!$D62),\"\")","v":""},{"$f":"IFERROR(IF(OR(W72=\"\",'2014 scenario - input'!$D62=\"\"),\"\",W72/'2014 scenario - input'!$D62),\"\")","v":""}]
[{"$f":"IFERROR('2014 scenario - input'!A63,\"\")","v":""},{"$f":"IFERROR('2014 scenario - input'!B63,\"\")","v":0},{"$f":"IFERROR('2014 scenario - input'!C63,\"\")","v":0},{"$f":"IFERROR(repcalc('2014 scenario - input'!$CV63:$GH63,'2014 scenario - input'!$G63,'2014 scenario - input'!$E63,'2014 scenario - input'!$F63,20,TRUE,TRUE),\"\")","v":""},"","","","","","","","","","","","","","","","","","","",{"$f":"IFERROR(IF(OR(D73=\"\",'2014 scenario - input'!$D63=\"\"),\"\",D73/'2014 scenario - input'!$D63),\"\")","v":""},{"$f":"IFERROR(IF(OR(E73=\"\",'2014 scenario - input'!$D63=\"\"),\"\",E73/'2014 scenario - input'!$D63),\"\")","v":""},{"$f":"IFERROR(IF(OR(F73=\"\",'2014 scenario - input'!$D63=\"\"),\"\",F73/'2014 scenario - input'!$D63),\"\")","v":""},{"$f":"IFERROR(IF(OR(G73=\"\",'2014 scenario - input'!$D63=\"\"),\"\",G73/'2014 scenario - input'!$D63),\"\")","v":""},{"$f":"IFERROR(IF(OR(H73=\"\",'2014 scenario - input'!$D63=\"\"),\"\",H73/'2014 scenario - input'!$D63),\"\")","v":""},{"$f":"IFERROR(IF(OR(I73=\"\",'2014 scenario - input'!$D63=\"\"),\"\",I73/'2014 scenario - input'!$D63),\"\")","v":""},{"$f":"IFERROR(IF(OR(J73=\"\",'2014 scenario - input'!$D63=\"\"),\"\",J73/'2014 scenario - input'!$D63),\"\")","v":""},{"$f":"IFERROR(IF(OR(K73=\"\",'2014 scenario - input'!$D63=\"\"),\"\",K73/'2014 scenario - input'!$D63),\"\")","v":""},{"$f":"IFERROR(IF(OR(L73=\"\",'2014 scenario - input'!$D63=\"\"),\"\",L73/'2014 scenario - input'!$D63),\"\")","v":""},{"$f":"IFERROR(IF(OR(M73=\"\",'2014 scenario - input'!$D63=\"\"),\"\",M73/'2014 scenario - input'!$D63),\"\")","v":""},{"$f":"IFERROR(IF(OR(N73=\"\",'2014 scenario - input'!$D63=\"\"),\"\",N73/'2014 scenario - input'!$D63),\"\")","v":""},{"$f":"IFERROR(IF(OR(O73=\"\",'2014 scenario - input'!$D63=\"\"),\"\",O73/'2014 scenario - input'!$D63),\"\")","v":""},{"$f":"IFERROR(IF(OR(P73=\"\",'2014 scenario - input'!$D63=\"\"),\"\",P73/'2014 scenario - input'!$D63),\"\")","v":""},{"$f":"IFERROR(IF(OR(Q73=\"\",'2014 scenario - input'!$D63=\"\"),\"\",Q73/'2014 scenario - input'!$D63),\"\")","v":""},{"$f":"IFERROR(IF(OR(R73=\"\",'2014 scenario - input'!$D63=\"\"),\"\",R73/'2014 scenario - input'!$D63),\"\")","v":""},{"$f":"IFERROR(IF(OR(S73=\"\",'2014 scenario - input'!$D63=\"\"),\"\",S73/'2014 scenario - input'!$D63),\"\")","v":""},{"$f":"IFERROR(IF(OR(T73=\"\",'2014 scenario - input'!$D63=\"\"),\"\",T73/'2014 scenario - input'!$D63),\"\")","v":""},{"$f":"IFERROR(IF(OR(U73=\"\",'2014 scenario - input'!$D63=\"\"),\"\",U73/'2014 scenario - input'!$D63),\"\")","v":""},{"$f":"IFERROR(IF(OR(V73=\"\",'2014 scenario - input'!$D63=\"\"),\"\",V73/'2014 scenario - input'!$D63),\"\")","v":""},{"$f":"IFERROR(IF(OR(W73=\"\",'2014 scenario - input'!$D63=\"\"),\"\",W73/'2014 scenario - input'!$D63),\"\")","v":""}]
[{"$f":"IFERROR('2014 scenario - input'!A64,\"\")","v":""},{"$f":"IFERROR('2014 scenario - input'!B64,\"\")","v":0},{"$f":"IFERROR('2014 scenario - input'!C64,\"\")","v":0},{"$f":"IFERROR(repcalc('2014 scenario - input'!$CV64:$GH64,'2014 scenario - input'!$G64,'2014 scenario - input'!$E64,'2014 scenario - input'!$F64,20,TRUE,TRUE),\"\")","v":""},"","","","","","","","","","","","","","","","","","","",{"$f":"IFERROR(IF(OR(D74=\"\",'2014 scenario - input'!$D64=\"\"),\"\",D74/'2014 scenario - input'!$D64),\"\")","v":""},{"$f":"IFERROR(IF(OR(E74=\"\",'2014 scenario - input'!$D64=\"\"),\"\",E74/'2014 scenario - input'!$D64),\"\")","v":""},{"$f":"IFERROR(IF(OR(F74=\"\",'2014 scenario - input'!$D64=\"\"),\"\",F74/'2014 scenario - input'!$D64),\"\")","v":""},{"$f":"IFERROR(IF(OR(G74=\"\",'2014 scenario - input'!$D64=\"\"),\"\",G74/'2014 scenario - input'!$D64),\"\")","v":""},{"$f":"IFERROR(IF(OR(H74=\"\",'2014 scenario - input'!$D64=\"\"),\"\",H74/'2014 scenario - input'!$D64),\"\")","v":""},{"$f":"IFERROR(IF(OR(I74=\"\",'2014 scenario - input'!$D64=\"\"),\"\",I74/'2014 scenario - input'!$D64),\"\")","v":""},{"$f":"IFERROR(IF(OR(J74=\"\",'2014 scenario - input'!$D64=\"\"),\"\",J74/'2014 scenario - input'!$D64),\"\")","v":""},{"$f":"IFERROR(IF(OR(K74=\"\",'2014 scenario - input'!$D64=\"\"),\"\",K74/'2014 scenario - input'!$D64),\"\")","v":""},{"$f":"IFERROR(IF(OR(L74=\"\",'2014 scenario - input'!$D64=\"\"),\"\",L74/'2014 scenario - input'!$D64),\"\")","v":""},{"$f":"IFERROR(IF(OR(M74=\"\",'2014 scenario - input'!$D64=\"\"),\"\",M74/'2014 scenario - input'!$D64),\"\")","v":""},{"$f":"IFERROR(IF(OR(N74=\"\",'2014 scenario - input'!$D64=\"\"),\"\",N74/'2014 scenario - input'!$D64),\"\")","v":""},{"$f":"IFERROR(IF(OR(O74=\"\",'2014 scenario - input'!$D64=\"\"),\"\",O74/'2014 scenario - input'!$D64),\"\")","v":""},{"$f":"IFERROR(IF(OR(P74=\"\",'2014 scenario - input'!$D64=\"\"),\"\",P74/'2014 scenario - input'!$D64),\"\")","v":""},{"$f":"IFERROR(IF(OR(Q74=\"\",'2014 scenario - input'!$D64=\"\"),\"\",Q74/'2014 scenario - input'!$D64),\"\")","v":""},{"$f":"IFERROR(IF(OR(R74=\"\",'2014 scenario - input'!$D64=\"\"),\"\",R74/'2014 scenario - input'!$D64),\"\")","v":""},{"$f":"IFERROR(IF(OR(S74=\"\",'2014 scenario - input'!$D64=\"\"),\"\",S74/'2014 scenario - input'!$D64),\"\")","v":""},{"$f":"IFERROR(IF(OR(T74=\"\",'2014 scenario - input'!$D64=\"\"),\"\",T74/'2014 scenario - input'!$D64),\"\")","v":""},{"$f":"IFERROR(IF(OR(U74=\"\",'2014 scenario - input'!$D64=\"\"),\"\",U74/'2014 scenario - input'!$D64),\"\")","v":""},{"$f":"IFERROR(IF(OR(V74=\"\",'2014 scenario - input'!$D64=\"\"),\"\",V74/'2014 scenario - input'!$D64),\"\")","v":""},{"$f":"IFERROR(IF(OR(W74=\"\",'2014 scenario - input'!$D64=\"\"),\"\",W74/'2014 scenario - input'!$D64),\"\")","v":""}]
[{"$f":"IFERROR('2014 scenario - input'!A65,\"\")","v":""},{"$f":"IFERROR('2014 scenario - input'!B65,\"\")","v":0},{"$f":"IFERROR('2014 scenario - input'!C65,\"\")","v":0},{"$f":"IFERROR(repcalc('2014 scenario - input'!$CV65:$GH65,'2014 scenario - input'!$G65,'2014 scenario - input'!$E65,'2014 scenario - input'!$F65,20,TRUE,TRUE),\"\")","v":""},"","","","","","","","","","","","","","","","","","","",{"$f":"IFERROR(IF(OR(D75=\"\",'2014 scenario - input'!$D65=\"\"),\"\",D75/'2014 scenario - input'!$D65),\"\")","v":""},{"$f":"IFERROR(IF(OR(E75=\"\",'2014 scenario - input'!$D65=\"\"),\"\",E75/'2014 scenario - input'!$D65),\"\")","v":""},{"$f":"IFERROR(IF(OR(F75=\"\",'2014 scenario - input'!$D65=\"\"),\"\",F75/'2014 scenario - input'!$D65),\"\")","v":""},{"$f":"IFERROR(IF(OR(G75=\"\",'2014 scenario - input'!$D65=\"\"),\"\",G75/'2014 scenario - input'!$D65),\"\")","v":""},{"$f":"IFERROR(IF(OR(H75=\"\",'2014 scenario - input'!$D65=\"\"),\"\",H75/'2014 scenario - input'!$D65),\"\")","v":""},{"$f":"IFERROR(IF(OR(I75=\"\",'2014 scenario - input'!$D65=\"\"),\"\",I75/'2014 scenario - input'!$D65),\"\")","v":""},{"$f":"IFERROR(IF(OR(J75=\"\",'2014 scenario - input'!$D65=\"\"),\"\",J75/'2014 scenario - input'!$D65),\"\")","v":""},{"$f":"IFERROR(IF(OR(K75=\"\",'2014 scenario - input'!$D65=\"\"),\"\",K75/'2014 scenario - input'!$D65),\"\")","v":""},{"$f":"IFERROR(IF(OR(L75=\"\",'2014 scenario - input'!$D65=\"\"),\"\",L75/'2014 scenario - input'!$D65),\"\")","v":""},{"$f":"IFERROR(IF(OR(M75=\"\",'2014 scenario - input'!$D65=\"\"),\"\",M75/'2014 scenario - input'!$D65),\"\")","v":""},{"$f":"IFERROR(IF(OR(N75=\"\",'2014 scenario - input'!$D65=\"\"),\"\",N75/'2014 scenario - input'!$D65),\"\")","v":""},{"$f":"IFERROR(IF(OR(O75=\"\",'2014 scenario - input'!$D65=\"\"),\"\",O75/'2014 scenario - input'!$D65),\"\")","v":""},{"$f":"IFERROR(IF(OR(P75=\"\",'2014 scenario - input'!$D65=\"\"),\"\",P75/'2014 scenario - input'!$D65),\"\")","v":""},{"$f":"IFERROR(IF(OR(Q75=\"\",'2014 scenario - input'!$D65=\"\"),\"\",Q75/'2014 scenario - input'!$D65),\"\")","v":""},{"$f":"IFERROR(IF(OR(R75=\"\",'2014 scenario - input'!$D65=\"\"),\"\",R75/'2014 scenario - input'!$D65),\"\")","v":""},{"$f":"IFERROR(IF(OR(S75=\"\",'2014 scenario - input'!$D65=\"\"),\"\",S75/'2014 scenario - input'!$D65),\"\")","v":""},{"$f":"IFERROR(IF(OR(T75=\"\",'2014 scenario - input'!$D65=\"\"),\"\",T75/'2014 scenario - input'!$D65),\"\")","v":""},{"$f":"IFERROR(IF(OR(U75=\"\",'2014 scenario - input'!$D65=\"\"),\"\",U75/'2014 scenario - input'!$D65),\"\")","v":""},{"$f":"IFERROR(IF(OR(V75=\"\",'2014 scenario - input'!$D65=\"\"),\"\",V75/'2014 scenario - input'!$D65),\"\")","v":""},{"$f":"IFERROR(IF(OR(W75=\"\",'2014 scenario - input'!$D65=\"\"),\"\",W75/'2014 scenario - input'!$D65),\"\")","v":""}]
[{"$f":"IFERROR('2014 scenario - input'!A66,\"\")","v":""},{"$f":"IFERROR('2014 scenario - input'!B66,\"\")","v":0},{"$f":"IFERROR('2014 scenario - input'!C66,\"\")","v":0},{"$f":"IFERROR(repcalc('2014 scenario - input'!$CV66:$GH66,'2014 scenario - input'!$G66,'2014 scenario - input'!$E66,'2014 scenario - input'!$F66,20,TRUE,TRUE),\"\")","v":""},"","","","","","","","","","","","","","","","","","","",{"$f":"IFERROR(IF(OR(D76=\"\",'2014 scenario - input'!$D66=\"\"),\"\",D76/'2014 scenario - input'!$D66),\"\")","v":""},{"$f":"IFERROR(IF(OR(E76=\"\",'2014 scenario - input'!$D66=\"\"),\"\",E76/'2014 scenario - input'!$D66),\"\")","v":""},{"$f":"IFERROR(IF(OR(F76=\"\",'2014 scenario - input'!$D66=\"\"),\"\",F76/'2014 scenario - input'!$D66),\"\")","v":""},{"$f":"IFERROR(IF(OR(G76=\"\",'2014 scenario - input'!$D66=\"\"),\"\",G76/'2014 scenario - input'!$D66),\"\")","v":""},{"$f":"IFERROR(IF(OR(H76=\"\",'2014 scenario - input'!$D66=\"\"),\"\",H76/'2014 scenario - input'!$D66),\"\")","v":""},{"$f":"IFERROR(IF(OR(I76=\"\",'2014 scenario - input'!$D66=\"\"),\"\",I76/'2014 scenario - input'!$D66),\"\")","v":""},{"$f":"IFERROR(IF(OR(J76=\"\",'2014 scenario - input'!$D66=\"\"),\"\",J76/'2014 scenario - input'!$D66),\"\")","v":""},{"$f":"IFERROR(IF(OR(K76=\"\",'2014 scenario - input'!$D66=\"\"),\"\",K76/'2014 scenario - input'!$D66),\"\")","v":""},{"$f":"IFERROR(IF(OR(L76=\"\",'2014 scenario - input'!$D66=\"\"),\"\",L76/'2014 scenario - input'!$D66),\"\")","v":""},{"$f":"IFERROR(IF(OR(M76=\"\",'2014 scenario - input'!$D66=\"\"),\"\",M76/'2014 scenario - input'!$D66),\"\")","v":""},{"$f":"IFERROR(IF(OR(N76=\"\",'2014 scenario - input'!$D66=\"\"),\"\",N76/'2014 scenario - input'!$D66),\"\")","v":""},{"$f":"IFERROR(IF(OR(O76=\"\",'2014 scenario - input'!$D66=\"\"),\"\",O76/'2014 scenario - input'!$D66),\"\")","v":""},{"$f":"IFERROR(IF(OR(P76=\"\",'2014 scenario - input'!$D66=\"\"),\"\",P76/'2014 scenario - input'!$D66),\"\")","v":""},{"$f":"IFERROR(IF(OR(Q76=\"\",'2014 scenario - input'!$D66=\"\"),\"\",Q76/'2014 scenario - input'!$D66),\"\")","v":""},{"$f":"IFERROR(IF(OR(R76=\"\",'2014 scenario - input'!$D66=\"\"),\"\",R76/'2014 scenario - input'!$D66),\"\")","v":""},{"$f":"IFERROR(IF(OR(S76=\"\",'2014 scenario - input'!$D66=\"\"),\"\",S76/'2014 scenario - input'!$D66),\"\")","v":""},{"$f":"IFERROR(IF(OR(T76=\"\",'2014 scenario - input'!$D66=\"\"),\"\",T76/'2014 scenario - input'!$D66),\"\")","v":""},{"$f":"IFERROR(IF(OR(U76=\"\",'2014 scenario - input'!$D66=\"\"),\"\",U76/'2014 scenario - input'!$D66),\"\")","v":""},{"$f":"IFERROR(IF(OR(V76=\"\",'2014 scenario - input'!$D66=\"\"),\"\",V76/'2014 scenario - input'!$D66),\"\")","v":""},{"$f":"IFERROR(IF(OR(W76=\"\",'2014 scenario - input'!$D66=\"\"),\"\",W76/'2014 scenario - input'!$D66),\"\")","v":""}]
[{"$f":"IFERROR('2014 scenario - input'!A67,\"\")","v":""},{"$f":"IFERROR('2014 scenario - input'!B67,\"\")","v":0},{"$f":"IFERROR('2014 scenario - input'!C67,\"\")","v":0},{"$f":"IFERROR(repcalc('2014 scenario - input'!$CV67:$GH67,'2014 scenario - input'!$G67,'2014 scenario - input'!$E67,'2014 scenario - input'!$F67,20,TRUE,TRUE),\"\")","v":""},"","","","","","","","","","","","","","","","","","","",{"$f":"IFERROR(IF(OR(D77=\"\",'2014 scenario - input'!$D67=\"\"),\"\",D77/'2014 scenario - input'!$D67),\"\")","v":""},{"$f":"IFERROR(IF(OR(E77=\"\",'2014 scenario - input'!$D67=\"\"),\"\",E77/'2014 scenario - input'!$D67),\"\")","v":""},{"$f":"IFERROR(IF(OR(F77=\"\",'2014 scenario - input'!$D67=\"\"),\"\",F77/'2014 scenario - input'!$D67),\"\")","v":""},{"$f":"IFERROR(IF(OR(G77=\"\",'2014 scenario - input'!$D67=\"\"),\"\",G77/'2014 scenario - input'!$D67),\"\")","v":""},{"$f":"IFERROR(IF(OR(H77=\"\",'2014 scenario - input'!$D67=\"\"),\"\",H77/'2014 scenario - input'!$D67),\"\")","v":""},{"$f":"IFERROR(IF(OR(I77=\"\",'2014 scenario - input'!$D67=\"\"),\"\",I77/'2014 scenario - input'!$D67),\"\")","v":""},{"$f":"IFERROR(IF(OR(J77=\"\",'2014 scenario - input'!$D67=\"\"),\"\",J77/'2014 scenario - input'!$D67),\"\")","v":""},{"$f":"IFERROR(IF(OR(K77=\"\",'2014 scenario - input'!$D67=\"\"),\"\",K77/'2014 scenario - input'!$D67),\"\")","v":""},{"$f":"IFERROR(IF(OR(L77=\"\",'2014 scenario - input'!$D67=\"\"),\"\",L77/'2014 scenario - input'!$D67),\"\")","v":""},{"$f":"IFERROR(IF(OR(M77=\"\",'2014 scenario - input'!$D67=\"\"),\"\",M77/'2014 scenario - input'!$D67),\"\")","v":""},{"$f":"IFERROR(IF(OR(N77=\"\",'2014 scenario - input'!$D67=\"\"),\"\",N77/'2014 scenario - input'!$D67),\"\")","v":""},{"$f":"IFERROR(IF(OR(O77=\"\",'2014 scenario - input'!$D67=\"\"),\"\",O77/'2014 scenario - input'!$D67),\"\")","v":""},{"$f":"IFERROR(IF(OR(P77=\"\",'2014 scenario - input'!$D67=\"\"),\"\",P77/'2014 scenario - input'!$D67),\"\")","v":""},{"$f":"IFERROR(IF(OR(Q77=\"\",'2014 scenario - input'!$D67=\"\"),\"\",Q77/'2014 scenario - input'!$D67),\"\")","v":""},{"$f":"IFERROR(IF(OR(R77=\"\",'2014 scenario - input'!$D67=\"\"),\"\",R77/'2014 scenario - input'!$D67),\"\")","v":""},{"$f":"IFERROR(IF(OR(S77=\"\",'2014 scenario - input'!$D67=\"\"),\"\",S77/'2014 scenario - input'!$D67),\"\")","v":""},{"$f":"IFERROR(IF(OR(T77=\"\",'2014 scenario - input'!$D67=\"\"),\"\",T77/'2014 scenario - input'!$D67),\"\")","v":""},{"$f":"IFERROR(IF(OR(U77=\"\",'2014 scenario - input'!$D67=\"\"),\"\",U77/'2014 scenario - input'!$D67),\"\")","v":""},{"$f":"IFERROR(IF(OR(V77=\"\",'2014 scenario - input'!$D67=\"\"),\"\",V77/'2014 scenario - input'!$D67),\"\")","v":""},{"$f":"IFERROR(IF(OR(W77=\"\",'2014 scenario - input'!$D67=\"\"),\"\",W77/'2014 scenario - input'!$D67),\"\")","v":""}]
[{"$f":"IFERROR('2014 scenario - input'!A68,\"\")","v":""},{"$f":"IFERROR('2014 scenario - input'!B68,\"\")","v":0},{"$f":"IFERROR('2014 scenario - input'!C68,\"\")","v":0},{"$f":"IFERROR(repcalc('2014 scenario - input'!$CV68:$GH68,'2014 scenario - input'!$G68,'2014 scenario - input'!$E68,'2014 scenario - input'!$F68,20,TRUE,TRUE),\"\")","v":""},"","","","","","","","","","","","","","","","","","","",{"$f":"IFERROR(IF(OR(D78=\"\",'2014 scenario - input'!$D68=\"\"),\"\",D78/'2014 scenario - input'!$D68),\"\")","v":""},{"$f":"IFERROR(IF(OR(E78=\"\",'2014 scenario - input'!$D68=\"\"),\"\",E78/'2014 scenario - input'!$D68),\"\")","v":""},{"$f":"IFERROR(IF(OR(F78=\"\",'2014 scenario - input'!$D68=\"\"),\"\",F78/'2014 scenario - input'!$D68),\"\")","v":""},{"$f":"IFERROR(IF(OR(G78=\"\",'2014 scenario - input'!$D68=\"\"),\"\",G78/'2014 scenario - input'!$D68),\"\")","v":""},{"$f":"IFERROR(IF(OR(H78=\"\",'2014 scenario - input'!$D68=\"\"),\"\",H78/'2014 scenario - input'!$D68),\"\")","v":""},{"$f":"IFERROR(IF(OR(I78=\"\",'2014 scenario - input'!$D68=\"\"),\"\",I78/'2014 scenario - input'!$D68),\"\")","v":""},{"$f":"IFERROR(IF(OR(J78=\"\",'2014 scenario - input'!$D68=\"\"),\"\",J78/'2014 scenario - input'!$D68),\"\")","v":""},{"$f":"IFERROR(IF(OR(K78=\"\",'2014 scenario - input'!$D68=\"\"),\"\",K78/'2014 scenario - input'!$D68),\"\")","v":""},{"$f":"IFERROR(IF(OR(L78=\"\",'2014 scenario - input'!$D68=\"\"),\"\",L78/'2014 scenario - input'!$D68),\"\")","v":""},{"$f":"IFERROR(IF(OR(M78=\"\",'2014 scenario - input'!$D68=\"\"),\"\",M78/'2014 scenario - input'!$D68),\"\")","v":""},{"$f":"IFERROR(IF(OR(N78=\"\",'2014 scenario - input'!$D68=\"\"),\"\",N78/'2014 scenario - input'!$D68),\"\")","v":""},{"$f":"IFERROR(IF(OR(O78=\"\",'2014 scenario - input'!$D68=\"\"),\"\",O78/'2014 scenario - input'!$D68),\"\")","v":""},{"$f":"IFERROR(IF(OR(P78=\"\",'2014 scenario - input'!$D68=\"\"),\"\",P78/'2014 scenario - input'!$D68),\"\")","v":""},{"$f":"IFERROR(IF(OR(Q78=\"\",'2014 scenario - input'!$D68=\"\"),\"\",Q78/'2014 scenario - input'!$D68),\"\")","v":""},{"$f":"IFERROR(IF(OR(R78=\"\",'2014 scenario - input'!$D68=\"\"),\"\",R78/'2014 scenario - input'!$D68),\"\")","v":""},{"$f":"IFERROR(IF(OR(S78=\"\",'2014 scenario - input'!$D68=\"\"),\"\",S78/'2014 scenario - input'!$D68),\"\")","v":""},{"$f":"IFERROR(IF(OR(T78=\"\",'2014 scenario - input'!$D68=\"\"),\"\",T78/'2014 scenario - input'!$D68),\"\")","v":""},{"$f":"IFERROR(IF(OR(U78=\"\",'2014 scenario - input'!$D68=\"\"),\"\",U78/'2014 scenario - input'!$D68),\"\")","v":""},{"$f":"IFERROR(IF(OR(V78=\"\",'2014 scenario - input'!$D68=\"\"),\"\",V78/'2014 scenario - input'!$D68),\"\")","v":""},{"$f":"IFERROR(IF(OR(W78=\"\",'2014 scenario - input'!$D68=\"\"),\"\",W78/'2014 scenario - input'!$D68),\"\")","v":""}]
[{"$f":"IFERROR('2014 scenario - input'!A69,\"\")","v":""},{"$f":"IFERROR('2014 scenario - input'!B69,\"\")","v":0},{"$f":"IFERROR('2014 scenario - input'!C69,\"\")","v":0},{"$f":"IFERROR(repcalc('2014 scenario - input'!$CV69:$GH69,'2014 scenario - input'!$G69,'2014 scenario - input'!$E69,'2014 scenario - input'!$F69,20,TRUE,TRUE),\"\")","v":""},"","","","","","","","","","","","","","","","","","","",{"$f":"IFERROR(IF(OR(D79=\"\",'2014 scenario - input'!$D69=\"\"),\"\",D79/'2014 scenario - input'!$D69),\"\")","v":""},{"$f":"IFERROR(IF(OR(E79=\"\",'2014 scenario - input'!$D69=\"\"),\"\",E79/'2014 scenario - input'!$D69),\"\")","v":""},{"$f":"IFERROR(IF(OR(F79=\"\",'2014 scenario - input'!$D69=\"\"),\"\",F79/'2014 scenario - input'!$D69),\"\")","v":""},{"$f":"IFERROR(IF(OR(G79=\"\",'2014 scenario - input'!$D69=\"\"),\"\",G79/'2014 scenario - input'!$D69),\"\")","v":""},{"$f":"IFERROR(IF(OR(H79=\"\",'2014 scenario - input'!$D69=\"\"),\"\",H79/'2014 scenario - input'!$D69),\"\")","v":""},{"$f":"IFERROR(IF(OR(I79=\"\",'2014 scenario - input'!$D69=\"\"),\"\",I79/'2014 scenario - input'!$D69),\"\")","v":""},{"$f":"IFERROR(IF(OR(J79=\"\",'2014 scenario - input'!$D69=\"\"),\"\",J79/'2014 scenario - input'!$D69),\"\")","v":""},{"$f":"IFERROR(IF(OR(K79=\"\",'2014 scenario - input'!$D69=\"\"),\"\",K79/'2014 scenario - input'!$D69),\"\")","v":""},{"$f":"IFERROR(IF(OR(L79=\"\",'2014 scenario - input'!$D69=\"\"),\"\",L79/'2014 scenario - input'!$D69),\"\")","v":""},{"$f":"IFERROR(IF(OR(M79=\"\",'2014 scenario - input'!$D69=\"\"),\"\",M79/'2014 scenario - input'!$D69),\"\")","v":""},{"$f":"IFERROR(IF(OR(N79=\"\",'2014 scenario - input'!$D69=\"\"),\"\",N79/'2014 scenario - input'!$D69),\"\")","v":""},{"$f":"IFERROR(IF(OR(O79=\"\",'2014 scenario - input'!$D69=\"\"),\"\",O79/'2014 scenario - input'!$D69),\"\")","v":""},{"$f":"IFERROR(IF(OR(P79=\"\",'2014 scenario - input'!$D69=\"\"),\"\",P79/'2014 scenario - input'!$D69),\"\")","v":""},{"$f":"IFERROR(IF(OR(Q79=\"\",'2014 scenario - input'!$D69=\"\"),\"\",Q79/'2014 scenario - input'!$D69),\"\")","v":""},{"$f":"IFERROR(IF(OR(R79=\"\",'2014 scenario - input'!$D69=\"\"),\"\",R79/'2014 scenario - input'!$D69),\"\")","v":""},{"$f":"IFERROR(IF(OR(S79=\"\",'2014 scenario - input'!$D69=\"\"),\"\",S79/'2014 scenario - input'!$D69),\"\")","v":""},{"$f":"IFERROR(IF(OR(T79=\"\",'2014 scenario - input'!$D69=\"\"),\"\",T79/'2014 scenario - input'!$D69),\"\")","v":""},{"$f":"IFERROR(IF(OR(U79=\"\",'2014 scenario - input'!$D69=\"\"),\"\",U79/'2014 scenario - input'!$D69),\"\")","v":""},{"$f":"IFERROR(IF(OR(V79=\"\",'2014 scenario - input'!$D69=\"\"),\"\",V79/'2014 scenario - input'!$D69),\"\")","v":""},{"$f":"IFERROR(IF(OR(W79=\"\",'2014 scenario - input'!$D69=\"\"),\"\",W79/'2014 scenario - input'!$D69),\"\")","v":""}]
[{"$f":"IFERROR('2014 scenario - input'!A70,\"\")","v":""},{"$f":"IFERROR('2014 scenario - input'!B70,\"\")","v":0},{"$f":"IFERROR('2014 scenario - input'!C70,\"\")","v":0},{"$f":"IFERROR(repcalc('2014 scenario - input'!$CV70:$GH70,'2014 scenario - input'!$G70,'2014 scenario - input'!$E70,'2014 scenario - input'!$F70,20,TRUE,TRUE),\"\")","v":""},"","","","","","","","","","","","","","","","","","","",{"$f":"IFERROR(IF(OR(D80=\"\",'2014 scenario - input'!$D70=\"\"),\"\",D80/'2014 scenario - input'!$D70),\"\")","v":""},{"$f":"IFERROR(IF(OR(E80=\"\",'2014 scenario - input'!$D70=\"\"),\"\",E80/'2014 scenario - input'!$D70),\"\")","v":""},{"$f":"IFERROR(IF(OR(F80=\"\",'2014 scenario - input'!$D70=\"\"),\"\",F80/'2014 scenario - input'!$D70),\"\")","v":""},{"$f":"IFERROR(IF(OR(G80=\"\",'2014 scenario - input'!$D70=\"\"),\"\",G80/'2014 scenario - input'!$D70),\"\")","v":""},{"$f":"IFERROR(IF(OR(H80=\"\",'2014 scenario - input'!$D70=\"\"),\"\",H80/'2014 scenario - input'!$D70),\"\")","v":""},{"$f":"IFERROR(IF(OR(I80=\"\",'2014 scenario - input'!$D70=\"\"),\"\",I80/'2014 scenario - input'!$D70),\"\")","v":""},{"$f":"IFERROR(IF(OR(J80=\"\",'2014 scenario - input'!$D70=\"\"),\"\",J80/'2014 scenario - input'!$D70),\"\")","v":""},{"$f":"IFERROR(IF(OR(K80=\"\",'2014 scenario - input'!$D70=\"\"),\"\",K80/'2014 scenario - input'!$D70),\"\")","v":""},{"$f":"IFERROR(IF(OR(L80=\"\",'2014 scenario - input'!$D70=\"\"),\"\",L80/'2014 scenario - input'!$D70),\"\")","v":""},{"$f":"IFERROR(IF(OR(M80=\"\",'2014 scenario - input'!$D70=\"\"),\"\",M80/'2014 scenario - input'!$D70),\"\")","v":""},{"$f":"IFERROR(IF(OR(N80=\"\",'2014 scenario - input'!$D70=\"\"),\"\",N80/'2014 scenario - input'!$D70),\"\")","v":""},{"$f":"IFERROR(IF(OR(O80=\"\",'2014 scenario - input'!$D70=\"\"),\"\",O80/'2014 scenario - input'!$D70),\"\")","v":""},{"$f":"IFERROR(IF(OR(P80=\"\",'2014 scenario - input'!$D70=\"\"),\"\",P80/'2014 scenario - input'!$D70),\"\")","v":""},{"$f":"IFERROR(IF(OR(Q80=\"\",'2014 scenario - input'!$D70=\"\"),\"\",Q80/'2014 scenario - input'!$D70),\"\")","v":""},{"$f":"IFERROR(IF(OR(R80=\"\",'2014 scenario - input'!$D70=\"\"),\"\",R80/'2014 scenario - input'!$D70),\"\")","v":""},{"$f":"IFERROR(IF(OR(S80=\"\",'2014 scenario - input'!$D70=\"\"),\"\",S80/'2014 scenario - input'!$D70),\"\")","v":""},{"$f":"IFERROR(IF(OR(T80=\"\",'2014 scenario - input'!$D70=\"\"),\"\",T80/'2014 scenario - input'!$D70),\"\")","v":""},{"$f":"IFERROR(IF(OR(U80=\"\",'2014 scenario - input'!$D70=\"\"),\"\",U80/'2014 scenario - input'!$D70),\"\")","v":""},{"$f":"IFERROR(IF(OR(V80=\"\",'2014 scenario - input'!$D70=\"\"),\"\",V80/'2014 scenario - input'!$D70),\"\")","v":""},{"$f":"IFERROR(IF(OR(W80=\"\",'2014 scenario - input'!$D70=\"\"),\"\",W80/'2014 scenario - input'!$D70),\"\")","v":""}]
[{"$f":"IFERROR('2014 scenario - input'!A71,\"\")","v":""},{"$f":"IFERROR('2014 scenario - input'!B71,\"\")","v":0},{"$f":"IFERROR('2014 scenario - input'!C71,\"\")","v":0},{"$f":"IFERROR(repcalc('2014 scenario - input'!$CV71:$GH71,'2014 scenario - input'!$G71,'2014 scenario - input'!$E71,'2014 scenario - input'!$F71,20,TRUE,TRUE),\"\")","v":""},"","","","","","","","","","","","","","","","","","","",{"$f":"IFERROR(IF(OR(D81=\"\",'2014 scenario - input'!$D71=\"\"),\"\",D81/'2014 scenario - input'!$D71),\"\")","v":""},{"$f":"IFERROR(IF(OR(E81=\"\",'2014 scenario - input'!$D71=\"\"),\"\",E81/'2014 scenario - input'!$D71),\"\")","v":""},{"$f":"IFERROR(IF(OR(F81=\"\",'2014 scenario - input'!$D71=\"\"),\"\",F81/'2014 scenario - input'!$D71),\"\")","v":""},{"$f":"IFERROR(IF(OR(G81=\"\",'2014 scenario - input'!$D71=\"\"),\"\",G81/'2014 scenario - input'!$D71),\"\")","v":""},{"$f":"IFERROR(IF(OR(H81=\"\",'2014 scenario - input'!$D71=\"\"),\"\",H81/'2014 scenario - input'!$D71),\"\")","v":""},{"$f":"IFERROR(IF(OR(I81=\"\",'2014 scenario - input'!$D71=\"\"),\"\",I81/'2014 scenario - input'!$D71),\"\")","v":""},{"$f":"IFERROR(IF(OR(J81=\"\",'2014 scenario - input'!$D71=\"\"),\"\",J81/'2014 scenario - input'!$D71),\"\")","v":""},{"$f":"IFERROR(IF(OR(K81=\"\",'2014 scenario - input'!$D71=\"\"),\"\",K81/'2014 scenario - input'!$D71),\"\")","v":""},{"$f":"IFERROR(IF(OR(L81=\"\",'2014 scenario - input'!$D71=\"\"),\"\",L81/'2014 scenario - input'!$D71),\"\")","v":""},{"$f":"IFERROR(IF(OR(M81=\"\",'2014 scenario - input'!$D71=\"\"),\"\",M81/'2014 scenario - input'!$D71),\"\")","v":""},{"$f":"IFERROR(IF(OR(N81=\"\",'2014 scenario - input'!$D71=\"\"),\"\",N81/'2014 scenario - input'!$D71),\"\")","v":""},{"$f":"IFERROR(IF(OR(O81=\"\",'2014 scenario - input'!$D71=\"\"),\"\",O81/'2014 scenario - input'!$D71),\"\")","v":""},{"$f":"IFERROR(IF(OR(P81=\"\",'2014 scenario - input'!$D71=\"\"),\"\",P81/'2014 scenario - input'!$D71),\"\")","v":""},{"$f":"IFERROR(IF(OR(Q81=\"\",'2014 scenario - input'!$D71=\"\"),\"\",Q81/'2014 scenario - input'!$D71),\"\")","v":""},{"$f":"IFERROR(IF(OR(R81=\"\",'2014 scenario - input'!$D71=\"\"),\"\",R81/'2014 scenario - input'!$D71),\"\")","v":""},{"$f":"IFERROR(IF(OR(S81=\"\",'2014 scenario - input'!$D71=\"\"),\"\",S81/'2014 scenario - input'!$D71),\"\")","v":""},{"$f":"IFERROR(IF(OR(T81=\"\",'2014 scenario - input'!$D71=\"\"),\"\",T81/'2014 scenario - input'!$D71),\"\")","v":""},{"$f":"IFERROR(IF(OR(U81=\"\",'2014 scenario - input'!$D71=\"\"),\"\",U81/'2014 scenario - input'!$D71),\"\")","v":""},{"$f":"IFERROR(IF(OR(V81=\"\",'2014 scenario - input'!$D71=\"\"),\"\",V81/'2014 scenario - input'!$D71),\"\")","v":""},{"$f":"IFERROR(IF(OR(W81=\"\",'2014 scenario - input'!$D71=\"\"),\"\",W81/'2014 scenario - input'!$D71),\"\")","v":""}]
[{"$f":"IFERROR('2014 scenario - input'!A72,\"\")","v":""},{"$f":"IFERROR('2014 scenario - input'!B72,\"\")","v":0},{"$f":"IFERROR('2014 scenario - input'!C72,\"\")","v":0},{"$f":"IFERROR(repcalc('2014 scenario - input'!$CV72:$GH72,'2014 scenario - input'!$G72,'2014 scenario - input'!$E72,'2014 scenario - input'!$F72,20,TRUE,TRUE),\"\")","v":""},"","","","","","","","","","","","","","","","","","","",{"$f":"IFERROR(IF(OR(D82=\"\",'2014 scenario - input'!$D72=\"\"),\"\",D82/'2014 scenario - input'!$D72),\"\")","v":""},{"$f":"IFERROR(IF(OR(E82=\"\",'2014 scenario - input'!$D72=\"\"),\"\",E82/'2014 scenario - input'!$D72),\"\")","v":""},{"$f":"IFERROR(IF(OR(F82=\"\",'2014 scenario - input'!$D72=\"\"),\"\",F82/'2014 scenario - input'!$D72),\"\")","v":""},{"$f":"IFERROR(IF(OR(G82=\"\",'2014 scenario - input'!$D72=\"\"),\"\",G82/'2014 scenario - input'!$D72),\"\")","v":""},{"$f":"IFERROR(IF(OR(H82=\"\",'2014 scenario - input'!$D72=\"\"),\"\",H82/'2014 scenario - input'!$D72),\"\")","v":""},{"$f":"IFERROR(IF(OR(I82=\"\",'2014 scenario - input'!$D72=\"\"),\"\",I82/'2014 scenario - input'!$D72),\"\")","v":""},{"$f":"IFERROR(IF(OR(J82=\"\",'2014 scenario - input'!$D72=\"\"),\"\",J82/'2014 scenario - input'!$D72),\"\")","v":""},{"$f":"IFERROR(IF(OR(K82=\"\",'2014 scenario - input'!$D72=\"\"),\"\",K82/'2014 scenario - input'!$D72),\"\")","v":""},{"$f":"IFERROR(IF(OR(L82=\"\",'2014 scenario - input'!$D72=\"\"),\"\",L82/'2014 scenario - input'!$D72),\"\")","v":""},{"$f":"IFERROR(IF(OR(M82=\"\",'2014 scenario - input'!$D72=\"\"),\"\",M82/'2014 scenario - input'!$D72),\"\")","v":""},{"$f":"IFERROR(IF(OR(N82=\"\",'2014 scenario - input'!$D72=\"\"),\"\",N82/'2014 scenario - input'!$D72),\"\")","v":""},{"$f":"IFERROR(IF(OR(O82=\"\",'2014 scenario - input'!$D72=\"\"),\"\",O82/'2014 scenario - input'!$D72),\"\")","v":""},{"$f":"IFERROR(IF(OR(P82=\"\",'2014 scenario - input'!$D72=\"\"),\"\",P82/'2014 scenario - input'!$D72),\"\")","v":""},{"$f":"IFERROR(IF(OR(Q82=\"\",'2014 scenario - input'!$D72=\"\"),\"\",Q82/'2014 scenario - input'!$D72),\"\")","v":""},{"$f":"IFERROR(IF(OR(R82=\"\",'2014 scenario - input'!$D72=\"\"),\"\",R82/'2014 scenario - input'!$D72),\"\")","v":""},{"$f":"IFERROR(IF(OR(S82=\"\",'2014 scenario - input'!$D72=\"\"),\"\",S82/'2014 scenario - input'!$D72),\"\")","v":""},{"$f":"IFERROR(IF(OR(T82=\"\",'2014 scenario - input'!$D72=\"\"),\"\",T82/'2014 scenario - input'!$D72),\"\")","v":""},{"$f":"IFERROR(IF(OR(U82=\"\",'2014 scenario - input'!$D72=\"\"),\"\",U82/'2014 scenario - input'!$D72),\"\")","v":""},{"$f":"IFERROR(IF(OR(V82=\"\",'2014 scenario - input'!$D72=\"\"),\"\",V82/'2014 scenario - input'!$D72),\"\")","v":""},{"$f":"IFERROR(IF(OR(W82=\"\",'2014 scenario - input'!$D72=\"\"),\"\",W82/'2014 scenario - input'!$D72),\"\")","v":""}]
[{"$f":"IFERROR('2014 scenario - input'!A73,\"\")","v":""},{"$f":"IFERROR('2014 scenario - input'!B73,\"\")","v":0},{"$f":"IFERROR('2014 scenario - input'!C73,\"\")","v":0},{"$f":"IFERROR(repcalc('2014 scenario - input'!$CV73:$GH73,'2014 scenario - input'!$G73,'2014 scenario - input'!$E73,'2014 scenario - input'!$F73,20,TRUE,TRUE),\"\")","v":""},"","","","","","","","","","","","","","","","","","","",{"$f":"IFERROR(IF(OR(D83=\"\",'2014 scenario - input'!$D73=\"\"),\"\",D83/'2014 scenario - input'!$D73),\"\")","v":""},{"$f":"IFERROR(IF(OR(E83=\"\",'2014 scenario - input'!$D73=\"\"),\"\",E83/'2014 scenario - input'!$D73),\"\")","v":""},{"$f":"IFERROR(IF(OR(F83=\"\",'2014 scenario - input'!$D73=\"\"),\"\",F83/'2014 scenario - input'!$D73),\"\")","v":""},{"$f":"IFERROR(IF(OR(G83=\"\",'2014 scenario - input'!$D73=\"\"),\"\",G83/'2014 scenario - input'!$D73),\"\")","v":""},{"$f":"IFERROR(IF(OR(H83=\"\",'2014 scenario - input'!$D73=\"\"),\"\",H83/'2014 scenario - input'!$D73),\"\")","v":""},{"$f":"IFERROR(IF(OR(I83=\"\",'2014 scenario - input'!$D73=\"\"),\"\",I83/'2014 scenario - input'!$D73),\"\")","v":""},{"$f":"IFERROR(IF(OR(J83=\"\",'2014 scenario - input'!$D73=\"\"),\"\",J83/'2014 scenario - input'!$D73),\"\")","v":""},{"$f":"IFERROR(IF(OR(K83=\"\",'2014 scenario - input'!$D73=\"\"),\"\",K83/'2014 scenario - input'!$D73),\"\")","v":""},{"$f":"IFERROR(IF(OR(L83=\"\",'2014 scenario - input'!$D73=\"\"),\"\",L83/'2014 scenario - input'!$D73),\"\")","v":""},{"$f":"IFERROR(IF(OR(M83=\"\",'2014 scenario - input'!$D73=\"\"),\"\",M83/'2014 scenario - input'!$D73),\"\")","v":""},{"$f":"IFERROR(IF(OR(N83=\"\",'2014 scenario - input'!$D73=\"\"),\"\",N83/'2014 scenario - input'!$D73),\"\")","v":""},{"$f":"IFERROR(IF(OR(O83=\"\",'2014 scenario - input'!$D73=\"\"),\"\",O83/'2014 scenario - input'!$D73),\"\")","v":""},{"$f":"IFERROR(IF(OR(P83=\"\",'2014 scenario - input'!$D73=\"\"),\"\",P83/'2014 scenario - input'!$D73),\"\")","v":""},{"$f":"IFERROR(IF(OR(Q83=\"\",'2014 scenario - input'!$D73=\"\"),\"\",Q83/'2014 scenario - input'!$D73),\"\")","v":""},{"$f":"IFERROR(IF(OR(R83=\"\",'2014 scenario - input'!$D73=\"\"),\"\",R83/'2014 scenario - input'!$D73),\"\")","v":""},{"$f":"IFERROR(IF(OR(S83=\"\",'2014 scenario - input'!$D73=\"\"),\"\",S83/'2014 scenario - input'!$D73),\"\")","v":""},{"$f":"IFERROR(IF(OR(T83=\"\",'2014 scenario - input'!$D73=\"\"),\"\",T83/'2014 scenario - input'!$D73),\"\")","v":""},{"$f":"IFERROR(IF(OR(U83=\"\",'2014 scenario - input'!$D73=\"\"),\"\",U83/'2014 scenario - input'!$D73),\"\")","v":""},{"$f":"IFERROR(IF(OR(V83=\"\",'2014 scenario - input'!$D73=\"\"),\"\",V83/'2014 scenario - input'!$D73),\"\")","v":""},{"$f":"IFERROR(IF(OR(W83=\"\",'2014 scenario - input'!$D73=\"\"),\"\",W83/'2014 scenario - input'!$D73),\"\")","v":""}]
[{"$f":"IFERROR('2014 scenario - input'!A74,\"\")","v":""},{"$f":"IFERROR('2014 scenario - input'!B74,\"\")","v":0},{"$f":"IFERROR('2014 scenario - input'!C74,\"\")","v":0},{"$f":"IFERROR(repcalc('2014 scenario - input'!$CV74:$GH74,'2014 scenario - input'!$G74,'2014 scenario - input'!$E74,'2014 scenario - input'!$F74,20,TRUE,TRUE),\"\")","v":""},"","","","","","","","","","","","","","","","","","","",{"$f":"IFERROR(IF(OR(D84=\"\",'2014 scenario - input'!$D74=\"\"),\"\",D84/'2014 scenario - input'!$D74),\"\")","v":""},{"$f":"IFERROR(IF(OR(E84=\"\",'2014 scenario - input'!$D74=\"\"),\"\",E84/'2014 scenario - input'!$D74),\"\")","v":""},{"$f":"IFERROR(IF(OR(F84=\"\",'2014 scenario - input'!$D74=\"\"),\"\",F84/'2014 scenario - input'!$D74),\"\")","v":""},{"$f":"IFERROR(IF(OR(G84=\"\",'2014 scenario - input'!$D74=\"\"),\"\",G84/'2014 scenario - input'!$D74),\"\")","v":""},{"$f":"IFERROR(IF(OR(H84=\"\",'2014 scenario - input'!$D74=\"\"),\"\",H84/'2014 scenario - input'!$D74),\"\")","v":""},{"$f":"IFERROR(IF(OR(I84=\"\",'2014 scenario - input'!$D74=\"\"),\"\",I84/'2014 scenario - input'!$D74),\"\")","v":""},{"$f":"IFERROR(IF(OR(J84=\"\",'2014 scenario - input'!$D74=\"\"),\"\",J84/'2014 scenario - input'!$D74),\"\")","v":""},{"$f":"IFERROR(IF(OR(K84=\"\",'2014 scenario - input'!$D74=\"\"),\"\",K84/'2014 scenario - input'!$D74),\"\")","v":""},{"$f":"IFERROR(IF(OR(L84=\"\",'2014 scenario - input'!$D74=\"\"),\"\",L84/'2014 scenario - input'!$D74),\"\")","v":""},{"$f":"IFERROR(IF(OR(M84=\"\",'2014 scenario - input'!$D74=\"\"),\"\",M84/'2014 scenario - input'!$D74),\"\")","v":""},{"$f":"IFERROR(IF(OR(N84=\"\",'2014 scenario - input'!$D74=\"\"),\"\",N84/'2014 scenario - input'!$D74),\"\")","v":""},{"$f":"IFERROR(IF(OR(O84=\"\",'2014 scenario - input'!$D74=\"\"),\"\",O84/'2014 scenario - input'!$D74),\"\")","v":""},{"$f":"IFERROR(IF(OR(P84=\"\",'2014 scenario - input'!$D74=\"\"),\"\",P84/'2014 scenario - input'!$D74),\"\")","v":""},{"$f":"IFERROR(IF(OR(Q84=\"\",'2014 scenario - input'!$D74=\"\"),\"\",Q84/'2014 scenario - input'!$D74),\"\")","v":""},{"$f":"IFERROR(IF(OR(R84=\"\",'2014 scenario - input'!$D74=\"\"),\"\",R84/'2014 scenario - input'!$D74),\"\")","v":""},{"$f":"IFERROR(IF(OR(S84=\"\",'2014 scenario - input'!$D74=\"\"),\"\",S84/'2014 scenario - input'!$D74),\"\")","v":""},{"$f":"IFERROR(IF(OR(T84=\"\",'2014 scenario - input'!$D74=\"\"),\"\",T84/'2014 scenario - input'!$D74),\"\")","v":""},{"$f":"IFERROR(IF(OR(U84=\"\",'2014 scenario - input'!$D74=\"\"),\"\",U84/'2014 scenario - input'!$D74),\"\")","v":""},{"$f":"IFERROR(IF(OR(V84=\"\",'2014 scenario - input'!$D74=\"\"),\"\",V84/'2014 scenario - input'!$D74),\"\")","v":""},{"$f":"IFERROR(IF(OR(W84=\"\",'2014 scenario - input'!$D74=\"\"),\"\",W84/'2014 scenario - input'!$D74),\"\")","v":""}]
[{"$f":"IFERROR('2014 scenario - input'!A75,\"\")","v":""},{"$f":"IFERROR('2014 scenario - input'!B75,\"\")","v":0},{"$f":"IFERROR('2014 scenario - input'!C75,\"\")","v":0},{"$f":"IFERROR(repcalc('2014 scenario - input'!$CV75:$GH75,'2014 scenario - input'!$G75,'2014 scenario - input'!$E75,'2014 scenario - input'!$F75,20,TRUE,TRUE),\"\")","v":""},"","","","","","","","","","","","","","","","","","","",{"$f":"IFERROR(IF(OR(D85=\"\",'2014 scenario - input'!$D75=\"\"),\"\",D85/'2014 scenario - input'!$D75),\"\")","v":""},{"$f":"IFERROR(IF(OR(E85=\"\",'2014 scenario - input'!$D75=\"\"),\"\",E85/'2014 scenario - input'!$D75),\"\")","v":""},{"$f":"IFERROR(IF(OR(F85=\"\",'2014 scenario - input'!$D75=\"\"),\"\",F85/'2014 scenario - input'!$D75),\"\")","v":""},{"$f":"IFERROR(IF(OR(G85=\"\",'2014 scenario - input'!$D75=\"\"),\"\",G85/'2014 scenario - input'!$D75),\"\")","v":""},{"$f":"IFERROR(IF(OR(H85=\"\",'2014 scenario - input'!$D75=\"\"),\"\",H85/'2014 scenario - input'!$D75),\"\")","v":""},{"$f":"IFERROR(IF(OR(I85=\"\",'2014 scenario - input'!$D75=\"\"),\"\",I85/'2014 scenario - input'!$D75),\"\")","v":""},{"$f":"IFERROR(IF(OR(J85=\"\",'2014 scenario - input'!$D75=\"\"),\"\",J85/'2014 scenario - input'!$D75),\"\")","v":""},{"$f":"IFERROR(IF(OR(K85=\"\",'2014 scenario - input'!$D75=\"\"),\"\",K85/'2014 scenario - input'!$D75),\"\")","v":""},{"$f":"IFERROR(IF(OR(L85=\"\",'2014 scenario - input'!$D75=\"\"),\"\",L85/'2014 scenario - input'!$D75),\"\")","v":""},{"$f":"IFERROR(IF(OR(M85=\"\",'2014 scenario - input'!$D75=\"\"),\"\",M85/'2014 scenario - input'!$D75),\"\")","v":""},{"$f":"IFERROR(IF(OR(N85=\"\",'2014 scenario - input'!$D75=\"\"),\"\",N85/'2014 scenario - input'!$D75),\"\")","v":""},{"$f":"IFERROR(IF(OR(O85=\"\",'2014 scenario - input'!$D75=\"\"),\"\",O85/'2014 scenario - input'!$D75),\"\")","v":""},{"$f":"IFERROR(IF(OR(P85=\"\",'2014 scenario - input'!$D75=\"\"),\"\",P85/'2014 scenario - input'!$D75),\"\")","v":""},{"$f":"IFERROR(IF(OR(Q85=\"\",'2014 scenario - input'!$D75=\"\"),\"\",Q85/'2014 scenario - input'!$D75),\"\")","v":""},{"$f":"IFERROR(IF(OR(R85=\"\",'2014 scenario - input'!$D75=\"\"),\"\",R85/'2014 scenario - input'!$D75),\"\")","v":""},{"$f":"IFERROR(IF(OR(S85=\"\",'2014 scenario - input'!$D75=\"\"),\"\",S85/'2014 scenario - input'!$D75),\"\")","v":""},{"$f":"IFERROR(IF(OR(T85=\"\",'2014 scenario - input'!$D75=\"\"),\"\",T85/'2014 scenario - input'!$D75),\"\")","v":""},{"$f":"IFERROR(IF(OR(U85=\"\",'2014 scenario - input'!$D75=\"\"),\"\",U85/'2014 scenario - input'!$D75),\"\")","v":""},{"$f":"IFERROR(IF(OR(V85=\"\",'2014 scenario - input'!$D75=\"\"),\"\",V85/'2014 scenario - input'!$D75),\"\")","v":""},{"$f":"IFERROR(IF(OR(W85=\"\",'2014 scenario - input'!$D75=\"\"),\"\",W85/'2014 scenario - input'!$D75),\"\")","v":""}]
[{"$f":"IFERROR('2014 scenario - input'!A76,\"\")","v":""},{"$f":"IFERROR('2014 scenario - input'!B76,\"\")","v":0},{"$f":"IFERROR('2014 scenario - input'!C76,\"\")","v":0},{"$f":"IFERROR(repcalc('2014 scenario - input'!$CV76:$GH76,'2014 scenario - input'!$G76,'2014 scenario - input'!$E76,'2014 scenario - input'!$F76,20,TRUE,TRUE),\"\")","v":""},"","","","","","","","","","","","","","","","","","","",{"$f":"IFERROR(IF(OR(D86=\"\",'2014 scenario - input'!$D76=\"\"),\"\",D86/'2014 scenario - input'!$D76),\"\")","v":""},{"$f":"IFERROR(IF(OR(E86=\"\",'2014 scenario - input'!$D76=\"\"),\"\",E86/'2014 scenario - input'!$D76),\"\")","v":""},{"$f":"IFERROR(IF(OR(F86=\"\",'2014 scenario - input'!$D76=\"\"),\"\",F86/'2014 scenario - input'!$D76),\"\")","v":""},{"$f":"IFERROR(IF(OR(G86=\"\",'2014 scenario - input'!$D76=\"\"),\"\",G86/'2014 scenario - input'!$D76),\"\")","v":""},{"$f":"IFERROR(IF(OR(H86=\"\",'2014 scenario - input'!$D76=\"\"),\"\",H86/'2014 scenario - input'!$D76),\"\")","v":""},{"$f":"IFERROR(IF(OR(I86=\"\",'2014 scenario - input'!$D76=\"\"),\"\",I86/'2014 scenario - input'!$D76),\"\")","v":""},{"$f":"IFERROR(IF(OR(J86=\"\",'2014 scenario - input'!$D76=\"\"),\"\",J86/'2014 scenario - input'!$D76),\"\")","v":""},{"$f":"IFERROR(IF(OR(K86=\"\",'2014 scenario - input'!$D76=\"\"),\"\",K86/'2014 scenario - input'!$D76),\"\")","v":""},{"$f":"IFERROR(IF(OR(L86=\"\",'2014 scenario - input'!$D76=\"\"),\"\",L86/'2014 scenario - input'!$D76),\"\")","v":""},{"$f":"IFERROR(IF(OR(M86=\"\",'2014 scenario - input'!$D76=\"\"),\"\",M86/'2014 scenario - input'!$D76),\"\")","v":""},{"$f":"IFERROR(IF(OR(N86=\"\",'2014 scenario - input'!$D76=\"\"),\"\",N86/'2014 scenario - input'!$D76),\"\")","v":""},{"$f":"IFERROR(IF(OR(O86=\"\",'2014 scenario - input'!$D76=\"\"),\"\",O86/'2014 scenario - input'!$D76),\"\")","v":""},{"$f":"IFERROR(IF(OR(P86=\"\",'2014 scenario - input'!$D76=\"\"),\"\",P86/'2014 scenario - input'!$D76),\"\")","v":""},{"$f":"IFERROR(IF(OR(Q86=\"\",'2014 scenario - input'!$D76=\"\"),\"\",Q86/'2014 scenario - input'!$D76),\"\")","v":""},{"$f":"IFERROR(IF(OR(R86=\"\",'2014 scenario - input'!$D76=\"\"),\"\",R86/'2014 scenario - input'!$D76),\"\")","v":""},{"$f":"IFERROR(IF(OR(S86=\"\",'2014 scenario - input'!$D76=\"\"),\"\",S86/'2014 scenario - input'!$D76),\"\")","v":""},{"$f":"IFERROR(IF(OR(T86=\"\",'2014 scenario - input'!$D76=\"\"),\"\",T86/'2014 scenario - input'!$D76),\"\")","v":""},{"$f":"IFERROR(IF(OR(U86=\"\",'2014 scenario - input'!$D76=\"\"),\"\",U86/'2014 scenario - input'!$D76),\"\")","v":""},{"$f":"IFERROR(IF(OR(V86=\"\",'2014 scenario - input'!$D76=\"\"),\"\",V86/'2014 scenario - input'!$D76),\"\")","v":""},{"$f":"IFERROR(IF(OR(W86=\"\",'2014 scenario - input'!$D76=\"\"),\"\",W86/'2014 scenario - input'!$D76),\"\")","v":""}]
[{"$f":"IFERROR('2014 scenario - input'!A77,\"\")","v":""},{"$f":"IFERROR('2014 scenario - input'!B77,\"\")","v":0},{"$f":"IFERROR('2014 scenario - input'!C77,\"\")","v":0},{"$f":"IFERROR(repcalc('2014 scenario - input'!$CV77:$GH77,'2014 scenario - input'!$G77,'2014 scenario - input'!$E77,'2014 scenario - input'!$F77,20,TRUE,TRUE),\"\")","v":""},"","","","","","","","","","","","","","","","","","","",{"$f":"IFERROR(IF(OR(D87=\"\",'2014 scenario - input'!$D77=\"\"),\"\",D87/'2014 scenario - input'!$D77),\"\")","v":""},{"$f":"IFERROR(IF(OR(E87=\"\",'2014 scenario - input'!$D77=\"\"),\"\",E87/'2014 scenario - input'!$D77),\"\")","v":""},{"$f":"IFERROR(IF(OR(F87=\"\",'2014 scenario - input'!$D77=\"\"),\"\",F87/'2014 scenario - input'!$D77),\"\")","v":""},{"$f":"IFERROR(IF(OR(G87=\"\",'2014 scenario - input'!$D77=\"\"),\"\",G87/'2014 scenario - input'!$D77),\"\")","v":""},{"$f":"IFERROR(IF(OR(H87=\"\",'2014 scenario - input'!$D77=\"\"),\"\",H87/'2014 scenario - input'!$D77),\"\")","v":""},{"$f":"IFERROR(IF(OR(I87=\"\",'2014 scenario - input'!$D77=\"\"),\"\",I87/'2014 scenario - input'!$D77),\"\")","v":""},{"$f":"IFERROR(IF(OR(J87=\"\",'2014 scenario - input'!$D77=\"\"),\"\",J87/'2014 scenario - input'!$D77),\"\")","v":""},{"$f":"IFERROR(IF(OR(K87=\"\",'2014 scenario - input'!$D77=\"\"),\"\",K87/'2014 scenario - input'!$D77),\"\")","v":""},{"$f":"IFERROR(IF(OR(L87=\"\",'2014 scenario - input'!$D77=\"\"),\"\",L87/'2014 scenario - input'!$D77),\"\")","v":""},{"$f":"IFERROR(IF(OR(M87=\"\",'2014 scenario - input'!$D77=\"\"),\"\",M87/'2014 scenario - input'!$D77),\"\")","v":""},{"$f":"IFERROR(IF(OR(N87=\"\",'2014 scenario - input'!$D77=\"\"),\"\",N87/'2014 scenario - input'!$D77),\"\")","v":""},{"$f":"IFERROR(IF(OR(O87=\"\",'2014 scenario - input'!$D77=\"\"),\"\",O87/'2014 scenario - input'!$D77),\"\")","v":""},{"$f":"IFERROR(IF(OR(P87=\"\",'2014 scenario - input'!$D77=\"\"),\"\",P87/'2014 scenario - input'!$D77),\"\")","v":""},{"$f":"IFERROR(IF(OR(Q87=\"\",'2014 scenario - input'!$D77=\"\"),\"\",Q87/'2014 scenario - input'!$D77),\"\")","v":""},{"$f":"IFERROR(IF(OR(R87=\"\",'2014 scenario - input'!$D77=\"\"),\"\",R87/'2014 scenario - input'!$D77),\"\")","v":""},{"$f":"IFERROR(IF(OR(S87=\"\",'2014 scenario - input'!$D77=\"\"),\"\",S87/'2014 scenario - input'!$D77),\"\")","v":""},{"$f":"IFERROR(IF(OR(T87=\"\",'2014 scenario - input'!$D77=\"\"),\"\",T87/'2014 scenario - input'!$D77),\"\")","v":""},{"$f":"IFERROR(IF(OR(U87=\"\",'2014 scenario - input'!$D77=\"\"),\"\",U87/'2014 scenario - input'!$D77),\"\")","v":""},{"$f":"IFERROR(IF(OR(V87=\"\",'2014 scenario - input'!$D77=\"\"),\"\",V87/'2014 scenario - input'!$D77),\"\")","v":""},{"$f":"IFERROR(IF(OR(W87=\"\",'2014 scenario - input'!$D77=\"\"),\"\",W87/'2014 scenario - input'!$D77),\"\")","v":""}]
[{"$f":"IFERROR('2014 scenario - input'!A78,\"\")","v":""},{"$f":"IFERROR('2014 scenario - input'!B78,\"\")","v":0},{"$f":"IFERROR('2014 scenario - input'!C78,\"\")","v":0},{"$f":"IFERROR(repcalc('2014 scenario - input'!$CV78:$GH78,'2014 scenario - input'!$G78,'2014 scenario - input'!$E78,'2014 scenario - input'!$F78,20,TRUE,TRUE),\"\")","v":""},"","","","","","","","","","","","","","","","","","","",{"$f":"IFERROR(IF(OR(D88=\"\",'2014 scenario - input'!$D78=\"\"),\"\",D88/'2014 scenario - input'!$D78),\"\")","v":""},{"$f":"IFERROR(IF(OR(E88=\"\",'2014 scenario - input'!$D78=\"\"),\"\",E88/'2014 scenario - input'!$D78),\"\")","v":""},{"$f":"IFERROR(IF(OR(F88=\"\",'2014 scenario - input'!$D78=\"\"),\"\",F88/'2014 scenario - input'!$D78),\"\")","v":""},{"$f":"IFERROR(IF(OR(G88=\"\",'2014 scenario - input'!$D78=\"\"),\"\",G88/'2014 scenario - input'!$D78),\"\")","v":""},{"$f":"IFERROR(IF(OR(H88=\"\",'2014 scenario - input'!$D78=\"\"),\"\",H88/'2014 scenario - input'!$D78),\"\")","v":""},{"$f":"IFERROR(IF(OR(I88=\"\",'2014 scenario - input'!$D78=\"\"),\"\",I88/'2014 scenario - input'!$D78),\"\")","v":""},{"$f":"IFERROR(IF(OR(J88=\"\",'2014 scenario - input'!$D78=\"\"),\"\",J88/'2014 scenario - input'!$D78),\"\")","v":""},{"$f":"IFERROR(IF(OR(K88=\"\",'2014 scenario - input'!$D78=\"\"),\"\",K88/'2014 scenario - input'!$D78),\"\")","v":""},{"$f":"IFERROR(IF(OR(L88=\"\",'2014 scenario - input'!$D78=\"\"),\"\",L88/'2014 scenario - input'!$D78),\"\")","v":""},{"$f":"IFERROR(IF(OR(M88=\"\",'2014 scenario - input'!$D78=\"\"),\"\",M88/'2014 scenario - input'!$D78),\"\")","v":""},{"$f":"IFERROR(IF(OR(N88=\"\",'2014 scenario - input'!$D78=\"\"),\"\",N88/'2014 scenario - input'!$D78),\"\")","v":""},{"$f":"IFERROR(IF(OR(O88=\"\",'2014 scenario - input'!$D78=\"\"),\"\",O88/'2014 scenario - input'!$D78),\"\")","v":""},{"$f":"IFERROR(IF(OR(P88=\"\",'2014 scenario - input'!$D78=\"\"),\"\",P88/'2014 scenario - input'!$D78),\"\")","v":""},{"$f":"IFERROR(IF(OR(Q88=\"\",'2014 scenario - input'!$D78=\"\"),\"\",Q88/'2014 scenario - input'!$D78),\"\")","v":""},{"$f":"IFERROR(IF(OR(R88=\"\",'2014 scenario - input'!$D78=\"\"),\"\",R88/'2014 scenario - input'!$D78),\"\")","v":""},{"$f":"IFERROR(IF(OR(S88=\"\",'2014 scenario - input'!$D78=\"\"),\"\",S88/'2014 scenario - input'!$D78),\"\")","v":""},{"$f":"IFERROR(IF(OR(T88=\"\",'2014 scenario - input'!$D78=\"\"),\"\",T88/'2014 scenario - input'!$D78),\"\")","v":""},{"$f":"IFERROR(IF(OR(U88=\"\",'2014 scenario - input'!$D78=\"\"),\"\",U88/'2014 scenario - input'!$D78),\"\")","v":""},{"$f":"IFERROR(IF(OR(V88=\"\",'2014 scenario - input'!$D78=\"\"),\"\",V88/'2014 scenario - input'!$D78),\"\")","v":""},{"$f":"IFERROR(IF(OR(W88=\"\",'2014 scenario - input'!$D78=\"\"),\"\",W88/'2014 scenario - input'!$D78),\"\")","v":""}]
[{"$f":"IFERROR('2014 scenario - input'!A79,\"\")","v":""},{"$f":"IFERROR('2014 scenario - input'!B79,\"\")","v":0},{"$f":"IFERROR('2014 scenario - input'!C79,\"\")","v":0},{"$f":"IFERROR(repcalc('2014 scenario - input'!$CV79:$GH79,'2014 scenario - input'!$G79,'2014 scenario - input'!$E79,'2014 scenario - input'!$F79,20,TRUE,TRUE),\"\")","v":""},"","","","","","","","","","","","","","","","","","","",{"$f":"IFERROR(IF(OR(D89=\"\",'2014 scenario - input'!$D79=\"\"),\"\",D89/'2014 scenario - input'!$D79),\"\")","v":""},{"$f":"IFERROR(IF(OR(E89=\"\",'2014 scenario - input'!$D79=\"\"),\"\",E89/'2014 scenario - input'!$D79),\"\")","v":""},{"$f":"IFERROR(IF(OR(F89=\"\",'2014 scenario - input'!$D79=\"\"),\"\",F89/'2014 scenario - input'!$D79),\"\")","v":""},{"$f":"IFERROR(IF(OR(G89=\"\",'2014 scenario - input'!$D79=\"\"),\"\",G89/'2014 scenario - input'!$D79),\"\")","v":""},{"$f":"IFERROR(IF(OR(H89=\"\",'2014 scenario - input'!$D79=\"\"),\"\",H89/'2014 scenario - input'!$D79),\"\")","v":""},{"$f":"IFERROR(IF(OR(I89=\"\",'2014 scenario - input'!$D79=\"\"),\"\",I89/'2014 scenario - input'!$D79),\"\")","v":""},{"$f":"IFERROR(IF(OR(J89=\"\",'2014 scenario - input'!$D79=\"\"),\"\",J89/'2014 scenario - input'!$D79),\"\")","v":""},{"$f":"IFERROR(IF(OR(K89=\"\",'2014 scenario - input'!$D79=\"\"),\"\",K89/'2014 scenario - input'!$D79),\"\")","v":""},{"$f":"IFERROR(IF(OR(L89=\"\",'2014 scenario - input'!$D79=\"\"),\"\",L89/'2014 scenario - input'!$D79),\"\")","v":""},{"$f":"IFERROR(IF(OR(M89=\"\",'2014 scenario - input'!$D79=\"\"),\"\",M89/'2014 scenario - input'!$D79),\"\")","v":""},{"$f":"IFERROR(IF(OR(N89=\"\",'2014 scenario - input'!$D79=\"\"),\"\",N89/'2014 scenario - input'!$D79),\"\")","v":""},{"$f":"IFERROR(IF(OR(O89=\"\",'2014 scenario - input'!$D79=\"\"),\"\",O89/'2014 scenario - input'!$D79),\"\")","v":""},{"$f":"IFERROR(IF(OR(P89=\"\",'2014 scenario - input'!$D79=\"\"),\"\",P89/'2014 scenario - input'!$D79),\"\")","v":""},{"$f":"IFERROR(IF(OR(Q89=\"\",'2014 scenario - input'!$D79=\"\"),\"\",Q89/'2014 scenario - input'!$D79),\"\")","v":""},{"$f":"IFERROR(IF(OR(R89=\"\",'2014 scenario - input'!$D79=\"\"),\"\",R89/'2014 scenario - input'!$D79),\"\")","v":""},{"$f":"IFERROR(IF(OR(S89=\"\",'2014 scenario - input'!$D79=\"\"),\"\",S89/'2014 scenario - input'!$D79),\"\")","v":""},{"$f":"IFERROR(IF(OR(T89=\"\",'2014 scenario - input'!$D79=\"\"),\"\",T89/'2014 scenario - input'!$D79),\"\")","v":""},{"$f":"IFERROR(IF(OR(U89=\"\",'2014 scenario - input'!$D79=\"\"),\"\",U89/'2014 scenario - input'!$D79),\"\")","v":""},{"$f":"IFERROR(IF(OR(V89=\"\",'2014 scenario - input'!$D79=\"\"),\"\",V89/'2014 scenario - input'!$D79),\"\")","v":""},{"$f":"IFERROR(IF(OR(W89=\"\",'2014 scenario - input'!$D79=\"\"),\"\",W89/'2014 scenario - input'!$D79),\"\")","v":""}]
[{"$f":"IFERROR('2014 scenario - input'!A80,\"\")","v":""},{"$f":"IFERROR('2014 scenario - input'!B80,\"\")","v":0},{"$f":"IFERROR('2014 scenario - input'!C80,\"\")","v":0},{"$f":"IFERROR(repcalc('2014 scenario - input'!$CV80:$GH80,'2014 scenario - input'!$G80,'2014 scenario - input'!$E80,'2014 scenario - input'!$F80,20,TRUE,TRUE),\"\")","v":""},"","","","","","","","","","","","","","","","","","","",{"$f":"IFERROR(IF(OR(D90=\"\",'2014 scenario - input'!$D80=\"\"),\"\",D90/'2014 scenario - input'!$D80),\"\")","v":""},{"$f":"IFERROR(IF(OR(E90=\"\",'2014 scenario - input'!$D80=\"\"),\"\",E90/'2014 scenario - input'!$D80),\"\")","v":""},{"$f":"IFERROR(IF(OR(F90=\"\",'2014 scenario - input'!$D80=\"\"),\"\",F90/'2014 scenario - input'!$D80),\"\")","v":""},{"$f":"IFERROR(IF(OR(G90=\"\",'2014 scenario - input'!$D80=\"\"),\"\",G90/'2014 scenario - input'!$D80),\"\")","v":""},{"$f":"IFERROR(IF(OR(H90=\"\",'2014 scenario - input'!$D80=\"\"),\"\",H90/'2014 scenario - input'!$D80),\"\")","v":""},{"$f":"IFERROR(IF(OR(I90=\"\",'2014 scenario - input'!$D80=\"\"),\"\",I90/'2014 scenario - input'!$D80),\"\")","v":""},{"$f":"IFERROR(IF(OR(J90=\"\",'2014 scenario - input'!$D80=\"\"),\"\",J90/'2014 scenario - input'!$D80),\"\")","v":""},{"$f":"IFERROR(IF(OR(K90=\"\",'2014 scenario - input'!$D80=\"\"),\"\",K90/'2014 scenario - input'!$D80),\"\")","v":""},{"$f":"IFERROR(IF(OR(L90=\"\",'2014 scenario - input'!$D80=\"\"),\"\",L90/'2014 scenario - input'!$D80),\"\")","v":""},{"$f":"IFERROR(IF(OR(M90=\"\",'2014 scenario - input'!$D80=\"\"),\"\",M90/'2014 scenario - input'!$D80),\"\")","v":""},{"$f":"IFERROR(IF(OR(N90=\"\",'2014 scenario - input'!$D80=\"\"),\"\",N90/'2014 scenario - input'!$D80),\"\")","v":""},{"$f":"IFERROR(IF(OR(O90=\"\",'2014 scenario - input'!$D80=\"\"),\"\",O90/'2014 scenario - input'!$D80),\"\")","v":""},{"$f":"IFERROR(IF(OR(P90=\"\",'2014 scenario - input'!$D80=\"\"),\"\",P90/'2014 scenario - input'!$D80),\"\")","v":""},{"$f":"IFERROR(IF(OR(Q90=\"\",'2014 scenario - input'!$D80=\"\"),\"\",Q90/'2014 scenario - input'!$D80),\"\")","v":""},{"$f":"IFERROR(IF(OR(R90=\"\",'2014 scenario - input'!$D80=\"\"),\"\",R90/'2014 scenario - input'!$D80),\"\")","v":""},{"$f":"IFERROR(IF(OR(S90=\"\",'2014 scenario - input'!$D80=\"\"),\"\",S90/'2014 scenario - input'!$D80),\"\")","v":""},{"$f":"IFERROR(IF(OR(T90=\"\",'2014 scenario - input'!$D80=\"\"),\"\",T90/'2014 scenario - input'!$D80),\"\")","v":""},{"$f":"IFERROR(IF(OR(U90=\"\",'2014 scenario - input'!$D80=\"\"),\"\",U90/'2014 scenario - input'!$D80),\"\")","v":""},{"$f":"IFERROR(IF(OR(V90=\"\",'2014 scenario - input'!$D80=\"\"),\"\",V90/'2014 scenario - input'!$D80),\"\")","v":""},{"$f":"IFERROR(IF(OR(W90=\"\",'2014 scenario - input'!$D80=\"\"),\"\",W90/'2014 scenario - input'!$D80),\"\")","v":""}]
[{"$f":"IFERROR('2014 scenario - input'!A81,\"\")","v":""},{"$f":"IFERROR('2014 scenario - input'!B81,\"\")","v":0},{"$f":"IFERROR('2014 scenario - input'!C81,\"\")","v":0},{"$f":"IFERROR(repcalc('2014 scenario - input'!$CV81:$GH81,'2014 scenario - input'!$G81,'2014 scenario - input'!$E81,'2014 scenario - input'!$F81,20,TRUE,TRUE),\"\")","v":""},"","","","","","","","","","","","","","","","","","","",{"$f":"IFERROR(IF(OR(D91=\"\",'2014 scenario - input'!$D81=\"\"),\"\",D91/'2014 scenario - input'!$D81),\"\")","v":""},{"$f":"IFERROR(IF(OR(E91=\"\",'2014 scenario - input'!$D81=\"\"),\"\",E91/'2014 scenario - input'!$D81),\"\")","v":""},{"$f":"IFERROR(IF(OR(F91=\"\",'2014 scenario - input'!$D81=\"\"),\"\",F91/'2014 scenario - input'!$D81),\"\")","v":""},{"$f":"IFERROR(IF(OR(G91=\"\",'2014 scenario - input'!$D81=\"\"),\"\",G91/'2014 scenario - input'!$D81),\"\")","v":""},{"$f":"IFERROR(IF(OR(H91=\"\",'2014 scenario - input'!$D81=\"\"),\"\",H91/'2014 scenario - input'!$D81),\"\")","v":""},{"$f":"IFERROR(IF(OR(I91=\"\",'2014 scenario - input'!$D81=\"\"),\"\",I91/'2014 scenario - input'!$D81),\"\")","v":""},{"$f":"IFERROR(IF(OR(J91=\"\",'2014 scenario - input'!$D81=\"\"),\"\",J91/'2014 scenario - input'!$D81),\"\")","v":""},{"$f":"IFERROR(IF(OR(K91=\"\",'2014 scenario - input'!$D81=\"\"),\"\",K91/'2014 scenario - input'!$D81),\"\")","v":""},{"$f":"IFERROR(IF(OR(L91=\"\",'2014 scenario - input'!$D81=\"\"),\"\",L91/'2014 scenario - input'!$D81),\"\")","v":""},{"$f":"IFERROR(IF(OR(M91=\"\",'2014 scenario - input'!$D81=\"\"),\"\",M91/'2014 scenario - input'!$D81),\"\")","v":""},{"$f":"IFERROR(IF(OR(N91=\"\",'2014 scenario - input'!$D81=\"\"),\"\",N91/'2014 scenario - input'!$D81),\"\")","v":""},{"$f":"IFERROR(IF(OR(O91=\"\",'2014 scenario - input'!$D81=\"\"),\"\",O91/'2014 scenario - input'!$D81),\"\")","v":""},{"$f":"IFERROR(IF(OR(P91=\"\",'2014 scenario - input'!$D81=\"\"),\"\",P91/'2014 scenario - input'!$D81),\"\")","v":""},{"$f":"IFERROR(IF(OR(Q91=\"\",'2014 scenario - input'!$D81=\"\"),\"\",Q91/'2014 scenario - input'!$D81),\"\")","v":""},{"$f":"IFERROR(IF(OR(R91=\"\",'2014 scenario - input'!$D81=\"\"),\"\",R91/'2014 scenario - input'!$D81),\"\")","v":""},{"$f":"IFERROR(IF(OR(S91=\"\",'2014 scenario - input'!$D81=\"\"),\"\",S91/'2014 scenario - input'!$D81),\"\")","v":""},{"$f":"IFERROR(IF(OR(T91=\"\",'2014 scenario - input'!$D81=\"\"),\"\",T91/'2014 scenario - input'!$D81),\"\")","v":""},{"$f":"IFERROR(IF(OR(U91=\"\",'2014 scenario - input'!$D81=\"\"),\"\",U91/'2014 scenario - input'!$D81),\"\")","v":""},{"$f":"IFERROR(IF(OR(V91=\"\",'2014 scenario - input'!$D81=\"\"),\"\",V91/'2014 scenario - input'!$D81),\"\")","v":""},{"$f":"IFERROR(IF(OR(W91=\"\",'2014 scenario - input'!$D81=\"\"),\"\",W91/'2014 scenario - input'!$D81),\"\")","v":""}]
[{"$f":"IFERROR('2014 scenario - input'!A82,\"\")","v":""},{"$f":"IFERROR('2014 scenario - input'!B82,\"\")","v":0},{"$f":"IFERROR('2014 scenario - input'!C82,\"\")","v":0},{"$f":"IFERROR(repcalc('2014 scenario - input'!$CV82:$GH82,'2014 scenario - input'!$G82,'2014 scenario - input'!$E82,'2014 scenario - input'!$F82,20,TRUE,TRUE),\"\")","v":""},"","","","","","","","","","","","","","","","","","","",{"$f":"IFERROR(IF(OR(D92=\"\",'2014 scenario - input'!$D82=\"\"),\"\",D92/'2014 scenario - input'!$D82),\"\")","v":""},{"$f":"IFERROR(IF(OR(E92=\"\",'2014 scenario - input'!$D82=\"\"),\"\",E92/'2014 scenario - input'!$D82),\"\")","v":""},{"$f":"IFERROR(IF(OR(F92=\"\",'2014 scenario - input'!$D82=\"\"),\"\",F92/'2014 scenario - input'!$D82),\"\")","v":""},{"$f":"IFERROR(IF(OR(G92=\"\",'2014 scenario - input'!$D82=\"\"),\"\",G92/'2014 scenario - input'!$D82),\"\")","v":""},{"$f":"IFERROR(IF(OR(H92=\"\",'2014 scenario - input'!$D82=\"\"),\"\",H92/'2014 scenario - input'!$D82),\"\")","v":""},{"$f":"IFERROR(IF(OR(I92=\"\",'2014 scenario - input'!$D82=\"\"),\"\",I92/'2014 scenario - input'!$D82),\"\")","v":""},{"$f":"IFERROR(IF(OR(J92=\"\",'2014 scenario - input'!$D82=\"\"),\"\",J92/'2014 scenario - input'!$D82),\"\")","v":""},{"$f":"IFERROR(IF(OR(K92=\"\",'2014 scenario - input'!$D82=\"\"),\"\",K92/'2014 scenario - input'!$D82),\"\")","v":""},{"$f":"IFERROR(IF(OR(L92=\"\",'2014 scenario - input'!$D82=\"\"),\"\",L92/'2014 scenario - input'!$D82),\"\")","v":""},{"$f":"IFERROR(IF(OR(M92=\"\",'2014 scenario - input'!$D82=\"\"),\"\",M92/'2014 scenario - input'!$D82),\"\")","v":""},{"$f":"IFERROR(IF(OR(N92=\"\",'2014 scenario - input'!$D82=\"\"),\"\",N92/'2014 scenario - input'!$D82),\"\")","v":""},{"$f":"IFERROR(IF(OR(O92=\"\",'2014 scenario - input'!$D82=\"\"),\"\",O92/'2014 scenario - input'!$D82),\"\")","v":""},{"$f":"IFERROR(IF(OR(P92=\"\",'2014 scenario - input'!$D82=\"\"),\"\",P92/'2014 scenario - input'!$D82),\"\")","v":""},{"$f":"IFERROR(IF(OR(Q92=\"\",'2014 scenario - input'!$D82=\"\"),\"\",Q92/'2014 scenario - input'!$D82),\"\")","v":""},{"$f":"IFERROR(IF(OR(R92=\"\",'2014 scenario - input'!$D82=\"\"),\"\",R92/'2014 scenario - input'!$D82),\"\")","v":""},{"$f":"IFERROR(IF(OR(S92=\"\",'2014 scenario - input'!$D82=\"\"),\"\",S92/'2014 scenario - input'!$D82),\"\")","v":""},{"$f":"IFERROR(IF(OR(T92=\"\",'2014 scenario - input'!$D82=\"\"),\"\",T92/'2014 scenario - input'!$D82),\"\")","v":""},{"$f":"IFERROR(IF(OR(U92=\"\",'2014 scenario - input'!$D82=\"\"),\"\",U92/'2014 scenario - input'!$D82),\"\")","v":""},{"$f":"IFERROR(IF(OR(V92=\"\",'2014 scenario - input'!$D82=\"\"),\"\",V92/'2014 scenario - input'!$D82),\"\")","v":""},{"$f":"IFERROR(IF(OR(W92=\"\",'2014 scenario - input'!$D82=\"\"),\"\",W92/'2014 scenario - input'!$D82),\"\")","v":""}]
[{"$f":"IFERROR('2014 scenario - input'!A83,\"\")","v":""},{"$f":"IFERROR('2014 scenario - input'!B83,\"\")","v":0},{"$f":"IFERROR('2014 scenario - input'!C83,\"\")","v":0},{"$f":"IFERROR(repcalc('2014 scenario - input'!$CV83:$GH83,'2014 scenario - input'!$G83,'2014 scenario - input'!$E83,'2014 scenario - input'!$F83,20,TRUE,TRUE),\"\")","v":""},"","","","","","","","","","","","","","","","","","","",{"$f":"IFERROR(IF(OR(D93=\"\",'2014 scenario - input'!$D83=\"\"),\"\",D93/'2014 scenario - input'!$D83),\"\")","v":""},{"$f":"IFERROR(IF(OR(E93=\"\",'2014 scenario - input'!$D83=\"\"),\"\",E93/'2014 scenario - input'!$D83),\"\")","v":""},{"$f":"IFERROR(IF(OR(F93=\"\",'2014 scenario - input'!$D83=\"\"),\"\",F93/'2014 scenario - input'!$D83),\"\")","v":""},{"$f":"IFERROR(IF(OR(G93=\"\",'2014 scenario - input'!$D83=\"\"),\"\",G93/'2014 scenario - input'!$D83),\"\")","v":""},{"$f":"IFERROR(IF(OR(H93=\"\",'2014 scenario - input'!$D83=\"\"),\"\",H93/'2014 scenario - input'!$D83),\"\")","v":""},{"$f":"IFERROR(IF(OR(I93=\"\",'2014 scenario - input'!$D83=\"\"),\"\",I93/'2014 scenario - input'!$D83),\"\")","v":""},{"$f":"IFERROR(IF(OR(J93=\"\",'2014 scenario - input'!$D83=\"\"),\"\",J93/'2014 scenario - input'!$D83),\"\")","v":""},{"$f":"IFERROR(IF(OR(K93=\"\",'2014 scenario - input'!$D83=\"\"),\"\",K93/'2014 scenario - input'!$D83),\"\")","v":""},{"$f":"IFERROR(IF(OR(L93=\"\",'2014 scenario - input'!$D83=\"\"),\"\",L93/'2014 scenario - input'!$D83),\"\")","v":""},{"$f":"IFERROR(IF(OR(M93=\"\",'2014 scenario - input'!$D83=\"\"),\"\",M93/'2014 scenario - input'!$D83),\"\")","v":""},{"$f":"IFERROR(IF(OR(N93=\"\",'2014 scenario - input'!$D83=\"\"),\"\",N93/'2014 scenario - input'!$D83),\"\")","v":""},{"$f":"IFERROR(IF(OR(O93=\"\",'2014 scenario - input'!$D83=\"\"),\"\",O93/'2014 scenario - input'!$D83),\"\")","v":""},{"$f":"IFERROR(IF(OR(P93=\"\",'2014 scenario - input'!$D83=\"\"),\"\",P93/'2014 scenario - input'!$D83),\"\")","v":""},{"$f":"IFERROR(IF(OR(Q93=\"\",'2014 scenario - input'!$D83=\"\"),\"\",Q93/'2014 scenario - input'!$D83),\"\")","v":""},{"$f":"IFERROR(IF(OR(R93=\"\",'2014 scenario - input'!$D83=\"\"),\"\",R93/'2014 scenario - input'!$D83),\"\")","v":""},{"$f":"IFERROR(IF(OR(S93=\"\",'2014 scenario - input'!$D83=\"\"),\"\",S93/'2014 scenario - input'!$D83),\"\")","v":""},{"$f":"IFERROR(IF(OR(T93=\"\",'2014 scenario - input'!$D83=\"\"),\"\",T93/'2014 scenario - input'!$D83),\"\")","v":""},{"$f":"IFERROR(IF(OR(U93=\"\",'2014 scenario - input'!$D83=\"\"),\"\",U93/'2014 scenario - input'!$D83),\"\")","v":""},{"$f":"IFERROR(IF(OR(V93=\"\",'2014 scenario - input'!$D83=\"\"),\"\",V93/'2014 scenario - input'!$D83),\"\")","v":""},{"$f":"IFERROR(IF(OR(W93=\"\",'2014 scenario - input'!$D83=\"\"),\"\",W93/'2014 scenario - input'!$D83),\"\")","v":""}]
[{"$f":"IFERROR('2014 scenario - input'!A84,\"\")","v":""},{"$f":"IFERROR('2014 scenario - input'!B84,\"\")","v":0},{"$f":"IFERROR('2014 scenario - input'!C84,\"\")","v":0},{"$f":"IFERROR(repcalc('2014 scenario - input'!$CV84:$GH84,'2014 scenario - input'!$G84,'2014 scenario - input'!$E84,'2014 scenario - input'!$F84,20,TRUE,TRUE),\"\")","v":""},"","","","","","","","","","","","","","","","","","","",{"$f":"IFERROR(IF(OR(D94=\"\",'2014 scenario - input'!$D84=\"\"),\"\",D94/'2014 scenario - input'!$D84),\"\")","v":""},{"$f":"IFERROR(IF(OR(E94=\"\",'2014 scenario - input'!$D84=\"\"),\"\",E94/'2014 scenario - input'!$D84),\"\")","v":""},{"$f":"IFERROR(IF(OR(F94=\"\",'2014 scenario - input'!$D84=\"\"),\"\",F94/'2014 scenario - input'!$D84),\"\")","v":""},{"$f":"IFERROR(IF(OR(G94=\"\",'2014 scenario - input'!$D84=\"\"),\"\",G94/'2014 scenario - input'!$D84),\"\")","v":""},{"$f":"IFERROR(IF(OR(H94=\"\",'2014 scenario - input'!$D84=\"\"),\"\",H94/'2014 scenario - input'!$D84),\"\")","v":""},{"$f":"IFERROR(IF(OR(I94=\"\",'2014 scenario - input'!$D84=\"\"),\"\",I94/'2014 scenario - input'!$D84),\"\")","v":""},{"$f":"IFERROR(IF(OR(J94=\"\",'2014 scenario - input'!$D84=\"\"),\"\",J94/'2014 scenario - input'!$D84),\"\")","v":""},{"$f":"IFERROR(IF(OR(K94=\"\",'2014 scenario - input'!$D84=\"\"),\"\",K94/'2014 scenario - input'!$D84),\"\")","v":""},{"$f":"IFERROR(IF(OR(L94=\"\",'2014 scenario - input'!$D84=\"\"),\"\",L94/'2014 scenario - input'!$D84),\"\")","v":""},{"$f":"IFERROR(IF(OR(M94=\"\",'2014 scenario - input'!$D84=\"\"),\"\",M94/'2014 scenario - input'!$D84),\"\")","v":""},{"$f":"IFERROR(IF(OR(N94=\"\",'2014 scenario - input'!$D84=\"\"),\"\",N94/'2014 scenario - input'!$D84),\"\")","v":""},{"$f":"IFERROR(IF(OR(O94=\"\",'2014 scenario - input'!$D84=\"\"),\"\",O94/'2014 scenario - input'!$D84),\"\")","v":""},{"$f":"IFERROR(IF(OR(P94=\"\",'2014 scenario - input'!$D84=\"\"),\"\",P94/'2014 scenario - input'!$D84),\"\")","v":""},{"$f":"IFERROR(IF(OR(Q94=\"\",'2014 scenario - input'!$D84=\"\"),\"\",Q94/'2014 scenario - input'!$D84),\"\")","v":""},{"$f":"IFERROR(IF(OR(R94=\"\",'2014 scenario - input'!$D84=\"\"),\"\",R94/'2014 scenario - input'!$D84),\"\")","v":""},{"$f":"IFERROR(IF(OR(S94=\"\",'2014 scenario - input'!$D84=\"\"),\"\",S94/'2014 scenario - input'!$D84),\"\")","v":""},{"$f":"IFERROR(IF(OR(T94=\"\",'2014 scenario - input'!$D84=\"\"),\"\",T94/'2014 scenario - input'!$D84),\"\")","v":""},{"$f":"IFERROR(IF(OR(U94=\"\",'2014 scenario - input'!$D84=\"\"),\"\",U94/'2014 scenario - input'!$D84),\"\")","v":""},{"$f":"IFERROR(IF(OR(V94=\"\",'2014 scenario - input'!$D84=\"\"),\"\",V94/'2014 scenario - input'!$D84),\"\")","v":""},{"$f":"IFERROR(IF(OR(W94=\"\",'2014 scenario - input'!$D84=\"\"),\"\",W94/'2014 scenario - input'!$D84),\"\")","v":""}]
[{"$f":"IFERROR('2014 scenario - input'!A85,\"\")","v":""},{"$f":"IFERROR('2014 scenario - input'!B85,\"\")","v":0},{"$f":"IFERROR('2014 scenario - input'!C85,\"\")","v":0},{"$f":"IFERROR(repcalc('2014 scenario - input'!$CV85:$GH85,'2014 scenario - input'!$G85,'2014 scenario - input'!$E85,'2014 scenario - input'!$F85,20,TRUE,TRUE),\"\")","v":""},"","","","","","","","","","","","","","","","","","","",{"$f":"IFERROR(IF(OR(D95=\"\",'2014 scenario - input'!$D85=\"\"),\"\",D95/'2014 scenario - input'!$D85),\"\")","v":""},{"$f":"IFERROR(IF(OR(E95=\"\",'2014 scenario - input'!$D85=\"\"),\"\",E95/'2014 scenario - input'!$D85),\"\")","v":""},{"$f":"IFERROR(IF(OR(F95=\"\",'2014 scenario - input'!$D85=\"\"),\"\",F95/'2014 scenario - input'!$D85),\"\")","v":""},{"$f":"IFERROR(IF(OR(G95=\"\",'2014 scenario - input'!$D85=\"\"),\"\",G95/'2014 scenario - input'!$D85),\"\")","v":""},{"$f":"IFERROR(IF(OR(H95=\"\",'2014 scenario - input'!$D85=\"\"),\"\",H95/'2014 scenario - input'!$D85),\"\")","v":""},{"$f":"IFERROR(IF(OR(I95=\"\",'2014 scenario - input'!$D85=\"\"),\"\",I95/'2014 scenario - input'!$D85),\"\")","v":""},{"$f":"IFERROR(IF(OR(J95=\"\",'2014 scenario - input'!$D85=\"\"),\"\",J95/'2014 scenario - input'!$D85),\"\")","v":""},{"$f":"IFERROR(IF(OR(K95=\"\",'2014 scenario - input'!$D85=\"\"),\"\",K95/'2014 scenario - input'!$D85),\"\")","v":""},{"$f":"IFERROR(IF(OR(L95=\"\",'2014 scenario - input'!$D85=\"\"),\"\",L95/'2014 scenario - input'!$D85),\"\")","v":""},{"$f":"IFERROR(IF(OR(M95=\"\",'2014 scenario - input'!$D85=\"\"),\"\",M95/'2014 scenario - input'!$D85),\"\")","v":""},{"$f":"IFERROR(IF(OR(N95=\"\",'2014 scenario - input'!$D85=\"\"),\"\",N95/'2014 scenario - input'!$D85),\"\")","v":""},{"$f":"IFERROR(IF(OR(O95=\"\",'2014 scenario - input'!$D85=\"\"),\"\",O95/'2014 scenario - input'!$D85),\"\")","v":""},{"$f":"IFERROR(IF(OR(P95=\"\",'2014 scenario - input'!$D85=\"\"),\"\",P95/'2014 scenario - input'!$D85),\"\")","v":""},{"$f":"IFERROR(IF(OR(Q95=\"\",'2014 scenario - input'!$D85=\"\"),\"\",Q95/'2014 scenario - input'!$D85),\"\")","v":""},{"$f":"IFERROR(IF(OR(R95=\"\",'2014 scenario - input'!$D85=\"\"),\"\",R95/'2014 scenario - input'!$D85),\"\")","v":""},{"$f":"IFERROR(IF(OR(S95=\"\",'2014 scenario - input'!$D85=\"\"),\"\",S95/'2014 scenario - input'!$D85),\"\")","v":""},{"$f":"IFERROR(IF(OR(T95=\"\",'2014 scenario - input'!$D85=\"\"),\"\",T95/'2014 scenario - input'!$D85),\"\")","v":""},{"$f":"IFERROR(IF(OR(U95=\"\",'2014 scenario - input'!$D85=\"\"),\"\",U95/'2014 scenario - input'!$D85),\"\")","v":""},{"$f":"IFERROR(IF(OR(V95=\"\",'2014 scenario - input'!$D85=\"\"),\"\",V95/'2014 scenario - input'!$D85),\"\")","v":""},{"$f":"IFERROR(IF(OR(W95=\"\",'2014 scenario - input'!$D85=\"\"),\"\",W95/'2014 scenario - input'!$D85),\"\")","v":""}]
[{"$f":"IFERROR('2014 scenario - input'!A86,\"\")","v":""},{"$f":"IFERROR('2014 scenario - input'!B86,\"\")","v":0},{"$f":"IFERROR('2014 scenario - input'!C86,\"\")","v":0},{"$f":"IFERROR(repcalc('2014 scenario - input'!$CV86:$GH86,'2014 scenario - input'!$G86,'2014 scenario - input'!$E86,'2014 scenario - input'!$F86,20,TRUE,TRUE),\"\")","v":""},"","","","","","","","","","","","","","","","","","","",{"$f":"IFERROR(IF(OR(D96=\"\",'2014 scenario - input'!$D86=\"\"),\"\",D96/'2014 scenario - input'!$D86),\"\")","v":""},{"$f":"IFERROR(IF(OR(E96=\"\",'2014 scenario - input'!$D86=\"\"),\"\",E96/'2014 scenario - input'!$D86),\"\")","v":""},{"$f":"IFERROR(IF(OR(F96=\"\",'2014 scenario - input'!$D86=\"\"),\"\",F96/'2014 scenario - input'!$D86),\"\")","v":""},{"$f":"IFERROR(IF(OR(G96=\"\",'2014 scenario - input'!$D86=\"\"),\"\",G96/'2014 scenario - input'!$D86),\"\")","v":""},{"$f":"IFERROR(IF(OR(H96=\"\",'2014 scenario - input'!$D86=\"\"),\"\",H96/'2014 scenario - input'!$D86),\"\")","v":""},{"$f":"IFERROR(IF(OR(I96=\"\",'2014 scenario - input'!$D86=\"\"),\"\",I96/'2014 scenario - input'!$D86),\"\")","v":""},{"$f":"IFERROR(IF(OR(J96=\"\",'2014 scenario - input'!$D86=\"\"),\"\",J96/'2014 scenario - input'!$D86),\"\")","v":""},{"$f":"IFERROR(IF(OR(K96=\"\",'2014 scenario - input'!$D86=\"\"),\"\",K96/'2014 scenario - input'!$D86),\"\")","v":""},{"$f":"IFERROR(IF(OR(L96=\"\",'2014 scenario - input'!$D86=\"\"),\"\",L96/'2014 scenario - input'!$D86),\"\")","v":""},{"$f":"IFERROR(IF(OR(M96=\"\",'2014 scenario - input'!$D86=\"\"),\"\",M96/'2014 scenario - input'!$D86),\"\")","v":""},{"$f":"IFERROR(IF(OR(N96=\"\",'2014 scenario - input'!$D86=\"\"),\"\",N96/'2014 scenario - input'!$D86),\"\")","v":""},{"$f":"IFERROR(IF(OR(O96=\"\",'2014 scenario - input'!$D86=\"\"),\"\",O96/'2014 scenario - input'!$D86),\"\")","v":""},{"$f":"IFERROR(IF(OR(P96=\"\",'2014 scenario - input'!$D86=\"\"),\"\",P96/'2014 scenario - input'!$D86),\"\")","v":""},{"$f":"IFERROR(IF(OR(Q96=\"\",'2014 scenario - input'!$D86=\"\"),\"\",Q96/'2014 scenario - input'!$D86),\"\")","v":""},{"$f":"IFERROR(IF(OR(R96=\"\",'2014 scenario - input'!$D86=\"\"),\"\",R96/'2014 scenario - input'!$D86),\"\")","v":""},{"$f":"IFERROR(IF(OR(S96=\"\",'2014 scenario - input'!$D86=\"\"),\"\",S96/'2014 scenario - input'!$D86),\"\")","v":""},{"$f":"IFERROR(IF(OR(T96=\"\",'2014 scenario - input'!$D86=\"\"),\"\",T96/'2014 scenario - input'!$D86),\"\")","v":""},{"$f":"IFERROR(IF(OR(U96=\"\",'2014 scenario - input'!$D86=\"\"),\"\",U96/'2014 scenario - input'!$D86),\"\")","v":""},{"$f":"IFERROR(IF(OR(V96=\"\",'2014 scenario - input'!$D86=\"\"),\"\",V96/'2014 scenario - input'!$D86),\"\")","v":""},{"$f":"IFERROR(IF(OR(W96=\"\",'2014 scenario - input'!$D86=\"\"),\"\",W96/'2014 scenario - input'!$D86),\"\")","v":""}]
[{"$f":"IFERROR('2014 scenario - input'!A87,\"\")","v":""},{"$f":"IFERROR('2014 scenario - input'!B87,\"\")","v":0},{"$f":"IFERROR('2014 scenario - input'!C87,\"\")","v":0},{"$f":"IFERROR(repcalc('2014 scenario - input'!$CV87:$GH87,'2014 scenario - input'!$G87,'2014 scenario - input'!$E87,'2014 scenario - input'!$F87,20,TRUE,TRUE),\"\")","v":""},"","","","","","","","","","","","","","","","","","","",{"$f":"IFERROR(IF(OR(D97=\"\",'2014 scenario - input'!$D87=\"\"),\"\",D97/'2014 scenario - input'!$D87),\"\")","v":""},{"$f":"IFERROR(IF(OR(E97=\"\",'2014 scenario - input'!$D87=\"\"),\"\",E97/'2014 scenario - input'!$D87),\"\")","v":""},{"$f":"IFERROR(IF(OR(F97=\"\",'2014 scenario - input'!$D87=\"\"),\"\",F97/'2014 scenario - input'!$D87),\"\")","v":""},{"$f":"IFERROR(IF(OR(G97=\"\",'2014 scenario - input'!$D87=\"\"),\"\",G97/'2014 scenario - input'!$D87),\"\")","v":""},{"$f":"IFERROR(IF(OR(H97=\"\",'2014 scenario - input'!$D87=\"\"),\"\",H97/'2014 scenario - input'!$D87),\"\")","v":""},{"$f":"IFERROR(IF(OR(I97=\"\",'2014 scenario - input'!$D87=\"\"),\"\",I97/'2014 scenario - input'!$D87),\"\")","v":""},{"$f":"IFERROR(IF(OR(J97=\"\",'2014 scenario - input'!$D87=\"\"),\"\",J97/'2014 scenario - input'!$D87),\"\")","v":""},{"$f":"IFERROR(IF(OR(K97=\"\",'2014 scenario - input'!$D87=\"\"),\"\",K97/'2014 scenario - input'!$D87),\"\")","v":""},{"$f":"IFERROR(IF(OR(L97=\"\",'2014 scenario - input'!$D87=\"\"),\"\",L97/'2014 scenario - input'!$D87),\"\")","v":""},{"$f":"IFERROR(IF(OR(M97=\"\",'2014 scenario - input'!$D87=\"\"),\"\",M97/'2014 scenario - input'!$D87),\"\")","v":""},{"$f":"IFERROR(IF(OR(N97=\"\",'2014 scenario - input'!$D87=\"\"),\"\",N97/'2014 scenario - input'!$D87),\"\")","v":""},{"$f":"IFERROR(IF(OR(O97=\"\",'2014 scenario - input'!$D87=\"\"),\"\",O97/'2014 scenario - input'!$D87),\"\")","v":""},{"$f":"IFERROR(IF(OR(P97=\"\",'2014 scenario - input'!$D87=\"\"),\"\",P97/'2014 scenario - input'!$D87),\"\")","v":""},{"$f":"IFERROR(IF(OR(Q97=\"\",'2014 scenario - input'!$D87=\"\"),\"\",Q97/'2014 scenario - input'!$D87),\"\")","v":""},{"$f":"IFERROR(IF(OR(R97=\"\",'2014 scenario - input'!$D87=\"\"),\"\",R97/'2014 scenario - input'!$D87),\"\")","v":""},{"$f":"IFERROR(IF(OR(S97=\"\",'2014 scenario - input'!$D87=\"\"),\"\",S97/'2014 scenario - input'!$D87),\"\")","v":""},{"$f":"IFERROR(IF(OR(T97=\"\",'2014 scenario - input'!$D87=\"\"),\"\",T97/'2014 scenario - input'!$D87),\"\")","v":""},{"$f":"IFERROR(IF(OR(U97=\"\",'2014 scenario - input'!$D87=\"\"),\"\",U97/'2014 scenario - input'!$D87),\"\")","v":""},{"$f":"IFERROR(IF(OR(V97=\"\",'2014 scenario - input'!$D87=\"\"),\"\",V97/'2014 scenario - input'!$D87),\"\")","v":""},{"$f":"IFERROR(IF(OR(W97=\"\",'2014 scenario - input'!$D87=\"\"),\"\",W97/'2014 scenario - input'!$D87),\"\")","v":""}]
[{"$f":"IFERROR('2014 scenario - input'!A88,\"\")","v":""},{"$f":"IFERROR('2014 scenario - input'!B88,\"\")","v":0},{"$f":"IFERROR('2014 scenario - input'!C88,\"\")","v":0},{"$f":"IFERROR(repcalc('2014 scenario - input'!$CV88:$GH88,'2014 scenario - input'!$G88,'2014 scenario - input'!$E88,'2014 scenario - input'!$F88,20,TRUE,TRUE),\"\")","v":""},"","","","","","","","","","","","","","","","","","","",{"$f":"IFERROR(IF(OR(D98=\"\",'2014 scenario - input'!$D88=\"\"),\"\",D98/'2014 scenario - input'!$D88),\"\")","v":""},{"$f":"IFERROR(IF(OR(E98=\"\",'2014 scenario - input'!$D88=\"\"),\"\",E98/'2014 scenario - input'!$D88),\"\")","v":""},{"$f":"IFERROR(IF(OR(F98=\"\",'2014 scenario - input'!$D88=\"\"),\"\",F98/'2014 scenario - input'!$D88),\"\")","v":""},{"$f":"IFERROR(IF(OR(G98=\"\",'2014 scenario - input'!$D88=\"\"),\"\",G98/'2014 scenario - input'!$D88),\"\")","v":""},{"$f":"IFERROR(IF(OR(H98=\"\",'2014 scenario - input'!$D88=\"\"),\"\",H98/'2014 scenario - input'!$D88),\"\")","v":""},{"$f":"IFERROR(IF(OR(I98=\"\",'2014 scenario - input'!$D88=\"\"),\"\",I98/'2014 scenario - input'!$D88),\"\")","v":""},{"$f":"IFERROR(IF(OR(J98=\"\",'2014 scenario - input'!$D88=\"\"),\"\",J98/'2014 scenario - input'!$D88),\"\")","v":""},{"$f":"IFERROR(IF(OR(K98=\"\",'2014 scenario - input'!$D88=\"\"),\"\",K98/'2014 scenario - input'!$D88),\"\")","v":""},{"$f":"IFERROR(IF(OR(L98=\"\",'2014 scenario - input'!$D88=\"\"),\"\",L98/'2014 scenario - input'!$D88),\"\")","v":""},{"$f":"IFERROR(IF(OR(M98=\"\",'2014 scenario - input'!$D88=\"\"),\"\",M98/'2014 scenario - input'!$D88),\"\")","v":""},{"$f":"IFERROR(IF(OR(N98=\"\",'2014 scenario - input'!$D88=\"\"),\"\",N98/'2014 scenario - input'!$D88),\"\")","v":""},{"$f":"IFERROR(IF(OR(O98=\"\",'2014 scenario - input'!$D88=\"\"),\"\",O98/'2014 scenario - input'!$D88),\"\")","v":""},{"$f":"IFERROR(IF(OR(P98=\"\",'2014 scenario - input'!$D88=\"\"),\"\",P98/'2014 scenario - input'!$D88),\"\")","v":""},{"$f":"IFERROR(IF(OR(Q98=\"\",'2014 scenario - input'!$D88=\"\"),\"\",Q98/'2014 scenario - input'!$D88),\"\")","v":""},{"$f":"IFERROR(IF(OR(R98=\"\",'2014 scenario - input'!$D88=\"\"),\"\",R98/'2014 scenario - input'!$D88),\"\")","v":""},{"$f":"IFERROR(IF(OR(S98=\"\",'2014 scenario - input'!$D88=\"\"),\"\",S98/'2014 scenario - input'!$D88),\"\")","v":""},{"$f":"IFERROR(IF(OR(T98=\"\",'2014 scenario - input'!$D88=\"\"),\"\",T98/'2014 scenario - input'!$D88),\"\")","v":""},{"$f":"IFERROR(IF(OR(U98=\"\",'2014 scenario - input'!$D88=\"\"),\"\",U98/'2014 scenario - input'!$D88),\"\")","v":""},{"$f":"IFERROR(IF(OR(V98=\"\",'2014 scenario - input'!$D88=\"\"),\"\",V98/'2014 scenario - input'!$D88),\"\")","v":""},{"$f":"IFERROR(IF(OR(W98=\"\",'2014 scenario - input'!$D88=\"\"),\"\",W98/'2014 scenario - input'!$D88),\"\")","v":""}]
[{"$f":"IFERROR('2014 scenario - input'!A89,\"\")","v":""},{"$f":"IFERROR('2014 scenario - input'!B89,\"\")","v":0},{"$f":"IFERROR('2014 scenario - input'!C89,\"\")","v":0},{"$f":"IFERROR(repcalc('2014 scenario - input'!$CV89:$GH89,'2014 scenario - input'!$G89,'2014 scenario - input'!$E89,'2014 scenario - input'!$F89,20,TRUE,TRUE),\"\")","v":""},"","","","","","","","","","","","","","","","","","","",{"$f":"IFERROR(IF(OR(D99=\"\",'2014 scenario - input'!$D89=\"\"),\"\",D99/'2014 scenario - input'!$D89),\"\")","v":""},{"$f":"IFERROR(IF(OR(E99=\"\",'2014 scenario - input'!$D89=\"\"),\"\",E99/'2014 scenario - input'!$D89),\"\")","v":""},{"$f":"IFERROR(IF(OR(F99=\"\",'2014 scenario - input'!$D89=\"\"),\"\",F99/'2014 scenario - input'!$D89),\"\")","v":""},{"$f":"IFERROR(IF(OR(G99=\"\",'2014 scenario - input'!$D89=\"\"),\"\",G99/'2014 scenario - input'!$D89),\"\")","v":""},{"$f":"IFERROR(IF(OR(H99=\"\",'2014 scenario - input'!$D89=\"\"),\"\",H99/'2014 scenario - input'!$D89),\"\")","v":""},{"$f":"IFERROR(IF(OR(I99=\"\",'2014 scenario - input'!$D89=\"\"),\"\",I99/'2014 scenario - input'!$D89),\"\")","v":""},{"$f":"IFERROR(IF(OR(J99=\"\",'2014 scenario - input'!$D89=\"\"),\"\",J99/'2014 scenario - input'!$D89),\"\")","v":""},{"$f":"IFERROR(IF(OR(K99=\"\",'2014 scenario - input'!$D89=\"\"),\"\",K99/'2014 scenario - input'!$D89),\"\")","v":""},{"$f":"IFERROR(IF(OR(L99=\"\",'2014 scenario - input'!$D89=\"\"),\"\",L99/'2014 scenario - input'!$D89),\"\")","v":""},{"$f":"IFERROR(IF(OR(M99=\"\",'2014 scenario - input'!$D89=\"\"),\"\",M99/'2014 scenario - input'!$D89),\"\")","v":""},{"$f":"IFERROR(IF(OR(N99=\"\",'2014 scenario - input'!$D89=\"\"),\"\",N99/'2014 scenario - input'!$D89),\"\")","v":""},{"$f":"IFERROR(IF(OR(O99=\"\",'2014 scenario - input'!$D89=\"\"),\"\",O99/'2014 scenario - input'!$D89),\"\")","v":""},{"$f":"IFERROR(IF(OR(P99=\"\",'2014 scenario - input'!$D89=\"\"),\"\",P99/'2014 scenario - input'!$D89),\"\")","v":""},{"$f":"IFERROR(IF(OR(Q99=\"\",'2014 scenario - input'!$D89=\"\"),\"\",Q99/'2014 scenario - input'!$D89),\"\")","v":""},{"$f":"IFERROR(IF(OR(R99=\"\",'2014 scenario - input'!$D89=\"\"),\"\",R99/'2014 scenario - input'!$D89),\"\")","v":""},{"$f":"IFERROR(IF(OR(S99=\"\",'2014 scenario - input'!$D89=\"\"),\"\",S99/'2014 scenario - input'!$D89),\"\")","v":""},{"$f":"IFERROR(IF(OR(T99=\"\",'2014 scenario - input'!$D89=\"\"),\"\",T99/'2014 scenario - input'!$D89),\"\")","v":""},{"$f":"IFERROR(IF(OR(U99=\"\",'2014 scenario - input'!$D89=\"\"),\"\",U99/'2014 scenario - input'!$D89),\"\")","v":""},{"$f":"IFERROR(IF(OR(V99=\"\",'2014 scenario - input'!$D89=\"\"),\"\",V99/'2014 scenario - input'!$D89),\"\")","v":""},{"$f":"IFERROR(IF(OR(W99=\"\",'2014 scenario - input'!$D89=\"\"),\"\",W99/'2014 scenario - input'!$D89),\"\")","v":""}]
[{"$f":"IFERROR('2014 scenario - input'!A90,\"\")","v":""},{"$f":"IFERROR('2014 scenario - input'!B90,\"\")","v":0},{"$f":"IFERROR('2014 scenario - input'!C90,\"\")","v":0},{"$f":"IFERROR(repcalc('2014 scenario - input'!$CV90:$GH90,'2014 scenario - input'!$G90,'2014 scenario - input'!$E90,'2014 scenario - input'!$F90,20,TRUE,TRUE),\"\")","v":""},"","","","","","","","","","","","","","","","","","","",{"$f":"IFERROR(IF(OR(D100=\"\",'2014 scenario - input'!$D90=\"\"),\"\",D100/'2014 scenario - input'!$D90),\"\")","v":""},{"$f":"IFERROR(IF(OR(E100=\"\",'2014 scenario - input'!$D90=\"\"),\"\",E100/'2014 scenario - input'!$D90),\"\")","v":""},{"$f":"IFERROR(IF(OR(F100=\"\",'2014 scenario - input'!$D90=\"\"),\"\",F100/'2014 scenario - input'!$D90),\"\")","v":""},{"$f":"IFERROR(IF(OR(G100=\"\",'2014 scenario - input'!$D90=\"\"),\"\",G100/'2014 scenario - input'!$D90),\"\")","v":""},{"$f":"IFERROR(IF(OR(H100=\"\",'2014 scenario - input'!$D90=\"\"),\"\",H100/'2014 scenario - input'!$D90),\"\")","v":""},{"$f":"IFERROR(IF(OR(I100=\"\",'2014 scenario - input'!$D90=\"\"),\"\",I100/'2014 scenario - input'!$D90),\"\")","v":""},{"$f":"IFERROR(IF(OR(J100=\"\",'2014 scenario - input'!$D90=\"\"),\"\",J100/'2014 scenario - input'!$D90),\"\")","v":""},{"$f":"IFERROR(IF(OR(K100=\"\",'2014 scenario - input'!$D90=\"\"),\"\",K100/'2014 scenario - input'!$D90),\"\")","v":""},{"$f":"IFERROR(IF(OR(L100=\"\",'2014 scenario - input'!$D90=\"\"),\"\",L100/'2014 scenario - input'!$D90),\"\")","v":""},{"$f":"IFERROR(IF(OR(M100=\"\",'2014 scenario - input'!$D90=\"\"),\"\",M100/'2014 scenario - input'!$D90),\"\")","v":""},{"$f":"IFERROR(IF(OR(N100=\"\",'2014 scenario - input'!$D90=\"\"),\"\",N100/'2014 scenario - input'!$D90),\"\")","v":""},{"$f":"IFERROR(IF(OR(O100=\"\",'2014 scenario - input'!$D90=\"\"),\"\",O100/'2014 scenario - input'!$D90),\"\")","v":""},{"$f":"IFERROR(IF(OR(P100=\"\",'2014 scenario - input'!$D90=\"\"),\"\",P100/'2014 scenario - input'!$D90),\"\")","v":""},{"$f":"IFERROR(IF(OR(Q100=\"\",'2014 scenario - input'!$D90=\"\"),\"\",Q100/'2014 scenario - input'!$D90),\"\")","v":""},{"$f":"IFERROR(IF(OR(R100=\"\",'2014 scenario - input'!$D90=\"\"),\"\",R100/'2014 scenario - input'!$D90),\"\")","v":""},{"$f":"IFERROR(IF(OR(S100=\"\",'2014 scenario - input'!$D90=\"\"),\"\",S100/'2014 scenario - input'!$D90),\"\")","v":""},{"$f":"IFERROR(IF(OR(T100=\"\",'2014 scenario - input'!$D90=\"\"),\"\",T100/'2014 scenario - input'!$D90),\"\")","v":""},{"$f":"IFERROR(IF(OR(U100=\"\",'2014 scenario - input'!$D90=\"\"),\"\",U100/'2014 scenario - input'!$D90),\"\")","v":""},{"$f":"IFERROR(IF(OR(V100=\"\",'2014 scenario - input'!$D90=\"\"),\"\",V100/'2014 scenario - input'!$D90),\"\")","v":""},{"$f":"IFERROR(IF(OR(W100=\"\",'2014 scenario - input'!$D90=\"\"),\"\",W100/'2014 scenario - input'!$D90),\"\")","v":""}]
[{"$f":"IFERROR('2014 scenario - input'!A91,\"\")","v":""},{"$f":"IFERROR('2014 scenario - input'!B91,\"\")","v":0},{"$f":"IFERROR('2014 scenario - input'!C91,\"\")","v":0},{"$f":"IFERROR(repcalc('2014 scenario - input'!$CV91:$GH91,'2014 scenario - input'!$G91,'2014 scenario - input'!$E91,'2014 scenario - input'!$F91,20,TRUE,TRUE),\"\")","v":""},"","","","","","","","","","","","","","","","","","","",{"$f":"IFERROR(IF(OR(D101=\"\",'2014 scenario - input'!$D91=\"\"),\"\",D101/'2014 scenario - input'!$D91),\"\")","v":""},{"$f":"IFERROR(IF(OR(E101=\"\",'2014 scenario - input'!$D91=\"\"),\"\",E101/'2014 scenario - input'!$D91),\"\")","v":""},{"$f":"IFERROR(IF(OR(F101=\"\",'2014 scenario - input'!$D91=\"\"),\"\",F101/'2014 scenario - input'!$D91),\"\")","v":""},{"$f":"IFERROR(IF(OR(G101=\"\",'2014 scenario - input'!$D91=\"\"),\"\",G101/'2014 scenario - input'!$D91),\"\")","v":""},{"$f":"IFERROR(IF(OR(H101=\"\",'2014 scenario - input'!$D91=\"\"),\"\",H101/'2014 scenario - input'!$D91),\"\")","v":""},{"$f":"IFERROR(IF(OR(I101=\"\",'2014 scenario - input'!$D91=\"\"),\"\",I101/'2014 scenario - input'!$D91),\"\")","v":""},{"$f":"IFERROR(IF(OR(J101=\"\",'2014 scenario - input'!$D91=\"\"),\"\",J101/'2014 scenario - input'!$D91),\"\")","v":""},{"$f":"IFERROR(IF(OR(K101=\"\",'2014 scenario - input'!$D91=\"\"),\"\",K101/'2014 scenario - input'!$D91),\"\")","v":""},{"$f":"IFERROR(IF(OR(L101=\"\",'2014 scenario - input'!$D91=\"\"),\"\",L101/'2014 scenario - input'!$D91),\"\")","v":""},{"$f":"IFERROR(IF(OR(M101=\"\",'2014 scenario - input'!$D91=\"\"),\"\",M101/'2014 scenario - input'!$D91),\"\")","v":""},{"$f":"IFERROR(IF(OR(N101=\"\",'2014 scenario - input'!$D91=\"\"),\"\",N101/'2014 scenario - input'!$D91),\"\")","v":""},{"$f":"IFERROR(IF(OR(O101=\"\",'2014 scenario - input'!$D91=\"\"),\"\",O101/'2014 scenario - input'!$D91),\"\")","v":""},{"$f":"IFERROR(IF(OR(P101=\"\",'2014 scenario - input'!$D91=\"\"),\"\",P101/'2014 scenario - input'!$D91),\"\")","v":""},{"$f":"IFERROR(IF(OR(Q101=\"\",'2014 scenario - input'!$D91=\"\"),\"\",Q101/'2014 scenario - input'!$D91),\"\")","v":""},{"$f":"IFERROR(IF(OR(R101=\"\",'2014 scenario - input'!$D91=\"\"),\"\",R101/'2014 scenario - input'!$D91),\"\")","v":""},{"$f":"IFERROR(IF(OR(S101=\"\",'2014 scenario - input'!$D91=\"\"),\"\",S101/'2014 scenario - input'!$D91),\"\")","v":""},{"$f":"IFERROR(IF(OR(T101=\"\",'2014 scenario - input'!$D91=\"\"),\"\",T101/'2014 scenario - input'!$D91),\"\")","v":""},{"$f":"IFERROR(IF(OR(U101=\"\",'2014 scenario - input'!$D91=\"\"),\"\",U101/'2014 scenario - input'!$D91),\"\")","v":""},{"$f":"IFERROR(IF(OR(V101=\"\",'2014 scenario - input'!$D91=\"\"),\"\",V101/'2014 scenario - input'!$D91),\"\")","v":""},{"$f":"IFERROR(IF(OR(W101=\"\",'2014 scenario - input'!$D91=\"\"),\"\",W101/'2014 scenario - input'!$D91),\"\")","v":""}]
[{"$f":"IFERROR('2014 scenario - input'!A92,\"\")","v":""},{"$f":"IFERROR('2014 scenario - input'!B92,\"\")","v":0},{"$f":"IFERROR('2014 scenario - input'!C92,\"\")","v":0},{"$f":"IFERROR(repcalc('2014 scenario - input'!$CV92:$GH92,'2014 scenario - input'!$G92,'2014 scenario - input'!$E92,'2014 scenario - input'!$F92,20,TRUE,TRUE),\"\")","v":""},"","","","","","","","","","","","","","","","","","","",{"$f":"IFERROR(IF(OR(D102=\"\",'2014 scenario - input'!$D92=\"\"),\"\",D102/'2014 scenario - input'!$D92),\"\")","v":""},{"$f":"IFERROR(IF(OR(E102=\"\",'2014 scenario - input'!$D92=\"\"),\"\",E102/'2014 scenario - input'!$D92),\"\")","v":""},{"$f":"IFERROR(IF(OR(F102=\"\",'2014 scenario - input'!$D92=\"\"),\"\",F102/'2014 scenario - input'!$D92),\"\")","v":""},{"$f":"IFERROR(IF(OR(G102=\"\",'2014 scenario - input'!$D92=\"\"),\"\",G102/'2014 scenario - input'!$D92),\"\")","v":""},{"$f":"IFERROR(IF(OR(H102=\"\",'2014 scenario - input'!$D92=\"\"),\"\",H102/'2014 scenario - input'!$D92),\"\")","v":""},{"$f":"IFERROR(IF(OR(I102=\"\",'2014 scenario - input'!$D92=\"\"),\"\",I102/'2014 scenario - input'!$D92),\"\")","v":""},{"$f":"IFERROR(IF(OR(J102=\"\",'2014 scenario - input'!$D92=\"\"),\"\",J102/'2014 scenario - input'!$D92),\"\")","v":""},{"$f":"IFERROR(IF(OR(K102=\"\",'2014 scenario - input'!$D92=\"\"),\"\",K102/'2014 scenario - input'!$D92),\"\")","v":""},{"$f":"IFERROR(IF(OR(L102=\"\",'2014 scenario - input'!$D92=\"\"),\"\",L102/'2014 scenario - input'!$D92),\"\")","v":""},{"$f":"IFERROR(IF(OR(M102=\"\",'2014 scenario - input'!$D92=\"\"),\"\",M102/'2014 scenario - input'!$D92),\"\")","v":""},{"$f":"IFERROR(IF(OR(N102=\"\",'2014 scenario - input'!$D92=\"\"),\"\",N102/'2014 scenario - input'!$D92),\"\")","v":""},{"$f":"IFERROR(IF(OR(O102=\"\",'2014 scenario - input'!$D92=\"\"),\"\",O102/'2014 scenario - input'!$D92),\"\")","v":""},{"$f":"IFERROR(IF(OR(P102=\"\",'2014 scenario - input'!$D92=\"\"),\"\",P102/'2014 scenario - input'!$D92),\"\")","v":""},{"$f":"IFERROR(IF(OR(Q102=\"\",'2014 scenario - input'!$D92=\"\"),\"\",Q102/'2014 scenario - input'!$D92),\"\")","v":""},{"$f":"IFERROR(IF(OR(R102=\"\",'2014 scenario - input'!$D92=\"\"),\"\",R102/'2014 scenario - input'!$D92),\"\")","v":""},{"$f":"IFERROR(IF(OR(S102=\"\",'2014 scenario - input'!$D92=\"\"),\"\",S102/'2014 scenario - input'!$D92),\"\")","v":""},{"$f":"IFERROR(IF(OR(T102=\"\",'2014 scenario - input'!$D92=\"\"),\"\",T102/'2014 scenario - input'!$D92),\"\")","v":""},{"$f":"IFERROR(IF(OR(U102=\"\",'2014 scenario - input'!$D92=\"\"),\"\",U102/'2014 scenario - input'!$D92),\"\")","v":""},{"$f":"IFERROR(IF(OR(V102=\"\",'2014 scenario - input'!$D92=\"\"),\"\",V102/'2014 scenario - input'!$D92),\"\")","v":""},{"$f":"IFERROR(IF(OR(W102=\"\",'2014 scenario - input'!$D92=\"\"),\"\",W102/'2014 scenario - input'!$D92),\"\")","v":""}]
[{"$f":"IFERROR('2014 scenario - input'!A93,\"\")","v":""},{"$f":"IFERROR('2014 scenario - input'!B93,\"\")","v":0},{"$f":"IFERROR('2014 scenario - input'!C93,\"\")","v":0},{"$f":"IFERROR(repcalc('2014 scenario - input'!$CV93:$GH93,'2014 scenario - input'!$G93,'2014 scenario - input'!$E93,'2014 scenario - input'!$F93,20,TRUE,TRUE),\"\")","v":""},"","","","","","","","","","","","","","","","","","","",{"$f":"IFERROR(IF(OR(D103=\"\",'2014 scenario - input'!$D93=\"\"),\"\",D103/'2014 scenario - input'!$D93),\"\")","v":""},{"$f":"IFERROR(IF(OR(E103=\"\",'2014 scenario - input'!$D93=\"\"),\"\",E103/'2014 scenario - input'!$D93),\"\")","v":""},{"$f":"IFERROR(IF(OR(F103=\"\",'2014 scenario - input'!$D93=\"\"),\"\",F103/'2014 scenario - input'!$D93),\"\")","v":""},{"$f":"IFERROR(IF(OR(G103=\"\",'2014 scenario - input'!$D93=\"\"),\"\",G103/'2014 scenario - input'!$D93),\"\")","v":""},{"$f":"IFERROR(IF(OR(H103=\"\",'2014 scenario - input'!$D93=\"\"),\"\",H103/'2014 scenario - input'!$D93),\"\")","v":""},{"$f":"IFERROR(IF(OR(I103=\"\",'2014 scenario - input'!$D93=\"\"),\"\",I103/'2014 scenario - input'!$D93),\"\")","v":""},{"$f":"IFERROR(IF(OR(J103=\"\",'2014 scenario - input'!$D93=\"\"),\"\",J103/'2014 scenario - input'!$D93),\"\")","v":""},{"$f":"IFERROR(IF(OR(K103=\"\",'2014 scenario - input'!$D93=\"\"),\"\",K103/'2014 scenario - input'!$D93),\"\")","v":""},{"$f":"IFERROR(IF(OR(L103=\"\",'2014 scenario - input'!$D93=\"\"),\"\",L103/'2014 scenario - input'!$D93),\"\")","v":""},{"$f":"IFERROR(IF(OR(M103=\"\",'2014 scenario - input'!$D93=\"\"),\"\",M103/'2014 scenario - input'!$D93),\"\")","v":""},{"$f":"IFERROR(IF(OR(N103=\"\",'2014 scenario - input'!$D93=\"\"),\"\",N103/'2014 scenario - input'!$D93),\"\")","v":""},{"$f":"IFERROR(IF(OR(O103=\"\",'2014 scenario - input'!$D93=\"\"),\"\",O103/'2014 scenario - input'!$D93),\"\")","v":""},{"$f":"IFERROR(IF(OR(P103=\"\",'2014 scenario - input'!$D93=\"\"),\"\",P103/'2014 scenario - input'!$D93),\"\")","v":""},{"$f":"IFERROR(IF(OR(Q103=\"\",'2014 scenario - input'!$D93=\"\"),\"\",Q103/'2014 scenario - input'!$D93),\"\")","v":""},{"$f":"IFERROR(IF(OR(R103=\"\",'2014 scenario - input'!$D93=\"\"),\"\",R103/'2014 scenario - input'!$D93),\"\")","v":""},{"$f":"IFERROR(IF(OR(S103=\"\",'2014 scenario - input'!$D93=\"\"),\"\",S103/'2014 scenario - input'!$D93),\"\")","v":""},{"$f":"IFERROR(IF(OR(T103=\"\",'2014 scenario - input'!$D93=\"\"),\"\",T103/'2014 scenario - input'!$D93),\"\")","v":""},{"$f":"IFERROR(IF(OR(U103=\"\",'2014 scenario - input'!$D93=\"\"),\"\",U103/'2014 scenario - input'!$D93),\"\")","v":""},{"$f":"IFERROR(IF(OR(V103=\"\",'2014 scenario - input'!$D93=\"\"),\"\",V103/'2014 scenario - input'!$D93),\"\")","v":""},{"$f":"IFERROR(IF(OR(W103=\"\",'2014 scenario - input'!$D93=\"\"),\"\",W103/'2014 scenario - input'!$D93),\"\")","v":""}]
[{"$f":"IFERROR('2014 scenario - input'!A94,\"\")","v":""},{"$f":"IFERROR('2014 scenario - input'!B94,\"\")","v":0},{"$f":"IFERROR('2014 scenario - input'!C94,\"\")","v":0},{"$f":"IFERROR(repcalc('2014 scenario - input'!$CV94:$GH94,'2014 scenario - input'!$G94,'2014 scenario - input'!$E94,'2014 scenario - input'!$F94,20,TRUE,TRUE),\"\")","v":""},"","","","","","","","","","","","","","","","","","","",{"$f":"IFERROR(IF(OR(D104=\"\",'2014 scenario - input'!$D94=\"\"),\"\",D104/'2014 scenario - input'!$D94),\"\")","v":""},{"$f":"IFERROR(IF(OR(E104=\"\",'2014 scenario - input'!$D94=\"\"),\"\",E104/'2014 scenario - input'!$D94),\"\")","v":""},{"$f":"IFERROR(IF(OR(F104=\"\",'2014 scenario - input'!$D94=\"\"),\"\",F104/'2014 scenario - input'!$D94),\"\")","v":""},{"$f":"IFERROR(IF(OR(G104=\"\",'2014 scenario - input'!$D94=\"\"),\"\",G104/'2014 scenario - input'!$D94),\"\")","v":""},{"$f":"IFERROR(IF(OR(H104=\"\",'2014 scenario - input'!$D94=\"\"),\"\",H104/'2014 scenario - input'!$D94),\"\")","v":""},{"$f":"IFERROR(IF(OR(I104=\"\",'2014 scenario - input'!$D94=\"\"),\"\",I104/'2014 scenario - input'!$D94),\"\")","v":""},{"$f":"IFERROR(IF(OR(J104=\"\",'2014 scenario - input'!$D94=\"\"),\"\",J104/'2014 scenario - input'!$D94),\"\")","v":""},{"$f":"IFERROR(IF(OR(K104=\"\",'2014 scenario - input'!$D94=\"\"),\"\",K104/'2014 scenario - input'!$D94),\"\")","v":""},{"$f":"IFERROR(IF(OR(L104=\"\",'2014 scenario - input'!$D94=\"\"),\"\",L104/'2014 scenario - input'!$D94),\"\")","v":""},{"$f":"IFERROR(IF(OR(M104=\"\",'2014 scenario - input'!$D94=\"\"),\"\",M104/'2014 scenario - input'!$D94),\"\")","v":""},{"$f":"IFERROR(IF(OR(N104=\"\",'2014 scenario - input'!$D94=\"\"),\"\",N104/'2014 scenario - input'!$D94),\"\")","v":""},{"$f":"IFERROR(IF(OR(O104=\"\",'2014 scenario - input'!$D94=\"\"),\"\",O104/'2014 scenario - input'!$D94),\"\")","v":""},{"$f":"IFERROR(IF(OR(P104=\"\",'2014 scenario - input'!$D94=\"\"),\"\",P104/'2014 scenario - input'!$D94),\"\")","v":""},{"$f":"IFERROR(IF(OR(Q104=\"\",'2014 scenario - input'!$D94=\"\"),\"\",Q104/'2014 scenario - input'!$D94),\"\")","v":""},{"$f":"IFERROR(IF(OR(R104=\"\",'2014 scenario - input'!$D94=\"\"),\"\",R104/'2014 scenario - input'!$D94),\"\")","v":""},{"$f":"IFERROR(IF(OR(S104=\"\",'2014 scenario - input'!$D94=\"\"),\"\",S104/'2014 scenario - input'!$D94),\"\")","v":""},{"$f":"IFERROR(IF(OR(T104=\"\",'2014 scenario - input'!$D94=\"\"),\"\",T104/'2014 scenario - input'!$D94),\"\")","v":""},{"$f":"IFERROR(IF(OR(U104=\"\",'2014 scenario - input'!$D94=\"\"),\"\",U104/'2014 scenario - input'!$D94),\"\")","v":""},{"$f":"IFERROR(IF(OR(V104=\"\",'2014 scenario - input'!$D94=\"\"),\"\",V104/'2014 scenario - input'!$D94),\"\")","v":""},{"$f":"IFERROR(IF(OR(W104=\"\",'2014 scenario - input'!$D94=\"\"),\"\",W104/'2014 scenario - input'!$D94),\"\")","v":""}]
[{"$f":"IFERROR('2014 scenario - input'!A95,\"\")","v":""},{"$f":"IFERROR('2014 scenario - input'!B95,\"\")","v":0},{"$f":"IFERROR('2014 scenario - input'!C95,\"\")","v":0},{"$f":"IFERROR(repcalc('2014 scenario - input'!$CV95:$GH95,'2014 scenario - input'!$G95,'2014 scenario - input'!$E95,'2014 scenario - input'!$F95,20,TRUE,TRUE),\"\")","v":""},"","","","","","","","","","","","","","","","","","","",{"$f":"IFERROR(IF(OR(D105=\"\",'2014 scenario - input'!$D95=\"\"),\"\",D105/'2014 scenario - input'!$D95),\"\")","v":""},{"$f":"IFERROR(IF(OR(E105=\"\",'2014 scenario - input'!$D95=\"\"),\"\",E105/'2014 scenario - input'!$D95),\"\")","v":""},{"$f":"IFERROR(IF(OR(F105=\"\",'2014 scenario - input'!$D95=\"\"),\"\",F105/'2014 scenario - input'!$D95),\"\")","v":""},{"$f":"IFERROR(IF(OR(G105=\"\",'2014 scenario - input'!$D95=\"\"),\"\",G105/'2014 scenario - input'!$D95),\"\")","v":""},{"$f":"IFERROR(IF(OR(H105=\"\",'2014 scenario - input'!$D95=\"\"),\"\",H105/'2014 scenario - input'!$D95),\"\")","v":""},{"$f":"IFERROR(IF(OR(I105=\"\",'2014 scenario - input'!$D95=\"\"),\"\",I105/'2014 scenario - input'!$D95),\"\")","v":""},{"$f":"IFERROR(IF(OR(J105=\"\",'2014 scenario - input'!$D95=\"\"),\"\",J105/'2014 scenario - input'!$D95),\"\")","v":""},{"$f":"IFERROR(IF(OR(K105=\"\",'2014 scenario - input'!$D95=\"\"),\"\",K105/'2014 scenario - input'!$D95),\"\")","v":""},{"$f":"IFERROR(IF(OR(L105=\"\",'2014 scenario - input'!$D95=\"\"),\"\",L105/'2014 scenario - input'!$D95),\"\")","v":""},{"$f":"IFERROR(IF(OR(M105=\"\",'2014 scenario - input'!$D95=\"\"),\"\",M105/'2014 scenario - input'!$D95),\"\")","v":""},{"$f":"IFERROR(IF(OR(N105=\"\",'2014 scenario - input'!$D95=\"\"),\"\",N105/'2014 scenario - input'!$D95),\"\")","v":""},{"$f":"IFERROR(IF(OR(O105=\"\",'2014 scenario - input'!$D95=\"\"),\"\",O105/'2014 scenario - input'!$D95),\"\")","v":""},{"$f":"IFERROR(IF(OR(P105=\"\",'2014 scenario - input'!$D95=\"\"),\"\",P105/'2014 scenario - input'!$D95),\"\")","v":""},{"$f":"IFERROR(IF(OR(Q105=\"\",'2014 scenario - input'!$D95=\"\"),\"\",Q105/'2014 scenario - input'!$D95),\"\")","v":""},{"$f":"IFERROR(IF(OR(R105=\"\",'2014 scenario - input'!$D95=\"\"),\"\",R105/'2014 scenario - input'!$D95),\"\")","v":""},{"$f":"IFERROR(IF(OR(S105=\"\",'2014 scenario - input'!$D95=\"\"),\"\",S105/'2014 scenario - input'!$D95),\"\")","v":""},{"$f":"IFERROR(IF(OR(T105=\"\",'2014 scenario - input'!$D95=\"\"),\"\",T105/'2014 scenario - input'!$D95),\"\")","v":""},{"$f":"IFERROR(IF(OR(U105=\"\",'2014 scenario - input'!$D95=\"\"),\"\",U105/'2014 scenario - input'!$D95),\"\")","v":""},{"$f":"IFERROR(IF(OR(V105=\"\",'2014 scenario - input'!$D95=\"\"),\"\",V105/'2014 scenario - input'!$D95),\"\")","v":""},{"$f":"IFERROR(IF(OR(W105=\"\",'2014 scenario - input'!$D95=\"\"),\"\",W105/'2014 scenario - input'!$D95),\"\")","v":""}]
[{"$f":"IFERROR('2014 scenario - input'!A96,\"\")","v":""},{"$f":"IFERROR('2014 scenario - input'!B96,\"\")","v":0},{"$f":"IFERROR('2014 scenario - input'!C96,\"\")","v":0},{"$f":"IFERROR(repcalc('2014 scenario - input'!$CV96:$GH96,'2014 scenario - input'!$G96,'2014 scenario - input'!$E96,'2014 scenario - input'!$F96,20,TRUE,TRUE),\"\")","v":""},"","","","","","","","","","","","","","","","","","","",{"$f":"IFERROR(IF(OR(D106=\"\",'2014 scenario - input'!$D96=\"\"),\"\",D106/'2014 scenario - input'!$D96),\"\")","v":""},{"$f":"IFERROR(IF(OR(E106=\"\",'2014 scenario - input'!$D96=\"\"),\"\",E106/'2014 scenario - input'!$D96),\"\")","v":""},{"$f":"IFERROR(IF(OR(F106=\"\",'2014 scenario - input'!$D96=\"\"),\"\",F106/'2014 scenario - input'!$D96),\"\")","v":""},{"$f":"IFERROR(IF(OR(G106=\"\",'2014 scenario - input'!$D96=\"\"),\"\",G106/'2014 scenario - input'!$D96),\"\")","v":""},{"$f":"IFERROR(IF(OR(H106=\"\",'2014 scenario - input'!$D96=\"\"),\"\",H106/'2014 scenario - input'!$D96),\"\")","v":""},{"$f":"IFERROR(IF(OR(I106=\"\",'2014 scenario - input'!$D96=\"\"),\"\",I106/'2014 scenario - input'!$D96),\"\")","v":""},{"$f":"IFERROR(IF(OR(J106=\"\",'2014 scenario - input'!$D96=\"\"),\"\",J106/'2014 scenario - input'!$D96),\"\")","v":""},{"$f":"IFERROR(IF(OR(K106=\"\",'2014 scenario - input'!$D96=\"\"),\"\",K106/'2014 scenario - input'!$D96),\"\")","v":""},{"$f":"IFERROR(IF(OR(L106=\"\",'2014 scenario - input'!$D96=\"\"),\"\",L106/'2014 scenario - input'!$D96),\"\")","v":""},{"$f":"IFERROR(IF(OR(M106=\"\",'2014 scenario - input'!$D96=\"\"),\"\",M106/'2014 scenario - input'!$D96),\"\")","v":""},{"$f":"IFERROR(IF(OR(N106=\"\",'2014 scenario - input'!$D96=\"\"),\"\",N106/'2014 scenario - input'!$D96),\"\")","v":""},{"$f":"IFERROR(IF(OR(O106=\"\",'2014 scenario - input'!$D96=\"\"),\"\",O106/'2014 scenario - input'!$D96),\"\")","v":""},{"$f":"IFERROR(IF(OR(P106=\"\",'2014 scenario - input'!$D96=\"\"),\"\",P106/'2014 scenario - input'!$D96),\"\")","v":""},{"$f":"IFERROR(IF(OR(Q106=\"\",'2014 scenario - input'!$D96=\"\"),\"\",Q106/'2014 scenario - input'!$D96),\"\")","v":""},{"$f":"IFERROR(IF(OR(R106=\"\",'2014 scenario - input'!$D96=\"\"),\"\",R106/'2014 scenario - input'!$D96),\"\")","v":""},{"$f":"IFERROR(IF(OR(S106=\"\",'2014 scenario - input'!$D96=\"\"),\"\",S106/'2014 scenario - input'!$D96),\"\")","v":""},{"$f":"IFERROR(IF(OR(T106=\"\",'2014 scenario - input'!$D96=\"\"),\"\",T106/'2014 scenario - input'!$D96),\"\")","v":""},{"$f":"IFERROR(IF(OR(U106=\"\",'2014 scenario - input'!$D96=\"\"),\"\",U106/'2014 scenario - input'!$D96),\"\")","v":""},{"$f":"IFERROR(IF(OR(V106=\"\",'2014 scenario - input'!$D96=\"\"),\"\",V106/'2014 scenario - input'!$D96),\"\")","v":""},{"$f":"IFERROR(IF(OR(W106=\"\",'2014 scenario - input'!$D96=\"\"),\"\",W106/'2014 scenario - input'!$D96),\"\")","v":""}]
[{"$f":"IFERROR('2014 scenario - input'!A97,\"\")","v":""},{"$f":"IFERROR('2014 scenario - input'!B97,\"\")","v":0},{"$f":"IFERROR('2014 scenario - input'!C97,\"\")","v":0},{"$f":"IFERROR(repcalc('2014 scenario - input'!$CV97:$GH97,'2014 scenario - input'!$G97,'2014 scenario - input'!$E97,'2014 scenario - input'!$F97,20,TRUE,TRUE),\"\")","v":""},"","","","","","","","","","","","","","","","","","","",{"$f":"IFERROR(IF(OR(D107=\"\",'2014 scenario - input'!$D97=\"\"),\"\",D107/'2014 scenario - input'!$D97),\"\")","v":""},{"$f":"IFERROR(IF(OR(E107=\"\",'2014 scenario - input'!$D97=\"\"),\"\",E107/'2014 scenario - input'!$D97),\"\")","v":""},{"$f":"IFERROR(IF(OR(F107=\"\",'2014 scenario - input'!$D97=\"\"),\"\",F107/'2014 scenario - input'!$D97),\"\")","v":""},{"$f":"IFERROR(IF(OR(G107=\"\",'2014 scenario - input'!$D97=\"\"),\"\",G107/'2014 scenario - input'!$D97),\"\")","v":""},{"$f":"IFERROR(IF(OR(H107=\"\",'2014 scenario - input'!$D97=\"\"),\"\",H107/'2014 scenario - input'!$D97),\"\")","v":""},{"$f":"IFERROR(IF(OR(I107=\"\",'2014 scenario - input'!$D97=\"\"),\"\",I107/'2014 scenario - input'!$D97),\"\")","v":""},{"$f":"IFERROR(IF(OR(J107=\"\",'2014 scenario - input'!$D97=\"\"),\"\",J107/'2014 scenario - input'!$D97),\"\")","v":""},{"$f":"IFERROR(IF(OR(K107=\"\",'2014 scenario - input'!$D97=\"\"),\"\",K107/'2014 scenario - input'!$D97),\"\")","v":""},{"$f":"IFERROR(IF(OR(L107=\"\",'2014 scenario - input'!$D97=\"\"),\"\",L107/'2014 scenario - input'!$D97),\"\")","v":""},{"$f":"IFERROR(IF(OR(M107=\"\",'2014 scenario - input'!$D97=\"\"),\"\",M107/'2014 scenario - input'!$D97),\"\")","v":""},{"$f":"IFERROR(IF(OR(N107=\"\",'2014 scenario - input'!$D97=\"\"),\"\",N107/'2014 scenario - input'!$D97),\"\")","v":""},{"$f":"IFERROR(IF(OR(O107=\"\",'2014 scenario - input'!$D97=\"\"),\"\",O107/'2014 scenario - input'!$D97),\"\")","v":""},{"$f":"IFERROR(IF(OR(P107=\"\",'2014 scenario - input'!$D97=\"\"),\"\",P107/'2014 scenario - input'!$D97),\"\")","v":""},{"$f":"IFERROR(IF(OR(Q107=\"\",'2014 scenario - input'!$D97=\"\"),\"\",Q107/'2014 scenario - input'!$D97),\"\")","v":""},{"$f":"IFERROR(IF(OR(R107=\"\",'2014 scenario - input'!$D97=\"\"),\"\",R107/'2014 scenario - input'!$D97),\"\")","v":""},{"$f":"IFERROR(IF(OR(S107=\"\",'2014 scenario - input'!$D97=\"\"),\"\",S107/'2014 scenario - input'!$D97),\"\")","v":""},{"$f":"IFERROR(IF(OR(T107=\"\",'2014 scenario - input'!$D97=\"\"),\"\",T107/'2014 scenario - input'!$D97),\"\")","v":""},{"$f":"IFERROR(IF(OR(U107=\"\",'2014 scenario - input'!$D97=\"\"),\"\",U107/'2014 scenario - input'!$D97),\"\")","v":""},{"$f":"IFERROR(IF(OR(V107=\"\",'2014 scenario - input'!$D97=\"\"),\"\",V107/'2014 scenario - input'!$D97),\"\")","v":""},{"$f":"IFERROR(IF(OR(W107=\"\",'2014 scenario - input'!$D97=\"\"),\"\",W107/'2014 scenario - input'!$D97),\"\")","v":""}]
[{"$f":"IFERROR('2014 scenario - input'!A98,\"\")","v":""},{"$f":"IFERROR('2014 scenario - input'!B98,\"\")","v":0},{"$f":"IFERROR('2014 scenario - input'!C98,\"\")","v":0},{"$f":"IFERROR(repcalc('2014 scenario - input'!$CV98:$GH98,'2014 scenario - input'!$G98,'2014 scenario - input'!$E98,'2014 scenario - input'!$F98,20,TRUE,TRUE),\"\")","v":""},"","","","","","","","","","","","","","","","","","","",{"$f":"IFERROR(IF(OR(D108=\"\",'2014 scenario - input'!$D98=\"\"),\"\",D108/'2014 scenario - input'!$D98),\"\")","v":""},{"$f":"IFERROR(IF(OR(E108=\"\",'2014 scenario - input'!$D98=\"\"),\"\",E108/'2014 scenario - input'!$D98),\"\")","v":""},{"$f":"IFERROR(IF(OR(F108=\"\",'2014 scenario - input'!$D98=\"\"),\"\",F108/'2014 scenario - input'!$D98),\"\")","v":""},{"$f":"IFERROR(IF(OR(G108=\"\",'2014 scenario - input'!$D98=\"\"),\"\",G108/'2014 scenario - input'!$D98),\"\")","v":""},{"$f":"IFERROR(IF(OR(H108=\"\",'2014 scenario - input'!$D98=\"\"),\"\",H108/'2014 scenario - input'!$D98),\"\")","v":""},{"$f":"IFERROR(IF(OR(I108=\"\",'2014 scenario - input'!$D98=\"\"),\"\",I108/'2014 scenario - input'!$D98),\"\")","v":""},{"$f":"IFERROR(IF(OR(J108=\"\",'2014 scenario - input'!$D98=\"\"),\"\",J108/'2014 scenario - input'!$D98),\"\")","v":""},{"$f":"IFERROR(IF(OR(K108=\"\",'2014 scenario - input'!$D98=\"\"),\"\",K108/'2014 scenario - input'!$D98),\"\")","v":""},{"$f":"IFERROR(IF(OR(L108=\"\",'2014 scenario - input'!$D98=\"\"),\"\",L108/'2014 scenario - input'!$D98),\"\")","v":""},{"$f":"IFERROR(IF(OR(M108=\"\",'2014 scenario - input'!$D98=\"\"),\"\",M108/'2014 scenario - input'!$D98),\"\")","v":""},{"$f":"IFERROR(IF(OR(N108=\"\",'2014 scenario - input'!$D98=\"\"),\"\",N108/'2014 scenario - input'!$D98),\"\")","v":""},{"$f":"IFERROR(IF(OR(O108=\"\",'2014 scenario - input'!$D98=\"\"),\"\",O108/'2014 scenario - input'!$D98),\"\")","v":""},{"$f":"IFERROR(IF(OR(P108=\"\",'2014 scenario - input'!$D98=\"\"),\"\",P108/'2014 scenario - input'!$D98),\"\")","v":""},{"$f":"IFERROR(IF(OR(Q108=\"\",'2014 scenario - input'!$D98=\"\"),\"\",Q108/'2014 scenario - input'!$D98),\"\")","v":""},{"$f":"IFERROR(IF(OR(R108=\"\",'2014 scenario - input'!$D98=\"\"),\"\",R108/'2014 scenario - input'!$D98),\"\")","v":""},{"$f":"IFERROR(IF(OR(S108=\"\",'2014 scenario - input'!$D98=\"\"),\"\",S108/'2014 scenario - input'!$D98),\"\")","v":""},{"$f":"IFERROR(IF(OR(T108=\"\",'2014 scenario - input'!$D98=\"\"),\"\",T108/'2014 scenario - input'!$D98),\"\")","v":""},{"$f":"IFERROR(IF(OR(U108=\"\",'2014 scenario - input'!$D98=\"\"),\"\",U108/'2014 scenario - input'!$D98),\"\")","v":""},{"$f":"IFERROR(IF(OR(V108=\"\",'2014 scenario - input'!$D98=\"\"),\"\",V108/'2014 scenario - input'!$D98),\"\")","v":""},{"$f":"IFERROR(IF(OR(W108=\"\",'2014 scenario - input'!$D98=\"\"),\"\",W108/'2014 scenario - input'!$D98),\"\")","v":""}]
[{"$f":"IFERROR('2014 scenario - input'!A99,\"\")","v":""},{"$f":"IFERROR('2014 scenario - input'!B99,\"\")","v":0},{"$f":"IFERROR('2014 scenario - input'!C99,\"\")","v":0},{"$f":"IFERROR(repcalc('2014 scenario - input'!$CV99:$GH99,'2014 scenario - input'!$G99,'2014 scenario - input'!$E99,'2014 scenario - input'!$F99,20,TRUE,TRUE),\"\")","v":""},"","","","","","","","","","","","","","","","","","","",{"$f":"IFERROR(IF(OR(D109=\"\",'2014 scenario - input'!$D99=\"\"),\"\",D109/'2014 scenario - input'!$D99),\"\")","v":""},{"$f":"IFERROR(IF(OR(E109=\"\",'2014 scenario - input'!$D99=\"\"),\"\",E109/'2014 scenario - input'!$D99),\"\")","v":""},{"$f":"IFERROR(IF(OR(F109=\"\",'2014 scenario - input'!$D99=\"\"),\"\",F109/'2014 scenario - input'!$D99),\"\")","v":""},{"$f":"IFERROR(IF(OR(G109=\"\",'2014 scenario - input'!$D99=\"\"),\"\",G109/'2014 scenario - input'!$D99),\"\")","v":""},{"$f":"IFERROR(IF(OR(H109=\"\",'2014 scenario - input'!$D99=\"\"),\"\",H109/'2014 scenario - input'!$D99),\"\")","v":""},{"$f":"IFERROR(IF(OR(I109=\"\",'2014 scenario - input'!$D99=\"\"),\"\",I109/'2014 scenario - input'!$D99),\"\")","v":""},{"$f":"IFERROR(IF(OR(J109=\"\",'2014 scenario - input'!$D99=\"\"),\"\",J109/'2014 scenario - input'!$D99),\"\")","v":""},{"$f":"IFERROR(IF(OR(K109=\"\",'2014 scenario - input'!$D99=\"\"),\"\",K109/'2014 scenario - input'!$D99),\"\")","v":""},{"$f":"IFERROR(IF(OR(L109=\"\",'2014 scenario - input'!$D99=\"\"),\"\",L109/'2014 scenario - input'!$D99),\"\")","v":""},{"$f":"IFERROR(IF(OR(M109=\"\",'2014 scenario - input'!$D99=\"\"),\"\",M109/'2014 scenario - input'!$D99),\"\")","v":""},{"$f":"IFERROR(IF(OR(N109=\"\",'2014 scenario - input'!$D99=\"\"),\"\",N109/'2014 scenario - input'!$D99),\"\")","v":""},{"$f":"IFERROR(IF(OR(O109=\"\",'2014 scenario - input'!$D99=\"\"),\"\",O109/'2014 scenario - input'!$D99),\"\")","v":""},{"$f":"IFERROR(IF(OR(P109=\"\",'2014 scenario - input'!$D99=\"\"),\"\",P109/'2014 scenario - input'!$D99),\"\")","v":""},{"$f":"IFERROR(IF(OR(Q109=\"\",'2014 scenario - input'!$D99=\"\"),\"\",Q109/'2014 scenario - input'!$D99),\"\")","v":""},{"$f":"IFERROR(IF(OR(R109=\"\",'2014 scenario - input'!$D99=\"\"),\"\",R109/'2014 scenario - input'!$D99),\"\")","v":""},{"$f":"IFERROR(IF(OR(S109=\"\",'2014 scenario - input'!$D99=\"\"),\"\",S109/'2014 scenario - input'!$D99),\"\")","v":""},{"$f":"IFERROR(IF(OR(T109=\"\",'2014 scenario - input'!$D99=\"\"),\"\",T109/'2014 scenario - input'!$D99),\"\")","v":""},{"$f":"IFERROR(IF(OR(U109=\"\",'2014 scenario - input'!$D99=\"\"),\"\",U109/'2014 scenario - input'!$D99),\"\")","v":""},{"$f":"IFERROR(IF(OR(V109=\"\",'2014 scenario - input'!$D99=\"\"),\"\",V109/'2014 scenario - input'!$D99),\"\")","v":""},{"$f":"IFERROR(IF(OR(W109=\"\",'2014 scenario - input'!$D99=\"\"),\"\",W109/'2014 scenario - input'!$D99),\"\")","v":""}]
[{"$f":"IFERROR('2014 scenario - input'!A100,\"\")","v":""},{"$f":"IFERROR('2014 scenario - input'!B100,\"\")","v":0},{"$f":"IFERROR('2014 scenario - input'!C100,\"\")","v":0},{"$f":"IFERROR(repcalc('2014 scenario - input'!$CV100:$GH100,'2014 scenario - input'!$G100,'2014 scenario - input'!$E100,'2014 scenario - input'!$F100,20,TRUE,TRUE),\"\")","v":""},"","","","","","","","","","","","","","","","","","","",{"$f":"IFERROR(IF(OR(D110=\"\",'2014 scenario - input'!$D100=\"\"),\"\",D110/'2014 scenario - input'!$D100),\"\")","v":""},{"$f":"IFERROR(IF(OR(E110=\"\",'2014 scenario - input'!$D100=\"\"),\"\",E110/'2014 scenario - input'!$D100),\"\")","v":""},{"$f":"IFERROR(IF(OR(F110=\"\",'2014 scenario - input'!$D100=\"\"),\"\",F110/'2014 scenario - input'!$D100),\"\")","v":""},{"$f":"IFERROR(IF(OR(G110=\"\",'2014 scenario - input'!$D100=\"\"),\"\",G110/'2014 scenario - input'!$D100),\"\")","v":""},{"$f":"IFERROR(IF(OR(H110=\"\",'2014 scenario - input'!$D100=\"\"),\"\",H110/'2014 scenario - input'!$D100),\"\")","v":""},{"$f":"IFERROR(IF(OR(I110=\"\",'2014 scenario - input'!$D100=\"\"),\"\",I110/'2014 scenario - input'!$D100),\"\")","v":""},{"$f":"IFERROR(IF(OR(J110=\"\",'2014 scenario - input'!$D100=\"\"),\"\",J110/'2014 scenario - input'!$D100),\"\")","v":""},{"$f":"IFERROR(IF(OR(K110=\"\",'2014 scenario - input'!$D100=\"\"),\"\",K110/'2014 scenario - input'!$D100),\"\")","v":""},{"$f":"IFERROR(IF(OR(L110=\"\",'2014 scenario - input'!$D100=\"\"),\"\",L110/'2014 scenario - input'!$D100),\"\")","v":""},{"$f":"IFERROR(IF(OR(M110=\"\",'2014 scenario - input'!$D100=\"\"),\"\",M110/'2014 scenario - input'!$D100),\"\")","v":""},{"$f":"IFERROR(IF(OR(N110=\"\",'2014 scenario - input'!$D100=\"\"),\"\",N110/'2014 scenario - input'!$D100),\"\")","v":""},{"$f":"IFERROR(IF(OR(O110=\"\",'2014 scenario - input'!$D100=\"\"),\"\",O110/'2014 scenario - input'!$D100),\"\")","v":""},{"$f":"IFERROR(IF(OR(P110=\"\",'2014 scenario - input'!$D100=\"\"),\"\",P110/'2014 scenario - input'!$D100),\"\")","v":""},{"$f":"IFERROR(IF(OR(Q110=\"\",'2014 scenario - input'!$D100=\"\"),\"\",Q110/'2014 scenario - input'!$D100),\"\")","v":""},{"$f":"IFERROR(IF(OR(R110=\"\",'2014 scenario - input'!$D100=\"\"),\"\",R110/'2014 scenario - input'!$D100),\"\")","v":""},{"$f":"IFERROR(IF(OR(S110=\"\",'2014 scenario - input'!$D100=\"\"),\"\",S110/'2014 scenario - input'!$D100),\"\")","v":""},{"$f":"IFERROR(IF(OR(T110=\"\",'2014 scenario - input'!$D100=\"\"),\"\",T110/'2014 scenario - input'!$D100),\"\")","v":""},{"$f":"IFERROR(IF(OR(U110=\"\",'2014 scenario - input'!$D100=\"\"),\"\",U110/'2014 scenario - input'!$D100),\"\")","v":""},{"$f":"IFERROR(IF(OR(V110=\"\",'2014 scenario - input'!$D100=\"\"),\"\",V110/'2014 scenario - input'!$D100),\"\")","v":""},{"$f":"IFERROR(IF(OR(W110=\"\",'2014 scenario - input'!$D100=\"\"),\"\",W110/'2014 scenario - input'!$D100),\"\")","v":""}]
[{"$f":"IFERROR('2014 scenario - input'!A101,\"\")","v":""},{"$f":"IFERROR('2014 scenario - input'!B101,\"\")","v":0},{"$f":"IFERROR('2014 scenario - input'!C101,\"\")","v":0},{"$f":"IFERROR(repcalc('2014 scenario - input'!$CV101:$GH101,'2014 scenario - input'!$G101,'2014 scenario - input'!$E101,'2014 scenario - input'!$F101,20,TRUE,TRUE),\"\")","v":""},"","","","","","","","","","","","","","","","","","","",{"$f":"IFERROR(IF(OR(D111=\"\",'2014 scenario - input'!$D101=\"\"),\"\",D111/'2014 scenario - input'!$D101),\"\")","v":""},{"$f":"IFERROR(IF(OR(E111=\"\",'2014 scenario - input'!$D101=\"\"),\"\",E111/'2014 scenario - input'!$D101),\"\")","v":""},{"$f":"IFERROR(IF(OR(F111=\"\",'2014 scenario - input'!$D101=\"\"),\"\",F111/'2014 scenario - input'!$D101),\"\")","v":""},{"$f":"IFERROR(IF(OR(G111=\"\",'2014 scenario - input'!$D101=\"\"),\"\",G111/'2014 scenario - input'!$D101),\"\")","v":""},{"$f":"IFERROR(IF(OR(H111=\"\",'2014 scenario - input'!$D101=\"\"),\"\",H111/'2014 scenario - input'!$D101),\"\")","v":""},{"$f":"IFERROR(IF(OR(I111=\"\",'2014 scenario - input'!$D101=\"\"),\"\",I111/'2014 scenario - input'!$D101),\"\")","v":""},{"$f":"IFERROR(IF(OR(J111=\"\",'2014 scenario - input'!$D101=\"\"),\"\",J111/'2014 scenario - input'!$D101),\"\")","v":""},{"$f":"IFERROR(IF(OR(K111=\"\",'2014 scenario - input'!$D101=\"\"),\"\",K111/'2014 scenario - input'!$D101),\"\")","v":""},{"$f":"IFERROR(IF(OR(L111=\"\",'2014 scenario - input'!$D101=\"\"),\"\",L111/'2014 scenario - input'!$D101),\"\")","v":""},{"$f":"IFERROR(IF(OR(M111=\"\",'2014 scenario - input'!$D101=\"\"),\"\",M111/'2014 scenario - input'!$D101),\"\")","v":""},{"$f":"IFERROR(IF(OR(N111=\"\",'2014 scenario - input'!$D101=\"\"),\"\",N111/'2014 scenario - input'!$D101),\"\")","v":""},{"$f":"IFERROR(IF(OR(O111=\"\",'2014 scenario - input'!$D101=\"\"),\"\",O111/'2014 scenario - input'!$D101),\"\")","v":""},{"$f":"IFERROR(IF(OR(P111=\"\",'2014 scenario - input'!$D101=\"\"),\"\",P111/'2014 scenario - input'!$D101),\"\")","v":""},{"$f":"IFERROR(IF(OR(Q111=\"\",'2014 scenario - input'!$D101=\"\"),\"\",Q111/'2014 scenario - input'!$D101),\"\")","v":""},{"$f":"IFERROR(IF(OR(R111=\"\",'2014 scenario - input'!$D101=\"\"),\"\",R111/'2014 scenario - input'!$D101),\"\")","v":""},{"$f":"IFERROR(IF(OR(S111=\"\",'2014 scenario - input'!$D101=\"\"),\"\",S111/'2014 scenario - input'!$D101),\"\")","v":""},{"$f":"IFERROR(IF(OR(T111=\"\",'2014 scenario - input'!$D101=\"\"),\"\",T111/'2014 scenario - input'!$D101),\"\")","v":""},{"$f":"IFERROR(IF(OR(U111=\"\",'2014 scenario - input'!$D101=\"\"),\"\",U111/'2014 scenario - input'!$D101),\"\")","v":""},{"$f":"IFERROR(IF(OR(V111=\"\",'2014 scenario - input'!$D101=\"\"),\"\",V111/'2014 scenario - input'!$D101),\"\")","v":""},{"$f":"IFERROR(IF(OR(W111=\"\",'2014 scenario - input'!$D101=\"\"),\"\",W111/'2014 scenario - input'!$D101),\"\")","v":""}]
[{"$f":"IFERROR('2014 scenario - input'!A102,\"\")","v":""},{"$f":"IFERROR('2014 scenario - input'!B102,\"\")","v":0},{"$f":"IFERROR('2014 scenario - input'!C102,\"\")","v":0},{"$f":"IFERROR(repcalc('2014 scenario - input'!$CV102:$GH102,'2014 scenario - input'!$G102,'2014 scenario - input'!$E102,'2014 scenario - input'!$F102,20,TRUE,TRUE),\"\")","v":""},"","","","","","","","","","","","","","","","","","","",{"$f":"IFERROR(IF(OR(D112=\"\",'2014 scenario - input'!$D102=\"\"),\"\",D112/'2014 scenario - input'!$D102),\"\")","v":""},{"$f":"IFERROR(IF(OR(E112=\"\",'2014 scenario - input'!$D102=\"\"),\"\",E112/'2014 scenario - input'!$D102),\"\")","v":""},{"$f":"IFERROR(IF(OR(F112=\"\",'2014 scenario - input'!$D102=\"\"),\"\",F112/'2014 scenario - input'!$D102),\"\")","v":""},{"$f":"IFERROR(IF(OR(G112=\"\",'2014 scenario - input'!$D102=\"\"),\"\",G112/'2014 scenario - input'!$D102),\"\")","v":""},{"$f":"IFERROR(IF(OR(H112=\"\",'2014 scenario - input'!$D102=\"\"),\"\",H112/'2014 scenario - input'!$D102),\"\")","v":""},{"$f":"IFERROR(IF(OR(I112=\"\",'2014 scenario - input'!$D102=\"\"),\"\",I112/'2014 scenario - input'!$D102),\"\")","v":""},{"$f":"IFERROR(IF(OR(J112=\"\",'2014 scenario - input'!$D102=\"\"),\"\",J112/'2014 scenario - input'!$D102),\"\")","v":""},{"$f":"IFERROR(IF(OR(K112=\"\",'2014 scenario - input'!$D102=\"\"),\"\",K112/'2014 scenario - input'!$D102),\"\")","v":""},{"$f":"IFERROR(IF(OR(L112=\"\",'2014 scenario - input'!$D102=\"\"),\"\",L112/'2014 scenario - input'!$D102),\"\")","v":""},{"$f":"IFERROR(IF(OR(M112=\"\",'2014 scenario - input'!$D102=\"\"),\"\",M112/'2014 scenario - input'!$D102),\"\")","v":""},{"$f":"IFERROR(IF(OR(N112=\"\",'2014 scenario - input'!$D102=\"\"),\"\",N112/'2014 scenario - input'!$D102),\"\")","v":""},{"$f":"IFERROR(IF(OR(O112=\"\",'2014 scenario - input'!$D102=\"\"),\"\",O112/'2014 scenario - input'!$D102),\"\")","v":""},{"$f":"IFERROR(IF(OR(P112=\"\",'2014 scenario - input'!$D102=\"\"),\"\",P112/'2014 scenario - input'!$D102),\"\")","v":""},{"$f":"IFERROR(IF(OR(Q112=\"\",'2014 scenario - input'!$D102=\"\"),\"\",Q112/'2014 scenario - input'!$D102),\"\")","v":""},{"$f":"IFERROR(IF(OR(R112=\"\",'2014 scenario - input'!$D102=\"\"),\"\",R112/'2014 scenario - input'!$D102),\"\")","v":""},{"$f":"IFERROR(IF(OR(S112=\"\",'2014 scenario - input'!$D102=\"\"),\"\",S112/'2014 scenario - input'!$D102),\"\")","v":""},{"$f":"IFERROR(IF(OR(T112=\"\",'2014 scenario - input'!$D102=\"\"),\"\",T112/'2014 scenario - input'!$D102),\"\")","v":""},{"$f":"IFERROR(IF(OR(U112=\"\",'2014 scenario - input'!$D102=\"\"),\"\",U112/'2014 scenario - input'!$D102),\"\")","v":""},{"$f":"IFERROR(IF(OR(V112=\"\",'2014 scenario - input'!$D102=\"\"),\"\",V112/'2014 scenario - input'!$D102),\"\")","v":""},{"$f":"IFERROR(IF(OR(W112=\"\",'2014 scenario - input'!$D102=\"\"),\"\",W112/'2014 scenario - input'!$D102),\"\")","v":""}]
[{"$f":"IFERROR('2014 scenario - input'!A103,\"\")","v":""},{"$f":"IFERROR('2014 scenario - input'!B103,\"\")","v":0},{"$f":"IFERROR('2014 scenario - input'!C103,\"\")","v":0},{"$f":"IFERROR(repcalc('2014 scenario - input'!$CV103:$GH103,'2014 scenario - input'!$G103,'2014 scenario - input'!$E103,'2014 scenario - input'!$F103,20,TRUE,TRUE),\"\")","v":""},"","","","","","","","","","","","","","","","","","","",{"$f":"IFERROR(IF(OR(D113=\"\",'2014 scenario - input'!$D103=\"\"),\"\",D113/'2014 scenario - input'!$D103),\"\")","v":""},{"$f":"IFERROR(IF(OR(E113=\"\",'2014 scenario - input'!$D103=\"\"),\"\",E113/'2014 scenario - input'!$D103),\"\")","v":""},{"$f":"IFERROR(IF(OR(F113=\"\",'2014 scenario - input'!$D103=\"\"),\"\",F113/'2014 scenario - input'!$D103),\"\")","v":""},{"$f":"IFERROR(IF(OR(G113=\"\",'2014 scenario - input'!$D103=\"\"),\"\",G113/'2014 scenario - input'!$D103),\"\")","v":""},{"$f":"IFERROR(IF(OR(H113=\"\",'2014 scenario - input'!$D103=\"\"),\"\",H113/'2014 scenario - input'!$D103),\"\")","v":""},{"$f":"IFERROR(IF(OR(I113=\"\",'2014 scenario - input'!$D103=\"\"),\"\",I113/'2014 scenario - input'!$D103),\"\")","v":""},{"$f":"IFERROR(IF(OR(J113=\"\",'2014 scenario - input'!$D103=\"\"),\"\",J113/'2014 scenario - input'!$D103),\"\")","v":""},{"$f":"IFERROR(IF(OR(K113=\"\",'2014 scenario - input'!$D103=\"\"),\"\",K113/'2014 scenario - input'!$D103),\"\")","v":""},{"$f":"IFERROR(IF(OR(L113=\"\",'2014 scenario - input'!$D103=\"\"),\"\",L113/'2014 scenario - input'!$D103),\"\")","v":""},{"$f":"IFERROR(IF(OR(M113=\"\",'2014 scenario - input'!$D103=\"\"),\"\",M113/'2014 scenario - input'!$D103),\"\")","v":""},{"$f":"IFERROR(IF(OR(N113=\"\",'2014 scenario - input'!$D103=\"\"),\"\",N113/'2014 scenario - input'!$D103),\"\")","v":""},{"$f":"IFERROR(IF(OR(O113=\"\",'2014 scenario - input'!$D103=\"\"),\"\",O113/'2014 scenario - input'!$D103),\"\")","v":""},{"$f":"IFERROR(IF(OR(P113=\"\",'2014 scenario - input'!$D103=\"\"),\"\",P113/'2014 scenario - input'!$D103),\"\")","v":""},{"$f":"IFERROR(IF(OR(Q113=\"\",'2014 scenario - input'!$D103=\"\"),\"\",Q113/'2014 scenario - input'!$D103),\"\")","v":""},{"$f":"IFERROR(IF(OR(R113=\"\",'2014 scenario - input'!$D103=\"\"),\"\",R113/'2014 scenario - input'!$D103),\"\")","v":""},{"$f":"IFERROR(IF(OR(S113=\"\",'2014 scenario - input'!$D103=\"\"),\"\",S113/'2014 scenario - input'!$D103),\"\")","v":""},{"$f":"IFERROR(IF(OR(T113=\"\",'2014 scenario - input'!$D103=\"\"),\"\",T113/'2014 scenario - input'!$D103),\"\")","v":""},{"$f":"IFERROR(IF(OR(U113=\"\",'2014 scenario - input'!$D103=\"\"),\"\",U113/'2014 scenario - input'!$D103),\"\")","v":""},{"$f":"IFERROR(IF(OR(V113=\"\",'2014 scenario - input'!$D103=\"\"),\"\",V113/'2014 scenario - input'!$D103),\"\")","v":""},{"$f":"IFERROR(IF(OR(W113=\"\",'2014 scenario - input'!$D103=\"\"),\"\",W113/'2014 scenario - input'!$D103),\"\")","v":""}]
[{"$f":"IFERROR('2014 scenario - input'!A104,\"\")","v":""},{"$f":"IFERROR('2014 scenario - input'!B104,\"\")","v":0},{"$f":"IFERROR('2014 scenario - input'!C104,\"\")","v":0},{"$f":"IFERROR(repcalc('2014 scenario - input'!$CV104:$GH104,'2014 scenario - input'!$G104,'2014 scenario - input'!$E104,'2014 scenario - input'!$F104,20,TRUE,TRUE),\"\")","v":""},"","","","","","","","","","","","","","","","","","","",{"$f":"IFERROR(IF(OR(D114=\"\",'2014 scenario - input'!$D104=\"\"),\"\",D114/'2014 scenario - input'!$D104),\"\")","v":""},{"$f":"IFERROR(IF(OR(E114=\"\",'2014 scenario - input'!$D104=\"\"),\"\",E114/'2014 scenario - input'!$D104),\"\")","v":""},{"$f":"IFERROR(IF(OR(F114=\"\",'2014 scenario - input'!$D104=\"\"),\"\",F114/'2014 scenario - input'!$D104),\"\")","v":""},{"$f":"IFERROR(IF(OR(G114=\"\",'2014 scenario - input'!$D104=\"\"),\"\",G114/'2014 scenario - input'!$D104),\"\")","v":""},{"$f":"IFERROR(IF(OR(H114=\"\",'2014 scenario - input'!$D104=\"\"),\"\",H114/'2014 scenario - input'!$D104),\"\")","v":""},{"$f":"IFERROR(IF(OR(I114=\"\",'2014 scenario - input'!$D104=\"\"),\"\",I114/'2014 scenario - input'!$D104),\"\")","v":""},{"$f":"IFERROR(IF(OR(J114=\"\",'2014 scenario - input'!$D104=\"\"),\"\",J114/'2014 scenario - input'!$D104),\"\")","v":""},{"$f":"IFERROR(IF(OR(K114=\"\",'2014 scenario - input'!$D104=\"\"),\"\",K114/'2014 scenario - input'!$D104),\"\")","v":""},{"$f":"IFERROR(IF(OR(L114=\"\",'2014 scenario - input'!$D104=\"\"),\"\",L114/'2014 scenario - input'!$D104),\"\")","v":""},{"$f":"IFERROR(IF(OR(M114=\"\",'2014 scenario - input'!$D104=\"\"),\"\",M114/'2014 scenario - input'!$D104),\"\")","v":""},{"$f":"IFERROR(IF(OR(N114=\"\",'2014 scenario - input'!$D104=\"\"),\"\",N114/'2014 scenario - input'!$D104),\"\")","v":""},{"$f":"IFERROR(IF(OR(O114=\"\",'2014 scenario - input'!$D104=\"\"),\"\",O114/'2014 scenario - input'!$D104),\"\")","v":""},{"$f":"IFERROR(IF(OR(P114=\"\",'2014 scenario - input'!$D104=\"\"),\"\",P114/'2014 scenario - input'!$D104),\"\")","v":""},{"$f":"IFERROR(IF(OR(Q114=\"\",'2014 scenario - input'!$D104=\"\"),\"\",Q114/'2014 scenario - input'!$D104),\"\")","v":""},{"$f":"IFERROR(IF(OR(R114=\"\",'2014 scenario - input'!$D104=\"\"),\"\",R114/'2014 scenario - input'!$D104),\"\")","v":""},{"$f":"IFERROR(IF(OR(S114=\"\",'2014 scenario - input'!$D104=\"\"),\"\",S114/'2014 scenario - input'!$D104),\"\")","v":""},{"$f":"IFERROR(IF(OR(T114=\"\",'2014 scenario - input'!$D104=\"\"),\"\",T114/'2014 scenario - input'!$D104),\"\")","v":""},{"$f":"IFERROR(IF(OR(U114=\"\",'2014 scenario - input'!$D104=\"\"),\"\",U114/'2014 scenario - input'!$D104),\"\")","v":""},{"$f":"IFERROR(IF(OR(V114=\"\",'2014 scenario - input'!$D104=\"\"),\"\",V114/'2014 scenario - input'!$D104),\"\")","v":""},{"$f":"IFERROR(IF(OR(W114=\"\",'2014 scenario - input'!$D104=\"\"),\"\",W114/'2014 scenario - input'!$D104),\"\")","v":""}]
[{"$f":"IFERROR('2014 scenario - input'!A105,\"\")","v":""},{"$f":"IFERROR('2014 scenario - input'!B105,\"\")","v":0},{"$f":"IFERROR('2014 scenario - input'!C105,\"\")","v":0},{"$f":"IFERROR(repcalc('2014 scenario - input'!$CV105:$GH105,'2014 scenario - input'!$G105,'2014 scenario - input'!$E105,'2014 scenario - input'!$F105,20,TRUE,TRUE),\"\")","v":""},"","","","","","","","","","","","","","","","","","","",{"$f":"IFERROR(IF(OR(D115=\"\",'2014 scenario - input'!$D105=\"\"),\"\",D115/'2014 scenario - input'!$D105),\"\")","v":""},{"$f":"IFERROR(IF(OR(E115=\"\",'2014 scenario - input'!$D105=\"\"),\"\",E115/'2014 scenario - input'!$D105),\"\")","v":""},{"$f":"IFERROR(IF(OR(F115=\"\",'2014 scenario - input'!$D105=\"\"),\"\",F115/'2014 scenario - input'!$D105),\"\")","v":""},{"$f":"IFERROR(IF(OR(G115=\"\",'2014 scenario - input'!$D105=\"\"),\"\",G115/'2014 scenario - input'!$D105),\"\")","v":""},{"$f":"IFERROR(IF(OR(H115=\"\",'2014 scenario - input'!$D105=\"\"),\"\",H115/'2014 scenario - input'!$D105),\"\")","v":""},{"$f":"IFERROR(IF(OR(I115=\"\",'2014 scenario - input'!$D105=\"\"),\"\",I115/'2014 scenario - input'!$D105),\"\")","v":""},{"$f":"IFERROR(IF(OR(J115=\"\",'2014 scenario - input'!$D105=\"\"),\"\",J115/'2014 scenario - input'!$D105),\"\")","v":""},{"$f":"IFERROR(IF(OR(K115=\"\",'2014 scenario - input'!$D105=\"\"),\"\",K115/'2014 scenario - input'!$D105),\"\")","v":""},{"$f":"IFERROR(IF(OR(L115=\"\",'2014 scenario - input'!$D105=\"\"),\"\",L115/'2014 scenario - input'!$D105),\"\")","v":""},{"$f":"IFERROR(IF(OR(M115=\"\",'2014 scenario - input'!$D105=\"\"),\"\",M115/'2014 scenario - input'!$D105),\"\")","v":""},{"$f":"IFERROR(IF(OR(N115=\"\",'2014 scenario - input'!$D105=\"\"),\"\",N115/'2014 scenario - input'!$D105),\"\")","v":""},{"$f":"IFERROR(IF(OR(O115=\"\",'2014 scenario - input'!$D105=\"\"),\"\",O115/'2014 scenario - input'!$D105),\"\")","v":""},{"$f":"IFERROR(IF(OR(P115=\"\",'2014 scenario - input'!$D105=\"\"),\"\",P115/'2014 scenario - input'!$D105),\"\")","v":""},{"$f":"IFERROR(IF(OR(Q115=\"\",'2014 scenario - input'!$D105=\"\"),\"\",Q115/'2014 scenario - input'!$D105),\"\")","v":""},{"$f":"IFERROR(IF(OR(R115=\"\",'2014 scenario - input'!$D105=\"\"),\"\",R115/'2014 scenario - input'!$D105),\"\")","v":""},{"$f":"IFERROR(IF(OR(S115=\"\",'2014 scenario - input'!$D105=\"\"),\"\",S115/'2014 scenario - input'!$D105),\"\")","v":""},{"$f":"IFERROR(IF(OR(T115=\"\",'2014 scenario - input'!$D105=\"\"),\"\",T115/'2014 scenario - input'!$D105),\"\")","v":""},{"$f":"IFERROR(IF(OR(U115=\"\",'2014 scenario - input'!$D105=\"\"),\"\",U115/'2014 scenario - input'!$D105),\"\")","v":""},{"$f":"IFERROR(IF(OR(V115=\"\",'2014 scenario - input'!$D105=\"\"),\"\",V115/'2014 scenario - input'!$D105),\"\")","v":""},{"$f":"IFERROR(IF(OR(W115=\"\",'2014 scenario - input'!$D105=\"\"),\"\",W115/'2014 scenario - input'!$D105),\"\")","v":""}]
[{"$f":"IFERROR('2014 scenario - input'!A106,\"\")","v":""},{"$f":"IFERROR('2014 scenario - input'!B106,\"\")","v":0},{"$f":"IFERROR('2014 scenario - input'!C106,\"\")","v":0},{"$f":"IFERROR(repcalc('2014 scenario - input'!$CV106:$GH106,'2014 scenario - input'!$G106,'2014 scenario - input'!$E106,'2014 scenario - input'!$F106,20,TRUE,TRUE),\"\")","v":""},"","","","","","","","","","","","","","","","","","","",{"$f":"IFERROR(IF(OR(D116=\"\",'2014 scenario - input'!$D106=\"\"),\"\",D116/'2014 scenario - input'!$D106),\"\")","v":""},{"$f":"IFERROR(IF(OR(E116=\"\",'2014 scenario - input'!$D106=\"\"),\"\",E116/'2014 scenario - input'!$D106),\"\")","v":""},{"$f":"IFERROR(IF(OR(F116=\"\",'2014 scenario - input'!$D106=\"\"),\"\",F116/'2014 scenario - input'!$D106),\"\")","v":""},{"$f":"IFERROR(IF(OR(G116=\"\",'2014 scenario - input'!$D106=\"\"),\"\",G116/'2014 scenario - input'!$D106),\"\")","v":""},{"$f":"IFERROR(IF(OR(H116=\"\",'2014 scenario - input'!$D106=\"\"),\"\",H116/'2014 scenario - input'!$D106),\"\")","v":""},{"$f":"IFERROR(IF(OR(I116=\"\",'2014 scenario - input'!$D106=\"\"),\"\",I116/'2014 scenario - input'!$D106),\"\")","v":""},{"$f":"IFERROR(IF(OR(J116=\"\",'2014 scenario - input'!$D106=\"\"),\"\",J116/'2014 scenario - input'!$D106),\"\")","v":""},{"$f":"IFERROR(IF(OR(K116=\"\",'2014 scenario - input'!$D106=\"\"),\"\",K116/'2014 scenario - input'!$D106),\"\")","v":""},{"$f":"IFERROR(IF(OR(L116=\"\",'2014 scenario - input'!$D106=\"\"),\"\",L116/'2014 scenario - input'!$D106),\"\")","v":""},{"$f":"IFERROR(IF(OR(M116=\"\",'2014 scenario - input'!$D106=\"\"),\"\",M116/'2014 scenario - input'!$D106),\"\")","v":""},{"$f":"IFERROR(IF(OR(N116=\"\",'2014 scenario - input'!$D106=\"\"),\"\",N116/'2014 scenario - input'!$D106),\"\")","v":""},{"$f":"IFERROR(IF(OR(O116=\"\",'2014 scenario - input'!$D106=\"\"),\"\",O116/'2014 scenario - input'!$D106),\"\")","v":""},{"$f":"IFERROR(IF(OR(P116=\"\",'2014 scenario - input'!$D106=\"\"),\"\",P116/'2014 scenario - input'!$D106),\"\")","v":""},{"$f":"IFERROR(IF(OR(Q116=\"\",'2014 scenario - input'!$D106=\"\"),\"\",Q116/'2014 scenario - input'!$D106),\"\")","v":""},{"$f":"IFERROR(IF(OR(R116=\"\",'2014 scenario - input'!$D106=\"\"),\"\",R116/'2014 scenario - input'!$D106),\"\")","v":""},{"$f":"IFERROR(IF(OR(S116=\"\",'2014 scenario - input'!$D106=\"\"),\"\",S116/'2014 scenario - input'!$D106),\"\")","v":""},{"$f":"IFERROR(IF(OR(T116=\"\",'2014 scenario - input'!$D106=\"\"),\"\",T116/'2014 scenario - input'!$D106),\"\")","v":""},{"$f":"IFERROR(IF(OR(U116=\"\",'2014 scenario - input'!$D106=\"\"),\"\",U116/'2014 scenario - input'!$D106),\"\")","v":""},{"$f":"IFERROR(IF(OR(V116=\"\",'2014 scenario - input'!$D106=\"\"),\"\",V116/'2014 scenario - input'!$D106),\"\")","v":""},{"$f":"IFERROR(IF(OR(W116=\"\",'2014 scenario - input'!$D106=\"\"),\"\",W116/'2014 scenario - input'!$D106),\"\")","v":""}]
[{"$f":"IFERROR('2014 scenario - input'!A107,\"\")","v":""},{"$f":"IFERROR('2014 scenario - input'!B107,\"\")","v":0},{"$f":"IFERROR('2014 scenario - input'!C107,\"\")","v":0},{"$f":"IFERROR(repcalc('2014 scenario - input'!$CV107:$GH107,'2014 scenario - input'!$G107,'2014 scenario - input'!$E107,'2014 scenario - input'!$F107,20,TRUE,TRUE),\"\")","v":""},"","","","","","","","","","","","","","","","","","","",{"$f":"IFERROR(IF(OR(D117=\"\",'2014 scenario - input'!$D107=\"\"),\"\",D117/'2014 scenario - input'!$D107),\"\")","v":""},{"$f":"IFERROR(IF(OR(E117=\"\",'2014 scenario - input'!$D107=\"\"),\"\",E117/'2014 scenario - input'!$D107),\"\")","v":""},{"$f":"IFERROR(IF(OR(F117=\"\",'2014 scenario - input'!$D107=\"\"),\"\",F117/'2014 scenario - input'!$D107),\"\")","v":""},{"$f":"IFERROR(IF(OR(G117=\"\",'2014 scenario - input'!$D107=\"\"),\"\",G117/'2014 scenario - input'!$D107),\"\")","v":""},{"$f":"IFERROR(IF(OR(H117=\"\",'2014 scenario - input'!$D107=\"\"),\"\",H117/'2014 scenario - input'!$D107),\"\")","v":""},{"$f":"IFERROR(IF(OR(I117=\"\",'2014 scenario - input'!$D107=\"\"),\"\",I117/'2014 scenario - input'!$D107),\"\")","v":""},{"$f":"IFERROR(IF(OR(J117=\"\",'2014 scenario - input'!$D107=\"\"),\"\",J117/'2014 scenario - input'!$D107),\"\")","v":""},{"$f":"IFERROR(IF(OR(K117=\"\",'2014 scenario - input'!$D107=\"\"),\"\",K117/'2014 scenario - input'!$D107),\"\")","v":""},{"$f":"IFERROR(IF(OR(L117=\"\",'2014 scenario - input'!$D107=\"\"),\"\",L117/'2014 scenario - input'!$D107),\"\")","v":""},{"$f":"IFERROR(IF(OR(M117=\"\",'2014 scenario - input'!$D107=\"\"),\"\",M117/'2014 scenario - input'!$D107),\"\")","v":""},{"$f":"IFERROR(IF(OR(N117=\"\",'2014 scenario - input'!$D107=\"\"),\"\",N117/'2014 scenario - input'!$D107),\"\")","v":""},{"$f":"IFERROR(IF(OR(O117=\"\",'2014 scenario - input'!$D107=\"\"),\"\",O117/'2014 scenario - input'!$D107),\"\")","v":""},{"$f":"IFERROR(IF(OR(P117=\"\",'2014 scenario - input'!$D107=\"\"),\"\",P117/'2014 scenario - input'!$D107),\"\")","v":""},{"$f":"IFERROR(IF(OR(Q117=\"\",'2014 scenario - input'!$D107=\"\"),\"\",Q117/'2014 scenario - input'!$D107),\"\")","v":""},{"$f":"IFERROR(IF(OR(R117=\"\",'2014 scenario - input'!$D107=\"\"),\"\",R117/'2014 scenario - input'!$D107),\"\")","v":""},{"$f":"IFERROR(IF(OR(S117=\"\",'2014 scenario - input'!$D107=\"\"),\"\",S117/'2014 scenario - input'!$D107),\"\")","v":""},{"$f":"IFERROR(IF(OR(T117=\"\",'2014 scenario - input'!$D107=\"\"),\"\",T117/'2014 scenario - input'!$D107),\"\")","v":""},{"$f":"IFERROR(IF(OR(U117=\"\",'2014 scenario - input'!$D107=\"\"),\"\",U117/'2014 scenario - input'!$D107),\"\")","v":""},{"$f":"IFERROR(IF(OR(V117=\"\",'2014 scenario - input'!$D107=\"\"),\"\",V117/'2014 scenario - input'!$D107),\"\")","v":""},{"$f":"IFERROR(IF(OR(W117=\"\",'2014 scenario - input'!$D107=\"\"),\"\",W117/'2014 scenario - input'!$D107),\"\")","v":""}]
[{"$f":"IFERROR('2014 scenario - input'!A108,\"\")","v":""},{"$f":"IFERROR('2014 scenario - input'!B108,\"\")","v":0},{"$f":"IFERROR('2014 scenario - input'!C108,\"\")","v":0},{"$f":"IFERROR(repcalc('2014 scenario - input'!$CV108:$GH108,'2014 scenario - input'!$G108,'2014 scenario - input'!$E108,'2014 scenario - input'!$F108,20,TRUE,TRUE),\"\")","v":""},"","","","","","","","","","","","","","","","","","","",{"$f":"IFERROR(IF(OR(D118=\"\",'2014 scenario - input'!$D108=\"\"),\"\",D118/'2014 scenario - input'!$D108),\"\")","v":""},{"$f":"IFERROR(IF(OR(E118=\"\",'2014 scenario - input'!$D108=\"\"),\"\",E118/'2014 scenario - input'!$D108),\"\")","v":""},{"$f":"IFERROR(IF(OR(F118=\"\",'2014 scenario - input'!$D108=\"\"),\"\",F118/'2014 scenario - input'!$D108),\"\")","v":""},{"$f":"IFERROR(IF(OR(G118=\"\",'2014 scenario - input'!$D108=\"\"),\"\",G118/'2014 scenario - input'!$D108),\"\")","v":""},{"$f":"IFERROR(IF(OR(H118=\"\",'2014 scenario - input'!$D108=\"\"),\"\",H118/'2014 scenario - input'!$D108),\"\")","v":""},{"$f":"IFERROR(IF(OR(I118=\"\",'2014 scenario - input'!$D108=\"\"),\"\",I118/'2014 scenario - input'!$D108),\"\")","v":""},{"$f":"IFERROR(IF(OR(J118=\"\",'2014 scenario - input'!$D108=\"\"),\"\",J118/'2014 scenario - input'!$D108),\"\")","v":""},{"$f":"IFERROR(IF(OR(K118=\"\",'2014 scenario - input'!$D108=\"\"),\"\",K118/'2014 scenario - input'!$D108),\"\")","v":""},{"$f":"IFERROR(IF(OR(L118=\"\",'2014 scenario - input'!$D108=\"\"),\"\",L118/'2014 scenario - input'!$D108),\"\")","v":""},{"$f":"IFERROR(IF(OR(M118=\"\",'2014 scenario - input'!$D108=\"\"),\"\",M118/'2014 scenario - input'!$D108),\"\")","v":""},{"$f":"IFERROR(IF(OR(N118=\"\",'2014 scenario - input'!$D108=\"\"),\"\",N118/'2014 scenario - input'!$D108),\"\")","v":""},{"$f":"IFERROR(IF(OR(O118=\"\",'2014 scenario - input'!$D108=\"\"),\"\",O118/'2014 scenario - input'!$D108),\"\")","v":""},{"$f":"IFERROR(IF(OR(P118=\"\",'2014 scenario - input'!$D108=\"\"),\"\",P118/'2014 scenario - input'!$D108),\"\")","v":""},{"$f":"IFERROR(IF(OR(Q118=\"\",'2014 scenario - input'!$D108=\"\"),\"\",Q118/'2014 scenario - input'!$D108),\"\")","v":""},{"$f":"IFERROR(IF(OR(R118=\"\",'2014 scenario - input'!$D108=\"\"),\"\",R118/'2014 scenario - input'!$D108),\"\")","v":""},{"$f":"IFERROR(IF(OR(S118=\"\",'2014 scenario - input'!$D108=\"\"),\"\",S118/'2014 scenario - input'!$D108),\"\")","v":""},{"$f":"IFERROR(IF(OR(T118=\"\",'2014 scenario - input'!$D108=\"\"),\"\",T118/'2014 scenario - input'!$D108),\"\")","v":""},{"$f":"IFERROR(IF(OR(U118=\"\",'2014 scenario - input'!$D108=\"\"),\"\",U118/'2014 scenario - input'!$D108),\"\")","v":""},{"$f":"IFERROR(IF(OR(V118=\"\",'2014 scenario - input'!$D108=\"\"),\"\",V118/'2014 scenario - input'!$D108),\"\")","v":""},{"$f":"IFERROR(IF(OR(W118=\"\",'2014 scenario - input'!$D108=\"\"),\"\",W118/'2014 scenario - input'!$D108),\"\")","v":""}]
[{"$f":"IFERROR('2014 scenario - input'!A109,\"\")","v":""},{"$f":"IFERROR('2014 scenario - input'!B109,\"\")","v":0},{"$f":"IFERROR('2014 scenario - input'!C109,\"\")","v":0},{"$f":"IFERROR(repcalc('2014 scenario - input'!$CV109:$GH109,'2014 scenario - input'!$G109,'2014 scenario - input'!$E109,'2014 scenario - input'!$F109,20,TRUE,TRUE),\"\")","v":""},"","","","","","","","","","","","","","","","","","","",{"$f":"IFERROR(IF(OR(D119=\"\",'2014 scenario - input'!$D109=\"\"),\"\",D119/'2014 scenario - input'!$D109),\"\")","v":""},{"$f":"IFERROR(IF(OR(E119=\"\",'2014 scenario - input'!$D109=\"\"),\"\",E119/'2014 scenario - input'!$D109),\"\")","v":""},{"$f":"IFERROR(IF(OR(F119=\"\",'2014 scenario - input'!$D109=\"\"),\"\",F119/'2014 scenario - input'!$D109),\"\")","v":""},{"$f":"IFERROR(IF(OR(G119=\"\",'2014 scenario - input'!$D109=\"\"),\"\",G119/'2014 scenario - input'!$D109),\"\")","v":""},{"$f":"IFERROR(IF(OR(H119=\"\",'2014 scenario - input'!$D109=\"\"),\"\",H119/'2014 scenario - input'!$D109),\"\")","v":""},{"$f":"IFERROR(IF(OR(I119=\"\",'2014 scenario - input'!$D109=\"\"),\"\",I119/'2014 scenario - input'!$D109),\"\")","v":""},{"$f":"IFERROR(IF(OR(J119=\"\",'2014 scenario - input'!$D109=\"\"),\"\",J119/'2014 scenario - input'!$D109),\"\")","v":""},{"$f":"IFERROR(IF(OR(K119=\"\",'2014 scenario - input'!$D109=\"\"),\"\",K119/'2014 scenario - input'!$D109),\"\")","v":""},{"$f":"IFERROR(IF(OR(L119=\"\",'2014 scenario - input'!$D109=\"\"),\"\",L119/'2014 scenario - input'!$D109),\"\")","v":""},{"$f":"IFERROR(IF(OR(M119=\"\",'2014 scenario - input'!$D109=\"\"),\"\",M119/'2014 scenario - input'!$D109),\"\")","v":""},{"$f":"IFERROR(IF(OR(N119=\"\",'2014 scenario - input'!$D109=\"\"),\"\",N119/'2014 scenario - input'!$D109),\"\")","v":""},{"$f":"IFERROR(IF(OR(O119=\"\",'2014 scenario - input'!$D109=\"\"),\"\",O119/'2014 scenario - input'!$D109),\"\")","v":""},{"$f":"IFERROR(IF(OR(P119=\"\",'2014 scenario - input'!$D109=\"\"),\"\",P119/'2014 scenario - input'!$D109),\"\")","v":""},{"$f":"IFERROR(IF(OR(Q119=\"\",'2014 scenario - input'!$D109=\"\"),\"\",Q119/'2014 scenario - input'!$D109),\"\")","v":""},{"$f":"IFERROR(IF(OR(R119=\"\",'2014 scenario - input'!$D109=\"\"),\"\",R119/'2014 scenario - input'!$D109),\"\")","v":""},{"$f":"IFERROR(IF(OR(S119=\"\",'2014 scenario - input'!$D109=\"\"),\"\",S119/'2014 scenario - input'!$D109),\"\")","v":""},{"$f":"IFERROR(IF(OR(T119=\"\",'2014 scenario - input'!$D109=\"\"),\"\",T119/'2014 scenario - input'!$D109),\"\")","v":""},{"$f":"IFERROR(IF(OR(U119=\"\",'2014 scenario - input'!$D109=\"\"),\"\",U119/'2014 scenario - input'!$D109),\"\")","v":""},{"$f":"IFERROR(IF(OR(V119=\"\",'2014 scenario - input'!$D109=\"\"),\"\",V119/'2014 scenario - input'!$D109),\"\")","v":""},{"$f":"IFERROR(IF(OR(W119=\"\",'2014 scenario - input'!$D109=\"\"),\"\",W119/'2014 scenario - input'!$D109),\"\")","v":""}]
[{"$f":"IFERROR('2014 scenario - input'!A110,\"\")","v":""},{"$f":"IFERROR('2014 scenario - input'!B110,\"\")","v":0},{"$f":"IFERROR('2014 scenario - input'!C110,\"\")","v":0},{"$f":"IFERROR(repcalc('2014 scenario - input'!$CV110:$GH110,'2014 scenario - input'!$G110,'2014 scenario - input'!$E110,'2014 scenario - input'!$F110,20,TRUE,TRUE),\"\")","v":""},"","","","","","","","","","","","","","","","","","","",{"$f":"IFERROR(IF(OR(D120=\"\",'2014 scenario - input'!$D110=\"\"),\"\",D120/'2014 scenario - input'!$D110),\"\")","v":""},{"$f":"IFERROR(IF(OR(E120=\"\",'2014 scenario - input'!$D110=\"\"),\"\",E120/'2014 scenario - input'!$D110),\"\")","v":""},{"$f":"IFERROR(IF(OR(F120=\"\",'2014 scenario - input'!$D110=\"\"),\"\",F120/'2014 scenario - input'!$D110),\"\")","v":""},{"$f":"IFERROR(IF(OR(G120=\"\",'2014 scenario - input'!$D110=\"\"),\"\",G120/'2014 scenario - input'!$D110),\"\")","v":""},{"$f":"IFERROR(IF(OR(H120=\"\",'2014 scenario - input'!$D110=\"\"),\"\",H120/'2014 scenario - input'!$D110),\"\")","v":""},{"$f":"IFERROR(IF(OR(I120=\"\",'2014 scenario - input'!$D110=\"\"),\"\",I120/'2014 scenario - input'!$D110),\"\")","v":""},{"$f":"IFERROR(IF(OR(J120=\"\",'2014 scenario - input'!$D110=\"\"),\"\",J120/'2014 scenario - input'!$D110),\"\")","v":""},{"$f":"IFERROR(IF(OR(K120=\"\",'2014 scenario - input'!$D110=\"\"),\"\",K120/'2014 scenario - input'!$D110),\"\")","v":""},{"$f":"IFERROR(IF(OR(L120=\"\",'2014 scenario - input'!$D110=\"\"),\"\",L120/'2014 scenario - input'!$D110),\"\")","v":""},{"$f":"IFERROR(IF(OR(M120=\"\",'2014 scenario - input'!$D110=\"\"),\"\",M120/'2014 scenario - input'!$D110),\"\")","v":""},{"$f":"IFERROR(IF(OR(N120=\"\",'2014 scenario - input'!$D110=\"\"),\"\",N120/'2014 scenario - input'!$D110),\"\")","v":""},{"$f":"IFERROR(IF(OR(O120=\"\",'2014 scenario - input'!$D110=\"\"),\"\",O120/'2014 scenario - input'!$D110),\"\")","v":""},{"$f":"IFERROR(IF(OR(P120=\"\",'2014 scenario - input'!$D110=\"\"),\"\",P120/'2014 scenario - input'!$D110),\"\")","v":""},{"$f":"IFERROR(IF(OR(Q120=\"\",'2014 scenario - input'!$D110=\"\"),\"\",Q120/'2014 scenario - input'!$D110),\"\")","v":""},{"$f":"IFERROR(IF(OR(R120=\"\",'2014 scenario - input'!$D110=\"\"),\"\",R120/'2014 scenario - input'!$D110),\"\")","v":""},{"$f":"IFERROR(IF(OR(S120=\"\",'2014 scenario - input'!$D110=\"\"),\"\",S120/'2014 scenario - input'!$D110),\"\")","v":""},{"$f":"IFERROR(IF(OR(T120=\"\",'2014 scenario - input'!$D110=\"\"),\"\",T120/'2014 scenario - input'!$D110),\"\")","v":""},{"$f":"IFERROR(IF(OR(U120=\"\",'2014 scenario - input'!$D110=\"\"),\"\",U120/'2014 scenario - input'!$D110),\"\")","v":""},{"$f":"IFERROR(IF(OR(V120=\"\",'2014 scenario - input'!$D110=\"\"),\"\",V120/'2014 scenario - input'!$D110),\"\")","v":""},{"$f":"IFERROR(IF(OR(W120=\"\",'2014 scenario - input'!$D110=\"\"),\"\",W120/'2014 scenario - input'!$D110),\"\")","v":""}]
[{"$f":"IFERROR('2014 scenario - input'!A111,\"\")","v":""},{"$f":"IFERROR('2014 scenario - input'!B111,\"\")","v":0},{"$f":"IFERROR('2014 scenario - input'!C111,\"\")","v":0},{"$f":"IFERROR(repcalc('2014 scenario - input'!$CV111:$GH111,'2014 scenario - input'!$G111,'2014 scenario - input'!$E111,'2014 scenario - input'!$F111,20,TRUE,TRUE),\"\")","v":""},"","","","","","","","","","","","","","","","","","","",{"$f":"IFERROR(IF(OR(D121=\"\",'2014 scenario - input'!$D111=\"\"),\"\",D121/'2014 scenario - input'!$D111),\"\")","v":""},{"$f":"IFERROR(IF(OR(E121=\"\",'2014 scenario - input'!$D111=\"\"),\"\",E121/'2014 scenario - input'!$D111),\"\")","v":""},{"$f":"IFERROR(IF(OR(F121=\"\",'2014 scenario - input'!$D111=\"\"),\"\",F121/'2014 scenario - input'!$D111),\"\")","v":""},{"$f":"IFERROR(IF(OR(G121=\"\",'2014 scenario - input'!$D111=\"\"),\"\",G121/'2014 scenario - input'!$D111),\"\")","v":""},{"$f":"IFERROR(IF(OR(H121=\"\",'2014 scenario - input'!$D111=\"\"),\"\",H121/'2014 scenario - input'!$D111),\"\")","v":""},{"$f":"IFERROR(IF(OR(I121=\"\",'2014 scenario - input'!$D111=\"\"),\"\",I121/'2014 scenario - input'!$D111),\"\")","v":""},{"$f":"IFERROR(IF(OR(J121=\"\",'2014 scenario - input'!$D111=\"\"),\"\",J121/'2014 scenario - input'!$D111),\"\")","v":""},{"$f":"IFERROR(IF(OR(K121=\"\",'2014 scenario - input'!$D111=\"\"),\"\",K121/'2014 scenario - input'!$D111),\"\")","v":""},{"$f":"IFERROR(IF(OR(L121=\"\",'2014 scenario - input'!$D111=\"\"),\"\",L121/'2014 scenario - input'!$D111),\"\")","v":""},{"$f":"IFERROR(IF(OR(M121=\"\",'2014 scenario - input'!$D111=\"\"),\"\",M121/'2014 scenario - input'!$D111),\"\")","v":""},{"$f":"IFERROR(IF(OR(N121=\"\",'2014 scenario - input'!$D111=\"\"),\"\",N121/'2014 scenario - input'!$D111),\"\")","v":""},{"$f":"IFERROR(IF(OR(O121=\"\",'2014 scenario - input'!$D111=\"\"),\"\",O121/'2014 scenario - input'!$D111),\"\")","v":""},{"$f":"IFERROR(IF(OR(P121=\"\",'2014 scenario - input'!$D111=\"\"),\"\",P121/'2014 scenario - input'!$D111),\"\")","v":""},{"$f":"IFERROR(IF(OR(Q121=\"\",'2014 scenario - input'!$D111=\"\"),\"\",Q121/'2014 scenario - input'!$D111),\"\")","v":""},{"$f":"IFERROR(IF(OR(R121=\"\",'2014 scenario - input'!$D111=\"\"),\"\",R121/'2014 scenario - input'!$D111),\"\")","v":""},{"$f":"IFERROR(IF(OR(S121=\"\",'2014 scenario - input'!$D111=\"\"),\"\",S121/'2014 scenario - input'!$D111),\"\")","v":""},{"$f":"IFERROR(IF(OR(T121=\"\",'2014 scenario - input'!$D111=\"\"),\"\",T121/'2014 scenario - input'!$D111),\"\")","v":""},{"$f":"IFERROR(IF(OR(U121=\"\",'2014 scenario - input'!$D111=\"\"),\"\",U121/'2014 scenario - input'!$D111),\"\")","v":""},{"$f":"IFERROR(IF(OR(V121=\"\",'2014 scenario - input'!$D111=\"\"),\"\",V121/'2014 scenario - input'!$D111),\"\")","v":""},{"$f":"IFERROR(IF(OR(W121=\"\",'2014 scenario - input'!$D111=\"\"),\"\",W121/'2014 scenario - input'!$D111),\"\")","v":""}]
[{"$f":"IFERROR('2014 scenario - input'!A112,\"\")","v":""},{"$f":"IFERROR('2014 scenario - input'!B112,\"\")","v":0},{"$f":"IFERROR('2014 scenario - input'!C112,\"\")","v":0},{"$f":"IFERROR(repcalc('2014 scenario - input'!$CV112:$GH112,'2014 scenario - input'!$G112,'2014 scenario - input'!$E112,'2014 scenario - input'!$F112,20,TRUE,TRUE),\"\")","v":""},"","","","","","","","","","","","","","","","","","","",{"$f":"IFERROR(IF(OR(D122=\"\",'2014 scenario - input'!$D112=\"\"),\"\",D122/'2014 scenario - input'!$D112),\"\")","v":""},{"$f":"IFERROR(IF(OR(E122=\"\",'2014 scenario - input'!$D112=\"\"),\"\",E122/'2014 scenario - input'!$D112),\"\")","v":""},{"$f":"IFERROR(IF(OR(F122=\"\",'2014 scenario - input'!$D112=\"\"),\"\",F122/'2014 scenario - input'!$D112),\"\")","v":""},{"$f":"IFERROR(IF(OR(G122=\"\",'2014 scenario - input'!$D112=\"\"),\"\",G122/'2014 scenario - input'!$D112),\"\")","v":""},{"$f":"IFERROR(IF(OR(H122=\"\",'2014 scenario - input'!$D112=\"\"),\"\",H122/'2014 scenario - input'!$D112),\"\")","v":""},{"$f":"IFERROR(IF(OR(I122=\"\",'2014 scenario - input'!$D112=\"\"),\"\",I122/'2014 scenario - input'!$D112),\"\")","v":""},{"$f":"IFERROR(IF(OR(J122=\"\",'2014 scenario - input'!$D112=\"\"),\"\",J122/'2014 scenario - input'!$D112),\"\")","v":""},{"$f":"IFERROR(IF(OR(K122=\"\",'2014 scenario - input'!$D112=\"\"),\"\",K122/'2014 scenario - input'!$D112),\"\")","v":""},{"$f":"IFERROR(IF(OR(L122=\"\",'2014 scenario - input'!$D112=\"\"),\"\",L122/'2014 scenario - input'!$D112),\"\")","v":""},{"$f":"IFERROR(IF(OR(M122=\"\",'2014 scenario - input'!$D112=\"\"),\"\",M122/'2014 scenario - input'!$D112),\"\")","v":""},{"$f":"IFERROR(IF(OR(N122=\"\",'2014 scenario - input'!$D112=\"\"),\"\",N122/'2014 scenario - input'!$D112),\"\")","v":""},{"$f":"IFERROR(IF(OR(O122=\"\",'2014 scenario - input'!$D112=\"\"),\"\",O122/'2014 scenario - input'!$D112),\"\")","v":""},{"$f":"IFERROR(IF(OR(P122=\"\",'2014 scenario - input'!$D112=\"\"),\"\",P122/'2014 scenario - input'!$D112),\"\")","v":""},{"$f":"IFERROR(IF(OR(Q122=\"\",'2014 scenario - input'!$D112=\"\"),\"\",Q122/'2014 scenario - input'!$D112),\"\")","v":""},{"$f":"IFERROR(IF(OR(R122=\"\",'2014 scenario - input'!$D112=\"\"),\"\",R122/'2014 scenario - input'!$D112),\"\")","v":""},{"$f":"IFERROR(IF(OR(S122=\"\",'2014 scenario - input'!$D112=\"\"),\"\",S122/'2014 scenario - input'!$D112),\"\")","v":""},{"$f":"IFERROR(IF(OR(T122=\"\",'2014 scenario - input'!$D112=\"\"),\"\",T122/'2014 scenario - input'!$D112),\"\")","v":""},{"$f":"IFERROR(IF(OR(U122=\"\",'2014 scenario - input'!$D112=\"\"),\"\",U122/'2014 scenario - input'!$D112),\"\")","v":""},{"$f":"IFERROR(IF(OR(V122=\"\",'2014 scenario - input'!$D112=\"\"),\"\",V122/'2014 scenario - input'!$D112),\"\")","v":""},{"$f":"IFERROR(IF(OR(W122=\"\",'2014 scenario - input'!$D112=\"\"),\"\",W122/'2014 scenario - input'!$D112),\"\")","v":""}]
[{"$f":"IFERROR('2014 scenario - input'!A113,\"\")","v":""},{"$f":"IFERROR('2014 scenario - input'!B113,\"\")","v":0},{"$f":"IFERROR('2014 scenario - input'!C113,\"\")","v":0},{"$f":"IFERROR(repcalc('2014 scenario - input'!$CV113:$GH113,'2014 scenario - input'!$G113,'2014 scenario - input'!$E113,'2014 scenario - input'!$F113,20,TRUE,TRUE),\"\")","v":""},"","","","","","","","","","","","","","","","","","","",{"$f":"IFERROR(IF(OR(D123=\"\",'2014 scenario - input'!$D113=\"\"),\"\",D123/'2014 scenario - input'!$D113),\"\")","v":""},{"$f":"IFERROR(IF(OR(E123=\"\",'2014 scenario - input'!$D113=\"\"),\"\",E123/'2014 scenario - input'!$D113),\"\")","v":""},{"$f":"IFERROR(IF(OR(F123=\"\",'2014 scenario - input'!$D113=\"\"),\"\",F123/'2014 scenario - input'!$D113),\"\")","v":""},{"$f":"IFERROR(IF(OR(G123=\"\",'2014 scenario - input'!$D113=\"\"),\"\",G123/'2014 scenario - input'!$D113),\"\")","v":""},{"$f":"IFERROR(IF(OR(H123=\"\",'2014 scenario - input'!$D113=\"\"),\"\",H123/'2014 scenario - input'!$D113),\"\")","v":""},{"$f":"IFERROR(IF(OR(I123=\"\",'2014 scenario - input'!$D113=\"\"),\"\",I123/'2014 scenario - input'!$D113),\"\")","v":""},{"$f":"IFERROR(IF(OR(J123=\"\",'2014 scenario - input'!$D113=\"\"),\"\",J123/'2014 scenario - input'!$D113),\"\")","v":""},{"$f":"IFERROR(IF(OR(K123=\"\",'2014 scenario - input'!$D113=\"\"),\"\",K123/'2014 scenario - input'!$D113),\"\")","v":""},{"$f":"IFERROR(IF(OR(L123=\"\",'2014 scenario - input'!$D113=\"\"),\"\",L123/'2014 scenario - input'!$D113),\"\")","v":""},{"$f":"IFERROR(IF(OR(M123=\"\",'2014 scenario - input'!$D113=\"\"),\"\",M123/'2014 scenario - input'!$D113),\"\")","v":""},{"$f":"IFERROR(IF(OR(N123=\"\",'2014 scenario - input'!$D113=\"\"),\"\",N123/'2014 scenario - input'!$D113),\"\")","v":""},{"$f":"IFERROR(IF(OR(O123=\"\",'2014 scenario - input'!$D113=\"\"),\"\",O123/'2014 scenario - input'!$D113),\"\")","v":""},{"$f":"IFERROR(IF(OR(P123=\"\",'2014 scenario - input'!$D113=\"\"),\"\",P123/'2014 scenario - input'!$D113),\"\")","v":""},{"$f":"IFERROR(IF(OR(Q123=\"\",'2014 scenario - input'!$D113=\"\"),\"\",Q123/'2014 scenario - input'!$D113),\"\")","v":""},{"$f":"IFERROR(IF(OR(R123=\"\",'2014 scenario - input'!$D113=\"\"),\"\",R123/'2014 scenario - input'!$D113),\"\")","v":""},{"$f":"IFERROR(IF(OR(S123=\"\",'2014 scenario - input'!$D113=\"\"),\"\",S123/'2014 scenario - input'!$D113),\"\")","v":""},{"$f":"IFERROR(IF(OR(T123=\"\",'2014 scenario - input'!$D113=\"\"),\"\",T123/'2014 scenario - input'!$D113),\"\")","v":""},{"$f":"IFERROR(IF(OR(U123=\"\",'2014 scenario - input'!$D113=\"\"),\"\",U123/'2014 scenario - input'!$D113),\"\")","v":""},{"$f":"IFERROR(IF(OR(V123=\"\",'2014 scenario - input'!$D113=\"\"),\"\",V123/'2014 scenario - input'!$D113),\"\")","v":""},{"$f":"IFERROR(IF(OR(W123=\"\",'2014 scenario - input'!$D113=\"\"),\"\",W123/'2014 scenario - input'!$D113),\"\")","v":""}]
[{"$f":"IFERROR('2014 scenario - input'!A114,\"\")","v":""},{"$f":"IFERROR('2014 scenario - input'!B114,\"\")","v":0},{"$f":"IFERROR('2014 scenario - input'!C114,\"\")","v":0},{"$f":"IFERROR(repcalc('2014 scenario - input'!$CV114:$GH114,'2014 scenario - input'!$G114,'2014 scenario - input'!$E114,'2014 scenario - input'!$F114,20,TRUE,TRUE),\"\")","v":""},"","","","","","","","","","","","","","","","","","","",{"$f":"IFERROR(IF(OR(D124=\"\",'2014 scenario - input'!$D114=\"\"),\"\",D124/'2014 scenario - input'!$D114),\"\")","v":""},{"$f":"IFERROR(IF(OR(E124=\"\",'2014 scenario - input'!$D114=\"\"),\"\",E124/'2014 scenario - input'!$D114),\"\")","v":""},{"$f":"IFERROR(IF(OR(F124=\"\",'2014 scenario - input'!$D114=\"\"),\"\",F124/'2014 scenario - input'!$D114),\"\")","v":""},{"$f":"IFERROR(IF(OR(G124=\"\",'2014 scenario - input'!$D114=\"\"),\"\",G124/'2014 scenario - input'!$D114),\"\")","v":""},{"$f":"IFERROR(IF(OR(H124=\"\",'2014 scenario - input'!$D114=\"\"),\"\",H124/'2014 scenario - input'!$D114),\"\")","v":""},{"$f":"IFERROR(IF(OR(I124=\"\",'2014 scenario - input'!$D114=\"\"),\"\",I124/'2014 scenario - input'!$D114),\"\")","v":""},{"$f":"IFERROR(IF(OR(J124=\"\",'2014 scenario - input'!$D114=\"\"),\"\",J124/'2014 scenario - input'!$D114),\"\")","v":""},{"$f":"IFERROR(IF(OR(K124=\"\",'2014 scenario - input'!$D114=\"\"),\"\",K124/'2014 scenario - input'!$D114),\"\")","v":""},{"$f":"IFERROR(IF(OR(L124=\"\",'2014 scenario - input'!$D114=\"\"),\"\",L124/'2014 scenario - input'!$D114),\"\")","v":""},{"$f":"IFERROR(IF(OR(M124=\"\",'2014 scenario - input'!$D114=\"\"),\"\",M124/'2014 scenario - input'!$D114),\"\")","v":""},{"$f":"IFERROR(IF(OR(N124=\"\",'2014 scenario - input'!$D114=\"\"),\"\",N124/'2014 scenario - input'!$D114),\"\")","v":""},{"$f":"IFERROR(IF(OR(O124=\"\",'2014 scenario - input'!$D114=\"\"),\"\",O124/'2014 scenario - input'!$D114),\"\")","v":""},{"$f":"IFERROR(IF(OR(P124=\"\",'2014 scenario - input'!$D114=\"\"),\"\",P124/'2014 scenario - input'!$D114),\"\")","v":""},{"$f":"IFERROR(IF(OR(Q124=\"\",'2014 scenario - input'!$D114=\"\"),\"\",Q124/'2014 scenario - input'!$D114),\"\")","v":""},{"$f":"IFERROR(IF(OR(R124=\"\",'2014 scenario - input'!$D114=\"\"),\"\",R124/'2014 scenario - input'!$D114),\"\")","v":""},{"$f":"IFERROR(IF(OR(S124=\"\",'2014 scenario - input'!$D114=\"\"),\"\",S124/'2014 scenario - input'!$D114),\"\")","v":""},{"$f":"IFERROR(IF(OR(T124=\"\",'2014 scenario - input'!$D114=\"\"),\"\",T124/'2014 scenario - input'!$D114),\"\")","v":""},{"$f":"IFERROR(IF(OR(U124=\"\",'2014 scenario - input'!$D114=\"\"),\"\",U124/'2014 scenario - input'!$D114),\"\")","v":""},{"$f":"IFERROR(IF(OR(V124=\"\",'2014 scenario - input'!$D114=\"\"),\"\",V124/'2014 scenario - input'!$D114),\"\")","v":""},{"$f":"IFERROR(IF(OR(W124=\"\",'2014 scenario - input'!$D114=\"\"),\"\",W124/'2014 scenario - input'!$D114),\"\")","v":""}]
[{"$f":"IFERROR('2014 scenario - input'!A115,\"\")","v":""},{"$f":"IFERROR('2014 scenario - input'!B115,\"\")","v":0},{"$f":"IFERROR('2014 scenario - input'!C115,\"\")","v":0},{"$f":"IFERROR(repcalc('2014 scenario - input'!$CV115:$GH115,'2014 scenario - input'!$G115,'2014 scenario - input'!$E115,'2014 scenario - input'!$F115,20,TRUE,TRUE),\"\")","v":""},"","","","","","","","","","","","","","","","","","","",{"$f":"IFERROR(IF(OR(D125=\"\",'2014 scenario - input'!$D115=\"\"),\"\",D125/'2014 scenario - input'!$D115),\"\")","v":""},{"$f":"IFERROR(IF(OR(E125=\"\",'2014 scenario - input'!$D115=\"\"),\"\",E125/'2014 scenario - input'!$D115),\"\")","v":""},{"$f":"IFERROR(IF(OR(F125=\"\",'2014 scenario - input'!$D115=\"\"),\"\",F125/'2014 scenario - input'!$D115),\"\")","v":""},{"$f":"IFERROR(IF(OR(G125=\"\",'2014 scenario - input'!$D115=\"\"),\"\",G125/'2014 scenario - input'!$D115),\"\")","v":""},{"$f":"IFERROR(IF(OR(H125=\"\",'2014 scenario - input'!$D115=\"\"),\"\",H125/'2014 scenario - input'!$D115),\"\")","v":""},{"$f":"IFERROR(IF(OR(I125=\"\",'2014 scenario - input'!$D115=\"\"),\"\",I125/'2014 scenario - input'!$D115),\"\")","v":""},{"$f":"IFERROR(IF(OR(J125=\"\",'2014 scenario - input'!$D115=\"\"),\"\",J125/'2014 scenario - input'!$D115),\"\")","v":""},{"$f":"IFERROR(IF(OR(K125=\"\",'2014 scenario - input'!$D115=\"\"),\"\",K125/'2014 scenario - input'!$D115),\"\")","v":""},{"$f":"IFERROR(IF(OR(L125=\"\",'2014 scenario - input'!$D115=\"\"),\"\",L125/'2014 scenario - input'!$D115),\"\")","v":""},{"$f":"IFERROR(IF(OR(M125=\"\",'2014 scenario - input'!$D115=\"\"),\"\",M125/'2014 scenario - input'!$D115),\"\")","v":""},{"$f":"IFERROR(IF(OR(N125=\"\",'2014 scenario - input'!$D115=\"\"),\"\",N125/'2014 scenario - input'!$D115),\"\")","v":""},{"$f":"IFERROR(IF(OR(O125=\"\",'2014 scenario - input'!$D115=\"\"),\"\",O125/'2014 scenario - input'!$D115),\"\")","v":""},{"$f":"IFERROR(IF(OR(P125=\"\",'2014 scenario - input'!$D115=\"\"),\"\",P125/'2014 scenario - input'!$D115),\"\")","v":""},{"$f":"IFERROR(IF(OR(Q125=\"\",'2014 scenario - input'!$D115=\"\"),\"\",Q125/'2014 scenario - input'!$D115),\"\")","v":""},{"$f":"IFERROR(IF(OR(R125=\"\",'2014 scenario - input'!$D115=\"\"),\"\",R125/'2014 scenario - input'!$D115),\"\")","v":""},{"$f":"IFERROR(IF(OR(S125=\"\",'2014 scenario - input'!$D115=\"\"),\"\",S125/'2014 scenario - input'!$D115),\"\")","v":""},{"$f":"IFERROR(IF(OR(T125=\"\",'2014 scenario - input'!$D115=\"\"),\"\",T125/'2014 scenario - input'!$D115),\"\")","v":""},{"$f":"IFERROR(IF(OR(U125=\"\",'2014 scenario - input'!$D115=\"\"),\"\",U125/'2014 scenario - input'!$D115),\"\")","v":""},{"$f":"IFERROR(IF(OR(V125=\"\",'2014 scenario - input'!$D115=\"\"),\"\",V125/'2014 scenario - input'!$D115),\"\")","v":""},{"$f":"IFERROR(IF(OR(W125=\"\",'2014 scenario - input'!$D115=\"\"),\"\",W125/'2014 scenario - input'!$D115),\"\")","v":""}]
[{"$f":"IFERROR('2014 scenario - input'!A116,\"\")","v":""},{"$f":"IFERROR('2014 scenario - input'!B116,\"\")","v":0},{"$f":"IFERROR('2014 scenario - input'!C116,\"\")","v":0},{"$f":"IFERROR(repcalc('2014 scenario - input'!$CV116:$GH116,'2014 scenario - input'!$G116,'2014 scenario - input'!$E116,'2014 scenario - input'!$F116,20,TRUE,TRUE),\"\")","v":""},"","","","","","","","","","","","","","","","","","","",{"$f":"IFERROR(IF(OR(D126=\"\",'2014 scenario - input'!$D116=\"\"),\"\",D126/'2014 scenario - input'!$D116),\"\")","v":""},{"$f":"IFERROR(IF(OR(E126=\"\",'2014 scenario - input'!$D116=\"\"),\"\",E126/'2014 scenario - input'!$D116),\"\")","v":""},{"$f":"IFERROR(IF(OR(F126=\"\",'2014 scenario - input'!$D116=\"\"),\"\",F126/'2014 scenario - input'!$D116),\"\")","v":""},{"$f":"IFERROR(IF(OR(G126=\"\",'2014 scenario - input'!$D116=\"\"),\"\",G126/'2014 scenario - input'!$D116),\"\")","v":""},{"$f":"IFERROR(IF(OR(H126=\"\",'2014 scenario - input'!$D116=\"\"),\"\",H126/'2014 scenario - input'!$D116),\"\")","v":""},{"$f":"IFERROR(IF(OR(I126=\"\",'2014 scenario - input'!$D116=\"\"),\"\",I126/'2014 scenario - input'!$D116),\"\")","v":""},{"$f":"IFERROR(IF(OR(J126=\"\",'2014 scenario - input'!$D116=\"\"),\"\",J126/'2014 scenario - input'!$D116),\"\")","v":""},{"$f":"IFERROR(IF(OR(K126=\"\",'2014 scenario - input'!$D116=\"\"),\"\",K126/'2014 scenario - input'!$D116),\"\")","v":""},{"$f":"IFERROR(IF(OR(L126=\"\",'2014 scenario - input'!$D116=\"\"),\"\",L126/'2014 scenario - input'!$D116),\"\")","v":""},{"$f":"IFERROR(IF(OR(M126=\"\",'2014 scenario - input'!$D116=\"\"),\"\",M126/'2014 scenario - input'!$D116),\"\")","v":""},{"$f":"IFERROR(IF(OR(N126=\"\",'2014 scenario - input'!$D116=\"\"),\"\",N126/'2014 scenario - input'!$D116),\"\")","v":""},{"$f":"IFERROR(IF(OR(O126=\"\",'2014 scenario - input'!$D116=\"\"),\"\",O126/'2014 scenario - input'!$D116),\"\")","v":""},{"$f":"IFERROR(IF(OR(P126=\"\",'2014 scenario - input'!$D116=\"\"),\"\",P126/'2014 scenario - input'!$D116),\"\")","v":""},{"$f":"IFERROR(IF(OR(Q126=\"\",'2014 scenario - input'!$D116=\"\"),\"\",Q126/'2014 scenario - input'!$D116),\"\")","v":""},{"$f":"IFERROR(IF(OR(R126=\"\",'2014 scenario - input'!$D116=\"\"),\"\",R126/'2014 scenario - input'!$D116),\"\")","v":""},{"$f":"IFERROR(IF(OR(S126=\"\",'2014 scenario - input'!$D116=\"\"),\"\",S126/'2014 scenario - input'!$D116),\"\")","v":""},{"$f":"IFERROR(IF(OR(T126=\"\",'2014 scenario - input'!$D116=\"\"),\"\",T126/'2014 scenario - input'!$D116),\"\")","v":""},{"$f":"IFERROR(IF(OR(U126=\"\",'2014 scenario - input'!$D116=\"\"),\"\",U126/'2014 scenario - input'!$D116),\"\")","v":""},{"$f":"IFERROR(IF(OR(V126=\"\",'2014 scenario - input'!$D116=\"\"),\"\",V126/'2014 scenario - input'!$D116),\"\")","v":""},{"$f":"IFERROR(IF(OR(W126=\"\",'2014 scenario - input'!$D116=\"\"),\"\",W126/'2014 scenario - input'!$D116),\"\")","v":""}]