{"text_format":"1","workbook":"xlsx","n_sheets":10,"sheets":["2017 DUOS Ex GST","2017 TUOS Ex GST","2017 NUOS Ex GST","2017 DUOS Incl GST","2017 TUOS Incl GST","2017 NUOS Incl GST","PFIT TFIT Ex GST","PFIT TFIT Incl GST","Prescribed Ex GST","Prescribed Incl GST"],"not_rendered":{"charts":0,"images":0,"macros":0,"external_links":0,"defined_names":6,"comments":0,"pivot_tables":0},"unopened":[],"bounds":{"document_bytes":16777216,"sheet_cells":100000,"rows_first":2000,"rows_last":500,"rows_between":2000,"halvings":0,"cell_chars":16384,"cell_head_chars":4096},"cells_cut":0,"cells_raw":0,"read":"whole","date_system":"1900"}

{"sheet":"2017 DUOS Ex GST","index":0,"n_rows":40,"n_cols":21,"rows_kept":40,"cut":false,"hidden":false,"merged":[[1,1,1,19],[3,4,3,16],[3,17,3,18],[26,17,26,18]]}
[]
[null,"Schedule of Indicative Distribution Use of System (DUOS) Tariffs: 1 January 2017 (GST Exclusive)"]
[]
[null,null,null,null,"Network Tariff Component",null,null,null,null,null,null,null,null,null,null,null,null,"Eligibility (consumption/   category)",null,"Minimum Chargeable Rolling Demand","Minimum Chargeable Demand"]
[null,"Description","Tariff Code","PFIT (F)\nTFIT (T)","Standing Charge (c/day)","Summer Peak Energy (c/kWh)","Non Summer Peak Energy Block 1 (c/kWh)","Non Summer Peak Energy Block 2 (c/kWh)","Summer Shoulder Energy (c/kWh)","Non Summer Shoulder Energy (c/kWh)","Off Peak Energy (c/kWh)","Rolling Peak Demand c/kVA/day","Summer Demand Incentive Charge c/kW/day or c/kVA/day","Summer Demand Max kW  c/KW/day","Non-summer Demand Max kW  c/KW/day","Summer Demand Overrun Max kW  c/KW/day","Non-summer Demand Overrun Max kW  c/KW/day","kVA","MWh pa","kVA","kW"]
[null,"Low voltage small 1 rate","LVS1R","F",6.6520000000000001,8.202,5.28,0,0,0,0,0,0,0,0,0,0,"NA","<20"]
[null,"Low voltage small 2 rate*","LVS2R*",null,13.586,9.7509999999999994,7.3959999999999999,0,0,0,1.6910000000000001,0,0,0,0,0,0]
[null,"Dedicated circuit**","LVDed**",null,0,0,0,0,0,0,1.871,0,0,0,0,0,0,"NA","<20 (on LVS1R)"]
[null,"Unmetered supplies","UnMet",null,0,8.1969999999999992,5.9960000000000004,0,0,0,1.478,0,0,0,0,0,0]
[null,"Winter Energy Tariff*","WET2Step*",null,8.5670000000000002,6.3890000000000002,4.734,1.774,0,0,0,0,0,0,0,0,0]
[null,"Reverse cycle airconditioning time of use*","RCACkWTOU*",null,0,5.5529999999999999,1.3959999999999999,0,0,0,1.371,0,69.766999999999996,0,0,0,0]
[null,"Low voltage medium 1 rate","LVM1R","F",10.987,9.657,6.0259999999999998,0,0,0,0,0,0,0,0,0,0,"NA",">20 & <400"]
[null,"Low voltage medium 2 rate 5 day*","LVM2R5D*",null,21.03,10.212,7.6529999999999996,0,0,0,1.907,0,0,0,0,0,0]
[null,"Low voltage medium 2 rate 7 day*","LVM2R7D*",null,22.387,9.7189999999999994,7.5259999999999998,0,0,0,1.7729999999999999,0,0,0,0,0,0]
[null,"Low voltage KW time of use*","LVkWTOU*",null,0,8.4039999999999999,4.9240000000000004,0,0,0,1.9570000000000001,0,40.244999999999997,0,0,0,0]
[null,"Low voltage KW time of use - HOT*","LVkWTOUH*",null,0,7.3170000000000002,5.625,0,0,0,1.653,0,64.394000000000005,0,0,0,0]
[null,"Low voltage large 1 rate*","LVL1R*",null,12.657,5.7960000000000003,4.5730000000000004,0,0,0,0,0,0,0,0,0,0]
[null,"Low voltage large 2 rate*","LVL2R*",null,18.257999999999999,9.0739999999999998,7.2149999999999999,0,0,0,1.7270000000000001,0,0,0,0,0,0]
[null,"Low voltage large KVA time of use","LVkVATOU",null,0,1.3049999999999999,1.1060000000000001,0,0,0,1.095,13.172000000000001,19.649999999999999,0,0,0,0,">150",">400",150]
[null,"Low voltage large KVA time of use - HOT*","LVkVATOUH*",null,0,1.139,0.94199999999999995,0,0,0,0.93600000000000005,13.106999999999999,30.917000000000002,0,0,0,0,null,null,150]
[null,"High voltage KVA time of use","HVkVATOU",null,0,0.78600000000000003,0.69399999999999995,0,0,0,0.68200000000000005,8.0120000000000005,11.003,0,0,0,0,">150",">400",1150]
[null,"High voltage KVA time of use - HOT*","HVkVATOUH*",null,0,0.81399999999999995,0.67300000000000004,0,0,0,0.66500000000000004,9.2409999999999997,22.376999999999999,0,0,0,0,null,null,1150]
[null,"Subtransmission KVA time of use*","SubTkVATOU*",null,0,0.44800000000000001,0.34899999999999998,0,0,0,0.30199999999999999,0.78400000000000003,1.149,0,0,0,0,null,null,11100]
[null,"Time of Day","TOD","F",6.3280000000000003,15.212,8.9649999999999999,0,4.2869999999999999,3.1579999999999999,2.9329999999999998,0,0,0,0,0,0,"NA","<20"]
[null,"Time of Use","TOU","F",0,9.0960000000000001,5.5259999999999998,0,0,0,2.6680000000000001,0,39.500999999999998,0,0,0,0,"NA",">20 & <400"]
[null,"Time of Day 9pm off-peak","TOD9","F",6.5640000000000001,17.152000000000001,10.659000000000001,0,5.3170000000000002,4.2709999999999999,4.0629999999999997,0,0,0,0,0,0,"NA","<20"]
[null,"Time of Day Flexible","TODFLEX","F",7.069,16.873999999999999,9.6859999999999999,0,4.5819999999999999,4.5819999999999999,3.8849999999999998,0,0,0,0,0,0,"Residential Customer"]
[null,"Low voltage KW 1 rate1","RESKW1R1","F",0,2.6280000000000001,2.6280000000000001,2.6280000000000001,2.6280000000000001,2.6280000000000001,2.6280000000000001,0,0,25.32,9.9920000000000009,0,0,"NA","<20",null,1.5]
[null,"Low Voltage Medium kW Time of Use (Opt-in)2","LVMKWTOU2","F",0,3.476,3.476,3.476,3.476,3.476,3.476,0,0,28.751999999999999,19.167999999999999,0,0,"NA",">20 & <400",null,1.5]
[null,"Low Voltage Medium kW 1 rate (Mandatory)3","LVMKW1R3","F",0,5.3339999999999996,5.3339999999999996,5.3339999999999996,5.3339999999999996,5.3339999999999996,5.3339999999999996,0,0,17.873000000000001,11.914999999999999,0,0,"NA",">40 & <400",null,1.5]
[]
[]
[null,"* Tariff closed to premises not already taking supply under this tariff and new connections."]
[null,"** Tariff only available in conjunction with the LVS1R tariff for new connections."]
[null,"Summer peak energy rates apply for period 1st November to 31st March (except TODFLEX which follows daylight savings periods) & RESKWTOU which applies from 1st December to 31st March."]
[null,"Non-summer peak energy rates apply for period 1st April to 31st October (except TODFLEX which follows non-daylight savings periods) & RESKWTOU which applies from 1st April to 30th November."]
[null,"PFIT (Premium Feed-In Tariff) is defined by an “F” added to the front of an existing distribution tariff ie. FTOD. The PFIT tariffs are closed to new connections. "]
[null,"1 RESKW1R csutomers transitioned from RESKWTOU on 1 April 2016."]
[null,"2 LVMKWTOU available from 1st July 2016 for low voltage business customers with energy consumption between 20-40MWh per annum as an opt-in transition."]
[null,"3 LVMKW1R available from 1st January 2017 for low voltage business customers with energy consumption between 40-400MWh per annum as a mandatory transition."]

{"sheet":"2017 TUOS Ex GST","index":1,"n_rows":40,"n_cols":21,"rows_kept":40,"cut":false,"hidden":false,"merged":[[1,1,1,19],[3,4,3,16],[3,17,3,18],[26,17,26,18]]}
[]
[null,"Schedule of Indicative Transmission Use of System (TUOS) Tariffs: 1 January 2017 (GST Exclusive)"]
[]
[null,null,null,null,"Network Tariff Component",null,null,null,null,null,null,null,null,null,null,null,null,"Eligibility (consumption/   category)",null,"Minimum Chargeable Rolling Demand","Minimum Chargeable Demand"]
[null,"Description","Tariff Code","PFIT (F)\nTFIT (T)","Standing Charge (c/day)","Summer Peak Energy (c/kWh)","Non Summer Peak Energy Block 1 (c/kWh)","Non Summer Peak Energy Block 2 (c/kWh)","Summer Shoulder Energy (c/kWh)","Non Summer Shoulder Energy (c/kWh)","Off Peak Energy (c/kWh)","Rolling Peak Demand c/kVA/day","Summer Demand Incentive Charge c/kW/day or c/kVA/day","Summer Demand Max kW  c/KW/day","Non-summer Demand Max kW  c/KW/day","Summer Demand Overrun Max kW  c/KW/day","Non-summer Demand Overrun Max kW  c/KW/day","kVA","MWh pa","kVA","kW"]
[null,"Low voltage small 1 rate","LVS1R","F",0,2.0699999999999998,1.73,0,0,0,0,0,0,0,0,0,0,"NA","<20"]
[null,"Low voltage small 2 rate*","LVS2R*",null,0,3.476,2.782,0,0,0,0,0,0,0,0,0,0]
[null,"Dedicated circuit**","LVDed**",null,0,0,0,0,0,0,0,0,0,0,0,0,0,"NA","<20 (on LVS1R)"]
[null,"Unmetered supplies","UnMet",null,0,3.2570000000000001,2.6030000000000002,0,0,0,0,0,0,0,0,0,0]
[null,"Winter Energy Tariff*","WET2Step*",null,0,2.3159999999999998,1.853,1.853,0,0,0,0,0,0,0,0,0]
[null,"Reverse cycle airconditioning time of use*","RCACkWTOU*",null,0,15.694000000000001,3.4950000000000001,0,0,0,0,0,9.952,0,0,0,0]
[null,"Low voltage medium 1 rate","LVM1R","F",0,2.4319999999999999,1.9419999999999999,0,0,0,0,0,0,0,0,0,0,"NA",">20 & <400"]
[null,"Low voltage medium 2 rate 5 day*","LVM2R5D*",null,0,2.1059999999999999,1.6839999999999999,0,0,0,0,0,0,0,0,0,0]
[null,"Low voltage medium 2 rate 7 day*","LVM2R7D*",null,0,2.5070000000000001,2.0070000000000001,0,0,0,0,0,0,0,0,0,0]
[null,"Low voltage KW time of use*","LVkWTOU*",null,0,1.9510000000000001,1.56,0,0,0,0,0,9.1,0,0,0,0]
[null,"Low voltage KW time of use - HOT*","LVkWTOUH*",null,0,1.0669999999999999,0.85299999999999998,0,0,0,0,0,9.5630000000000006,0,0,0,0]
[null,"Low voltage large 1 rate*","LVL1R*",null,0,2.4249999999999998,1.9379999999999999,0,0,0,0,0,0,0,0,0,0]
[null,"Low voltage large 2 rate*","LVL2R*",null,0,1.8640000000000001,1.4930000000000001,0,0,0,0,0,0,0,0,0,0]
[null,"Low voltage large KVA time of use","LVkVATOU",null,0,1.0629999999999999,0.85299999999999998,0,0,0,0,4.3390000000000004,5.931,0,0,0,0,">150",">400",150]
[null,"Low voltage large KVA time of use - HOT*","LVkVATOUH*",null,0,0.67100000000000004,0.53800000000000003,0,0,0,0,2.738,7.2,0,0,0,0,null,null,150]
[null,"High voltage KVA time of use","HVkVATOU",null,0,0.747,0.59799999999999998,0,0,0,0,4.9690000000000003,5.2160000000000002,0,0,0,0,">150",">400",1150]
[null,"High voltage KVA time of use - HOT*","HVkVATOUH*",null,0,0.43,0.34200000000000003,0,0,0,0,2.8490000000000002,5.7510000000000003,0,0,0,0,null,null,1150]
[null,"Subtransmission KVA time of use*","SubTkVATOU*",null,0,0.504,0.40600000000000003,0,0,0,0,3.5720000000000001,4.3339999999999996,0,0,0,0,null,null,11100]
[null,"Time of Day","TOD","F",0,3.3530000000000002,2.8460000000000001,0,2.8460000000000001,2.5129999999999999,0,0,0,0,0,0,0,"NA","<20"]
[null,"Time of Use","TOU","F",0,2.4910000000000001,1.1439999999999999,0,0,0,0,0,6.5270000000000001,0,0,0,0,"NA",">20 & <400"]
[null,"Time of Day 9pm off-peak","TOD9","F",0,4.5,4.1829999999999998,0,4.1829999999999998,3.9750000000000001,0,0,0,0,0,0,0,"NA","<20"]
[null,"Time of Day Flexible","TODFLEX","F",0,3.8050000000000002,3.5489999999999999,0,1.901,1.677,0,0,0,0,0,0,0,"Residential Customer"]
[null,"Low voltage KW 1 rate1","RESKW1R1","F",0,0.69899999999999995,0.69899999999999995,0.69899999999999995,0.69899999999999995,0.69899999999999995,0.69899999999999995,0,0,5.2380000000000004,3.4049999999999998,0,0,"NA","<20",null,1.5]
[null,"Low Voltage Medium kW Time of Use (Opt-in)2","LVMKWTOU2","F",0,0.88400000000000001,0.88400000000000001,0.88400000000000001,0.88400000000000001,0.88400000000000001,0.88400000000000001,0,0,7.31,4.8739999999999997,0,0,"NA",">20 & <400",null,1.5]
[null,"Low Voltage Medium kW 1 rate (Mandatory)3","LVMKW1R3","F",0,1.3320000000000001,1.3320000000000001,1.3320000000000001,1.3320000000000001,1.3320000000000001,1.3320000000000001,0,0,4.4640000000000004,2.976,0,0,"NA",">40 & <400",null,1.5]
[]
[]
[null,"* Tariff closed to premises not already taking supply under this tariff and new connections."]
[null,"** Tariff only available in conjunction with the LVS1R tariff for new connections."]
[null,"Summer peak energy rates apply for period 1st November to 31st March (except TODFLEX which follows daylight savings periods) & RESKWTOU which applies from 1st December to 31st March."]
[null,"Non-summer peak energy rates apply for period 1st April to 31st October (except TODFLEX which follows non-daylight savings periods) & RESKWTOU which applies from 1st April to 30th November."]
[null,"PFIT (Premium Feed-In Tariff) is defined by an “F” added to the front of an existing distribution tariff ie. FTOD. The PFIT tariffs are closed to new connections. "]
[null,"1 RESKW1R csutomers transitioned from RESKWTOU on 1 April 2016."]
[null,"2 LVMKWTOU available from 1st July 2016 for low voltage business customers with energy consumption between 20-40MWh per annum as an opt-in transition."]
[null,"3 LVMKW1R available from 1st January 2017 for low voltage business customers with energy consumption between 40-400MWh per annum as a mandatory transition."]

{"sheet":"2017 NUOS Ex GST","index":2,"n_rows":40,"n_cols":21,"rows_kept":40,"cut":false,"hidden":false,"merged":[[1,1,1,19],[3,4,3,16],[3,17,3,18],[26,17,26,18]]}
[]
[null,"Schedule of Indicative Network Use of System (NUOS) Tariffs: 1 January 2017 (GST Exclusive)"]
[]
[null,null,null,null,"Network Tariff Component",null,null,null,null,null,null,null,null,null,null,null,null,"Eligibility (consumption/   category)",null,"Minimum Chargeable Rolling Demand","Minimum Chargeable Demand"]
[null,"Description","Tariff Code","PFIT (F)\nTFIT (T)","Standing Charge (c/day)","Summer Peak Energy (c/kWh)","Non Summer Peak Energy Block 1 (c/kWh)","Non Summer Peak Energy Block 2 (c/kWh)","Summer Shoulder Energy (c/kWh)","Non Summer Shoulder Energy (c/kWh)","Off Peak Energy (c/kWh)","Rolling Peak Demand c/kVA/day","Summer Demand Incentive Charge c/kW/day or c/kVA/day","Summer Demand Max kW  c/KW/day","Non-summer Demand Max kW  c/KW/day","Summer Demand Overrun Max kW  c/KW/day","Non-summer Demand Overrun Max kW  c/KW/day","kVA","MWh pa","kVA","kW"]
[null,"Low voltage small 1 rate","LVS1R","F",6.6520000000000001,10.272,7.01,0,0,0,0,0,0,0,0,0,0,"NA","<20"]
[null,"Low voltage small 2 rate*","LVS2R*",null,13.586,13.227,10.178000000000001,0,0,0,1.6910000000000001,0,0,0,0,0,0]
[null,"Dedicated circuit**","LVDed**",null,0,0,0,0,0,0,1.871,0,0,0,0,0,0,"NA","<20 (on LVS1R)"]
[null,"Unmetered supplies","UnMet",null,0,11.453999999999999,8.5990000000000002,0,0,0,1.478,0,0,0,0,0,0]
[null,"Winter Energy Tariff*","WET2Step*",null,8.5670000000000002,8.7050000000000001,6.5869999999999997,3.6269999999999998,0,0,0,0,0,0,0,0,0]
[null,"Reverse cycle airconditioning time of use*","RCACkWTOU*",null,0,21.247,4.891,0,0,0,1.371,0,79.718999999999994,0,0,0,0]
[null,"Low voltage medium 1 rate","LVM1R","F",10.987,12.089,7.968,0,0,0,0,0,0,0,0,0,0,"NA",">20 & <400"]
[null,"Low voltage medium 2 rate 5 day*","LVM2R5D*",null,21.03,12.318,9.3369999999999997,0,0,0,1.907,0,0,0,0,0,0]
[null,"Low voltage medium 2 rate 7 day*","LVM2R7D*",null,22.387,12.225999999999999,9.5329999999999995,0,0,0,1.7729999999999999,0,0,0,0,0,0]
[null,"Low voltage KW time of use*","LVkWTOU*",null,0,10.355,6.484,0,0,0,1.9570000000000001,0,49.344999999999999,0,0,0,0]
[null,"Low voltage KW time of use - HOT*","LVkWTOUH*",null,0,8.3840000000000003,6.4779999999999998,0,0,0,1.653,0,73.957000000000008,0,0,0,0]
[null,"Low voltage large 1 rate*","LVL1R*",null,12.657,8.2210000000000001,6.5110000000000001,0,0,0,0,0,0,0,0,0,0]
[null,"Low voltage large 2 rate*","LVL2R*",null,18.257999999999999,10.938000000000001,8.7080000000000002,0,0,0,1.7270000000000001,0,0,0,0,0,0]
[null,"Low voltage large KVA time of use","LVkVATOU",null,0,2.3679999999999999,1.9590000000000001,0,0,0,1.095,17.511000000000003,25.581,0,0,0,0,">150",">400",150]
[null,"Low voltage large KVA time of use - HOT*","LVkVATOUH*",null,0,1.81,1.48,0,0,0,0.93600000000000005,15.844999999999999,38.117000000000004,0,0,0,0,null,null,150]
[null,"High voltage KVA time of use","HVkVATOU",null,0,1.5329999999999999,1.2919999999999998,0,0,0,0.68200000000000005,12.981000000000002,16.219000000000001,0,0,0,0,">150",">400",1150]
[null,"High voltage KVA time of use - HOT*","HVkVATOUH*",null,0,1.244,1.0150000000000001,0,0,0,0.66500000000000004,12.09,28.128,0,0,0,0,null,null,1150]
[null,"Subtransmission KVA time of use*","SubTkVATOU*",null,0,0.95199999999999996,0.755,0,0,0,0.30199999999999999,4.3559999999999999,5.4829999999999997,0,0,0,0,null,null,11100]
[null,"Time of Day","TOD","F",6.3280000000000003,18.565000000000001,11.811,0,7.133,5.6709999999999994,2.9329999999999998,0,0,0,0,0,0,"NA","<20"]
[null,"Time of Use","TOU","F",0,11.587,6.67,0,0,0,2.6680000000000001,0,46.027999999999999,0,0,0,0,"NA",">20 & <400"]
[null,"Time of Day 9pm off-peak","TOD9","F",6.5640000000000001,21.652000000000001,14.842000000000001,0,9.5,8.2460000000000004,4.0629999999999997,0,0,0,0,0,0,"NA","<20"]
[null,"Time of Day Flexible","TODFLEX","F",7.069,20.678999999999998,13.234999999999999,0,6.4829999999999997,6.2590000000000003,3.8849999999999998,0,0,0,0,0,0,"Residential Customer"]
[null,"Low voltage KW 1 rate1","RESKW1R1","F",0,3.327,3.327,3.327,3.327,3.327,3.327,0,0,30.558,13.397,0,0,"NA","<20",null,1.5]
[null,"Low Voltage Medium kW Time of Use (Opt-in)2","LVMKWTOU2","F",0,4.3600000000000003,4.3600000000000003,4.3600000000000003,4.3600000000000003,4.3600000000000003,4.3600000000000003,0,0,36.061999999999998,24.041999999999998,0,0,"NA",">20 & <400",null,1.5]
[null,"Low Voltage Medium kW 1 rate (Mandatory)3","LVMKW1R3","F",0,6.6659999999999995,6.6659999999999995,6.6659999999999995,6.6659999999999995,6.6659999999999995,6.6659999999999995,0,0,22.337000000000003,14.890999999999998,0,0,"NA",">40 & <400",null,1.5]
[]
[]
[null,"* Tariff closed to premises not already taking supply under this tariff and new connections."]
[null,"** Tariff only available in conjunction with the LVS1R tariff for new connections."]
[null,"Summer peak energy rates apply for period 1st November to 31st March (except TODFLEX which follows daylight savings periods) & RESKWTOU which applies from 1st December to 31st March."]
[null,"Non-summer peak energy rates apply for period 1st April to 31st October (except TODFLEX which follows non-daylight savings periods) & RESKWTOU which applies from 1st April to 30th November."]
[null,"PFIT (Premium Feed-In Tariff) is defined by an “F” added to the front of an existing distribution tariff ie. FTOD. The PFIT tariffs are closed to new connections. "]
[null,"1 RESKW1R csutomers transitioned from RESKWTOU on 1 April 2016."]
[null,"2 LVMKWTOU available from 1st July 2016 for low voltage business customers with energy consumption between 20-40MWh per annum as an opt-in transition."]
[null,"3 LVMKW1R available from 1st January 2017 for low voltage business customers with energy consumption between 40-400MWh per annum as a mandatory transition."]

{"sheet":"2017 DUOS Incl GST","index":3,"n_rows":40,"n_cols":21,"rows_kept":40,"cut":false,"hidden":false,"merged":[[1,1,1,19],[3,4,3,16],[3,17,3,18],[26,17,26,18]]}
[]
[null,"Schedule of Indicative Distribution Use of System (DUOS) Tariffs: 1 January 2017 (GST Inclusive)"]
[]
[null,null,null,null,"Network Tariff Component",null,null,null,null,null,null,null,null,null,null,null,null,"Eligibility (consumption/   category)",null,"Minimum Chargeable Rolling Demand","Minimum Chargeable Demand"]
[null,"Description","Tariff Code","PFIT (F)\nTFIT (T)","Standing Charge (c/day)","Summer Peak Energy (c/kWh)","Non Summer Peak Energy Block 1 (c/kWh)","Non Summer Peak Energy Block 2 (c/kWh)","Summer Shoulder Energy (c/kWh)","Non Summer Shoulder Energy (c/kWh)","Off Peak Energy (c/kWh)","Rolling Peak Demand c/kVA/day","Summer Demand Incentive Charge c/kW/day or c/kVA/day","Summer Demand Max kW  c/KW/day","Non-summer Demand Max kW  c/KW/day","Summer Demand Overrun Max kW  c/KW/day","Non-summer Demand Overrun Max kW  c/KW/day","kVA","MWh pa","kVA","kW"]
[null,"Low voltage small 1 rate","LVS1R","F",{"$f":"'2017 DUOS Ex GST'!E6*1.1","v":7.3172000000000006},{"$f":"'2017 DUOS Ex GST'!F6*1.1","v":9.0222000000000016},{"$f":"'2017 DUOS Ex GST'!G6*1.1","v":5.8080000000000007},{"$f":"'2017 DUOS Ex GST'!H6*1.1","v":0},{"$f":"'2017 DUOS Ex GST'!I6*1.1","v":0},{"$f":"'2017 DUOS Ex GST'!J6*1.1","v":0},{"$f":"'2017 DUOS Ex GST'!K6*1.1","v":0},{"$f":"'2017 DUOS Ex GST'!L6*1.1","v":0},{"$f":"'2017 DUOS Ex GST'!M6*1.1","v":0},{"$f":"'2017 DUOS Ex GST'!N6*1.1","v":0},{"$f":"'2017 DUOS Ex GST'!O6*1.1","v":0},{"$f":"'2017 DUOS Ex GST'!P6*1.1","v":0},{"$f":"'2017 DUOS Ex GST'!Q6*1.1","v":0},"NA","<20"]
[null,"Low voltage small 2 rate*","LVS2R*",null,{"$f":"'2017 DUOS Ex GST'!E7*1.1","v":14.944600000000001},{"$f":"'2017 DUOS Ex GST'!F7*1.1","v":10.726100000000001},{"$f":"'2017 DUOS Ex GST'!G7*1.1","v":8.1356000000000002},{"$f":"'2017 DUOS Ex GST'!H7*1.1","v":0},{"$f":"'2017 DUOS Ex GST'!I7*1.1","v":0},{"$f":"'2017 DUOS Ex GST'!J7*1.1","v":0},{"$f":"'2017 DUOS Ex GST'!K7*1.1","v":1.8601000000000003},{"$f":"'2017 DUOS Ex GST'!L7*1.1","v":0},{"$f":"'2017 DUOS Ex GST'!M7*1.1","v":0},{"$f":"'2017 DUOS Ex GST'!N7*1.1","v":0},{"$f":"'2017 DUOS Ex GST'!O7*1.1","v":0},{"$f":"'2017 DUOS Ex GST'!P7*1.1","v":0},{"$f":"'2017 DUOS Ex GST'!Q7*1.1","v":0}]
[null,"Dedicated circuit**","LVDed**",null,{"$f":"'2017 DUOS Ex GST'!E8*1.1","v":0},{"$f":"'2017 DUOS Ex GST'!F8*1.1","v":0},{"$f":"'2017 DUOS Ex GST'!G8*1.1","v":0},{"$f":"'2017 DUOS Ex GST'!H8*1.1","v":0},{"$f":"'2017 DUOS Ex GST'!I8*1.1","v":0},{"$f":"'2017 DUOS Ex GST'!J8*1.1","v":0},{"$f":"'2017 DUOS Ex GST'!K8*1.1","v":2.0581},{"$f":"'2017 DUOS Ex GST'!L8*1.1","v":0},{"$f":"'2017 DUOS Ex GST'!M8*1.1","v":0},{"$f":"'2017 DUOS Ex GST'!N8*1.1","v":0},{"$f":"'2017 DUOS Ex GST'!O8*1.1","v":0},{"$f":"'2017 DUOS Ex GST'!P8*1.1","v":0},{"$f":"'2017 DUOS Ex GST'!Q8*1.1","v":0},"NA","<20 (on LVS1R)"]
[null,"Unmetered supplies","UnMet",null,{"$f":"'2017 DUOS Ex GST'!E9*1.1","v":0},{"$f":"'2017 DUOS Ex GST'!F9*1.1","v":9.0167000000000002},{"$f":"'2017 DUOS Ex GST'!G9*1.1","v":6.595600000000001},{"$f":"'2017 DUOS Ex GST'!H9*1.1","v":0},{"$f":"'2017 DUOS Ex GST'!I9*1.1","v":0},{"$f":"'2017 DUOS Ex GST'!J9*1.1","v":0},{"$f":"'2017 DUOS Ex GST'!K9*1.1","v":1.6258000000000001},{"$f":"'2017 DUOS Ex GST'!L9*1.1","v":0},{"$f":"'2017 DUOS Ex GST'!M9*1.1","v":0},{"$f":"'2017 DUOS Ex GST'!N9*1.1","v":0},{"$f":"'2017 DUOS Ex GST'!O9*1.1","v":0},{"$f":"'2017 DUOS Ex GST'!P9*1.1","v":0},{"$f":"'2017 DUOS Ex GST'!Q9*1.1","v":0}]
[null,"Winter Energy Tariff*","WET2Step*",null,{"$f":"'2017 DUOS Ex GST'!E10*1.1","v":9.4237000000000002},{"$f":"'2017 DUOS Ex GST'!F10*1.1","v":7.0279000000000007},{"$f":"'2017 DUOS Ex GST'!G10*1.1","v":5.2074000000000007},{"$f":"'2017 DUOS Ex GST'!H10*1.1","v":1.9514000000000002},{"$f":"'2017 DUOS Ex GST'!I10*1.1","v":0},{"$f":"'2017 DUOS Ex GST'!J10*1.1","v":0},{"$f":"'2017 DUOS Ex GST'!K10*1.1","v":0},{"$f":"'2017 DUOS Ex GST'!L10*1.1","v":0},{"$f":"'2017 DUOS Ex GST'!M10*1.1","v":0},{"$f":"'2017 DUOS Ex GST'!N10*1.1","v":0},{"$f":"'2017 DUOS Ex GST'!O10*1.1","v":0},{"$f":"'2017 DUOS Ex GST'!P10*1.1","v":0},{"$f":"'2017 DUOS Ex GST'!Q10*1.1","v":0}]
[null,"Reverse cycle airconditioning time of use*","RCACkWTOU*",null,{"$f":"'2017 DUOS Ex GST'!E11*1.1","v":0},{"$f":"'2017 DUOS Ex GST'!F11*1.1","v":6.1083000000000007},{"$f":"'2017 DUOS Ex GST'!G11*1.1","v":1.5356000000000001},{"$f":"'2017 DUOS Ex GST'!H11*1.1","v":0},{"$f":"'2017 DUOS Ex GST'!I11*1.1","v":0},{"$f":"'2017 DUOS Ex GST'!J11*1.1","v":0},{"$f":"'2017 DUOS Ex GST'!K11*1.1","v":1.5081000000000002},{"$f":"'2017 DUOS Ex GST'!L11*1.1","v":0},{"$f":"'2017 DUOS Ex GST'!M11*1.1","v":76.743700000000004},{"$f":"'2017 DUOS Ex GST'!N11*1.1","v":0},{"$f":"'2017 DUOS Ex GST'!O11*1.1","v":0},{"$f":"'2017 DUOS Ex GST'!P11*1.1","v":0},{"$f":"'2017 DUOS Ex GST'!Q11*1.1","v":0}]
[null,"Low voltage medium 1 rate","LVM1R","F",{"$f":"'2017 DUOS Ex GST'!E12*1.1","v":12.085700000000001},{"$f":"'2017 DUOS Ex GST'!F12*1.1","v":10.6227},{"$f":"'2017 DUOS Ex GST'!G12*1.1","v":6.6286000000000005},{"$f":"'2017 DUOS Ex GST'!H12*1.1","v":0},{"$f":"'2017 DUOS Ex GST'!I12*1.1","v":0},{"$f":"'2017 DUOS Ex GST'!J12*1.1","v":0},{"$f":"'2017 DUOS Ex GST'!K12*1.1","v":0},{"$f":"'2017 DUOS Ex GST'!L12*1.1","v":0},{"$f":"'2017 DUOS Ex GST'!M12*1.1","v":0},{"$f":"'2017 DUOS Ex GST'!N12*1.1","v":0},{"$f":"'2017 DUOS Ex GST'!O12*1.1","v":0},{"$f":"'2017 DUOS Ex GST'!P12*1.1","v":0},{"$f":"'2017 DUOS Ex GST'!Q12*1.1","v":0},"NA",">20 & <400"]
[null,"Low voltage medium 2 rate 5 day*","LVM2R5D*",null,{"$f":"'2017 DUOS Ex GST'!E13*1.1","v":23.133000000000003},{"$f":"'2017 DUOS Ex GST'!F13*1.1","v":11.2332},{"$f":"'2017 DUOS Ex GST'!G13*1.1","v":8.4183000000000003},{"$f":"'2017 DUOS Ex GST'!H13*1.1","v":0},{"$f":"'2017 DUOS Ex GST'!I13*1.1","v":0},{"$f":"'2017 DUOS Ex GST'!J13*1.1","v":0},{"$f":"'2017 DUOS Ex GST'!K13*1.1","v":2.0977000000000001},{"$f":"'2017 DUOS Ex GST'!L13*1.1","v":0},{"$f":"'2017 DUOS Ex GST'!M13*1.1","v":0},{"$f":"'2017 DUOS Ex GST'!N13*1.1","v":0},{"$f":"'2017 DUOS Ex GST'!O13*1.1","v":0},{"$f":"'2017 DUOS Ex GST'!P13*1.1","v":0},{"$f":"'2017 DUOS Ex GST'!Q13*1.1","v":0}]
[null,"Low voltage medium 2 rate 7 day*","LVM2R7D*",null,{"$f":"'2017 DUOS Ex GST'!E14*1.1","v":24.625700000000002},{"$f":"'2017 DUOS Ex GST'!F14*1.1","v":10.690900000000001},{"$f":"'2017 DUOS Ex GST'!G14*1.1","v":8.2786000000000008},{"$f":"'2017 DUOS Ex GST'!H14*1.1","v":0},{"$f":"'2017 DUOS Ex GST'!I14*1.1","v":0},{"$f":"'2017 DUOS Ex GST'!J14*1.1","v":0},{"$f":"'2017 DUOS Ex GST'!K14*1.1","v":1.9503000000000001},{"$f":"'2017 DUOS Ex GST'!L14*1.1","v":0},{"$f":"'2017 DUOS Ex GST'!M14*1.1","v":0},{"$f":"'2017 DUOS Ex GST'!N14*1.1","v":0},{"$f":"'2017 DUOS Ex GST'!O14*1.1","v":0},{"$f":"'2017 DUOS Ex GST'!P14*1.1","v":0},{"$f":"'2017 DUOS Ex GST'!Q14*1.1","v":0}]
[null,"Low voltage KW time of use*","LVkWTOU*",null,{"$f":"'2017 DUOS Ex GST'!E15*1.1","v":0},{"$f":"'2017 DUOS Ex GST'!F15*1.1","v":9.2444000000000006},{"$f":"'2017 DUOS Ex GST'!G15*1.1","v":5.4164000000000012},{"$f":"'2017 DUOS Ex GST'!H15*1.1","v":0},{"$f":"'2017 DUOS Ex GST'!I15*1.1","v":0},{"$f":"'2017 DUOS Ex GST'!J15*1.1","v":0},{"$f":"'2017 DUOS Ex GST'!K15*1.1","v":2.1527000000000003},{"$f":"'2017 DUOS Ex GST'!L15*1.1","v":0},{"$f":"'2017 DUOS Ex GST'!M15*1.1","v":44.269500000000001},{"$f":"'2017 DUOS Ex GST'!N15*1.1","v":0},{"$f":"'2017 DUOS Ex GST'!O15*1.1","v":0},{"$f":"'2017 DUOS Ex GST'!P15*1.1","v":0},{"$f":"'2017 DUOS Ex GST'!Q15*1.1","v":0}]
[null,"Low voltage KW time of use - HOT*","LVkWTOUH*",null,{"$f":"'2017 DUOS Ex GST'!E16*1.1","v":0},{"$f":"'2017 DUOS Ex GST'!F16*1.1","v":8.0487000000000002},{"$f":"'2017 DUOS Ex GST'!G16*1.1","v":6.1875000000000009},{"$f":"'2017 DUOS Ex GST'!H16*1.1","v":0},{"$f":"'2017 DUOS Ex GST'!I16*1.1","v":0},{"$f":"'2017 DUOS Ex GST'!J16*1.1","v":0},{"$f":"'2017 DUOS Ex GST'!K16*1.1","v":1.8183000000000002},{"$f":"'2017 DUOS Ex GST'!L16*1.1","v":0},{"$f":"'2017 DUOS Ex GST'!M16*1.1","v":70.833400000000012},{"$f":"'2017 DUOS Ex GST'!N16*1.1","v":0},{"$f":"'2017 DUOS Ex GST'!O16*1.1","v":0},{"$f":"'2017 DUOS Ex GST'!P16*1.1","v":0},{"$f":"'2017 DUOS Ex GST'!Q16*1.1","v":0}]
[null,"Low voltage large 1 rate*","LVL1R*",null,{"$f":"'2017 DUOS Ex GST'!E17*1.1","v":13.922700000000001},{"$f":"'2017 DUOS Ex GST'!F17*1.1","v":6.3756000000000004},{"$f":"'2017 DUOS Ex GST'!G17*1.1","v":5.0303000000000004},{"$f":"'2017 DUOS Ex GST'!H17*1.1","v":0},{"$f":"'2017 DUOS Ex GST'!I17*1.1","v":0},{"$f":"'2017 DUOS Ex GST'!J17*1.1","v":0},{"$f":"'2017 DUOS Ex GST'!K17*1.1","v":0},{"$f":"'2017 DUOS Ex GST'!L17*1.1","v":0},{"$f":"'2017 DUOS Ex GST'!M17*1.1","v":0},{"$f":"'2017 DUOS Ex GST'!N17*1.1","v":0},{"$f":"'2017 DUOS Ex GST'!O17*1.1","v":0},{"$f":"'2017 DUOS Ex GST'!P17*1.1","v":0},{"$f":"'2017 DUOS Ex GST'!Q17*1.1","v":0}]
[null,"Low voltage large 2 rate*","LVL2R*",null,{"$f":"'2017 DUOS Ex GST'!E18*1.1","v":20.0838},{"$f":"'2017 DUOS Ex GST'!F18*1.1","v":9.9814000000000007},{"$f":"'2017 DUOS Ex GST'!G18*1.1","v":7.9365000000000006},{"$f":"'2017 DUOS Ex GST'!H18*1.1","v":0},{"$f":"'2017 DUOS Ex GST'!I18*1.1","v":0},{"$f":"'2017 DUOS Ex GST'!J18*1.1","v":0},{"$f":"'2017 DUOS Ex GST'!K18*1.1","v":1.8997000000000002},{"$f":"'2017 DUOS Ex GST'!L18*1.1","v":0},{"$f":"'2017 DUOS Ex GST'!M18*1.1","v":0},{"$f":"'2017 DUOS Ex GST'!N18*1.1","v":0},{"$f":"'2017 DUOS Ex GST'!O18*1.1","v":0},{"$f":"'2017 DUOS Ex GST'!P18*1.1","v":0},{"$f":"'2017 DUOS Ex GST'!Q18*1.1","v":0}]
[null,"Low voltage large KVA time of use","LVkVATOU",null,{"$f":"'2017 DUOS Ex GST'!E19*1.1","v":0},{"$f":"'2017 DUOS Ex GST'!F19*1.1","v":1.4355},{"$f":"'2017 DUOS Ex GST'!G19*1.1","v":1.2166000000000001},{"$f":"'2017 DUOS Ex GST'!H19*1.1","v":0},{"$f":"'2017 DUOS Ex GST'!I19*1.1","v":0},{"$f":"'2017 DUOS Ex GST'!J19*1.1","v":0},{"$f":"'2017 DUOS Ex GST'!K19*1.1","v":1.2045000000000001},{"$f":"'2017 DUOS Ex GST'!L19*1.1","v":14.489200000000002},{"$f":"'2017 DUOS Ex GST'!M19*1.1","v":21.614999999999998},{"$f":"'2017 DUOS Ex GST'!N19*1.1","v":0},{"$f":"'2017 DUOS Ex GST'!O19*1.1","v":0},{"$f":"'2017 DUOS Ex GST'!P19*1.1","v":0},{"$f":"'2017 DUOS Ex GST'!Q19*1.1","v":0},">150",">400",150]
[null,"Low voltage large KVA time of use - HOT*","LVkVATOUH*",null,{"$f":"'2017 DUOS Ex GST'!E20*1.1","v":0},{"$f":"'2017 DUOS Ex GST'!F20*1.1","v":1.2529000000000001},{"$f":"'2017 DUOS Ex GST'!G20*1.1","v":1.0362},{"$f":"'2017 DUOS Ex GST'!H20*1.1","v":0},{"$f":"'2017 DUOS Ex GST'!I20*1.1","v":0},{"$f":"'2017 DUOS Ex GST'!J20*1.1","v":0},{"$f":"'2017 DUOS Ex GST'!K20*1.1","v":1.0296000000000001},{"$f":"'2017 DUOS Ex GST'!L20*1.1","v":14.4177},{"$f":"'2017 DUOS Ex GST'!M20*1.1","v":34.008700000000005},{"$f":"'2017 DUOS Ex GST'!N20*1.1","v":0},{"$f":"'2017 DUOS Ex GST'!O20*1.1","v":0},{"$f":"'2017 DUOS Ex GST'!P20*1.1","v":0},{"$f":"'2017 DUOS Ex GST'!Q20*1.1","v":0},null,null,150]
[null,"High voltage KVA time of use","HVkVATOU",null,{"$f":"'2017 DUOS Ex GST'!E21*1.1","v":0},{"$f":"'2017 DUOS Ex GST'!F21*1.1","v":0.86460000000000015},{"$f":"'2017 DUOS Ex GST'!G21*1.1","v":0.76339999999999997},{"$f":"'2017 DUOS Ex GST'!H21*1.1","v":0},{"$f":"'2017 DUOS Ex GST'!I21*1.1","v":0},{"$f":"'2017 DUOS Ex GST'!J21*1.1","v":0},{"$f":"'2017 DUOS Ex GST'!K21*1.1","v":0.75020000000000009},{"$f":"'2017 DUOS Ex GST'!L21*1.1","v":8.8132000000000019},{"$f":"'2017 DUOS Ex GST'!M21*1.1","v":12.103300000000001},{"$f":"'2017 DUOS Ex GST'!N21*1.1","v":0},{"$f":"'2017 DUOS Ex GST'!O21*1.1","v":0},{"$f":"'2017 DUOS Ex GST'!P21*1.1","v":0},{"$f":"'2017 DUOS Ex GST'!Q21*1.1","v":0},">150",">400",1150]
[null,"High voltage KVA time of use - HOT*","HVkVATOUH*",null,{"$f":"'2017 DUOS Ex GST'!E22*1.1","v":0},{"$f":"'2017 DUOS Ex GST'!F22*1.1","v":0.89539999999999997},{"$f":"'2017 DUOS Ex GST'!G22*1.1","v":0.74030000000000007},{"$f":"'2017 DUOS Ex GST'!H22*1.1","v":0},{"$f":"'2017 DUOS Ex GST'!I22*1.1","v":0},{"$f":"'2017 DUOS Ex GST'!J22*1.1","v":0},{"$f":"'2017 DUOS Ex GST'!K22*1.1","v":0.73150000000000015},{"$f":"'2017 DUOS Ex GST'!L22*1.1","v":10.165100000000001},{"$f":"'2017 DUOS Ex GST'!M22*1.1","v":24.614699999999999},{"$f":"'2017 DUOS Ex GST'!N22*1.1","v":0},{"$f":"'2017 DUOS Ex GST'!O22*1.1","v":0},{"$f":"'2017 DUOS Ex GST'!P22*1.1","v":0},{"$f":"'2017 DUOS Ex GST'!Q22*1.1","v":0},null,null,1150]
[null,"Subtransmission KVA time of use*","SubTkVATOU*",null,{"$f":"'2017 DUOS Ex GST'!E23*1.1","v":0},{"$f":"'2017 DUOS Ex GST'!F23*1.1","v":0.49280000000000007},{"$f":"'2017 DUOS Ex GST'!G23*1.1","v":0.38390000000000002},{"$f":"'2017 DUOS Ex GST'!H23*1.1","v":0},{"$f":"'2017 DUOS Ex GST'!I23*1.1","v":0},{"$f":"'2017 DUOS Ex GST'!J23*1.1","v":0},{"$f":"'2017 DUOS Ex GST'!K23*1.1","v":0.3322},{"$f":"'2017 DUOS Ex GST'!L23*1.1","v":0.86240000000000006},{"$f":"'2017 DUOS Ex GST'!M23*1.1","v":1.2639},{"$f":"'2017 DUOS Ex GST'!N23*1.1","v":0},{"$f":"'2017 DUOS Ex GST'!O23*1.1","v":0},{"$f":"'2017 DUOS Ex GST'!P23*1.1","v":0},{"$f":"'2017 DUOS Ex GST'!Q23*1.1","v":0},null,null,11100]
[null,"Time of Day","TOD","F",{"$f":"'2017 DUOS Ex GST'!E24*1.1","v":6.9608000000000008},{"$f":"'2017 DUOS Ex GST'!F24*1.1","v":16.7332},{"$f":"'2017 DUOS Ex GST'!G24*1.1","v":9.8615000000000013},{"$f":"'2017 DUOS Ex GST'!H24*1.1","v":0},{"$f":"'2017 DUOS Ex GST'!I24*1.1","v":4.7157},{"$f":"'2017 DUOS Ex GST'!J24*1.1","v":3.4738000000000002},{"$f":"'2017 DUOS Ex GST'!K24*1.1","v":3.2263000000000002},{"$f":"'2017 DUOS Ex GST'!L24*1.1","v":0},{"$f":"'2017 DUOS Ex GST'!M24*1.1","v":0},{"$f":"'2017 DUOS Ex GST'!N24*1.1","v":0},{"$f":"'2017 DUOS Ex GST'!O24*1.1","v":0},{"$f":"'2017 DUOS Ex GST'!P24*1.1","v":0},{"$f":"'2017 DUOS Ex GST'!Q24*1.1","v":0},"NA","<20"]
[null,"Time of Use","TOU","F",{"$f":"'2017 DUOS Ex GST'!E25*1.1","v":0},{"$f":"'2017 DUOS Ex GST'!F25*1.1","v":10.005600000000001},{"$f":"'2017 DUOS Ex GST'!G25*1.1","v":6.0786000000000007},{"$f":"'2017 DUOS Ex GST'!H25*1.1","v":0},{"$f":"'2017 DUOS Ex GST'!I25*1.1","v":0},{"$f":"'2017 DUOS Ex GST'!J25*1.1","v":0},{"$f":"'2017 DUOS Ex GST'!K25*1.1","v":2.9348000000000005},{"$f":"'2017 DUOS Ex GST'!L25*1.1","v":0},{"$f":"'2017 DUOS Ex GST'!M25*1.1","v":43.451100000000004},{"$f":"'2017 DUOS Ex GST'!N25*1.1","v":0},{"$f":"'2017 DUOS Ex GST'!O25*1.1","v":0},{"$f":"'2017 DUOS Ex GST'!P25*1.1","v":0},{"$f":"'2017 DUOS Ex GST'!Q25*1.1","v":0},"NA",">20 & <400"]
[null,"Time of Day 9pm off-peak","TOD9","F",{"$f":"'2017 DUOS Ex GST'!E26*1.1","v":7.2204000000000006},{"$f":"'2017 DUOS Ex GST'!F26*1.1","v":18.867200000000004},{"$f":"'2017 DUOS Ex GST'!G26*1.1","v":11.724900000000002},{"$f":"'2017 DUOS Ex GST'!H26*1.1","v":0},{"$f":"'2017 DUOS Ex GST'!I26*1.1","v":5.8487000000000009},{"$f":"'2017 DUOS Ex GST'!J26*1.1","v":4.6981000000000002},{"$f":"'2017 DUOS Ex GST'!K26*1.1","v":4.4693000000000005},{"$f":"'2017 DUOS Ex GST'!L26*1.1","v":0},{"$f":"'2017 DUOS Ex GST'!M26*1.1","v":0},{"$f":"'2017 DUOS Ex GST'!N26*1.1","v":0},{"$f":"'2017 DUOS Ex GST'!O26*1.1","v":0},{"$f":"'2017 DUOS Ex GST'!P26*1.1","v":0},{"$f":"'2017 DUOS Ex GST'!Q26*1.1","v":0},"NA","<20"]
[null,"Time of Day Flexible","TODFLEX","F",{"$f":"'2017 DUOS Ex GST'!E27*1.1","v":7.7759000000000009},{"$f":"'2017 DUOS Ex GST'!F27*1.1","v":18.561399999999999},{"$f":"'2017 DUOS Ex GST'!G27*1.1","v":10.6546},{"$f":"'2017 DUOS Ex GST'!H27*1.1","v":0},{"$f":"'2017 DUOS Ex GST'!I27*1.1","v":5.0402000000000005},{"$f":"'2017 DUOS Ex GST'!J27*1.1","v":5.0402000000000005},{"$f":"'2017 DUOS Ex GST'!K27*1.1","v":4.2735000000000003},{"$f":"'2017 DUOS Ex GST'!L27*1.1","v":0},{"$f":"'2017 DUOS Ex GST'!M27*1.1","v":0},{"$f":"'2017 DUOS Ex GST'!N27*1.1","v":0},{"$f":"'2017 DUOS Ex GST'!O27*1.1","v":0},{"$f":"'2017 DUOS Ex GST'!P27*1.1","v":0},{"$f":"'2017 DUOS Ex GST'!Q27*1.1","v":0},"Residential Customer"]
[null,"Low voltage KW 1 rate1","RESKW1R1","F",{"$f":"'2017 DUOS Ex GST'!E28*1.1","v":0},{"$f":"'2017 DUOS Ex GST'!F28*1.1","v":2.8908000000000005},{"$f":"'2017 DUOS Ex GST'!G28*1.1","v":2.8908000000000005},{"$f":"'2017 DUOS Ex GST'!H28*1.1","v":2.8908000000000005},{"$f":"'2017 DUOS Ex GST'!I28*1.1","v":2.8908000000000005},{"$f":"'2017 DUOS Ex GST'!J28*1.1","v":2.8908000000000005},{"$f":"'2017 DUOS Ex GST'!K28*1.1","v":2.8908000000000005},{"$f":"'2017 DUOS Ex GST'!L28*1.1","v":0},{"$f":"'2017 DUOS Ex GST'!M28*1.1","v":0},{"$f":"'2017 DUOS Ex GST'!N28*1.1","v":27.852000000000004},{"$f":"'2017 DUOS Ex GST'!O28*1.1","v":10.991200000000001},{"$f":"'2017 DUOS Ex GST'!P28*1.1","v":0},{"$f":"'2017 DUOS Ex GST'!Q28*1.1","v":0},"NA","<20",null,1.5]
[null,"Low Voltage Medium kW Time of Use (Opt-in)2","LVMKWTOU2","F",{"$f":"'2017 DUOS Ex GST'!E29*1.1","v":0},{"$f":"'2017 DUOS Ex GST'!F29*1.1","v":3.8236000000000003},{"$f":"'2017 DUOS Ex GST'!G29*1.1","v":3.8236000000000003},{"$f":"'2017 DUOS Ex GST'!H29*1.1","v":3.8236000000000003},{"$f":"'2017 DUOS Ex GST'!I29*1.1","v":3.8236000000000003},{"$f":"'2017 DUOS Ex GST'!J29*1.1","v":3.8236000000000003},{"$f":"'2017 DUOS Ex GST'!K29*1.1","v":3.8236000000000003},{"$f":"'2017 DUOS Ex GST'!L29*1.1","v":0},{"$f":"'2017 DUOS Ex GST'!M29*1.1","v":0},{"$f":"'2017 DUOS Ex GST'!N29*1.1","v":31.627200000000002},{"$f":"'2017 DUOS Ex GST'!O29*1.1","v":21.084800000000001},{"$f":"'2017 DUOS Ex GST'!P29*1.1","v":0},{"$f":"'2017 DUOS Ex GST'!Q29*1.1","v":0},"NA",">20 & <400",null,1.5]
[null,"Low Voltage Medium kW 1 rate (Mandatory)3","LVMKW1R3","F",{"$f":"'2017 DUOS Ex GST'!E30*1.1","v":0},{"$f":"'2017 DUOS Ex GST'!F30*1.1","v":5.8673999999999999},{"$f":"'2017 DUOS Ex GST'!G30*1.1","v":5.8673999999999999},{"$f":"'2017 DUOS Ex GST'!H30*1.1","v":5.8673999999999999},{"$f":"'2017 DUOS Ex GST'!I30*1.1","v":5.8673999999999999},{"$f":"'2017 DUOS Ex GST'!J30*1.1","v":5.8673999999999999},{"$f":"'2017 DUOS Ex GST'!K30*1.1","v":5.8673999999999999},{"$f":"'2017 DUOS Ex GST'!L30*1.1","v":0},{"$f":"'2017 DUOS Ex GST'!M30*1.1","v":0},{"$f":"'2017 DUOS Ex GST'!N30*1.1","v":19.660300000000003},{"$f":"'2017 DUOS Ex GST'!O30*1.1","v":13.1065},{"$f":"'2017 DUOS Ex GST'!P30*1.1","v":0},{"$f":"'2017 DUOS Ex GST'!Q30*1.1","v":0},"NA",">40 & <400",null,1.5]
[]
[]
[null,"* Tariff closed to premises not already taking supply under this tariff and new connections."]
[null,"** Tariff only available in conjunction with the LVS1R tariff for new connections."]
[null,"Summer peak energy rates apply for period 1st November to 31st March (except TODFLEX which follows daylight savings periods) & RESKWTOU which applies from 1st December to 31st March."]
[null,"Non-summer peak energy rates apply for period 1st April to 31st October (except TODFLEX which follows non-daylight savings periods) & RESKWTOU which applies from 1st April to 30th November."]
[null,"PFIT (Premium Feed-In Tariff) is defined by an “F” added to the front of an existing distribution tariff ie. FTOD. The PFIT tariffs are closed to new connections. "]
[null,"1 RESKW1R csutomers transitioned from RESKWTOU on 1 April 2016."]
[null,"2 LVMKWTOU available from 1st July 2016 for low voltage business customers with energy consumption between 20-40MWh per annum as an opt-in transition."]
[null,"3 LVMKW1R available from 1st January 2017 for low voltage business customers with energy consumption between 40-400MWh per annum as a mandatory transition."]

{"sheet":"2017 TUOS Incl GST","index":4,"n_rows":40,"n_cols":21,"rows_kept":40,"cut":false,"hidden":false,"merged":[[1,1,1,19],[3,4,3,16],[3,17,3,18],[26,17,26,18]]}
[]
[null,"Schedule of Indicative Transmission Use of System (TUOS) Tariffs: 1 January 2017 (GSTInclusive)"]
[]
[null,null,null,null,"Network Tariff Component",null,null,null,null,null,null,null,null,null,null,null,null,"Eligibility (consumption/   category)",null,"Minimum Chargeable Rolling Demand","Minimum Chargeable Demand"]
[null,"Description","Tariff Code","PFIT (F)\nTFIT (T)","Standing Charge (c/day)","Summer Peak Energy (c/kWh)","Non Summer Peak Energy Block 1 (c/kWh)","Non Summer Peak Energy Block 2 (c/kWh)","Summer Shoulder Energy (c/kWh)","Non Summer Shoulder Energy (c/kWh)","Off Peak Energy (c/kWh)","Rolling Peak Demand c/kVA/day","Summer Demand Incentive Charge c/kW/day or c/kVA/day","Summer Demand Max kW  c/KW/day","Non-summer Demand Max kW  c/KW/day","Summer Demand Overrun Max kW  c/KW/day","Non-summer Demand Overrun Max kW  c/KW/day","kVA","MWh pa","kVA","kW"]
[null,"Low voltage small 1 rate","LVS1R","F",{"$f":"'2017 TUOS Ex GST'!E6*1.1","v":0},{"$f":"'2017 TUOS Ex GST'!F6*1.1","v":2.2770000000000001},{"$f":"'2017 TUOS Ex GST'!G6*1.1","v":1.903},{"$f":"'2017 TUOS Ex GST'!H6*1.1","v":0},{"$f":"'2017 TUOS Ex GST'!I6*1.1","v":0},{"$f":"'2017 TUOS Ex GST'!J6*1.1","v":0},{"$f":"'2017 TUOS Ex GST'!K6*1.1","v":0},{"$f":"'2017 TUOS Ex GST'!L6*1.1","v":0},{"$f":"'2017 TUOS Ex GST'!M6*1.1","v":0},{"$f":"'2017 TUOS Ex GST'!N6*1.1","v":0},{"$f":"'2017 TUOS Ex GST'!O6*1.1","v":0},{"$f":"'2017 TUOS Ex GST'!P6*1.1","v":0},{"$f":"'2017 TUOS Ex GST'!Q6*1.1","v":0},"NA","<20"]
[null,"Low voltage small 2 rate*","LVS2R*",null,{"$f":"'2017 TUOS Ex GST'!E7*1.1","v":0},{"$f":"'2017 TUOS Ex GST'!F7*1.1","v":3.8236000000000003},{"$f":"'2017 TUOS Ex GST'!G7*1.1","v":3.0602000000000005},{"$f":"'2017 TUOS Ex GST'!H7*1.1","v":0},{"$f":"'2017 TUOS Ex GST'!I7*1.1","v":0},{"$f":"'2017 TUOS Ex GST'!J7*1.1","v":0},{"$f":"'2017 TUOS Ex GST'!K7*1.1","v":0},{"$f":"'2017 TUOS Ex GST'!L7*1.1","v":0},{"$f":"'2017 TUOS Ex GST'!M7*1.1","v":0},{"$f":"'2017 TUOS Ex GST'!N7*1.1","v":0},{"$f":"'2017 TUOS Ex GST'!O7*1.1","v":0},{"$f":"'2017 TUOS Ex GST'!P7*1.1","v":0},{"$f":"'2017 TUOS Ex GST'!Q7*1.1","v":0}]
[null,"Dedicated circuit**","LVDed**",null,{"$f":"'2017 TUOS Ex GST'!E8*1.1","v":0},{"$f":"'2017 TUOS Ex GST'!F8*1.1","v":0},{"$f":"'2017 TUOS Ex GST'!G8*1.1","v":0},{"$f":"'2017 TUOS Ex GST'!H8*1.1","v":0},{"$f":"'2017 TUOS Ex GST'!I8*1.1","v":0},{"$f":"'2017 TUOS Ex GST'!J8*1.1","v":0},{"$f":"'2017 TUOS Ex GST'!K8*1.1","v":0},{"$f":"'2017 TUOS Ex GST'!L8*1.1","v":0},{"$f":"'2017 TUOS Ex GST'!M8*1.1","v":0},{"$f":"'2017 TUOS Ex GST'!N8*1.1","v":0},{"$f":"'2017 TUOS Ex GST'!O8*1.1","v":0},{"$f":"'2017 TUOS Ex GST'!P8*1.1","v":0},{"$f":"'2017 TUOS Ex GST'!Q8*1.1","v":0},"NA","<20 (on LVS1R)"]
[null,"Unmetered supplies","UnMet",null,{"$f":"'2017 TUOS Ex GST'!E9*1.1","v":0},{"$f":"'2017 TUOS Ex GST'!F9*1.1","v":3.5827000000000004},{"$f":"'2017 TUOS Ex GST'!G9*1.1","v":2.8633000000000006},{"$f":"'2017 TUOS Ex GST'!H9*1.1","v":0},{"$f":"'2017 TUOS Ex GST'!I9*1.1","v":0},{"$f":"'2017 TUOS Ex GST'!J9*1.1","v":0},{"$f":"'2017 TUOS Ex GST'!K9*1.1","v":0},{"$f":"'2017 TUOS Ex GST'!L9*1.1","v":0},{"$f":"'2017 TUOS Ex GST'!M9*1.1","v":0},{"$f":"'2017 TUOS Ex GST'!N9*1.1","v":0},{"$f":"'2017 TUOS Ex GST'!O9*1.1","v":0},{"$f":"'2017 TUOS Ex GST'!P9*1.1","v":0},{"$f":"'2017 TUOS Ex GST'!Q9*1.1","v":0}]
[null,"Winter Energy Tariff*","WET2Step*",null,{"$f":"'2017 TUOS Ex GST'!E10*1.1","v":0},{"$f":"'2017 TUOS Ex GST'!F10*1.1","v":2.5476000000000001},{"$f":"'2017 TUOS Ex GST'!G10*1.1","v":2.0383},{"$f":"'2017 TUOS Ex GST'!H10*1.1","v":2.0383},{"$f":"'2017 TUOS Ex GST'!I10*1.1","v":0},{"$f":"'2017 TUOS Ex GST'!J10*1.1","v":0},{"$f":"'2017 TUOS Ex GST'!K10*1.1","v":0},{"$f":"'2017 TUOS Ex GST'!L10*1.1","v":0},{"$f":"'2017 TUOS Ex GST'!M10*1.1","v":0},{"$f":"'2017 TUOS Ex GST'!N10*1.1","v":0},{"$f":"'2017 TUOS Ex GST'!O10*1.1","v":0},{"$f":"'2017 TUOS Ex GST'!P10*1.1","v":0},{"$f":"'2017 TUOS Ex GST'!Q10*1.1","v":0}]
[null,"Reverse cycle airconditioning time of use*","RCACkWTOU*",null,{"$f":"'2017 TUOS Ex GST'!E11*1.1","v":0},{"$f":"'2017 TUOS Ex GST'!F11*1.1","v":17.263400000000001},{"$f":"'2017 TUOS Ex GST'!G11*1.1","v":3.8445000000000005},{"$f":"'2017 TUOS Ex GST'!H11*1.1","v":0},{"$f":"'2017 TUOS Ex GST'!I11*1.1","v":0},{"$f":"'2017 TUOS Ex GST'!J11*1.1","v":0},{"$f":"'2017 TUOS Ex GST'!K11*1.1","v":0},{"$f":"'2017 TUOS Ex GST'!L11*1.1","v":0},{"$f":"'2017 TUOS Ex GST'!M11*1.1","v":10.9472},{"$f":"'2017 TUOS Ex GST'!N11*1.1","v":0},{"$f":"'2017 TUOS Ex GST'!O11*1.1","v":0},{"$f":"'2017 TUOS Ex GST'!P11*1.1","v":0},{"$f":"'2017 TUOS Ex GST'!Q11*1.1","v":0}]
[null,"Low voltage medium 1 rate","LVM1R","F",{"$f":"'2017 TUOS Ex GST'!E12*1.1","v":0},{"$f":"'2017 TUOS Ex GST'!F12*1.1","v":2.6752000000000002},{"$f":"'2017 TUOS Ex GST'!G12*1.1","v":2.1362000000000001},{"$f":"'2017 TUOS Ex GST'!H12*1.1","v":0},{"$f":"'2017 TUOS Ex GST'!I12*1.1","v":0},{"$f":"'2017 TUOS Ex GST'!J12*1.1","v":0},{"$f":"'2017 TUOS Ex GST'!K12*1.1","v":0},{"$f":"'2017 TUOS Ex GST'!L12*1.1","v":0},{"$f":"'2017 TUOS Ex GST'!M12*1.1","v":0},{"$f":"'2017 TUOS Ex GST'!N12*1.1","v":0},{"$f":"'2017 TUOS Ex GST'!O12*1.1","v":0},{"$f":"'2017 TUOS Ex GST'!P12*1.1","v":0},{"$f":"'2017 TUOS Ex GST'!Q12*1.1","v":0},"NA",">20 & <400"]
[null,"Low voltage medium 2 rate 5 day*","LVM2R5D*",null,{"$f":"'2017 TUOS Ex GST'!E13*1.1","v":0},{"$f":"'2017 TUOS Ex GST'!F13*1.1","v":2.3166000000000002},{"$f":"'2017 TUOS Ex GST'!G13*1.1","v":1.8524},{"$f":"'2017 TUOS Ex GST'!H13*1.1","v":0},{"$f":"'2017 TUOS Ex GST'!I13*1.1","v":0},{"$f":"'2017 TUOS Ex GST'!J13*1.1","v":0},{"$f":"'2017 TUOS Ex GST'!K13*1.1","v":0},{"$f":"'2017 TUOS Ex GST'!L13*1.1","v":0},{"$f":"'2017 TUOS Ex GST'!M13*1.1","v":0},{"$f":"'2017 TUOS Ex GST'!N13*1.1","v":0},{"$f":"'2017 TUOS Ex GST'!O13*1.1","v":0},{"$f":"'2017 TUOS Ex GST'!P13*1.1","v":0},{"$f":"'2017 TUOS Ex GST'!Q13*1.1","v":0}]
[null,"Low voltage medium 2 rate 7 day*","LVM2R7D*",null,{"$f":"'2017 TUOS Ex GST'!E14*1.1","v":0},{"$f":"'2017 TUOS Ex GST'!F14*1.1","v":2.7577000000000003},{"$f":"'2017 TUOS Ex GST'!G14*1.1","v":2.2077000000000004},{"$f":"'2017 TUOS Ex GST'!H14*1.1","v":0},{"$f":"'2017 TUOS Ex GST'!I14*1.1","v":0},{"$f":"'2017 TUOS Ex GST'!J14*1.1","v":0},{"$f":"'2017 TUOS Ex GST'!K14*1.1","v":0},{"$f":"'2017 TUOS Ex GST'!L14*1.1","v":0},{"$f":"'2017 TUOS Ex GST'!M14*1.1","v":0},{"$f":"'2017 TUOS Ex GST'!N14*1.1","v":0},{"$f":"'2017 TUOS Ex GST'!O14*1.1","v":0},{"$f":"'2017 TUOS Ex GST'!P14*1.1","v":0},{"$f":"'2017 TUOS Ex GST'!Q14*1.1","v":0}]
[null,"Low voltage KW time of use*","LVkWTOU*",null,{"$f":"'2017 TUOS Ex GST'!E15*1.1","v":0},{"$f":"'2017 TUOS Ex GST'!F15*1.1","v":2.1461000000000001},{"$f":"'2017 TUOS Ex GST'!G15*1.1","v":1.7160000000000002},{"$f":"'2017 TUOS Ex GST'!H15*1.1","v":0},{"$f":"'2017 TUOS Ex GST'!I15*1.1","v":0},{"$f":"'2017 TUOS Ex GST'!J15*1.1","v":0},{"$f":"'2017 TUOS Ex GST'!K15*1.1","v":0},{"$f":"'2017 TUOS Ex GST'!L15*1.1","v":0},{"$f":"'2017 TUOS Ex GST'!M15*1.1","v":10.01},{"$f":"'2017 TUOS Ex GST'!N15*1.1","v":0},{"$f":"'2017 TUOS Ex GST'!O15*1.1","v":0},{"$f":"'2017 TUOS Ex GST'!P15*1.1","v":0},{"$f":"'2017 TUOS Ex GST'!Q15*1.1","v":0}]
[null,"Low voltage KW time of use - HOT*","LVkWTOUH*",null,{"$f":"'2017 TUOS Ex GST'!E16*1.1","v":0},{"$f":"'2017 TUOS Ex GST'!F16*1.1","v":1.1737},{"$f":"'2017 TUOS Ex GST'!G16*1.1","v":0.93830000000000002},{"$f":"'2017 TUOS Ex GST'!H16*1.1","v":0},{"$f":"'2017 TUOS Ex GST'!I16*1.1","v":0},{"$f":"'2017 TUOS Ex GST'!J16*1.1","v":0},{"$f":"'2017 TUOS Ex GST'!K16*1.1","v":0},{"$f":"'2017 TUOS Ex GST'!L16*1.1","v":0},{"$f":"'2017 TUOS Ex GST'!M16*1.1","v":10.519300000000001},{"$f":"'2017 TUOS Ex GST'!N16*1.1","v":0},{"$f":"'2017 TUOS Ex GST'!O16*1.1","v":0},{"$f":"'2017 TUOS Ex GST'!P16*1.1","v":0},{"$f":"'2017 TUOS Ex GST'!Q16*1.1","v":0}]
[null,"Low voltage large 1 rate*","LVL1R*",null,{"$f":"'2017 TUOS Ex GST'!E17*1.1","v":0},{"$f":"'2017 TUOS Ex GST'!F17*1.1","v":2.6675},{"$f":"'2017 TUOS Ex GST'!G17*1.1","v":2.1318000000000001},{"$f":"'2017 TUOS Ex GST'!H17*1.1","v":0},{"$f":"'2017 TUOS Ex GST'!I17*1.1","v":0},{"$f":"'2017 TUOS Ex GST'!J17*1.1","v":0},{"$f":"'2017 TUOS Ex GST'!K17*1.1","v":0},{"$f":"'2017 TUOS Ex GST'!L17*1.1","v":0},{"$f":"'2017 TUOS Ex GST'!M17*1.1","v":0},{"$f":"'2017 TUOS Ex GST'!N17*1.1","v":0},{"$f":"'2017 TUOS Ex GST'!O17*1.1","v":0},{"$f":"'2017 TUOS Ex GST'!P17*1.1","v":0},{"$f":"'2017 TUOS Ex GST'!Q17*1.1","v":0}]
[null,"Low voltage large 2 rate*","LVL2R*",null,{"$f":"'2017 TUOS Ex GST'!E18*1.1","v":0},{"$f":"'2017 TUOS Ex GST'!F18*1.1","v":2.0504000000000002},{"$f":"'2017 TUOS Ex GST'!G18*1.1","v":1.6423000000000003},{"$f":"'2017 TUOS Ex GST'!H18*1.1","v":0},{"$f":"'2017 TUOS Ex GST'!I18*1.1","v":0},{"$f":"'2017 TUOS Ex GST'!J18*1.1","v":0},{"$f":"'2017 TUOS Ex GST'!K18*1.1","v":0},{"$f":"'2017 TUOS Ex GST'!L18*1.1","v":0},{"$f":"'2017 TUOS Ex GST'!M18*1.1","v":0},{"$f":"'2017 TUOS Ex GST'!N18*1.1","v":0},{"$f":"'2017 TUOS Ex GST'!O18*1.1","v":0},{"$f":"'2017 TUOS Ex GST'!P18*1.1","v":0},{"$f":"'2017 TUOS Ex GST'!Q18*1.1","v":0}]
[null,"Low voltage large KVA time of use","LVkVATOU",null,{"$f":"'2017 TUOS Ex GST'!E19*1.1","v":0},{"$f":"'2017 TUOS Ex GST'!F19*1.1","v":1.1693},{"$f":"'2017 TUOS Ex GST'!G19*1.1","v":0.93830000000000002},{"$f":"'2017 TUOS Ex GST'!H19*1.1","v":0},{"$f":"'2017 TUOS Ex GST'!I19*1.1","v":0},{"$f":"'2017 TUOS Ex GST'!J19*1.1","v":0},{"$f":"'2017 TUOS Ex GST'!K19*1.1","v":0},{"$f":"'2017 TUOS Ex GST'!L19*1.1","v":4.7729000000000008},{"$f":"'2017 TUOS Ex GST'!M19*1.1","v":6.5241000000000007},{"$f":"'2017 TUOS Ex GST'!N19*1.1","v":0},{"$f":"'2017 TUOS Ex GST'!O19*1.1","v":0},{"$f":"'2017 TUOS Ex GST'!P19*1.1","v":0},{"$f":"'2017 TUOS Ex GST'!Q19*1.1","v":0},">150",">400",150]
[null,"Low voltage large KVA time of use - HOT*","LVkVATOUH*",null,{"$f":"'2017 TUOS Ex GST'!E20*1.1","v":0},{"$f":"'2017 TUOS Ex GST'!F20*1.1","v":0.73810000000000009},{"$f":"'2017 TUOS Ex GST'!G20*1.1","v":0.5918000000000001},{"$f":"'2017 TUOS Ex GST'!H20*1.1","v":0},{"$f":"'2017 TUOS Ex GST'!I20*1.1","v":0},{"$f":"'2017 TUOS Ex GST'!J20*1.1","v":0},{"$f":"'2017 TUOS Ex GST'!K20*1.1","v":0},{"$f":"'2017 TUOS Ex GST'!L20*1.1","v":3.0118},{"$f":"'2017 TUOS Ex GST'!M20*1.1","v":7.9200000000000008},{"$f":"'2017 TUOS Ex GST'!N20*1.1","v":0},{"$f":"'2017 TUOS Ex GST'!O20*1.1","v":0},{"$f":"'2017 TUOS Ex GST'!P20*1.1","v":0},{"$f":"'2017 TUOS Ex GST'!Q20*1.1","v":0},null,null,150]
[null,"High voltage KVA time of use","HVkVATOU",null,{"$f":"'2017 TUOS Ex GST'!E21*1.1","v":0},{"$f":"'2017 TUOS Ex GST'!F21*1.1","v":0.8217000000000001},{"$f":"'2017 TUOS Ex GST'!G21*1.1","v":0.65780000000000005},{"$f":"'2017 TUOS Ex GST'!H21*1.1","v":0},{"$f":"'2017 TUOS Ex GST'!I21*1.1","v":0},{"$f":"'2017 TUOS Ex GST'!J21*1.1","v":0},{"$f":"'2017 TUOS Ex GST'!K21*1.1","v":0},{"$f":"'2017 TUOS Ex GST'!L21*1.1","v":5.4659000000000004},{"$f":"'2017 TUOS Ex GST'!M21*1.1","v":5.7376000000000005},{"$f":"'2017 TUOS Ex GST'!N21*1.1","v":0},{"$f":"'2017 TUOS Ex GST'!O21*1.1","v":0},{"$f":"'2017 TUOS Ex GST'!P21*1.1","v":0},{"$f":"'2017 TUOS Ex GST'!Q21*1.1","v":0},">150",">400",1150]
[null,"High voltage KVA time of use - HOT*","HVkVATOUH*",null,{"$f":"'2017 TUOS Ex GST'!E22*1.1","v":0},{"$f":"'2017 TUOS Ex GST'!F22*1.1","v":0.47300000000000003},{"$f":"'2017 TUOS Ex GST'!G22*1.1","v":0.37620000000000003},{"$f":"'2017 TUOS Ex GST'!H22*1.1","v":0},{"$f":"'2017 TUOS Ex GST'!I22*1.1","v":0},{"$f":"'2017 TUOS Ex GST'!J22*1.1","v":0},{"$f":"'2017 TUOS Ex GST'!K22*1.1","v":0},{"$f":"'2017 TUOS Ex GST'!L22*1.1","v":3.1339000000000006},{"$f":"'2017 TUOS Ex GST'!M22*1.1","v":6.3261000000000012},{"$f":"'2017 TUOS Ex GST'!N22*1.1","v":0},{"$f":"'2017 TUOS Ex GST'!O22*1.1","v":0},{"$f":"'2017 TUOS Ex GST'!P22*1.1","v":0},{"$f":"'2017 TUOS Ex GST'!Q22*1.1","v":0},null,null,1150]
[null,"Subtransmission KVA time of use*","SubTkVATOU*",null,{"$f":"'2017 TUOS Ex GST'!E23*1.1","v":0},{"$f":"'2017 TUOS Ex GST'!F23*1.1","v":0.5544},{"$f":"'2017 TUOS Ex GST'!G23*1.1","v":0.44660000000000005},{"$f":"'2017 TUOS Ex GST'!H23*1.1","v":0},{"$f":"'2017 TUOS Ex GST'!I23*1.1","v":0},{"$f":"'2017 TUOS Ex GST'!J23*1.1","v":0},{"$f":"'2017 TUOS Ex GST'!K23*1.1","v":0},{"$f":"'2017 TUOS Ex GST'!L23*1.1","v":3.9292000000000002},{"$f":"'2017 TUOS Ex GST'!M23*1.1","v":4.7674000000000003},{"$f":"'2017 TUOS Ex GST'!N23*1.1","v":0},{"$f":"'2017 TUOS Ex GST'!O23*1.1","v":0},{"$f":"'2017 TUOS Ex GST'!P23*1.1","v":0},{"$f":"'2017 TUOS Ex GST'!Q23*1.1","v":0},null,null,11100]
[null,"Time of Day","TOD","F",{"$f":"'2017 TUOS Ex GST'!E24*1.1","v":0},{"$f":"'2017 TUOS Ex GST'!F24*1.1","v":3.6883000000000004},{"$f":"'2017 TUOS Ex GST'!G24*1.1","v":3.1306000000000003},{"$f":"'2017 TUOS Ex GST'!H24*1.1","v":0},{"$f":"'2017 TUOS Ex GST'!I24*1.1","v":3.1306000000000003},{"$f":"'2017 TUOS Ex GST'!J24*1.1","v":2.7643},{"$f":"'2017 TUOS Ex GST'!K24*1.1","v":0},{"$f":"'2017 TUOS Ex GST'!L24*1.1","v":0},{"$f":"'2017 TUOS Ex GST'!M24*1.1","v":0},{"$f":"'2017 TUOS Ex GST'!N24*1.1","v":0},{"$f":"'2017 TUOS Ex GST'!O24*1.1","v":0},{"$f":"'2017 TUOS Ex GST'!P24*1.1","v":0},{"$f":"'2017 TUOS Ex GST'!Q24*1.1","v":0},"NA","<20"]
[null,"Time of Use","TOU","F",{"$f":"'2017 TUOS Ex GST'!E25*1.1","v":0},{"$f":"'2017 TUOS Ex GST'!F25*1.1","v":2.7401000000000004},{"$f":"'2017 TUOS Ex GST'!G25*1.1","v":1.2584},{"$f":"'2017 TUOS Ex GST'!H25*1.1","v":0},{"$f":"'2017 TUOS Ex GST'!I25*1.1","v":0},{"$f":"'2017 TUOS Ex GST'!J25*1.1","v":0},{"$f":"'2017 TUOS Ex GST'!K25*1.1","v":0},{"$f":"'2017 TUOS Ex GST'!L25*1.1","v":0},{"$f":"'2017 TUOS Ex GST'!M25*1.1","v":7.1797000000000004},{"$f":"'2017 TUOS Ex GST'!N25*1.1","v":0},{"$f":"'2017 TUOS Ex GST'!O25*1.1","v":0},{"$f":"'2017 TUOS Ex GST'!P25*1.1","v":0},{"$f":"'2017 TUOS Ex GST'!Q25*1.1","v":0},"NA",">20 & <400"]
[null,"Time of Day 9pm off-peak","TOD9","F",{"$f":"'2017 TUOS Ex GST'!E26*1.1","v":0},{"$f":"'2017 TUOS Ex GST'!F26*1.1","v":4.95},{"$f":"'2017 TUOS Ex GST'!G26*1.1","v":4.6013000000000002},{"$f":"'2017 TUOS Ex GST'!H26*1.1","v":0},{"$f":"'2017 TUOS Ex GST'!I26*1.1","v":4.6013000000000002},{"$f":"'2017 TUOS Ex GST'!J26*1.1","v":4.3725000000000005},{"$f":"'2017 TUOS Ex GST'!K26*1.1","v":0},{"$f":"'2017 TUOS Ex GST'!L26*1.1","v":0},{"$f":"'2017 TUOS Ex GST'!M26*1.1","v":0},{"$f":"'2017 TUOS Ex GST'!N26*1.1","v":0},{"$f":"'2017 TUOS Ex GST'!O26*1.1","v":0},{"$f":"'2017 TUOS Ex GST'!P26*1.1","v":0},{"$f":"'2017 TUOS Ex GST'!Q26*1.1","v":0},"NA","<20"]
[null,"Time of Day Flexible","TODFLEX","F",{"$f":"'2017 TUOS Ex GST'!E27*1.1","v":0},{"$f":"'2017 TUOS Ex GST'!F27*1.1","v":4.1855000000000002},{"$f":"'2017 TUOS Ex GST'!G27*1.1","v":3.9039000000000001},{"$f":"'2017 TUOS Ex GST'!H27*1.1","v":0},{"$f":"'2017 TUOS Ex GST'!I27*1.1","v":2.0911000000000004},{"$f":"'2017 TUOS Ex GST'!J27*1.1","v":1.8447000000000002},{"$f":"'2017 TUOS Ex GST'!K27*1.1","v":0},{"$f":"'2017 TUOS Ex GST'!L27*1.1","v":0},{"$f":"'2017 TUOS Ex GST'!M27*1.1","v":0},{"$f":"'2017 TUOS Ex GST'!N27*1.1","v":0},{"$f":"'2017 TUOS Ex GST'!O27*1.1","v":0},{"$f":"'2017 TUOS Ex GST'!P27*1.1","v":0},{"$f":"'2017 TUOS Ex GST'!Q27*1.1","v":0},"Residential Customer"]
[null,"Low voltage KW 1 rate1","RESKW1R1","F",{"$f":"'2017 TUOS Ex GST'!E28*1.1","v":0},{"$f":"'2017 TUOS Ex GST'!F28*1.1","v":0.76890000000000003},{"$f":"'2017 TUOS Ex GST'!G28*1.1","v":0.76890000000000003},{"$f":"'2017 TUOS Ex GST'!H28*1.1","v":0.76890000000000003},{"$f":"'2017 TUOS Ex GST'!I28*1.1","v":0.76890000000000003},{"$f":"'2017 TUOS Ex GST'!J28*1.1","v":0.76890000000000003},{"$f":"'2017 TUOS Ex GST'!K28*1.1","v":0.76890000000000003},{"$f":"'2017 TUOS Ex GST'!L28*1.1","v":0},{"$f":"'2017 TUOS Ex GST'!M28*1.1","v":0},{"$f":"'2017 TUOS Ex GST'!N28*1.1","v":5.7618000000000009},{"$f":"'2017 TUOS Ex GST'!O28*1.1","v":3.7455000000000003},{"$f":"'2017 TUOS Ex GST'!P28*1.1","v":0},{"$f":"'2017 TUOS Ex GST'!Q28*1.1","v":0},"NA","<20",null,1.5]
[null,"Low Voltage Medium kW Time of Use (Opt-in)2","LVMKWTOU2","F",{"$f":"'2017 TUOS Ex GST'!E29*1.1","v":0},{"$f":"'2017 TUOS Ex GST'!F29*1.1","v":0.97240000000000004},{"$f":"'2017 TUOS Ex GST'!G29*1.1","v":0.97240000000000004},{"$f":"'2017 TUOS Ex GST'!H29*1.1","v":0.97240000000000004},{"$f":"'2017 TUOS Ex GST'!I29*1.1","v":0.97240000000000004},{"$f":"'2017 TUOS Ex GST'!J29*1.1","v":0.97240000000000004},{"$f":"'2017 TUOS Ex GST'!K29*1.1","v":0.97240000000000004},{"$f":"'2017 TUOS Ex GST'!L29*1.1","v":0},{"$f":"'2017 TUOS Ex GST'!M29*1.1","v":0},{"$f":"'2017 TUOS Ex GST'!N29*1.1","v":8.0410000000000004},{"$f":"'2017 TUOS Ex GST'!O29*1.1","v":5.3613999999999997},{"$f":"'2017 TUOS Ex GST'!P29*1.1","v":0},{"$f":"'2017 TUOS Ex GST'!Q29*1.1","v":0},"NA",">20 & <400",null,1.5]
[null,"Low Voltage Medium kW 1 rate (Mandatory)3","LVMKW1R3","F",{"$f":"'2017 TUOS Ex GST'!E30*1.1","v":0},{"$f":"'2017 TUOS Ex GST'!F30*1.1","v":1.4652000000000003},{"$f":"'2017 TUOS Ex GST'!G30*1.1","v":1.4652000000000003},{"$f":"'2017 TUOS Ex GST'!H30*1.1","v":1.4652000000000003},{"$f":"'2017 TUOS Ex GST'!I30*1.1","v":1.4652000000000003},{"$f":"'2017 TUOS Ex GST'!J30*1.1","v":1.4652000000000003},{"$f":"'2017 TUOS Ex GST'!K30*1.1","v":1.4652000000000003},{"$f":"'2017 TUOS Ex GST'!L30*1.1","v":0},{"$f":"'2017 TUOS Ex GST'!M30*1.1","v":0},{"$f":"'2017 TUOS Ex GST'!N30*1.1","v":4.910400000000001},{"$f":"'2017 TUOS Ex GST'!O30*1.1","v":3.2736000000000001},{"$f":"'2017 TUOS Ex GST'!P30*1.1","v":0},{"$f":"'2017 TUOS Ex GST'!Q30*1.1","v":0},"NA",">40 & <400",null,1.5]
[]
[]
[null,"* Tariff closed to premises not already taking supply under this tariff and new connections."]
[null,"** Tariff only available in conjunction with the LVS1R tariff for new connections."]
[null,"Summer peak energy rates apply for period 1st November to 31st March (except TODFLEX which follows daylight savings periods) & RESKWTOU which applies from 1st December to 31st March."]
[null,"Non-summer peak energy rates apply for period 1st April to 31st October (except TODFLEX which follows non-daylight savings periods) & RESKWTOU which applies from 1st April to 30th November."]
[null,"PFIT (Premium Feed-In Tariff) is defined by an “F” added to the front of an existing distribution tariff ie. FTOD. The PFIT tariffs are closed to new connections. "]
[null,"1 RESKW1R csutomers transitioned from RESKWTOU on 1 April 2016."]
[null,"2 LVMKWTOU available from 1st July 2016 for low voltage business customers with energy consumption between 20-40MWh per annum as an opt-in transition."]
[null,"3 LVMKW1R available from 1st January 2017 for low voltage business customers with energy consumption between 40-400MWh per annum as a mandatory transition."]

{"sheet":"2017 NUOS Incl GST","index":5,"n_rows":40,"n_cols":21,"rows_kept":40,"cut":false,"hidden":false,"merged":[[1,1,1,19],[3,4,3,16],[3,17,3,18],[26,17,26,18]]}
[]
[null,"Schedule of Indicative Network Use of System (NUOS) Tariffs: 1 January 2017 (GST Exclusive)"]
[]
[null,null,null,null,"Network Tariff Component",null,null,null,null,null,null,null,null,null,null,null,null,"Eligibility (consumption/   category)",null,"Minimum Chargeable Rolling Demand","Minimum Chargeable Demand"]
[null,"Description","Tariff Code","PFIT (F)\nTFIT (T)","Standing Charge (c/day)","Summer Peak Energy (c/kWh)","Non Summer Peak Energy Block 1 (c/kWh)","Non Summer Peak Energy Block 2 (c/kWh)","Summer Shoulder Energy (c/kWh)","Non Summer Shoulder Energy (c/kWh)","Off Peak Energy (c/kWh)","Rolling Peak Demand c/kVA/day","Summer Demand Incentive Charge c/kW/day or c/kVA/day","Summer Demand Max kW  c/KW/day","Non-summer Demand Max kW  c/KW/day","Summer Demand Overrun Max kW  c/KW/day","Non-summer Demand Overrun Max kW  c/KW/day","kVA","MWh pa","kVA","kW"]
[null,"Low voltage small 1 rate","LVS1R","F",{"$f":"'2017 DUOS Incl GST'!E6+'2017 TUOS Incl GST'!E6","v":7.3172000000000006},{"$f":"'2017 DUOS Incl GST'!F6+'2017 TUOS Incl GST'!F6","v":11.299200000000003},{"$f":"'2017 DUOS Incl GST'!G6+'2017 TUOS Incl GST'!G6","v":7.7110000000000003},{"$f":"'2017 DUOS Incl GST'!H6+'2017 TUOS Incl GST'!H6","v":0},{"$f":"'2017 DUOS Incl GST'!I6+'2017 TUOS Incl GST'!I6","v":0},{"$f":"'2017 DUOS Incl GST'!J6+'2017 TUOS Incl GST'!J6","v":0},{"$f":"'2017 DUOS Incl GST'!K6+'2017 TUOS Incl GST'!K6","v":0},{"$f":"'2017 DUOS Incl GST'!L6+'2017 TUOS Incl GST'!L6","v":0},{"$f":"'2017 DUOS Incl GST'!M6+'2017 TUOS Incl GST'!M6","v":0},{"$f":"'2017 DUOS Incl GST'!N6+'2017 TUOS Incl GST'!N6","v":0},{"$f":"'2017 DUOS Incl GST'!O6+'2017 TUOS Incl GST'!O6","v":0},{"$f":"'2017 DUOS Incl GST'!P6+'2017 TUOS Incl GST'!P6","v":0},{"$f":"'2017 DUOS Incl GST'!Q6+'2017 TUOS Incl GST'!Q6","v":0},"NA","<20"]
[null,"Low voltage small 2 rate*","LVS2R*",null,{"$f":"'2017 DUOS Incl GST'!E7+'2017 TUOS Incl GST'!E7","v":14.944600000000001},{"$f":"'2017 DUOS Incl GST'!F7+'2017 TUOS Incl GST'!F7","v":14.549700000000001},{"$f":"'2017 DUOS Incl GST'!G7+'2017 TUOS Incl GST'!G7","v":11.1958},{"$f":"'2017 DUOS Incl GST'!H7+'2017 TUOS Incl GST'!H7","v":0},{"$f":"'2017 DUOS Incl GST'!I7+'2017 TUOS Incl GST'!I7","v":0},{"$f":"'2017 DUOS Incl GST'!J7+'2017 TUOS Incl GST'!J7","v":0},{"$f":"'2017 DUOS Incl GST'!K7+'2017 TUOS Incl GST'!K7","v":1.8601000000000003},{"$f":"'2017 DUOS Incl GST'!L7+'2017 TUOS Incl GST'!L7","v":0},{"$f":"'2017 DUOS Incl GST'!M7+'2017 TUOS Incl GST'!M7","v":0},{"$f":"'2017 DUOS Incl GST'!N7+'2017 TUOS Incl GST'!N7","v":0},{"$f":"'2017 DUOS Incl GST'!O7+'2017 TUOS Incl GST'!O7","v":0},{"$f":"'2017 DUOS Incl GST'!P7+'2017 TUOS Incl GST'!P7","v":0},{"$f":"'2017 DUOS Incl GST'!Q7+'2017 TUOS Incl GST'!Q7","v":0}]
[null,"Dedicated circuit**","LVDed**",null,{"$f":"'2017 DUOS Incl GST'!E8+'2017 TUOS Incl GST'!E8","v":0},{"$f":"'2017 DUOS Incl GST'!F8+'2017 TUOS Incl GST'!F8","v":0},{"$f":"'2017 DUOS Incl GST'!G8+'2017 TUOS Incl GST'!G8","v":0},{"$f":"'2017 DUOS Incl GST'!H8+'2017 TUOS Incl GST'!H8","v":0},{"$f":"'2017 DUOS Incl GST'!I8+'2017 TUOS Incl GST'!I8","v":0},{"$f":"'2017 DUOS Incl GST'!J8+'2017 TUOS Incl GST'!J8","v":0},{"$f":"'2017 DUOS Incl GST'!K8+'2017 TUOS Incl GST'!K8","v":2.0581},{"$f":"'2017 DUOS Incl GST'!L8+'2017 TUOS Incl GST'!L8","v":0},{"$f":"'2017 DUOS Incl GST'!M8+'2017 TUOS Incl GST'!M8","v":0},{"$f":"'2017 DUOS Incl GST'!N8+'2017 TUOS Incl GST'!N8","v":0},{"$f":"'2017 DUOS Incl GST'!O8+'2017 TUOS Incl GST'!O8","v":0},{"$f":"'2017 DUOS Incl GST'!P8+'2017 TUOS Incl GST'!P8","v":0},{"$f":"'2017 DUOS Incl GST'!Q8+'2017 TUOS Incl GST'!Q8","v":0},"NA","<20 (on LVS1R)"]
[null,"Unmetered supplies","UnMet",null,{"$f":"'2017 DUOS Incl GST'!E9+'2017 TUOS Incl GST'!E9","v":0},{"$f":"'2017 DUOS Incl GST'!F9+'2017 TUOS Incl GST'!F9","v":12.599400000000001},{"$f":"'2017 DUOS Incl GST'!G9+'2017 TUOS Incl GST'!G9","v":9.4589000000000016},{"$f":"'2017 DUOS Incl GST'!H9+'2017 TUOS Incl GST'!H9","v":0},{"$f":"'2017 DUOS Incl GST'!I9+'2017 TUOS Incl GST'!I9","v":0},{"$f":"'2017 DUOS Incl GST'!J9+'2017 TUOS Incl GST'!J9","v":0},{"$f":"'2017 DUOS Incl GST'!K9+'2017 TUOS Incl GST'!K9","v":1.6258000000000001},{"$f":"'2017 DUOS Incl GST'!L9+'2017 TUOS Incl GST'!L9","v":0},{"$f":"'2017 DUOS Incl GST'!M9+'2017 TUOS Incl GST'!M9","v":0},{"$f":"'2017 DUOS Incl GST'!N9+'2017 TUOS Incl GST'!N9","v":0},{"$f":"'2017 DUOS Incl GST'!O9+'2017 TUOS Incl GST'!O9","v":0},{"$f":"'2017 DUOS Incl GST'!P9+'2017 TUOS Incl GST'!P9","v":0},{"$f":"'2017 DUOS Incl GST'!Q9+'2017 TUOS Incl GST'!Q9","v":0}]
[null,"Winter Energy Tariff*","WET2Step*",null,{"$f":"'2017 DUOS Incl GST'!E10+'2017 TUOS Incl GST'!E10","v":9.4237000000000002},{"$f":"'2017 DUOS Incl GST'!F10+'2017 TUOS Incl GST'!F10","v":9.5755000000000017},{"$f":"'2017 DUOS Incl GST'!G10+'2017 TUOS Incl GST'!G10","v":7.2457000000000011},{"$f":"'2017 DUOS Incl GST'!H10+'2017 TUOS Incl GST'!H10","v":3.9897},{"$f":"'2017 DUOS Incl GST'!I10+'2017 TUOS Incl GST'!I10","v":0},{"$f":"'2017 DUOS Incl GST'!J10+'2017 TUOS Incl GST'!J10","v":0},{"$f":"'2017 DUOS Incl GST'!K10+'2017 TUOS Incl GST'!K10","v":0},{"$f":"'2017 DUOS Incl GST'!L10+'2017 TUOS Incl GST'!L10","v":0},{"$f":"'2017 DUOS Incl GST'!M10+'2017 TUOS Incl GST'!M10","v":0},{"$f":"'2017 DUOS Incl GST'!N10+'2017 TUOS Incl GST'!N10","v":0},{"$f":"'2017 DUOS Incl GST'!O10+'2017 TUOS Incl GST'!O10","v":0},{"$f":"'2017 DUOS Incl GST'!P10+'2017 TUOS Incl GST'!P10","v":0},{"$f":"'2017 DUOS Incl GST'!Q10+'2017 TUOS Incl GST'!Q10","v":0}]
[null,"Reverse cycle airconditioning time of use*","RCACkWTOU*",null,{"$f":"'2017 DUOS Incl GST'!E11+'2017 TUOS Incl GST'!E11","v":0},{"$f":"'2017 DUOS Incl GST'!F11+'2017 TUOS Incl GST'!F11","v":23.371700000000001},{"$f":"'2017 DUOS Incl GST'!G11+'2017 TUOS Incl GST'!G11","v":5.3801000000000005},{"$f":"'2017 DUOS Incl GST'!H11+'2017 TUOS Incl GST'!H11","v":0},{"$f":"'2017 DUOS Incl GST'!I11+'2017 TUOS Incl GST'!I11","v":0},{"$f":"'2017 DUOS Incl GST'!J11+'2017 TUOS Incl GST'!J11","v":0},{"$f":"'2017 DUOS Incl GST'!K11+'2017 TUOS Incl GST'!K11","v":1.5081000000000002},{"$f":"'2017 DUOS Incl GST'!L11+'2017 TUOS Incl GST'!L11","v":0},{"$f":"'2017 DUOS Incl GST'!M11+'2017 TUOS Incl GST'!M11","v":87.690899999999999},{"$f":"'2017 DUOS Incl GST'!N11+'2017 TUOS Incl GST'!N11","v":0},{"$f":"'2017 DUOS Incl GST'!O11+'2017 TUOS Incl GST'!O11","v":0},{"$f":"'2017 DUOS Incl GST'!P11+'2017 TUOS Incl GST'!P11","v":0},{"$f":"'2017 DUOS Incl GST'!Q11+'2017 TUOS Incl GST'!Q11","v":0}]
[null,"Low voltage medium 1 rate","LVM1R","F",{"$f":"'2017 DUOS Incl GST'!E12+'2017 TUOS Incl GST'!E12","v":12.085700000000001},{"$f":"'2017 DUOS Incl GST'!F12+'2017 TUOS Incl GST'!F12","v":13.2979},{"$f":"'2017 DUOS Incl GST'!G12+'2017 TUOS Incl GST'!G12","v":8.764800000000001},{"$f":"'2017 DUOS Incl GST'!H12+'2017 TUOS Incl GST'!H12","v":0},{"$f":"'2017 DUOS Incl GST'!I12+'2017 TUOS Incl GST'!I12","v":0},{"$f":"'2017 DUOS Incl GST'!J12+'2017 TUOS Incl GST'!J12","v":0},{"$f":"'2017 DUOS Incl GST'!K12+'2017 TUOS Incl GST'!K12","v":0},{"$f":"'2017 DUOS Incl GST'!L12+'2017 TUOS Incl GST'!L12","v":0},{"$f":"'2017 DUOS Incl GST'!M12+'2017 TUOS Incl GST'!M12","v":0},{"$f":"'2017 DUOS Incl GST'!N12+'2017 TUOS Incl GST'!N12","v":0},{"$f":"'2017 DUOS Incl GST'!O12+'2017 TUOS Incl GST'!O12","v":0},{"$f":"'2017 DUOS Incl GST'!P12+'2017 TUOS Incl GST'!P12","v":0},{"$f":"'2017 DUOS Incl GST'!Q12+'2017 TUOS Incl GST'!Q12","v":0},"NA",">20 & <400"]
[null,"Low voltage medium 2 rate 5 day*","LVM2R5D*",null,{"$f":"'2017 DUOS Incl GST'!E13+'2017 TUOS Incl GST'!E13","v":23.133000000000003},{"$f":"'2017 DUOS Incl GST'!F13+'2017 TUOS Incl GST'!F13","v":13.549800000000001},{"$f":"'2017 DUOS Incl GST'!G13+'2017 TUOS Incl GST'!G13","v":10.2707},{"$f":"'2017 DUOS Incl GST'!H13+'2017 TUOS Incl GST'!H13","v":0},{"$f":"'2017 DUOS Incl GST'!I13+'2017 TUOS Incl GST'!I13","v":0},{"$f":"'2017 DUOS Incl GST'!J13+'2017 TUOS Incl GST'!J13","v":0},{"$f":"'2017 DUOS Incl GST'!K13+'2017 TUOS Incl GST'!K13","v":2.0977000000000001},{"$f":"'2017 DUOS Incl GST'!L13+'2017 TUOS Incl GST'!L13","v":0},{"$f":"'2017 DUOS Incl GST'!M13+'2017 TUOS Incl GST'!M13","v":0},{"$f":"'2017 DUOS Incl GST'!N13+'2017 TUOS Incl GST'!N13","v":0},{"$f":"'2017 DUOS Incl GST'!O13+'2017 TUOS Incl GST'!O13","v":0},{"$f":"'2017 DUOS Incl GST'!P13+'2017 TUOS Incl GST'!P13","v":0},{"$f":"'2017 DUOS Incl GST'!Q13+'2017 TUOS Incl GST'!Q13","v":0}]
[null,"Low voltage medium 2 rate 7 day*","LVM2R7D*",null,{"$f":"'2017 DUOS Incl GST'!E14+'2017 TUOS Incl GST'!E14","v":24.625700000000002},{"$f":"'2017 DUOS Incl GST'!F14+'2017 TUOS Incl GST'!F14","v":13.448600000000001},{"$f":"'2017 DUOS Incl GST'!G14+'2017 TUOS Incl GST'!G14","v":10.486300000000002},{"$f":"'2017 DUOS Incl GST'!H14+'2017 TUOS Incl GST'!H14","v":0},{"$f":"'2017 DUOS Incl GST'!I14+'2017 TUOS Incl GST'!I14","v":0},{"$f":"'2017 DUOS Incl GST'!J14+'2017 TUOS Incl GST'!J14","v":0},{"$f":"'2017 DUOS Incl GST'!K14+'2017 TUOS Incl GST'!K14","v":1.9503000000000001},{"$f":"'2017 DUOS Incl GST'!L14+'2017 TUOS Incl GST'!L14","v":0},{"$f":"'2017 DUOS Incl GST'!M14+'2017 TUOS Incl GST'!M14","v":0},{"$f":"'2017 DUOS Incl GST'!N14+'2017 TUOS Incl GST'!N14","v":0},{"$f":"'2017 DUOS Incl GST'!O14+'2017 TUOS Incl GST'!O14","v":0},{"$f":"'2017 DUOS Incl GST'!P14+'2017 TUOS Incl GST'!P14","v":0},{"$f":"'2017 DUOS Incl GST'!Q14+'2017 TUOS Incl GST'!Q14","v":0}]
[null,"Low voltage KW time of use*","LVkWTOU*",null,{"$f":"'2017 DUOS Incl GST'!E15+'2017 TUOS Incl GST'!E15","v":0},{"$f":"'2017 DUOS Incl GST'!F15+'2017 TUOS Incl GST'!F15","v":11.390500000000001},{"$f":"'2017 DUOS Incl GST'!G15+'2017 TUOS Incl GST'!G15","v":7.1324000000000014},{"$f":"'2017 DUOS Incl GST'!H15+'2017 TUOS Incl GST'!H15","v":0},{"$f":"'2017 DUOS Incl GST'!I15+'2017 TUOS Incl GST'!I15","v":0},{"$f":"'2017 DUOS Incl GST'!J15+'2017 TUOS Incl GST'!J15","v":0},{"$f":"'2017 DUOS Incl GST'!K15+'2017 TUOS Incl GST'!K15","v":2.1527000000000003},{"$f":"'2017 DUOS Incl GST'!L15+'2017 TUOS Incl GST'!L15","v":0},{"$f":"'2017 DUOS Incl GST'!M15+'2017 TUOS Incl GST'!M15","v":54.279499999999999},{"$f":"'2017 DUOS Incl GST'!N15+'2017 TUOS Incl GST'!N15","v":0},{"$f":"'2017 DUOS Incl GST'!O15+'2017 TUOS Incl GST'!O15","v":0},{"$f":"'2017 DUOS Incl GST'!P15+'2017 TUOS Incl GST'!P15","v":0},{"$f":"'2017 DUOS Incl GST'!Q15+'2017 TUOS Incl GST'!Q15","v":0}]
[null,"Low voltage KW time of use - HOT*","LVkWTOUH*",null,{"$f":"'2017 DUOS Incl GST'!E16+'2017 TUOS Incl GST'!E16","v":0},{"$f":"'2017 DUOS Incl GST'!F16+'2017 TUOS Incl GST'!F16","v":9.2224000000000004},{"$f":"'2017 DUOS Incl GST'!G16+'2017 TUOS Incl GST'!G16","v":7.1258000000000008},{"$f":"'2017 DUOS Incl GST'!H16+'2017 TUOS Incl GST'!H16","v":0},{"$f":"'2017 DUOS Incl GST'!I16+'2017 TUOS Incl GST'!I16","v":0},{"$f":"'2017 DUOS Incl GST'!J16+'2017 TUOS Incl GST'!J16","v":0},{"$f":"'2017 DUOS Incl GST'!K16+'2017 TUOS Incl GST'!K16","v":1.8183000000000002},{"$f":"'2017 DUOS Incl GST'!L16+'2017 TUOS Incl GST'!L16","v":0},{"$f":"'2017 DUOS Incl GST'!M16+'2017 TUOS Incl GST'!M16","v":81.352700000000013},{"$f":"'2017 DUOS Incl GST'!N16+'2017 TUOS Incl GST'!N16","v":0},{"$f":"'2017 DUOS Incl GST'!O16+'2017 TUOS Incl GST'!O16","v":0},{"$f":"'2017 DUOS Incl GST'!P16+'2017 TUOS Incl GST'!P16","v":0},{"$f":"'2017 DUOS Incl GST'!Q16+'2017 TUOS Incl GST'!Q16","v":0}]
[null,"Low voltage large 1 rate*","LVL1R*",null,{"$f":"'2017 DUOS Incl GST'!E17+'2017 TUOS Incl GST'!E17","v":13.922700000000001},{"$f":"'2017 DUOS Incl GST'!F17+'2017 TUOS Incl GST'!F17","v":9.0431000000000008},{"$f":"'2017 DUOS Incl GST'!G17+'2017 TUOS Incl GST'!G17","v":7.1621000000000006},{"$f":"'2017 DUOS Incl GST'!H17+'2017 TUOS Incl GST'!H17","v":0},{"$f":"'2017 DUOS Incl GST'!I17+'2017 TUOS Incl GST'!I17","v":0},{"$f":"'2017 DUOS Incl GST'!J17+'2017 TUOS Incl GST'!J17","v":0},{"$f":"'2017 DUOS Incl GST'!K17+'2017 TUOS Incl GST'!K17","v":0},{"$f":"'2017 DUOS Incl GST'!L17+'2017 TUOS Incl GST'!L17","v":0},{"$f":"'2017 DUOS Incl GST'!M17+'2017 TUOS Incl GST'!M17","v":0},{"$f":"'2017 DUOS Incl GST'!N17+'2017 TUOS Incl GST'!N17","v":0},{"$f":"'2017 DUOS Incl GST'!O17+'2017 TUOS Incl GST'!O17","v":0},{"$f":"'2017 DUOS Incl GST'!P17+'2017 TUOS Incl GST'!P17","v":0},{"$f":"'2017 DUOS Incl GST'!Q17+'2017 TUOS Incl GST'!Q17","v":0}]
[null,"Low voltage large 2 rate*","LVL2R*",null,{"$f":"'2017 DUOS Incl GST'!E18+'2017 TUOS Incl GST'!E18","v":20.0838},{"$f":"'2017 DUOS Incl GST'!F18+'2017 TUOS Incl GST'!F18","v":12.0318},{"$f":"'2017 DUOS Incl GST'!G18+'2017 TUOS Incl GST'!G18","v":9.5788000000000011},{"$f":"'2017 DUOS Incl GST'!H18+'2017 TUOS Incl GST'!H18","v":0},{"$f":"'2017 DUOS Incl GST'!I18+'2017 TUOS Incl GST'!I18","v":0},{"$f":"'2017 DUOS Incl GST'!J18+'2017 TUOS Incl GST'!J18","v":0},{"$f":"'2017 DUOS Incl GST'!K18+'2017 TUOS Incl GST'!K18","v":1.8997000000000002},{"$f":"'2017 DUOS Incl GST'!L18+'2017 TUOS Incl GST'!L18","v":0},{"$f":"'2017 DUOS Incl GST'!M18+'2017 TUOS Incl GST'!M18","v":0},{"$f":"'2017 DUOS Incl GST'!N18+'2017 TUOS Incl GST'!N18","v":0},{"$f":"'2017 DUOS Incl GST'!O18+'2017 TUOS Incl GST'!O18","v":0},{"$f":"'2017 DUOS Incl GST'!P18+'2017 TUOS Incl GST'!P18","v":0},{"$f":"'2017 DUOS Incl GST'!Q18+'2017 TUOS Incl GST'!Q18","v":0}]
[null,"Low voltage large KVA time of use","LVkVATOU",null,{"$f":"'2017 DUOS Incl GST'!E19+'2017 TUOS Incl GST'!E19","v":0},{"$f":"'2017 DUOS Incl GST'!F19+'2017 TUOS Incl GST'!F19","v":2.6048},{"$f":"'2017 DUOS Incl GST'!G19+'2017 TUOS Incl GST'!G19","v":2.1549},{"$f":"'2017 DUOS Incl GST'!H19+'2017 TUOS Incl GST'!H19","v":0},{"$f":"'2017 DUOS Incl GST'!I19+'2017 TUOS Incl GST'!I19","v":0},{"$f":"'2017 DUOS Incl GST'!J19+'2017 TUOS Incl GST'!J19","v":0},{"$f":"'2017 DUOS Incl GST'!K19+'2017 TUOS Incl GST'!K19","v":1.2045000000000001},{"$f":"'2017 DUOS Incl GST'!L19+'2017 TUOS Incl GST'!L19","v":19.262100000000004},{"$f":"'2017 DUOS Incl GST'!M19+'2017 TUOS Incl GST'!M19","v":28.139099999999999},{"$f":"'2017 DUOS Incl GST'!N19+'2017 TUOS Incl GST'!N19","v":0},{"$f":"'2017 DUOS Incl GST'!O19+'2017 TUOS Incl GST'!O19","v":0},{"$f":"'2017 DUOS Incl GST'!P19+'2017 TUOS Incl GST'!P19","v":0},{"$f":"'2017 DUOS Incl GST'!Q19+'2017 TUOS Incl GST'!Q19","v":0},">150",">400",150]
[null,"Low voltage large KVA time of use - HOT*","LVkVATOUH*",null,{"$f":"'2017 DUOS Incl GST'!E20+'2017 TUOS Incl GST'!E20","v":0},{"$f":"'2017 DUOS Incl GST'!F20+'2017 TUOS Incl GST'!F20","v":1.9910000000000001},{"$f":"'2017 DUOS Incl GST'!G20+'2017 TUOS Incl GST'!G20","v":1.6280000000000001},{"$f":"'2017 DUOS Incl GST'!H20+'2017 TUOS Incl GST'!H20","v":0},{"$f":"'2017 DUOS Incl GST'!I20+'2017 TUOS Incl GST'!I20","v":0},{"$f":"'2017 DUOS Incl GST'!J20+'2017 TUOS Incl GST'!J20","v":0},{"$f":"'2017 DUOS Incl GST'!K20+'2017 TUOS Incl GST'!K20","v":1.0296000000000001},{"$f":"'2017 DUOS Incl GST'!L20+'2017 TUOS Incl GST'!L20","v":17.429500000000001},{"$f":"'2017 DUOS Incl GST'!M20+'2017 TUOS Incl GST'!M20","v":41.928700000000006},{"$f":"'2017 DUOS Incl GST'!N20+'2017 TUOS Incl GST'!N20","v":0},{"$f":"'2017 DUOS Incl GST'!O20+'2017 TUOS Incl GST'!O20","v":0},{"$f":"'2017 DUOS Incl GST'!P20+'2017 TUOS Incl GST'!P20","v":0},{"$f":"'2017 DUOS Incl GST'!Q20+'2017 TUOS Incl GST'!Q20","v":0},null,null,150]
[null,"High voltage KVA time of use","HVkVATOU",null,{"$f":"'2017 DUOS Incl GST'!E21+'2017 TUOS Incl GST'!E21","v":0},{"$f":"'2017 DUOS Incl GST'!F21+'2017 TUOS Incl GST'!F21","v":1.6863000000000001},{"$f":"'2017 DUOS Incl GST'!G21+'2017 TUOS Incl GST'!G21","v":1.4212},{"$f":"'2017 DUOS Incl GST'!H21+'2017 TUOS Incl GST'!H21","v":0},{"$f":"'2017 DUOS Incl GST'!I21+'2017 TUOS Incl GST'!I21","v":0},{"$f":"'2017 DUOS Incl GST'!J21+'2017 TUOS Incl GST'!J21","v":0},{"$f":"'2017 DUOS Incl GST'!K21+'2017 TUOS Incl GST'!K21","v":0.75020000000000009},{"$f":"'2017 DUOS Incl GST'!L21+'2017 TUOS Incl GST'!L21","v":14.279100000000003},{"$f":"'2017 DUOS Incl GST'!M21+'2017 TUOS Incl GST'!M21","v":17.840900000000001},{"$f":"'2017 DUOS Incl GST'!N21+'2017 TUOS Incl GST'!N21","v":0},{"$f":"'2017 DUOS Incl GST'!O21+'2017 TUOS Incl GST'!O21","v":0},{"$f":"'2017 DUOS Incl GST'!P21+'2017 TUOS Incl GST'!P21","v":0},{"$f":"'2017 DUOS Incl GST'!Q21+'2017 TUOS Incl GST'!Q21","v":0},">150",">400",1150]
[null,"High voltage KVA time of use - HOT*","HVkVATOUH*",null,{"$f":"'2017 DUOS Incl GST'!E22+'2017 TUOS Incl GST'!E22","v":0},{"$f":"'2017 DUOS Incl GST'!F22+'2017 TUOS Incl GST'!F22","v":1.3684000000000001},{"$f":"'2017 DUOS Incl GST'!G22+'2017 TUOS Incl GST'!G22","v":1.1165},{"$f":"'2017 DUOS Incl GST'!H22+'2017 TUOS Incl GST'!H22","v":0},{"$f":"'2017 DUOS Incl GST'!I22+'2017 TUOS Incl GST'!I22","v":0},{"$f":"'2017 DUOS Incl GST'!J22+'2017 TUOS Incl GST'!J22","v":0},{"$f":"'2017 DUOS Incl GST'!K22+'2017 TUOS Incl GST'!K22","v":0.73150000000000015},{"$f":"'2017 DUOS Incl GST'!L22+'2017 TUOS Incl GST'!L22","v":13.299000000000001},{"$f":"'2017 DUOS Incl GST'!M22+'2017 TUOS Incl GST'!M22","v":30.940799999999999},{"$f":"'2017 DUOS Incl GST'!N22+'2017 TUOS Incl GST'!N22","v":0},{"$f":"'2017 DUOS Incl GST'!O22+'2017 TUOS Incl GST'!O22","v":0},{"$f":"'2017 DUOS Incl GST'!P22+'2017 TUOS Incl GST'!P22","v":0},{"$f":"'2017 DUOS Incl GST'!Q22+'2017 TUOS Incl GST'!Q22","v":0},null,null,1150]
[null,"Subtransmission KVA time of use*","SubTkVATOU*",null,{"$f":"'2017 DUOS Incl GST'!E23+'2017 TUOS Incl GST'!E23","v":0},{"$f":"'2017 DUOS Incl GST'!F23+'2017 TUOS Incl GST'!F23","v":1.0472000000000001},{"$f":"'2017 DUOS Incl GST'!G23+'2017 TUOS Incl GST'!G23","v":0.83050000000000002},{"$f":"'2017 DUOS Incl GST'!H23+'2017 TUOS Incl GST'!H23","v":0},{"$f":"'2017 DUOS Incl GST'!I23+'2017 TUOS Incl GST'!I23","v":0},{"$f":"'2017 DUOS Incl GST'!J23+'2017 TUOS Incl GST'!J23","v":0},{"$f":"'2017 DUOS Incl GST'!K23+'2017 TUOS Incl GST'!K23","v":0.3322},{"$f":"'2017 DUOS Incl GST'!L23+'2017 TUOS Incl GST'!L23","v":4.7916000000000007},{"$f":"'2017 DUOS Incl GST'!M23+'2017 TUOS Incl GST'!M23","v":6.0312999999999999},{"$f":"'2017 DUOS Incl GST'!N23+'2017 TUOS Incl GST'!N23","v":0},{"$f":"'2017 DUOS Incl GST'!O23+'2017 TUOS Incl GST'!O23","v":0},{"$f":"'2017 DUOS Incl GST'!P23+'2017 TUOS Incl GST'!P23","v":0},{"$f":"'2017 DUOS Incl GST'!Q23+'2017 TUOS Incl GST'!Q23","v":0},null,null,11100]
[null,"Time of Day","TOD","F",{"$f":"'2017 DUOS Incl GST'!E24+'2017 TUOS Incl GST'!E24","v":6.9608000000000008},{"$f":"'2017 DUOS Incl GST'!F24+'2017 TUOS Incl GST'!F24","v":20.421500000000002},{"$f":"'2017 DUOS Incl GST'!G24+'2017 TUOS Incl GST'!G24","v":12.992100000000001},{"$f":"'2017 DUOS Incl GST'!H24+'2017 TUOS Incl GST'!H24","v":0},{"$f":"'2017 DUOS Incl GST'!I24+'2017 TUOS Incl GST'!I24","v":7.8463000000000003},{"$f":"'2017 DUOS Incl GST'!J24+'2017 TUOS Incl GST'!J24","v":6.2381000000000002},{"$f":"'2017 DUOS Incl GST'!K24+'2017 TUOS Incl GST'!K24","v":3.2263000000000002},{"$f":"'2017 DUOS Incl GST'!L24+'2017 TUOS Incl GST'!L24","v":0},{"$f":"'2017 DUOS Incl GST'!M24+'2017 TUOS Incl GST'!M24","v":0},{"$f":"'2017 DUOS Incl GST'!N24+'2017 TUOS Incl GST'!N24","v":0},{"$f":"'2017 DUOS Incl GST'!O24+'2017 TUOS Incl GST'!O24","v":0},{"$f":"'2017 DUOS Incl GST'!P24+'2017 TUOS Incl GST'!P24","v":0},{"$f":"'2017 DUOS Incl GST'!Q24+'2017 TUOS Incl GST'!Q24","v":0},"NA","<20"]
[null,"Time of Use","TOU","F",{"$f":"'2017 DUOS Incl GST'!E25+'2017 TUOS Incl GST'!E25","v":0},{"$f":"'2017 DUOS Incl GST'!F25+'2017 TUOS Incl GST'!F25","v":12.745700000000001},{"$f":"'2017 DUOS Incl GST'!G25+'2017 TUOS Incl GST'!G25","v":7.3370000000000006},{"$f":"'2017 DUOS Incl GST'!H25+'2017 TUOS Incl GST'!H25","v":0},{"$f":"'2017 DUOS Incl GST'!I25+'2017 TUOS Incl GST'!I25","v":0},{"$f":"'2017 DUOS Incl GST'!J25+'2017 TUOS Incl GST'!J25","v":0},{"$f":"'2017 DUOS Incl GST'!K25+'2017 TUOS Incl GST'!K25","v":2.9348000000000005},{"$f":"'2017 DUOS Incl GST'!L25+'2017 TUOS Incl GST'!L25","v":0},{"$f":"'2017 DUOS Incl GST'!M25+'2017 TUOS Incl GST'!M25","v":50.630800000000008},{"$f":"'2017 DUOS Incl GST'!N25+'2017 TUOS Incl GST'!N25","v":0},{"$f":"'2017 DUOS Incl GST'!O25+'2017 TUOS Incl GST'!O25","v":0},{"$f":"'2017 DUOS Incl GST'!P25+'2017 TUOS Incl GST'!P25","v":0},{"$f":"'2017 DUOS Incl GST'!Q25+'2017 TUOS Incl GST'!Q25","v":0},"NA",">20 & <400"]
[null,"Time of Day 9pm off-peak","TOD9","F",{"$f":"'2017 DUOS Incl GST'!E26+'2017 TUOS Incl GST'!E26","v":7.2204000000000006},{"$f":"'2017 DUOS Incl GST'!F26+'2017 TUOS Incl GST'!F26","v":23.817200000000003},{"$f":"'2017 DUOS Incl GST'!G26+'2017 TUOS Incl GST'!G26","v":16.3262},{"$f":"'2017 DUOS Incl GST'!H26+'2017 TUOS Incl GST'!H26","v":0},{"$f":"'2017 DUOS Incl GST'!I26+'2017 TUOS Incl GST'!I26","v":10.450000000000001},{"$f":"'2017 DUOS Incl GST'!J26+'2017 TUOS Incl GST'!J26","v":9.0706000000000007},{"$f":"'2017 DUOS Incl GST'!K26+'2017 TUOS Incl GST'!K26","v":4.4693000000000005},{"$f":"'2017 DUOS Incl GST'!L26+'2017 TUOS Incl GST'!L26","v":0},{"$f":"'2017 DUOS Incl GST'!M26+'2017 TUOS Incl GST'!M26","v":0},{"$f":"'2017 DUOS Incl GST'!N26+'2017 TUOS Incl GST'!N26","v":0},{"$f":"'2017 DUOS Incl GST'!O26+'2017 TUOS Incl GST'!O26","v":0},{"$f":"'2017 DUOS Incl GST'!P26+'2017 TUOS Incl GST'!P26","v":0},{"$f":"'2017 DUOS Incl GST'!Q26+'2017 TUOS Incl GST'!Q26","v":0},"NA","<20"]
[null,"Time of Day Flexible","TODFLEX","F",{"$f":"'2017 DUOS Incl GST'!E27+'2017 TUOS Incl GST'!E27","v":7.7759000000000009},{"$f":"'2017 DUOS Incl GST'!F27+'2017 TUOS Incl GST'!F27","v":22.7469},{"$f":"'2017 DUOS Incl GST'!G27+'2017 TUOS Incl GST'!G27","v":14.5585},{"$f":"'2017 DUOS Incl GST'!H27+'2017 TUOS Incl GST'!H27","v":0},{"$f":"'2017 DUOS Incl GST'!I27+'2017 TUOS Incl GST'!I27","v":7.1313000000000013},{"$f":"'2017 DUOS Incl GST'!J27+'2017 TUOS Incl GST'!J27","v":6.8849000000000009},{"$f":"'2017 DUOS Incl GST'!K27+'2017 TUOS Incl GST'!K27","v":4.2735000000000003},{"$f":"'2017 DUOS Incl GST'!L27+'2017 TUOS Incl GST'!L27","v":0},{"$f":"'2017 DUOS Incl GST'!M27+'2017 TUOS Incl GST'!M27","v":0},{"$f":"'2017 DUOS Incl GST'!N27+'2017 TUOS Incl GST'!N27","v":0},{"$f":"'2017 DUOS Incl GST'!O27+'2017 TUOS Incl GST'!O27","v":0},{"$f":"'2017 DUOS Incl GST'!P27+'2017 TUOS Incl GST'!P27","v":0},{"$f":"'2017 DUOS Incl GST'!Q27+'2017 TUOS Incl GST'!Q27","v":0},"Residential Customer"]
[null,"Low voltage KW 1 rate1","RESKW1R1","F",{"$f":"'2017 DUOS Incl GST'!E28+'2017 TUOS Incl GST'!E28","v":0},{"$f":"'2017 DUOS Incl GST'!F28+'2017 TUOS Incl GST'!F28","v":3.6597000000000004},{"$f":"'2017 DUOS Incl GST'!G28+'2017 TUOS Incl GST'!G28","v":3.6597000000000004},{"$f":"'2017 DUOS Incl GST'!H28+'2017 TUOS Incl GST'!H28","v":3.6597000000000004},{"$f":"'2017 DUOS Incl GST'!I28+'2017 TUOS Incl GST'!I28","v":3.6597000000000004},{"$f":"'2017 DUOS Incl GST'!J28+'2017 TUOS Incl GST'!J28","v":3.6597000000000004},{"$f":"'2017 DUOS Incl GST'!K28+'2017 TUOS Incl GST'!K28","v":3.6597000000000004},{"$f":"'2017 DUOS Incl GST'!L28+'2017 TUOS Incl GST'!L28","v":0},{"$f":"'2017 DUOS Incl GST'!M28+'2017 TUOS Incl GST'!M28","v":0},{"$f":"'2017 DUOS Incl GST'!N28+'2017 TUOS Incl GST'!N28","v":33.613800000000005},{"$f":"'2017 DUOS Incl GST'!O28+'2017 TUOS Incl GST'!O28","v":14.736700000000001},{"$f":"'2017 DUOS Incl GST'!P28+'2017 TUOS Incl GST'!P28","v":0},{"$f":"'2017 DUOS Incl GST'!Q28+'2017 TUOS Incl GST'!Q28","v":0},"NA","<20",null,1.5]
[null,"Low Voltage Medium kW Time of Use (Opt-in)2","LVMKWTOU2","F",{"$f":"'2017 DUOS Incl GST'!E29+'2017 TUOS Incl GST'!E29","v":0},{"$f":"'2017 DUOS Incl GST'!F29+'2017 TUOS Incl GST'!F29","v":4.7960000000000003},{"$f":"'2017 DUOS Incl GST'!G29+'2017 TUOS Incl GST'!G29","v":4.7960000000000003},{"$f":"'2017 DUOS Incl GST'!H29+'2017 TUOS Incl GST'!H29","v":4.7960000000000003},{"$f":"'2017 DUOS Incl GST'!I29+'2017 TUOS Incl GST'!I29","v":4.7960000000000003},{"$f":"'2017 DUOS Incl GST'!J29+'2017 TUOS Incl GST'!J29","v":4.7960000000000003},{"$f":"'2017 DUOS Incl GST'!K29+'2017 TUOS Incl GST'!K29","v":4.7960000000000003},{"$f":"'2017 DUOS Incl GST'!L29+'2017 TUOS Incl GST'!L29","v":0},{"$f":"'2017 DUOS Incl GST'!M29+'2017 TUOS Incl GST'!M29","v":0},{"$f":"'2017 DUOS Incl GST'!N29+'2017 TUOS Incl GST'!N29","v":39.668199999999999},{"$f":"'2017 DUOS Incl GST'!O29+'2017 TUOS Incl GST'!O29","v":26.446200000000001},{"$f":"'2017 DUOS Incl GST'!P29+'2017 TUOS Incl GST'!P29","v":0},{"$f":"'2017 DUOS Incl GST'!Q29+'2017 TUOS Incl GST'!Q29","v":0},"NA",">20 & <400",null,1.5]
[null,"Low Voltage Medium kW 1 rate (Mandatory)3","LVMKW1R3","F",{"$f":"'2017 DUOS Incl GST'!E30+'2017 TUOS Incl GST'!E30","v":0},{"$f":"'2017 DUOS Incl GST'!F30+'2017 TUOS Incl GST'!F30","v":7.3326000000000002},{"$f":"'2017 DUOS Incl GST'!G30+'2017 TUOS Incl GST'!G30","v":7.3326000000000002},{"$f":"'2017 DUOS Incl GST'!H30+'2017 TUOS Incl GST'!H30","v":7.3326000000000002},{"$f":"'2017 DUOS Incl GST'!I30+'2017 TUOS Incl GST'!I30","v":7.3326000000000002},{"$f":"'2017 DUOS Incl GST'!J30+'2017 TUOS Incl GST'!J30","v":7.3326000000000002},{"$f":"'2017 DUOS Incl GST'!K30+'2017 TUOS Incl GST'!K30","v":7.3326000000000002},{"$f":"'2017 DUOS Incl GST'!L30+'2017 TUOS Incl GST'!L30","v":0},{"$f":"'2017 DUOS Incl GST'!M30+'2017 TUOS Incl GST'!M30","v":0},{"$f":"'2017 DUOS Incl GST'!N30+'2017 TUOS Incl GST'!N30","v":24.570700000000002},{"$f":"'2017 DUOS Incl GST'!O30+'2017 TUOS Incl GST'!O30","v":16.380099999999999},{"$f":"'2017 DUOS Incl GST'!P30+'2017 TUOS Incl GST'!P30","v":0},{"$f":"'2017 DUOS Incl GST'!Q30+'2017 TUOS Incl GST'!Q30","v":0},"NA",">40 & <400",null,1.5]
[]
[]
[null,"* Tariff closed to premises not already taking supply under this tariff and new connections."]
[null,"** Tariff only available in conjunction with the LVS1R tariff for new connections."]
[null,"Summer peak energy rates apply for period 1st November to 31st March (except TODFLEX which follows daylight savings periods) & RESKWTOU which applies from 1st December to 31st March."]
[null,"Non-summer peak energy rates apply for period 1st April to 31st October (except TODFLEX which follows non-daylight savings periods) & RESKWTOU which applies from 1st April to 30th November."]
[null,"PFIT (Premium Feed-In Tariff) is defined by an “F” added to the front of an existing distribution tariff ie. FTOD. The PFIT tariffs are closed to new connections. "]
[null,"1 RESKW1R csutomers transitioned from RESKWTOU on 1 April 2016."]
[null,"2 LVMKWTOU available from 1st July 2016 for low voltage business customers with energy consumption between 20-40MWh per annum as an opt-in transition."]
[null,"3 LVMKW1R available from 1st January 2017 for low voltage business customers with energy consumption between 40-400MWh per annum as a mandatory transition."]

{"sheet":"PFIT TFIT Ex GST","index":6,"n_rows":29,"n_cols":3,"rows_kept":29,"cut":false,"hidden":false,"merged":[[0,0,0,2],[31,0,31,2],[32,0,32,2]]}
["UED PFIT/TFIT pass through charge: 1 January 2017 (GST Exclusive)"]
["UED Network Tariff Description","UED Tariff Code","PFIT/TFIT Pass Through Charge (c/cust/day)"]
["Low voltage small 1 rate","LVS1R",6.2469999999999999]
["Low voltage small 2 rate*","LVS2R*",6.2469999999999999]
["Dedicated circuit**","LVDed**"]
["Unmetered supplies","UnMet"]
["Winter Energy Tariff*","WET2Step*",6.2469999999999999]
["Reverse cycle airconditioning time of use*","RCACkWTOU*",6.2469999999999999]
["Low voltage medium 1 rate","LVM1R",6.2469999999999999]
["Low voltage medium 2 rate 5 day*","LVM2R5D*",6.2469999999999999]
["Low voltage medium 2 rate 7 day*","LVM2R7D*",6.2469999999999999]
["Low voltage KW time of use*","LVkWTOU*",6.2469999999999999]
["Low voltage KW time of use - HOT*","LVkWTOUH*",6.2469999999999999]
["Low voltage large 1 rate*","LVL1R*",6.2469999999999999]
["Low voltage large 2 rate*","LVL2R*",6.2469999999999999]
["Low voltage large KVA time of use","LVkVATOU",6.2469999999999999]
["Low voltage large KVA time of use - HOT*","LVkVATOUH*",6.2469999999999999]
["High voltage KVA time of use","HVkVATOU",6.2469999999999999]
["High voltage KVA time of use - HOT*","HVkVATOUH*",6.2469999999999999]
["Subtransmission KVA time of use*","SubTkVATOU*",6.2469999999999999]
["Time of Day","TOD",6.2469999999999999]
["Time of Use","TOU",6.2469999999999999]
["Time of Day 9pm off-peak","TOD9",6.2469999999999999]
["Time of Day Flexible","TODFLEX",6.2469999999999999]
["Low voltage KW 1 rate","RESKW1R",6.2469999999999999]
["Low Voltage Medium kW Time of Use (Opt-in)","LVMKWTOU",6.2469999999999999]
["Low Voltage Medium kW 1 rate (Mandatory)","LVMKW1R",6.2469999999999999]
[]
["* Tariff closed to premises not already taking supply under this tariff and new connections."]

{"sheet":"PFIT TFIT Incl GST","index":7,"n_rows":29,"n_cols":3,"rows_kept":29,"cut":false,"hidden":false,"merged":[[0,0,0,2],[31,0,31,2],[32,0,32,2]]}
["UED PFIT/TFIT pass through charge: 1 January 2017 (GST Inclusive)"]
["UED Network Tariff Description","UED Tariff Code","PFIT/TFIT Pass Through Charge (c/cust/day)"]
["Low voltage small 1 rate","LVS1R",{"$f":"'PFIT TFIT Ex GST'!C3*1.1","v":6.8717000000000006}]
["Low voltage small 2 rate*","LVS2R*",{"$f":"'PFIT TFIT Ex GST'!C4*1.1","v":6.8717000000000006}]
["Dedicated circuit**","LVDed**"]
["Unmetered supplies","UnMet"]
["Winter Energy Tariff*","WET2Step*",{"$f":"'PFIT TFIT Ex GST'!C7*1.1","v":6.8717000000000006}]
["Reverse cycle airconditioning time of use*","RCACkWTOU*",{"$f":"'PFIT TFIT Ex GST'!C8*1.1","v":6.8717000000000006}]
["Low voltage medium 1 rate","LVM1R",{"$f":"'PFIT TFIT Ex GST'!C9*1.1","v":6.8717000000000006}]
["Low voltage medium 2 rate 5 day*","LVM2R5D*",{"$f":"'PFIT TFIT Ex GST'!C10*1.1","v":6.8717000000000006}]
["Low voltage medium 2 rate 7 day*","LVM2R7D*",{"$f":"'PFIT TFIT Ex GST'!C11*1.1","v":6.8717000000000006}]
["Low voltage KW time of use*","LVkWTOU*",{"$f":"'PFIT TFIT Ex GST'!C12*1.1","v":6.8717000000000006}]
["Low voltage KW time of use - HOT*","LVkWTOUH*",{"$f":"'PFIT TFIT Ex GST'!C13*1.1","v":6.8717000000000006}]
["Low voltage large 1 rate*","LVL1R*",{"$f":"'PFIT TFIT Ex GST'!C14*1.1","v":6.8717000000000006}]
["Low voltage large 2 rate*","LVL2R*",{"$f":"'PFIT TFIT Ex GST'!C15*1.1","v":6.8717000000000006}]
["Low voltage large KVA time of use","LVkVATOU",{"$f":"'PFIT TFIT Ex GST'!C16*1.1","v":6.8717000000000006}]
["Low voltage large KVA time of use - HOT*","LVkVATOUH*",{"$f":"'PFIT TFIT Ex GST'!C17*1.1","v":6.8717000000000006}]
["High voltage KVA time of use","HVkVATOU",{"$f":"'PFIT TFIT Ex GST'!C18*1.1","v":6.8717000000000006}]
["High voltage KVA time of use - HOT*","HVkVATOUH*",{"$f":"'PFIT TFIT Ex GST'!C19*1.1","v":6.8717000000000006}]
["Subtransmission KVA time of use*","SubTkVATOU*",{"$f":"'PFIT TFIT Ex GST'!C20*1.1","v":6.8717000000000006}]
["Time of Day","TOD",{"$f":"'PFIT TFIT Ex GST'!C21*1.1","v":6.8717000000000006}]
["Time of Use","TOU",{"$f":"'PFIT TFIT Ex GST'!C22*1.1","v":6.8717000000000006}]
["Time of Day 9pm off-peak","TOD9",{"$f":"'PFIT TFIT Ex GST'!C23*1.1","v":6.8717000000000006}]
["Time of Day Flexible","TODFLEX",{"$f":"'PFIT TFIT Ex GST'!C24*1.1","v":6.8717000000000006}]
["Low voltage KW 1 rate","RESKW1R",{"$f":"'PFIT TFIT Ex GST'!C25*1.1","v":6.8717000000000006}]
["Low Voltage Medium kW Time of Use (Opt-in)","LVMKWTOU",{"$f":"'PFIT TFIT Ex GST'!C26*1.1","v":6.8717000000000006}]
["Low Voltage Medium kW 1 rate (Mandatory)","LVMKW1R",{"$f":"'PFIT TFIT Ex GST'!C27*1.1","v":6.8717000000000006}]
[]
["* Tariff closed to premises not already taking supply under this tariff and new connections."]

{"sheet":"Prescribed Ex GST","index":8,"n_rows":4,"n_cols":2,"rows_kept":4,"cut":false,"hidden":false,"merged":[]}
["2017 Prescribed Metering Service Charges (GST Exclusive)"]
[]
["Metering Data Services (Unmetered Supplies)","$/light/annum"]
["Per light",1.3220000000000001]

{"sheet":"Prescribed Incl GST","index":9,"n_rows":4,"n_cols":2,"rows_kept":4,"cut":false,"hidden":false,"merged":[]}
["2017 Prescribed Metering Service Charges (GST Inclusive)"]
[]
["Metering Data Services (Unmetered Supplies)","$/light/annum"]
["Per light",{"$f":"'Prescribed Ex GST'!B4*1.1","v":1.4542000000000002}]